{"text_format":"1","workbook":"xlsx","n_sheets":12,"sheets":["Sheet1","ใบรายชื่อ","ปก","กำหนดอัตราส่วนคะแนน","เวลาเรียน","คะแนนเทอม1","คะแนนเทอม2","คุณลักษณะอันพึงประสงค์","อ่าน คิด วิเคราะห์","โครงสร้างรายวิชา","แผนภูมิสรุป","ประเมินกิจกรรม"],"not_rendered":{"charts":2,"images":47,"macros":1,"external_links":4,"defined_names":16,"comments":2,"pivot_tables":0},"unopened":[],"bounds":{"document_bytes":16777216,"sheet_cells":100000,"rows_first":2000,"rows_last":500,"rows_between":2000,"halvings":0,"cell_chars":16384,"cell_head_chars":4096},"cells_cut":0,"cells_raw":0,"read":"whole","date_system":"1900"}

{"sheet":"Sheet1","index":0,"n_rows":40,"n_cols":8,"rows_kept":40,"cut":false,"hidden":false,"merged":[[38,3,38,4],[39,0,39,4],[0,3,0,4]]}
["StudentID","รหัส",5,"ชื่อ -สกุล",null,"คะแนน","เกรด","เลขที่"]
["1849902533397",15329,"เด็กชาย","ทศพล  เต๊ะปู่",null,{"$f":"#REF!","v":{"$error":"#REF!"}},{"$f":"#REF!","v":{"$error":"#REF!"}},1]
["1849902537597",15330,"เด็กชาย","ณัฐกานต์  เพชรลาย",null,{"$f":"#REF!","v":{"$error":"#REF!"}},{"$f":"#REF!","v":{"$error":"#REF!"}},2]
["1849902571825",15335,"เด็กชาย","อรรถกร  สุนทรา",null,{"$f":"#REF!","v":{"$error":"#REF!"}},{"$f":"#REF!","v":{"$error":"#REF!"}},3]
["1849902552758",15346,"เด็กหญิง","ภิญญาพัชญ์  สุทธิช่วย",null,{"$f":"#REF!","v":{"$error":"#REF!"}},{"$f":"#REF!","v":{"$error":"#REF!"}},4]
["1849902594558",15354,"เด็กหญิง","ญานิศา  คชนาค",null,{"$f":"#REF!","v":{"$error":"#REF!"}},{"$f":"#REF!","v":{"$error":"#REF!"}},5]
["1849902528831",15357,"เด็กชาย","ชยพล  ชลสงคราม",null,{"$f":"#REF!","v":{"$error":"#REF!"}},{"$f":"#REF!","v":{"$error":"#REF!"}},6]
["1849902599967",15366,"เด็กชาย","ณัฏฐากร  เติมชัย",null,{"$f":"#REF!","v":{"$error":"#REF!"}},{"$f":"#REF!","v":{"$error":"#REF!"}},7]
["1800701345463",15370,"เด็กหญิง","อรนภา  จูละพันธ์",null,{"$f":"#REF!","v":{"$error":"#REF!"}},{"$f":"#REF!","v":{"$error":"#REF!"}},8]
["1848300016709",15378,"เด็กหญิง","ปนัดดา  ขุนทอง",null,{"$f":"#REF!","v":{"$error":"#REF!"}},{"$f":"#REF!","v":{"$error":"#REF!"}},9]
["1849902567771",15380,"เด็กหญิง","นันท์นภัส  จันทร์ร้อย",null,{"$f":"#REF!","v":{"$error":"#REF!"}},{"$f":"#REF!","v":{"$error":"#REF!"}},10]
["1849902573259",15388,"เด็กชาย","ณัฏฐะชัย  แซ่อั้ง",null,{"$f":"#REF!","v":{"$error":"#REF!"}},{"$f":"#REF!","v":{"$error":"#REF!"}},11]
["1849902589881",15389,"เด็กชาย","นวกร  อ่อนเกตุพล",null,{"$f":"#REF!","v":{"$error":"#REF!"}},{"$f":"#REF!","v":{"$error":"#REF!"}},12]
["1849902601350",15396,"เด็กชาย","ธัญเทพ  นิยะกิจ",null,{"$f":"#REF!","v":{"$error":"#REF!"}},{"$f":"#REF!","v":{"$error":"#REF!"}},13]
["1849902570110",15403,"เด็กหญิง","ฐิติกาญจน์  กองวารี",null,{"$f":"#REF!","v":{"$error":"#REF!"}},{"$f":"#REF!","v":{"$error":"#REF!"}},14]
["1849902590854",15406,"เด็กหญิง","สุวิชญา  พิชัย",null,{"$f":"#REF!","v":{"$error":"#REF!"}},{"$f":"#REF!","v":{"$error":"#REF!"}},15]
["1849902593489",15407,"เด็กหญิง","นันท์นภัส  เต็มสงสัย",null,{"$f":"#REF!","v":{"$error":"#REF!"}},{"$f":"#REF!","v":{"$error":"#REF!"}},16]
["1849902598910",17084,"เด็กชาย","ธนิสร  ทิพย์เกิด",null,{"$f":"#REF!","v":{"$error":"#REF!"}},{"$f":"#REF!","v":{"$error":"#REF!"}},17]
["1849902458590",17085,"เด็กชาย","นันทิพัฒน์  วงศ์คำลือ",null,{"$f":"#REF!","v":{"$error":"#REF!"}},{"$f":"#REF!","v":{"$error":"#REF!"}},18]
["1849902588400",17086,"เด็กชาย","ธนโชติ  โภคา",null,{"$f":"#REF!","v":{"$error":"#REF!"}},{"$f":"#REF!","v":{"$error":"#REF!"}},19]
["1849902540130",17087,"เด็กชาย","จิรภัทร  หีตพรหม",null,{"$f":"#REF!","v":{"$error":"#REF!"}},{"$f":"#REF!","v":{"$error":"#REF!"}},20]
["1849902571540",17088,"เด็กชาย","พงศพัศ  พิชิตพงศาภรณ์",null,{"$f":"#REF!","v":{"$error":"#REF!"}},{"$f":"#REF!","v":{"$error":"#REF!"}},21]
["1809902871314",17089,"เด็กหญิง","ชนัดดา  บุญวิก",null,{"$f":"#REF!","v":{"$error":"#REF!"}},{"$f":"#REF!","v":{"$error":"#REF!"}},22]
["1809902871322",17090,"เด็กหญิง","ชัชชญา  บุญวิก",null,{"$f":"#REF!","v":{"$error":"#REF!"}},{"$f":"#REF!","v":{"$error":"#REF!"}},23]
["1849902563954",17091,"เด็กหญิง","ญาณิศา  วรรณพัฒน์",null,{"$f":"#REF!","v":{"$error":"#REF!"}},{"$f":"#REF!","v":{"$error":"#REF!"}},24]
["1849902576673",17092,"เด็กหญิง","กรชนก  คงจันทร์",null,{"$f":"#REF!","v":{"$error":"#REF!"}},{"$f":"#REF!","v":{"$error":"#REF!"}},25]
["1849902565957",17093,"เด็กหญิง","อาทิตยา  อ่วมทองดี",null,{"$f":"#REF!","v":{"$error":"#REF!"}},{"$f":"#REF!","v":{"$error":"#REF!"}},26]
["1849902575341",17095,"เด็กหญิง","ณัฏฐนันท์  เหมือนทอง",null,{"$f":"#REF!","v":{"$error":"#REF!"}},{"$f":"#REF!","v":{"$error":"#REF!"}},27]
[1849902580484,18483,"เด็กชาย","ศรันย์  นาคสวัสดิ์",null,{"$f":"#REF!","v":{"$error":"#REF!"}},{"$f":"#REF!","v":{"$error":"#REF!"}},28]
[1849902562630,18484,"เด็กหญิง","ณธิดา  บุญฤทธิ์",null,{"$f":"#REF!","v":{"$error":"#REF!"}},{"$f":"#REF!","v":{"$error":"#REF!"}},29]
[1800901606279,18485,"เด็กหญิง","ปวันพัสตร์  ตั้งสันทัศน์กุล",null,{"$f":"#REF!","v":{"$error":"#REF!"}},{"$f":"#REF!","v":{"$error":"#REF!"}},30]
[1849902576363,18506,"เด็กชาย","กันต์กมล  วิชัยดิษฐ",null,{"$f":"#REF!","v":{"$error":"#REF!"}},{"$f":"#REF!","v":{"$error":"#REF!"}},31]
["1848300016393",18910,"เด็กชาย","ทินภัทร  ทัดดอกไม้",null,{"$f":"#REF!","v":{"$error":"#REF!"}},{"$f":"#REF!","v":{"$error":"#REF!"}},32]
["1849701154631",18913,"เด็กชาย","ปิยะวัฒน์  วิโรจน์",null,{"$f":"#REF!","v":{"$error":"#REF!"}},{"$f":"#REF!","v":{"$error":"#REF!"}},33]
[1849902459324,18935,"เด็กหญิง","ศกลภัทร  ชาวน้ำ",null,{"$f":"#REF!","v":{"$error":"#REF!"}},{"$f":"#REF!","v":{"$error":"#REF!"}},34]
[1849902564039,19037,"เด็กชาย","อริญชัย  นครจินดา",null,{"$f":"#REF!","v":{"$error":"#REF!"}},{"$f":"#REF!","v":{"$error":"#REF!"}},35]
[1849902512225,19038,"เด็กชาย","ภูวรินทร์  กลางประพันธ์",null,{"$f":"#REF!","v":{"$error":"#REF!"}},{"$f":"#REF!","v":{"$error":"#REF!"}},36]
[1849902633782,19039,"เด็กหญิง","พรรณวรท  หนูรอด",null,{"$f":"#REF!","v":{"$error":"#REF!"}},{"$f":"#REF!","v":{"$error":"#REF!"}},37]
[]
[null,null,null,null,null,{"$f":"COUNTIF(C2:C39,\"เด็กชาย\")","v":19},{"$f":"COUNTIF(C2:C39,\"เด็กหญิง\")","v":18},{"$f":"SUM(F40:G40)","v":37}]

{"sheet":"ใบรายชื่อ","index":1,"n_rows":45,"n_cols":25,"rows_kept":45,"cut":false,"hidden":false,"merged":[[41,2,41,3],[42,2,42,3],[43,2,43,3],[36,2,36,3],[37,2,37,3],[38,2,38,3],[39,2,39,3],[40,2,40,3],[31,2,31,3],[32,2,32,3],[33,2,33,3],[34,2,34,3],[35,2,35,3],[26,2,26,3],[27,2,27,3],[28,2,28,3],[29,2,29,3],[30,2,30,3],[21,2,21,3],[22,2,22,3],[23,2,23,3],[24,2,24,3],[25,2,25,3],[16,2,16,3],[17,2,17,3],[18,2,18,3],[19,2,19,3],[20,2,20,3],[11,2,11,3],[12,2,12,3],[13,2,13,3],[14,2,14,3],[15,2,15,3],[6,2,6,3],[7,2,7,3],[8,2,8,3],[9,2,9,3],[10,2,10,3],[1,0,1,24],[4,0,4,24],[2,0,2,24],[5,39,5,62],[3,0,3,24],[5,2,5,3]]}
[]
[{"$f":"\"รายชื่อนักเรียน\"&ปก!AF11","v":"รายชื่อนักเรียน"}]
[{"$f":"CONCATENATE(ปก!C5&\"  \"&\"สังกัด\",IF(ปก!C8=\"\",\"{{โปรดกรอกข้อมูลต้นสังกัด}}\",ปก!C8))","v":"โรงเรียนเทศบาล ๕  สังกัดเทศบาลนครสุราษฎร์ธานี"}]
[{"$f":"\"กิจกรรม\"&ปก!AC15&\"        \"&\"ปีการศึกษา\"&\" \"&ปก!C16","v":"กิจกรรม{{โปรดกรอกข้อมูลรายวิชา}}        ปีการศึกษา 2567"}]
[{"$f":"\"ครูประจำชั้น : \"&ปก!AF19&\"  \"&ปก!AQ19","v":"ครูประจำชั้น : นางวนิดา  แก้วบุญเรือง    นางสาวมนชนก  กาญจนถึง  "}]
["เลขที่","เลขประจำตัว","ชื่อ-นามสกุล"]
[{"$f":"Sheet1!H2","v":1},{"$f":"Sheet1!B2","v":15329},{"$f":"CONCATENATE(Sheet1!C2&Sheet1!D2)","v":"เด็กชายทศพล  เต๊ะปู่"}]
[{"$f":"Sheet1!H3","v":2},{"$f":"Sheet1!B3","v":15330},{"$f":"CONCATENATE(Sheet1!C3&Sheet1!D3)","v":"เด็กชายณัฐกานต์  เพชรลาย"}]
[{"$f":"Sheet1!H4","v":3},{"$f":"Sheet1!B4","v":15335},{"$f":"CONCATENATE(Sheet1!C4&Sheet1!D4)","v":"เด็กชายอรรถกร  สุนทรา"}]
[{"$f":"Sheet1!H5","v":4},{"$f":"Sheet1!B5","v":15346},{"$f":"CONCATENATE(Sheet1!C5&Sheet1!D5)","v":"เด็กหญิงภิญญาพัชญ์  สุทธิช่วย"}]
[{"$f":"Sheet1!H6","v":5},{"$f":"Sheet1!B6","v":15354},{"$f":"CONCATENATE(Sheet1!C6&Sheet1!D6)","v":"เด็กหญิงญานิศา  คชนาค"}]
[{"$f":"Sheet1!H7","v":6},{"$f":"Sheet1!B7","v":15357},{"$f":"CONCATENATE(Sheet1!C7&Sheet1!D7)","v":"เด็กชายชยพล  ชลสงคราม"}]
[{"$f":"Sheet1!H8","v":7},{"$f":"Sheet1!B8","v":15366},{"$f":"CONCATENATE(Sheet1!C8&Sheet1!D8)","v":"เด็กชายณัฏฐากร  เติมชัย"}]
[{"$f":"Sheet1!H9","v":8},{"$f":"Sheet1!B9","v":15370},{"$f":"CONCATENATE(Sheet1!C9&Sheet1!D9)","v":"เด็กหญิงอรนภา  จูละพันธ์"}]
[{"$f":"Sheet1!H10","v":9},{"$f":"Sheet1!B10","v":15378},{"$f":"CONCATENATE(Sheet1!C10&Sheet1!D10)","v":"เด็กหญิงปนัดดา  ขุนทอง"}]
[{"$f":"Sheet1!H11","v":10},{"$f":"Sheet1!B11","v":15380},{"$f":"CONCATENATE(Sheet1!C11&Sheet1!D11)","v":"เด็กหญิงนันท์นภัส  จันทร์ร้อย"}]
[{"$f":"Sheet1!H12","v":11},{"$f":"Sheet1!B12","v":15388},{"$f":"CONCATENATE(Sheet1!C12&Sheet1!D12)","v":"เด็กชายณัฏฐะชัย  แซ่อั้ง"}]
[{"$f":"Sheet1!H13","v":12},{"$f":"Sheet1!B13","v":15389},{"$f":"CONCATENATE(Sheet1!C13&Sheet1!D13)","v":"เด็กชายนวกร  อ่อนเกตุพล"}]
[{"$f":"Sheet1!H14","v":13},{"$f":"Sheet1!B14","v":15396},{"$f":"CONCATENATE(Sheet1!C14&Sheet1!D14)","v":"เด็กชายธัญเทพ  นิยะกิจ"}]
[{"$f":"Sheet1!H15","v":14},{"$f":"Sheet1!B15","v":15403},{"$f":"CONCATENATE(Sheet1!C15&Sheet1!D15)","v":"เด็กหญิงฐิติกาญจน์  กองวารี"}]
[{"$f":"Sheet1!H16","v":15},{"$f":"Sheet1!B16","v":15406},{"$f":"CONCATENATE(Sheet1!C16&Sheet1!D16)","v":"เด็กหญิงสุวิชญา  พิชัย"}]
[{"$f":"Sheet1!H17","v":16},{"$f":"Sheet1!B17","v":15407},{"$f":"CONCATENATE(Sheet1!C17&Sheet1!D17)","v":"เด็กหญิงนันท์นภัส  เต็มสงสัย"}]
[{"$f":"Sheet1!H18","v":17},{"$f":"Sheet1!B18","v":17084},{"$f":"CONCATENATE(Sheet1!C18&Sheet1!D18)","v":"เด็กชายธนิสร  ทิพย์เกิด"}]
[{"$f":"Sheet1!H19","v":18},{"$f":"Sheet1!B19","v":17085},{"$f":"CONCATENATE(Sheet1!C19&Sheet1!D19)","v":"เด็กชายนันทิพัฒน์  วงศ์คำลือ"}]
[{"$f":"Sheet1!H20","v":19},{"$f":"Sheet1!B20","v":17086},{"$f":"CONCATENATE(Sheet1!C20&Sheet1!D20)","v":"เด็กชายธนโชติ  โภคา"}]
[{"$f":"Sheet1!H21","v":20},{"$f":"Sheet1!B21","v":17087},{"$f":"CONCATENATE(Sheet1!C21&Sheet1!D21)","v":"เด็กชายจิรภัทร  หีตพรหม"}]
[{"$f":"Sheet1!H22","v":21},{"$f":"Sheet1!B22","v":17088},{"$f":"CONCATENATE(Sheet1!C22&Sheet1!D22)","v":"เด็กชายพงศพัศ  พิชิตพงศาภรณ์"}]
[{"$f":"Sheet1!H23","v":22},{"$f":"Sheet1!B23","v":17089},{"$f":"CONCATENATE(Sheet1!C23&Sheet1!D23)","v":"เด็กหญิงชนัดดา  บุญวิก"}]
[{"$f":"Sheet1!H24","v":23},{"$f":"Sheet1!B24","v":17090},{"$f":"CONCATENATE(Sheet1!C24&Sheet1!D24)","v":"เด็กหญิงชัชชญา  บุญวิก"}]
[{"$f":"Sheet1!H25","v":24},{"$f":"Sheet1!B25","v":17091},{"$f":"CONCATENATE(Sheet1!C25&Sheet1!D25)","v":"เด็กหญิงญาณิศา  วรรณพัฒน์"}]
[{"$f":"Sheet1!H26","v":25},{"$f":"Sheet1!B26","v":17092},{"$f":"CONCATENATE(Sheet1!C26&Sheet1!D26)","v":"เด็กหญิงกรชนก  คงจันทร์"}]
[{"$f":"Sheet1!H27","v":26},{"$f":"Sheet1!B27","v":17093},{"$f":"CONCATENATE(Sheet1!C27&Sheet1!D27)","v":"เด็กหญิงอาทิตยา  อ่วมทองดี"}]
[{"$f":"Sheet1!H28","v":27},{"$f":"Sheet1!B28","v":17095},{"$f":"CONCATENATE(Sheet1!C28&Sheet1!D28)","v":"เด็กหญิงณัฏฐนันท์  เหมือนทอง"}]
[{"$f":"Sheet1!H29","v":28},{"$f":"Sheet1!B29","v":18483},{"$f":"CONCATENATE(Sheet1!C29&Sheet1!D29)","v":"เด็กชายศรันย์  นาคสวัสดิ์"}]
[{"$f":"Sheet1!H30","v":29},{"$f":"Sheet1!B30","v":18484},{"$f":"CONCATENATE(Sheet1!C30&Sheet1!D30)","v":"เด็กหญิงณธิดา  บุญฤทธิ์"}]
[{"$f":"Sheet1!H31","v":30},{"$f":"Sheet1!B31","v":18485},{"$f":"CONCATENATE(Sheet1!C31&Sheet1!D31)","v":"เด็กหญิงปวันพัสตร์  ตั้งสันทัศน์กุล"}]
[{"$f":"Sheet1!H32","v":31},{"$f":"Sheet1!B32","v":18506},{"$f":"CONCATENATE(Sheet1!C32&Sheet1!D32)","v":"เด็กชายกันต์กมล  วิชัยดิษฐ"}]
[{"$f":"Sheet1!H33","v":32},{"$f":"Sheet1!B33","v":18910},{"$f":"CONCATENATE(Sheet1!C33&Sheet1!D33)","v":"เด็กชายทินภัทร  ทัดดอกไม้"}]
[{"$f":"Sheet1!H34","v":33},{"$f":"Sheet1!B34","v":18913},{"$f":"CONCATENATE(Sheet1!C34&Sheet1!D34)","v":"เด็กชายปิยะวัฒน์  วิโรจน์"}]
[{"$f":"Sheet1!H35","v":34},{"$f":"Sheet1!B35","v":18935},{"$f":"CONCATENATE(Sheet1!C35&Sheet1!D35)","v":"เด็กหญิงศกลภัทร  ชาวน้ำ"}]
[{"$f":"Sheet1!H36","v":35},{"$f":"Sheet1!B36","v":19037},{"$f":"CONCATENATE(Sheet1!C36&Sheet1!D36)","v":"เด็กชายอริญชัย  นครจินดา"}]
[{"$f":"Sheet1!H37","v":36},{"$f":"Sheet1!B37","v":19038},{"$f":"CONCATENATE(Sheet1!C37&Sheet1!D37)","v":"เด็กชายภูวรินทร์  กลางประพันธ์"}]
[{"$f":"Sheet1!H38","v":37},{"$f":"Sheet1!B38","v":19039},{"$f":"CONCATENATE(Sheet1!C38&Sheet1!D38)","v":"เด็กหญิงพรรณวรท  หนูรอด"}]
[{"$f":"Sheet1!H39","v":0},{"$f":"Sheet1!B39","v":0},{"$f":"CONCATENATE(Sheet1!C39&Sheet1!D39)","v":""}]
[null,null,null,null,null,null,null,null,null,null,null,null,null,null,null,null,null,null,null,null,null,null,null,null,{"$f":"\"จำนวนนักเรียน\"&\"  \"&\"ชาย\"&\" \"&Sheet1!F40&\" \"&\"คน\"&\",\"&\" \"&\"หญิง\"&\" \"&Sheet1!G40&\" \"&\"คน\"&\" \"&\"รวม\"&\" \"&Sheet1!H40&\" \"&\"คน\"","v":"จำนวนนักเรียน  ชาย 19 คน, หญิง 18 คน รวม 37 คน"}]

{"sheet":"ปก","index":2,"n_rows":42,"n_cols":53,"rows_kept":42,"cut":false,"hidden":false,"merged":[[32,24,32,52],[30,28,30,30],[29,25,29,27],[41,3,41,16],[29,17,29,22],[30,17,30,22],[24,16,24,22],[30,2,30,13],[27,2,27,5],[24,2,24,13],[26,2,26,13],[33,1,36,22],[37,1,37,22],[38,1,39,22],[40,1,40,22],[29,2,29,13],[26,17,26,22],[40,26,40,33],[40,40,40,47],[28,46,28,48],[30,43,30,45],[30,46,30,48],[30,31,30,33],[30,34,30,36],[27,17,27,22],[28,17,28,22],[28,28,28,30],[13,31,13,40],[14,28,14,40],[22,29,22,30],[22,31,22,32],[15,28,15,29],[26,25,26,36],[27,25,27,27],[25,17,25,22],[28,31,28,33],[28,34,28,36],[28,37,28,39],[5,24,5,52],[6,24,6,52],[22,2,22,3],[22,8,22,13],[22,4,22,7],[23,2,23,13],[23,29,23,30],[23,31,23,32],[28,25,28,27],[7,24,7,52],[15,44,15,45],[11,32,11,37],[17,31,17,40],[20,25,22,28],[20,29,20,51],[21,29,21,51],[22,34,22,51],[9,39,9,42],[25,49,25,51],[26,49,26,51],[23,49,23,51],[26,47,26,48],[25,37,25,38],[13,2,13,13],[2,1,3,13],[12,2,12,13],[7,1,8,1],[25,2,25,13],[28,2,28,13],[4,2,4,13],[5,2,5,13],[6,2,6,13],[9,2,9,13],[10,2,10,13],[11,2,11,13],[7,2,8,13],[16,1,17,1],[18,2,19,13],[18,1,19,1],[12,1,13,1],[14,2,14,13],[15,2,15,13],[20,2,20,13],[21,2,21,13],[16,2,16,13],[17,2,17,13],[29,49,29,51],[23,41,23,42],[23,43,23,44],[25,39,25,46],[26,39,26,46],[29,31,29,33],[24,47,24,48],[23,39,23,40],[28,49,28,51],[25,47,25,48],[24,31,24,32],[29,34,29,36],[30,25,30,27],[29,28,29,30],[25,25,25,36],[23,47,23,48],[24,29,24,30],[23,33,23,34],[23,35,23,36],[23,25,23,28],[23,37,23,38],[30,40,30,42],[30,37,30,39],[30,49,30,51],[1,49,1,51],[41,40,41,46],[29,37,29,39],[29,40,29,42],[29,43,29,45],[29,46,29,48],[39,25,39,38],[39,39,39,51],[28,40,28,42],[27,40,27,51],[28,43,28,45],[24,49,24,51],[26,37,26,38],[27,28,27,39],[24,35,24,36],[24,33,24,34],[24,37,24,38],[24,39,24,40],[24,41,24,42],[24,43,24,44],[24,45,24,46],[24,25,24,28],[23,45,23,46]]}
["                           "]
[null,null,null,null,null,null,null,null,null,null,null,null,null,null,null,null,null,null,null,null,null,null,null,null,null,null,null,null,null,null,null,null,null,null,null,null,null,null,null,null,null,null,null,null,null,null,null,null,null,"ปถ.05:",null,null,"ป"]
[null,"ข้อมูลพื้นฐานสถานศึกษา"]
[]
[null,"ชื่อสถานศึกษา :","โรงเรียนเทศบาล ๕"]
[null,"อำเภอ :","เมือง",null,null,null,null,null,null,null,null,null,null,null,null,null,null,null,null,null,null,null,null,null,"แบบบันทึกผลกิจกรรมพัฒนาผู้เรียน"]
[null,"จังหวัด :","สุราษฎร์ธานี",null,null,null,null,null,null,null,null,null,null,null,null,null,null,null,null,null,null,null,null,null,{"$f":"IF(C5=\"\",\"\",C5)","v":"โรงเรียนเทศบาล ๕"}]
[null,"สังกัด (ชื่อ อปท.) :","เทศบาลนครสุราษฎร์ธานี",null,null,null,null,null,null,null,null,null,null,null,null,null,null,null,null,null,null,null,null,null,{"$f":"IF(COUNTIF(C6:C8,\"\"),\"{{โปรดกรอกข้อมูลที่อยู่และต้นสังกัดให้ครบถ้วน}}\",\"อำเภอ\"&C6&\"  \"&\"จังหวัด\"&C7&\"   สังกัด\"&C8)","v":"อำเภอเมือง  จังหวัดสุราษฎร์ธานี   สังกัดเทศบาลนครสุราษฎร์ธานี"}]
[]
[null,"ชื่อผู้อำนวยการฯ :","นางธนัชพร  โอวรารินท์",null,null,null,null,null,null,null,null,null,null,null,null,null,null,null,null,null,null,null,null,null,null,null,null,null,null,null,null,null,null,null,null,null,"ปีการศึกษา",null,null,{"$f":"IF(C16=\"\",\"\",C16)","v":"2567"}]
[null,"ชื่อรองผู้อำนวยการฯ :","นางสาวสิริมา  งามศุภกร",null,null,null,null,null,null,null,null,null,null,null,null,null,null,null,null,null,null,null,null,null,null,null,null,null,null,null,null,null,null,null,null,null,null,{"$f":"IF(C21=\"\",\"ชั้นประถมศึกษาปีที่{{โปรดกรอกข้อมูล}}\",\"ชั้นประถมศึกษาปีที่ \"&C21&\"/\"&C22)","v":"ชั้นประถมศึกษาปีที่ 4/4"},null,{"$f":"IF(C18=\"\",\"ระดับ{{โปรดเลือกข้อมูล}}\",\"ระดับ\"&ปก!C18)","v":"ระดับประถมศึกษาตอนปลาย(ป.4-6)"}]
[null,"ตำแหน่งครูวัดผล :","หัวหน้างานวัดผลและประเมินผล",null,null,null,null,null,null,null,null,null,null,null,null,null,null,null,null,null,null,null,null,null,null,null,null,null,null,null,null,null,{"$f":"IF(I23=\"\",\"\",\"แผนการเรียน\")","v":""},null,null,null,null,null,null,{"$f":"IF(I23=\"\",\"\",I23)","v":""}]
[null,"ตำแหน่งครูฝ่ายวิชาการ :"]
[null,null,"หัวหน้าฝ่ายวิชาการ"]
[null,"ภาคเรียนที่","1 - 2",null,null,null,null,null,null,null,null,null,null,null,null,null,null,{"$f":"IF(C31=\"\",\"\",IF(COUNTA(C31),\",\"))","v":","},null,null,null,null,null,null,null,{"$f":"B26","v":"ชื่อกิจกรรม :"},null,null,{"$f":"IF(C26=\"\",\"{{โปรดกรอกข้อมูลรายวิชา}}\",C26)","v":"{{โปรดกรอกข้อมูลรายวิชา}}"}]
[null,"ปีการศึกษา :","2567",null,null,null,null,null,null,null,null,null,null,null,null,null,null,null,null,null,null,null,null,null,null,"เวลาเรียน",null,null,{"$f":"C28","v":40},null,"ชั่วโมงต่อปี",null,null,null,null,null,null,null,null,null,null,"เวลาเรียน",null,null,{"$f":"IF(AC16=0,\"\",IF(COUNTIF($AC$16,\"40\"),1,IF(COUNTIF($AC$16,\"80\"),2,IF(COUNTIF($AC$16,\"120\"),3,IF(COUNTIF($AC$16,\"160\"),4,IF(COUNTIF($AC$16,\"200\"),5))))))","v":1},null,"ชั่วโมงต่อสัปดาห์"]
[null,"ระดับ :"]
[null,null,"ประถมศึกษาตอนปลาย(ป.4-6)",null,null,null,null,null,null,null,null,null,null,null,null,null,null,null,null,null,null,null,null,null,null,null,null,"ครูผู้สอน",null,null,null,{"$f":"IF(C29=\"\",\"{{โปรดกรอกข้อมูลครูผู้สอน}}\",C29)","v":"{{โปรดกรอกข้อมูลครูผู้สอน}}"}]
[null,null,null,null,null,null,null,null,null,null,null,null,null,null,null,null,null,null,null,null,null,null,null,null,null,null,null,"ครูประจำชั้น",null,null,null,{"$f":"IF(C30=\"\",\"{{โปรดกรอกข้อมลครูประจำชั้น}}\",C30&O30&\"    \"&C31)","v":"นางวนิดา  แก้วบุญเรือง    นางสาวมนชนก  กาญจนถึง"}]
[]
[null,"ชั้นประถมศึกษาปีที่ :",4,null,null,null,null,null,null,null,null,null,null,null,null,null,null,null,null,null,null,null,null,null,null,"จำนวนนักเรียนทั้งหมด",null,null,null,"สรุปผลกิจกรรมพัฒนาผู้เรียน"]
[null,"ห้อง / ทับ :",4,null,null,null,null,null,null,null,null,null,null,null,null,null,null,null,null,null,null,null,null,null,null,null,null,null,null,"จำนวนนักเรียนที่ได้ระดับผลการประเมินกิจกรรม"]
[null,null,null,null,null,null,null,null,null,null,null,null,null,null,null,null,null,null,null,null,null,null,null,null,null,null,null,null,null,"ผ",null,"มผ",null,null,"หมายเหตุ"]
[null,null,null,null,null,null,null,null,null,null,null,null,null,null,null,null,null,null,null,null,null,null,null,null,null,{"$f":"SUM(AD24:AG24)","v":0},null,null,null,{"$f":"ประเมินกิจกรรม!M22","v":0},null,{"$f":"ประเมินกิจกรรม!M23","v":0},null,{"$f":"[1]ประเมินตัวชี้วัด!DZ9","v":0},null,{"$f":"[1]ประเมินตัวชี้วัด!EA9","v":0},null,{"$f":"[1]ประเมินตัวชี้วัด!EB9","v":0},null,{"$f":"[1]ประเมินตัวชี้วัด!EC9","v":0},null,{"$f":"[1]ประเมินตัวชี้วัด!ED9","v":0},null,{"$f":"[1]ประเมินตัวชี้วัด!EE9","v":0},null,{"$f":"[1]ประเมินตัวชี้วัด!EF9","v":0},null,{"$f":"[1]ประเมินตัวชี้วัด!EG9","v":0}]
[null,null,null,null,null,null,null,null,null,null,null,null,null,null,null,null,null,null,null,null,null,null,null,null,null,"คิดเป็นร้อยละ",null,null,null,{"$f":"IF(AD24=0,\"\",(AD24*100)/$Z$24)","v":""},null,{"$f":"IF(AF24=0,\"\",(AF24*100)/$Z$24)","v":""},null,{"$f":"IF(AH24=0,\"\",(AH24*100)/$Z$24)","v":""},null,{"$f":"IF(AJ24=0,\"\",(AJ24*100)/$Z$24)","v":""},null,{"$f":"IF(AL24=0,\"\",(AL24*100)/$Z$24)","v":""},null,{"$f":"IF(AN24=0,\"\",(AN24*100)/$Z$24)","v":""},null,{"$f":"IF(AP24=0,\"\",(AP24*100)/$Z$24)","v":""},null,{"$f":"IF(AR24=0,\"\",(AR24*100)/$Z$24)","v":""},null,{"$f":"IF(AT24=0,\"\",(AT24*100)/$Z$24)","v":""},null,{"$f":"IF(AV24=0,\"\",(AV24*100)/$Z$24)","v":""}]
[null,"ชื่อกิจกรรม :",null,null,null,null,null,null,null,null,null,null,null,null,null,null,null,null,null,null,null,null,null,null,null,"ร้อยละของนักเรียนที่ผ่านการประเมิน ",null,null,null,null,null,null,null,null,null,null,null,{"$f":"SUM(AD25:AI25)","v":0}]
[null,null,null,null,null,null,null,null,null,null,null,null,null,null,null,null,null,null,null,null,null,null,null,null,null,"ร้อยละของนักเรียนที่ไม่ผ่านการประเมิน",null,null,null,null,null,null,null,null,null,null,null,{"$f":"SUM(AR25:AW25)","v":0}]
[null,"เวลาเรียน",40,null,null,null,"ชั่วโมงต่อปี"]
[null,"ชื่อครูผู้สอน :"]
[null,"ครูประจำชั้นคนที่ 1 :","นางวนิดา  แก้วบุญเรือง"]
[null,"ครูประจำชั้นคนที่ 2 :","นางสาวมนชนก  กาญจนถึง"]
[]
[null,null,null,null,null,null,null,null,null,null,null,null,null,null,null,null,null,null,null,null,null,null,null,null,"การอนุมัติผลการประเมินกิจกรรมพัฒนาผู้เรียน"]
[null,"โปรแกรมจัดทำแบบบันทึกผลการพัฒนาคุณภาพผู้เรียนรายวิชา (ระดับประถมศึกษา)  YEAR2559\nหลักสูตรแกนกลางการศึกษาขั้นพื้นฐาน 2551  สำหรับนำส่งข้อมูลเข้าโปรแกรม Local School\n(ระดับประถมศึกษา สำหรับนักเรียนไม่เกิน 50 คน ใช้กระดาษA4)",null,null,null,null,null,null,null,null,null,null,null,null,null,null,null,null,null,null,null,null,null,null,null,"ลงชื่อ..................................................ครูผู้สอน",null,null,null,null,null,null,null,null,null,null,null,null,null,null,"ลงชื่อ.........................................หัวหน้างานวัดผลและประเมินผล"]
[null,null,null,null,null,null,null,null,null,null,null,null,null,null,null,null,null,null,null,null,null,null,null,null,null,null,null,null,null,null,null,null,null,"ลงชื่อ............................................หัวหน้าฝ่ายวิชาการ"]
[]
[null,null,null,null,null,null,null,null,null,null,null,null,null,null,null,null,null,null,null,null,null,null,null,null,null,"เรียนเสนอเพื่อโปรดพิจารณา",null,null,null,null,null,null,null,null,null,null,null,null,null,"การพิจารณา/สั่งการ"]
[null,"โครงการพัฒนาระบบงานะเบียนวัดผลสำหรับสถานศึกษาสังกัดองค์กรปกครองส่วนท้องถิ่น",null,null,null,null,null,null,null,null,null,null,null,null,null,null,null,null,null,null,null,null,null,null,null,"m","เห็นควรควรอนุมัติ",null,null,null,null,"m","เห็นควรนำไปปรับปรุงแก้ไข",null,null,null,null,null,null,"m","อนุมัติ",null,null,"m","ไม่อนุมัติ/ให้นำไปปรับปรุงแก้ไข"]
[null,"จัดทำและพัฒนาโดย : นายพุทธรัตน์ นัยวิกุล ผู้อำนวยการสถานศึกษาโรงเรียนมัธยมนครรังสิต"]
[null,null,null,null,null,null,null,null,null,null,null,null,null,null,null,null,null,null,null,null,null,null,null,null,null,"ลงชื่อ...........................................รองผู้อำนวยการสถานศึกษา",null,null,null,null,null,null,null,null,null,null,null,null,null," ลงชื่อ...........................................ผู้อำนวยการสถานศึกษา"]
[null,"สอบถามและเสนอแนะได้ที่ : WWW.LOCALPT.NET\n\n\n\n\n\n\n\n\n\n\n\n\n\n\n\n\n\n\n\n\n  /  facebook : แบบปถ.05 โรงเรียนสังกัด อปท.",null,null,null,null,null,null,null,null,null,null,null,null,null,null,null,null,null,null,null,null,null,null,null,null,{"$f":"IF(C11=\"\",\"{{กรอกชื่อ-สกุลรองผู้อำนวยการ}}\",\"(\"&C11&\")\")","v":"(นางสาวสิริมา  งามศุภกร)"},null,null,null,null,null,null,null,null,null,null,null,null,null,{"$f":"IF(C10=\"\",\"{{กรอกชื่อ-สกุลผู้อำนวยการ}}\",\"(\"&C10&\")\")","v":"(นางธนัชพร  โอวรารินท์)"}]
[null,{"$f":"\"ม.\"&C21&\"0\"&C22","v":"ม.404"},{"$f":"IF(C23=\"มัธยมศึกษาตอนต้นทั่วไป\",1,IF(C23=\"วิทย์-คณิต\",1,IF(C23=\"ภาษา-สังคม\",2,IF(C23=\"วิชาชีพ(หลักสูตรคู่ขนาน)\",3))))","v":false},"UPDATE : 24 Apr 2016  สงวนลิขสิทธิ์@2016",null,null,null,null,null,null,null,null,null,null,null,null,null,null,null,null,null,null,null,null,null,null,null,null,null,null,null,null,null,null,null,null,null,null,null,null,"   ........../.........../.........."]

{"sheet":"กำหนดอัตราส่วนคะแนน","index":3,"n_rows":257,"n_cols":23,"rows_kept":257,"cut":false,"hidden":true,"merged":[[152,1,152,5],[19,1,19,3],[21,1,21,3],[19,7,21,7],[25,0,25,8],[152,14,152,18],[12,23,17,23],[19,23,21,23],[25,13,25,21],[8,1,8,7],[8,14,8,20],[10,1,10,7],[14,1,14,3],[12,1,12,3],[12,7,14,7],[10,14,10,20],[12,14,12,16],[12,20,14,20],[14,14,14,16],[17,1,17,7],[19,10,21,10],[1,14,1,23],[27,7,28,7],[27,20,28,20],[19,20,21,20],[21,14,21,16],[12,10,17,10],[17,14,17,20],[19,14,19,16],[3,14,3,19]]}
[]
[null,null,null,null,null,null,null,null,null,null,null,null,null,null,{"$f":"IF(ปก!C25=\"พื้นฐาน\",\"กำหนดเกณฑ์การประเมินผ่านตัวชี้วัดของสถานศึกษา\",IF(ปก!C25=\"เพิ่มเติม\",\"กำหนดเกณฑ์การประเมินผ่านผลการเรียนรู้ของสถานศึกษา\"))","v":false}]
[]
[null,null,null,null,null,null,null,null,null,null,null,null,null,null,{"$f":"IF(ปก!C25=\"พื้นฐาน\",\"ผู้เรียนต้องได้คะแนนแต่ละตัวชี้วัดคิดเป็นร้อยละ\",IF(ปก!C25=\"เพิ่มเติม\",\"ผู้เรียนต้องได้คะแนนแต่ละผลการเรียนรู้คิดเป็นร้อยละ\"))","v":false},null,null,null,null,null,50,null,"ของคะแนนเต็ม"]
[]
[]
[]
[]
[null,{"$f":"IF(ปก!C15=1,\"คะแนนภาคเรียนที่ 1\",IF(ปก!C15=2,\"คะแนนภาคเรียนที่ 2\"))","v":false}]
[]
[null,"กำหนดคะแนนระหว่างภาค"]
[]
[null,{"$f":"IF(ปก!C25=\"พื้นฐาน\",\"คะแนนเก็บ(ตัวชี้วัด)\",IF(ปก!C25=\"เพิ่มเติม\",\"คะแนนเก็บ(ผลการเรียนรู้)\"))","v":false},null,null,null,null,null,{"$f":"SUM(F13,F15)","v":0},null,null,"คะแนนรวม\nตลอดภาคเรียน\nต้องได้=100"]
[]
[null,"คะแนนสอบกลางภาค"]
[]
[]
[null,"กำหนดคะแนนสอบปลายภาค"]
[]
[null,"คะแนนสอบปรนัย",null,null,null,null,null,{"$f":"SUM(F20,F22)","v":0},null,null,{"$f":"H13+H20","v":0}]
[]
[null,"คะแนนสอบอัตนัย"]
[]
[]
[]
[{"$f":"IF(ปก!C25=\"พื้นฐาน\",\"กำหนดคะแนนตัวชี้วัด\",IF(ปก!C25=\"เพิ่มเติม\",\"กำหนดคะแนนผลการเรียนรู้\"))","v":false}]
[]
[null,{"$f":"IF(ปก!C25=\"พื้นฐาน\",\"ตัวชี้วัด\",IF(ปก!C25=\"เพิ่มเติม\",\"ผลการเรียนรู้\"))","v":false},null,"สาระ",null,{"$f":"IF(ปก!C25=\"พื้นฐาน\",\"\",IF(ปก!C25=\"เพิ่มเติม\",\"ผลการ\"))","v":false},null,"คะแนนเต็ม"]
[null,"ที่",null,"มาตรฐาน",null,{"$f":"IF(ปก!C25=\"พื้นฐาน\",\"ตัวชี้วัด\",IF(ปก!C25=\"เพิ่มเติม\",\"เรียนรู้\"))","v":false}]
[]
[]
[]
[]
[]
[]
[]
[]
[]
[]
[]
[]
[]
[]
[]
[]
[]
[]
[]
[]
[]
[]
[]
[]
[]
[]
[]
[]
[]
[]
[]
[]
[]
[]
[]
[]
[]
[]
[]
[]
[]
[]
[]
[]
[]
[]
[]
[]
[]
[]
[]
[]
[]
[]
[]
[]
[]
[]
[]
[]
[]
[]
[]
[]
[]
[]
[]
[]
[]
[]
[]
[]
[]
[]
[]
[]
[]
[]
[]
[]
[]
[]
[]
[]
[]
[]
[]
[]
[]
[]
[]
[]
[]
[]
[]
[]
[]
[]
[]
[]
[]
[]
[]
[]
[]
[]
[]
[]
[]
[]
[]
[]
[]
[]
[]
[]
[]
[]
[]
[]
[]
[]
[]
[null,{"$f":"IF(ปก!C25=\"พื้นฐาน\",\"รวมตัวชี้วัด\",IF(ปก!C25=\"เพิ่มเติม\",\"รวมผลการเรียนรู้\"))","v":false},null,null,null,null,null,{"$f":"COUNT(B31,B33,B35,B37,B39,B41,B43,B45,B47,B49,B51,B53,B55,B57,B59,B61,B63,B65,B67,B69,B71,B73,B75,B77,B79,B81,B83,B85,B87,B89,B91,B93,B95,B97,B99,B101,B103,B105,B107,B109,B111,B113,B115,B117,B119,B121,B123,B125,B127,B129,B131,B133,B135,B137,B139,B141,B143,B145,B147,B149)","v":0}]
[]
[]
[]
[]
[null,null,null,"ท 1.1",null,"ป.1/1",null,null,null,null,null,null,null,null,null,null,"ท 1.1",null,"ม.1/1"]
[null,null,null,"ท 2.1",null,"ป.1/2",null,null,null,null,null,null,null,null,null,null,"ท 2.1",null,"ม.1/2"]
[null,null,null,"ท 3.1",null,"ป.1/3",null,null,null,null,null,null,null,null,null,null,"ท 3.1",null,"ม.1/3"]
[null,null,null,"ท 4.1",null,"ป.1/4",null,null,null,null,null,null,null,null,null,null,"ท 4.1",null,"ม.1/4"]
[null,null,null,"ท 5.1",null,"ป.1/5",null,null,null,null,null,null,null,null,null,null,"ท 5.1",null,"ม.1/5"]
[null,null,null,"ค 1.1",null,"ป.1/6",null,null,null,null,null,null,null,null,null,null,"ค 1.1",null,"ม.1/6"]
[null,null,null,"ค 1.2",null,"ป.1/7",null,null,null,null,null,null,null,null,null,null,"ค 1.2",null,"ม.1/7"]
[null,null,null,"ค 1.3",null,"ป.1/8",null,null,null,null,null,null,null,null,null,null,"ค 1.3",null,"ม.1/8"]
[null,null,null,"ค 1.4",null,"ป.1/9",null,null,null,null,null,null,null,null,null,null,"ค 1.4",null,"ม.1/9"]
[null,null,null,"ค 2.1",null,"ป.1/10",null,null,null,null,null,null,null,null,null,null,"ค 2.1",null,"ม.1/10"]
[null,null,null,"ค 2.2",null,"ป.2/1",null,null,null,null,null,null,null,null,null,null,"ค 2.2",null,"ม.2/1"]
[null,null,null,"ค 3.1",null,"ป.2/2",null,null,null,null,null,null,null,null,null,null,"ค 3.1",null,"ม.2/2"]
[null,null,null,"ค 3.2",null,"ป.2/3",null,null,null,null,null,null,null,null,null,null,"ค 3.2",null,"ม.2/3"]
[null,null,null,"ค 4.1",null,"ป.2/4",null,null,null,null,null,null,null,null,null,null,"ค 4.1",null,"ม.2/4"]
[null,null,null,"ค 4.2",null,"ป.2/5",null,null,null,null,null,null,null,null,null,null,"ค 4.2",null,"ม.2/5"]
[null,null,null,"ค 5.1",null,"ป.2/6",null,null,null,null,null,null,null,null,null,null,"ค 5.1",null,"ม.2/6"]
[null,null,null,"ค 5.2",null,"ป.2/7",null,null,null,null,null,null,null,null,null,null,"ค 5.2",null,"ม.2/7"]
[null,null,null,"ค 5.3",null,"ป.2/8",null,null,null,null,null,null,null,null,null,null,"ค 5.3",null,"ม.2/8"]
[null,null,null,"ค 6.1",null,"ป.2/9",null,null,null,null,null,null,null,null,null,null,"ค 6.1",null,"ม.2/9"]
[null,null,null,"ว 1.1",null,"ป.2/10",null,null,null,null,null,null,null,null,null,null,"ว 1.1",null,"ม.2/10"]
[null,null,null,"ว 1.2",null,"ป.3/1",null,null,null,null,null,null,null,null,null,null,"ว 1.2",null,"ม.3/1"]
[null,null,null,"ว 2.1",null,"ป.3/2",null,null,null,null,null,null,null,null,null,null,"ว 2.1",null,"ม.3/2"]
[null,null,null,"ว 2.2",null,"ป.3/3",null,null,null,null,null,null,null,null,null,null,"ว 2.2",null,"ม.3/3"]
[null,null,null,"ว 3.1",null,"ป.3/4",null,null,null,null,null,null,null,null,null,null,"ว 3.1",null,"ม.3/4"]
[null,null,null,"ว 3.2",null,"ป.3/5",null,null,null,null,null,null,null,null,null,null,"ว 3.2",null,"ม.3/5"]
[null,null,null,"ว 4.1",null,"ป.3/6",null,null,null,null,null,null,null,null,null,null,"ว 4.1",null,"ม.3/6"]
[null,null,null,"ว 4.2",null,"ป.3/7",null,null,null,null,null,null,null,null,null,null,"ว 4.2",null,"ม.3/7"]
[null,null,null,"ว 5.1",null,"ป.3/8",null,null,null,null,null,null,null,null,null,null,"ว 5.1",null,"ม.3/8"]
[null,null,null,"ว 6.1",null,"ป.3/9",null,null,null,null,null,null,null,null,null,null,"ว 6.1",null,"ม.3/9"]
[null,null,null,"ว 7.1",null,"ป.3/10",null,null,null,null,null,null,null,null,null,null,"ว 7.1",null,"ม.3/10"]
[null,null,null,"ว 7.2",null,"ป.4/1",null,null,null,null,null,null,null,null,null,null,"ว 7.2",null,"ม.4-6/1"]
[null,null,null,"ว 8.1",null,"ป.4/2",null,null,null,null,null,null,null,null,null,null,"ว 8.1",null,"ม.4-6/2"]
[null,null,null,"ส 1.1",null,"ป.4/3",null,null,null,null,null,null,null,null,null,null,"ส 1.1",null,"ม.4-6/3"]
[null,null,null,"ส 1.2",null,"ป.4/4",null,null,null,null,null,null,null,null,null,null,"ส 1.2",null,"ม.4-6/4"]
[null,null,null,"ส 2.1",null,"ป.4/5",null,null,null,null,null,null,null,null,null,null,"ส 2.1",null,"ม.4-6/5"]
[null,null,null,"ส 2.2",null,"ป.4/6",null,null,null,null,null,null,null,null,null,null,"ส 2.2",null,"ม.4-6/6"]
[null,null,null,"ส 3.1",null,"ป.4/7",null,null,null,null,null,null,null,null,null,null,"ส 3.1",null,"ม.4-6/7"]
[null,null,null,"ส 3.2",null,"ป.4/8",null,null,null,null,null,null,null,null,null,null,"ส 3.2",null,"ม.4-6/8"]
[null,null,null,"ส 4.1",null,"ป.4/9",null,null,null,null,null,null,null,null,null,null,"ส 4.1",null,"ม.4-6/9"]
[null,null,null,"ส 4.2",null,"ป.4/10",null,null,null,null,null,null,null,null,null,null,"ส 4.2",null,"ม.4-6/10"]
[null,null,null,"ส 4.2",null,"ป.5/1",null,null,null,null,null,null,null,null,null,null,"ส 4.2",null,"ม.4-6/11"]
[null,null,null,"ส 5.1",null,"ป.5/2",null,null,null,null,null,null,null,null,null,null,"ส 5.1",null,"ม.4-6/12"]
[null,null,null,"ส 5.2",null,"ป.5/3",null,null,null,null,null,null,null,null,null,null,"ส 5.2",null,"ม.4-6/13"]
[null,null,null,"พ 1.1",null,"ป.5/4",null,null,null,null,null,null,null,null,null,null,"พ 1.1",null,"ม.4-6/14"]
[null,null,null,"พ 2.1",null,"ป.5/5",null,null,null,null,null,null,null,null,null,null,"พ 2.1",null,"ม.4-6/15"]
[null,null,null,"พ 3.1",null,"ป.5/6",null,null,null,null,null,null,null,null,null,null,"พ 3.1",null,"ม.4-6/16"]
[null,null,null,"พ 3.2",null,"ป.5/7",null,null,null,null,null,null,null,null,null,null,"พ 3.2",null,"ม.4-6/17"]
[null,null,null,"พ 4.1",null,"ป.5/8",null,null,null,null,null,null,null,null,null,null,"พ 4.1",null,"ม.4-6/18"]
[null,null,null,"พ 5.1",null,"ป.5/9",null,null,null,null,null,null,null,null,null,null,"พ 5.1",null,"ม.4-6/19"]
[null,null,null,"ศ. 1.1",null,"ป.5/10",null,null,null,null,null,null,null,null,null,null,"ศ. 1.1",null,"ม.4-6/20"]
[null,null,null,"ศ 1.2",null,"ม.6/1",null,null,null,null,null,null,null,null,null,null,"ศ 1.2",null,"ม.4-6/21"]
[null,null,null,"ศ 2.1",null,"ม.6/2",null,null,null,null,null,null,null,null,null,null,"ศ 2.1",null,"ม.4-6/22"]
[null,null,null,"ศ 2.2",null,"ม.6/3",null,null,null,null,null,null,null,null,null,null,"ศ 2.2",null,"ม.4-6/23"]
[null,null,null,"ศ 3.1",null,"ม.6/4",null,null,null,null,null,null,null,null,null,null,"ศ 3.1",null,"ม.4-6/24"]
[null,null,null,"ศ 3.2",null,"ม.6/5",null,null,null,null,null,null,null,null,null,null,"ศ 3.2",null,"ม.4-6/25"]
[null,null,null,"ง 1.1",null,"ม.6/6",null,null,null,null,null,null,null,null,null,null,"ง 1.1",null,"ม.4-6/26"]
[null,null,null,"ง 2.1",null,"ม.6/7",null,null,null,null,null,null,null,null,null,null,"ง 2.1",null,"ม.4-6/27"]
[null,null,null,"ง 3.1",null,"ม.6/8",null,null,null,null,null,null,null,null,null,null,"ง 3.1",null,"ม.4-6/28"]
[null,null,null,"ง 4.1",null,"ม.6/9",null,null,null,null,null,null,null,null,null,null,"ง 4.1",null,"ม.4-6/29"]
[null,null,null,"ต 1.1",null,"ม.6/10",null,null,null,null,null,null,null,null,null,null,"ต 1.1",null,"ม.4-6/30"]
[null,null,null,"ต 1.2",null,"ข้อ 1",null,null,null,null,null,null,null,null,null,null,"ต 1.2",null,"ข้อ 1"]
[null,null,null,"ต 1.3",null,"ข้อ 2",null,null,null,null,null,null,null,null,null,null,"ต 1.3",null,"ข้อ 2"]
[null,null,null,"ต 2.1",null,"ข้อ 3",null,null,null,null,null,null,null,null,null,null,"ต 2.1",null,"ข้อ 3"]
[null,null,null,"ต 2.2",null,"ข้อ 4",null,null,null,null,null,null,null,null,null,null,"ต 2.2",null,"ข้อ 4"]
[null,null,null,"ต 3.1",null,"ข้อ 5",null,null,null,null,null,null,null,null,null,null,"ต 3.1",null,"ข้อ 5"]
[null,null,null,"ต 4.1",null,"ข้อ 6",null,null,null,null,null,null,null,null,null,null,"ต 4.1",null,"ข้อ 6"]
[null,null,null,"ต 4.2",null,"ข้อ 7",null,null,null,null,null,null,null,null,null,null,"ต 4.2",null,"ข้อ 7"]
[null,null,null,null,null,"ข้อ 8",null,null,null,null,null,null,null,null,null,null," -",null,"ข้อ 8"]
[null,null,null,null,null,"ข้อ 9",null,null,null,null,null,null,null,null,null,null,null,null,"ข้อ 9"]
[null,null,null,null,null,"ข้อ 10",null,null,null,null,null,null,null,null,null,null,null,null,"ข้อ 10"]
[null,null,null,null,null,"ข้อ 11",null,null,null,null,null,null,null,null,null,null,null,null,"ข้อ 11"]
[null,null,null,null,null,"ข้อ 12",null,null,null,null,null,null,null,null,null,null,null,null,"ข้อ 12"]
[null,null,null,null,null,"ข้อ 13",null,null,null,null,null,null,null,null,null,null,null,null,"ข้อ 13"]
[null,null,null,null,null,"ข้อ 14",null,null,null,null,null,null,null,null,null,null,null,null,"ข้อ 14"]
[null,null,null,null,null,"ข้อ 15",null,null,null,null,null,null,null,null,null,null,null,null,"ข้อ 15"]
[null,null,null,null,null,"ข้อ 16",null,null,null,null,null,null,null,null,null,null,null,null,"ข้อ 16"]
[null,null,null,null,null,"ข้อ 17",null,null,null,null,null,null,null,null,null,null,null,null,"ข้อ 17"]
[null,null,null,null,null,"ข้อ 18",null,null,null,null,null,null,null,null,null,null,null,null,"ข้อ 18"]
[null,null,null,null,null,"ข้อ 19",null,null,null,null,null,null,null,null,null,null,null,null,"ข้อ 19"]
[null,null,null,null,null,"ข้อ 20",null,null,null,null,null,null,null,null,null,null,null,null,"ข้อ 20"]
[null,null,null,null,null,"ข้อ 21",null,null,null,null,null,null,null,null,null,null,null,null,"ข้อ 21"]
[null,null,null,null,null,"ข้อ 22",null,null,null,null,null,null,null,null,null,null,null,null,"ข้อ 22"]
[null,null,null,null,null,"ข้อ 23",null,null,null,null,null,null,null,null,null,null,null,null,"ข้อ 23"]
[null,null,null,null,null,"ข้อ 24",null,null,null,null,null,null,null,null,null,null,null,null,"ข้อ 24"]
[null,null,null,null,null,"ข้อ 25",null,null,null,null,null,null,null,null,null,null,null,null,"ข้อ 25"]
[null,null,null,null,null,"ข้อ 26",null,null,null,null,null,null,null,null,null,null,null,null,"ข้อ 26"]
[null,null,null,null,null,"ข้อ 27",null,null,null,null,null,null,null,null,null,null,null,null,"ข้อ 27"]
[null,null,null,null,null,"ข้อ 28",null,null,null,null,null,null,null,null,null,null,null,null,"ข้อ 28"]
[null,null,null,null,null,"ข้อ 29",null,null,null,null,null,null,null,null,null,null,null,null,"ข้อ 29"]
[null,null,null,null,null,"ข้อ 30",null,null,null,null,null,null,null,null,null,null,null,null,"ข้อ 30"]
[null,null,null,null,null,null,null,null,null,null,null,null,null,null,null,null,null,null,"ข้อ 31"]
[null,null,null,null,null,null,null,null,null,null,null,null,null,null,null,null,null,null,"ข้อ 32"]
[null,null,null,null,null,null,null,null,null,null,null,null,null,null,null,null,null,null,"ข้อ 33"]
[null,null,null,null,null,null,null,null,null,null,null,null,null,null,null,null,null,null,"ข้อ 34"]
[null,null,null,null,null,null,null,null,null,null,null,null,null,null,null,null,null,null,"ข้อ 35"]
[null,null,null,null,null,null,null,null,null,null,null,null,null,null,null,null,null,null,"ข้อ 36"]
[null,null,null,null,null,null,null,null,null,null,null,null,null,null,null,null,null,null,"ข้อ 37"]
[null,null,null,null,null,null,null,null,null,null,null,null,null,null,null,null,null,null,"ข้อ 38"]
[null,null,null,null,null,null,null,null,null,null,null,null,null,null,null,null,null,null,"ข้อ 39"]
[null,null,null,null,null,null,null,null,null,null,null,null,null,null,null,null,null,null,"ข้อ 40"]

{"sheet":"เวลาเรียน","index":4,"n_rows":47,"n_cols":250,"rows_kept":47,"cut":false,"hidden":false,"merged":[[2,521,4,524],[2,525,6,525],[2,526,6,526],[5,521,6,521],[5,522,6,522],[5,523,6,523],[5,524,6,524],[3,100,3,105],[2,232,2,237],[2,238,2,243],[2,323,2,328],[2,329,2,334],[2,335,2,340],[2,341,2,346],[2,347,2,352],[2,249,6,249],[3,184,3,189],[2,281,2,286],[2,287,2,292],[2,293,2,298],[2,299,2,304],[2,305,2,310],[2,311,2,316],[2,317,2,322],[5,246,6,246],[5,247,6,247],[2,244,4,247],[2,248,6,248],[2,154,2,159],[3,232,3,237],[2,160,2,165],[2,166,2,171],[2,172,2,177],[2,178,2,183],[2,184,2,189],[2,190,2,195],[2,196,2,201],[2,202,2,207],[2,208,2,213],[0,0,0,2],[1,0,1,2],[3,88,3,93],[3,94,3,99],[3,40,3,45],[3,46,3,51],[3,52,3,57],[3,118,3,123],[2,106,2,111],[2,112,2,117],[2,118,2,123],[3,106,3,111],[3,112,3,117],[2,16,2,21],[2,22,2,27],[3,22,3,27],[2,34,2,39],[2,100,2,105],[2,0,7,0],[2,1,7,1],[2,2,7,2],[2,40,2,45],[2,46,2,51],[3,28,3,33],[3,34,3,39],[2,76,2,81],[2,82,2,87],[2,124,2,129],[2,130,2,135],[3,202,3,207],[5,244,6,244],[5,245,6,245],[2,28,2,33],[2,70,2,75],[3,64,3,69],[3,70,3,75],[3,76,3,81],[3,82,3,87],[3,190,3,195],[2,58,2,63],[3,58,3,63],[2,52,2,57],[3,238,3,243],[2,214,2,219],[3,196,3,201],[2,136,2,141],[2,142,2,147],[2,148,2,153],[3,4,3,9],[3,10,3,15],[3,16,3,21],[2,4,2,9],[2,10,2,15],[3,220,3,225],[3,226,3,231],[3,124,3,129],[3,130,3,135],[3,136,3,141],[3,142,3,147],[3,148,3,153],[3,154,3,159],[2,88,2,93],[2,94,2,99],[2,64,2,69],[3,160,3,165],[3,166,3,171],[3,172,3,177],[3,178,3,183],[2,220,2,225],[2,226,2,231],[3,208,3,213],[3,214,3,219],[2,353,2,358],[2,359,2,364],[2,365,2,370],[2,371,2,376],[2,377,2,382],[2,383,2,388],[2,389,2,394],[2,395,2,400],[2,401,2,406],[2,407,2,412],[2,413,2,418],[2,419,2,424],[2,425,2,430],[2,431,2,436],[2,437,2,442],[2,443,2,448],[2,449,2,454],[2,455,2,460],[2,461,2,466],[2,467,2,472],[2,473,2,478],[2,479,2,484],[2,485,2,490],[2,491,2,496],[2,497,2,502],[2,503,2,508],[2,509,2,514],[2,515,2,520],[3,281,3,286],[3,287,3,292],[3,293,3,298],[3,299,3,304],[3,305,3,310],[3,311,3,316],[3,317,3,322],[3,323,3,328],[3,329,3,334],[3,335,3,340],[3,341,3,346],[3,347,3,352],[3,353,3,358],[3,359,3,364],[3,365,3,370],[3,371,3,376],[3,377,3,382],[3,383,3,388],[3,389,3,394],[3,395,3,400],[3,401,3,406],[3,407,3,412],[3,413,3,418],[3,473,3,478],[3,479,3,484],[3,485,3,490],[3,491,3,496],[3,497,3,502],[3,503,3,508],[3,509,3,514],[3,515,3,520],[3,419,3,424],[3,425,3,430],[3,431,3,436],[3,437,3,442],[3,443,3,448],[3,449,3,454],[3,455,3,460],[3,461,3,466],[3,467,3,472]]}
[{"$f":"\"บันทึกเวลาเรียน รายวิชา\"&ปก!AC15","v":"บันทึกเวลาเรียน รายวิชา{{โปรดกรอกข้อมูลรายวิชา}}"},null,null,null,{"$f":"\"รหัสวิชา\"&\"  \"&ปก!C27","v":"รหัสวิชา  "},null,null,null,null,null,null,null,null,null,null,null,null,null,null,null,null,"หน้า 1",{"$f":"\"บันทึกเวลาเรียน   รายวิชา\"&ปก!C26&\"     \"&\"รหัสวิชา\"&\"  \"&ปก!C27","v":"บันทึกเวลาเรียน   รายวิชา     รหัสวิชา  "},null,null,null,null,null,null,null,null,null,null,null,null,null,null,null,null,null,null,null,null,null,null,null,null,null,null,null,null,null,null,null,null,null,null,"หน้า 2",{"$f":"\"บันทึกเวลาเรียน   รายวิชา\"&ปก!C26&\"     \"&\"รหัสวิชา\"&\"  \"&ปก!C27","v":"บันทึกเวลาเรียน   รายวิชา     รหัสวิชา  "},null,null,null,null,null,null,null,null,null,null,null,null,null,null,null,null,null,null,null,null,null,null,null,null,null,null,null,null,null,null,null,null,null,null,"หน้า 3",{"$f":"\"บันทึกเวลาเรียน   รายวิชา\"&ปก!C26&\"     \"&\"รหัสวิชา\"&\"  \"&ปก!C27","v":"บันทึกเวลาเรียน   รายวิชา     รหัสวิชา  "},null,null,null,null,null,null,null,null,null,null,null,null,null,null,null,null,null,null,null,null,null,null,null,null,null,null,null,null,null,null,null,null,null,null,"หน้า 4",{"$f":"\"บันทึกเวลาเรียน   รายวิชา\"&ปก!C26&\"     \"&\"รหัสวิชา\"&\"  \"&ปก!C27","v":"บันทึกเวลาเรียน   รายวิชา     รหัสวิชา  "},null,null,null,null,null,null,null,null,null,null,null,null,null,null,null,null,null,null,null,null,null,null,null,null,null,null,null,null,null,null,null,null,null,null,"หน้า 5",{"$f":"\"บันทึกเวลาเรียน   รายวิชา\"&ปก!C26&\"     \"&\"รหัสวิชา\"&\"  \"&ปก!C27","v":"บันทึกเวลาเรียน   รายวิชา     รหัสวิชา  "},null,null,null,null,null,null,null,null,null,null,null,null,null,null,null,null,null,null,null,null,null,null,null,null,null,null,null,null,null,null,null,null,null,null,"หน้า 6",{"$f":"\"บันทึกเวลาเรียน   รายวิชา\"&ปก!C26&\"     \"&\"รหัสวิชา\"&\"  \"&ปก!C27","v":"บันทึกเวลาเรียน   รายวิชา     รหัสวิชา  "},null,null,null,null,null,null,null,null,null,null,null,null,null,null,null,null,null,null,null,null,null,null,null,null,null,null,null,null,null,null,null,null,null,null,"หน้า 7",{"$f":"\"บันทึกเวลาเรียน   รายวิชา\"&ปก!C26&\"     \"&\"รหัสวิชา\"&\"  \"&ปก!C27","v":"บันทึกเวลาเรียน   รายวิชา     รหัสวิชา  "},null,null,null,null,null,null,null,null,null,null,"หน้า 8"]
[{"$f":"\"นักเรียนระดับ\"&ปก!AF11","v":"นักเรียนระดับ"},null,null,null,{"$f":"\"ปีการศึกษา\"&ปก!C16&\"(เวลาเรียน\"&\"  \"&\"\"&ปก!C28&\" \"&\"ชั่วโมง : ปี)\"","v":"ปีการศึกษา2567(เวลาเรียน  40 ชั่วโมง : ปี)"},null,null,null,null,null,null,null,null,null,null,null,null,null,null,null,null,null,{"$f":"\"นักเรียนระดับ\"&ปก!AF11&\"    \"&\"ปีการศึกษา\"&ปก!C16","v":"นักเรียนระดับ    ปีการศึกษา2567"},null,null,null,null,null,null,null,null,null,null,null,null,null,null,null,null,null,null,null,null,null,null,null,null,null,null,null,null,null,null,null,null,null,null,null,{"$f":"\"นักเรียนระดับ\"&ปก!AF11&\"    \"&\"ปีการศึกษา\"&ปก!C16","v":"นักเรียนระดับ    ปีการศึกษา2567"},null,null,null,null,null,null,null,null,null,null,null,null,null,null,null,null,null,null,null,null,null,null,null,null,null,null,null,null,null,null,null,null,null,null,null,{"$f":"\"นักเรียนระดับ\"&ปก!AF11&\"    \"&\"ปีการศึกษา\"&ปก!C16","v":"นักเรียนระดับ    ปีการศึกษา2567"},null,null,null,null,null,null,null,null,null,null,null,null,null,null,null,null,null,null,null,null,null,null,null,null,null,null,null,null,null,null,null,null,null,null,null,{"$f":"\"นักเรียนระดับ\"&ปก!AF11&\"    \"&\"ปีการศึกษา\"&ปก!C16","v":"นักเรียนระดับ    ปีการศึกษา2567"},null,null,null,null,null,null,null,null,null,null,null,null,null,null,null,null,null,null,null,null,null,null,null,null,null,null,null,null,null,null,null,null,null,null,null,{"$f":"\"นักเรียนระดับ\"&ปก!AF11&\"    \"&\"ปีการศึกษา\"&ปก!C16","v":"นักเรียนระดับ    ปีการศึกษา2567"},null,null,null,null,null,null,null,null,null,null,null,null,null,null,null,null,null,null,null,null,null,null,null,null,null,null,null,null,null,null,null,null,null,null,null,{"$f":"\"นักเรียนระดับ\"&ปก!AF11&\"    \"&\"ปีการศึกษา\"&ปก!C16","v":"นักเรียนระดับ    ปีการศึกษา2567"},null,null,null,null,null,null,null,null,null,null,null,null,null,null,null,null,null,null,null,null,null,null,null,null,null,null,null,null,null,null,null,null,null,null,null,{"$f":"\"นักเรียนระดับ\"&ปก!AF11&\"    \"&\"ปีการศึกษา\"&ปก!C16","v":"นักเรียนระดับ    ปีการศึกษา2567"}]
["เลขที่","เลขประจำตัว","ชื่อ - ชื่อสกุล","สัปดาห์ที่",1,null,null,null,null,null,2,null,null,null,null,null,3,null,null,null,null,null,4,null,null,null,null,null,5,null,null,null,null,null,6,null,null,null,null,null,7,null,null,null,null,null,8,null,null,null,null,null,9,null,null,null,null,null,10,null,null,null,null,null,11,null,null,null,null,null,12,null,null,null,null,null,13,null,null,null,null,null,14,null,null,null,null,null,15,null,null,null,null,null,16,null,null,null,null,null,17,null,null,null,null,null,18,null,null,null,null,null,19,null,null,null,null,null,20,null,null,null,null,null,21,null,null,null,null,null,22,null,null,null,null,null,23,null,null,null,null,null,24,null,null,null,null,null,25,null,null,null,null,null,26,null,null,null,null,null,27,null,null,null,null,null,28,null,null,null,null,null,29,null,null,null,null,null,30,null,null,null,null,null,31,null,null,null,null,null,32,null,null,null,null,null,33,null,null,null,null,null,34,null,null,null,null,null,35,null,null,null,null,null,36,null,null,null,null,null,37,null,null,null,null,null,38,null,null,null,null,null,39,null,null,null,null,null,40,null,null,null,null,null,"รวมเวลาเรียนตลอดปีการศึกษา(ชั่วโมง)",null,null,null,"มาเรียน\nร้อยละ\n(เวลาเรียน)","สถานะ\nนักเรียน\nปัจจุบัน"]
[null,null,null,"เดือน"]
[null,null,null,"วันที่"]
[null,null,null,"ชั่วโมงที่",null,null,null,null,null,null,null,null,null,null,null,null,null,null,null,null,null,null,null,null,null,null,null,null,null,null,null,null,null,null,null,null,null,null,null,null,null,null,null,null,null,null,null,null,null,null,null,null,null,null,null,null,null,null,null,null,null,null,null,null,null,null,null,null,null,null,null,null,null,null,null,null,null,null,null,null,null,null,null,null,null,null,null,null,null,null,null,null,null,null,null,null,null,null,null,null,null,null,null,null,null,null,null,null,null,null,null,null,null,null,null,null,null,null,null,null,null,null,null,null,null,null,null,null,null,null,null,null,null,null,null,null,null,null,null,null,null,null,null,null,null,null,null,null,null,null,null,null,null,null,null,null,null,null,null,null,null,null,null,null,null,null,null,null,null,null,null,null,null,null,null,null,null,null,null,null,null,null,null,null,null,null,null,null,null,null,null,null,null,null,null,null,null,null,null,null,null,null,null,null,null,null,null,null,null,null,null,null,null,null,null,null,null,null,null,null,null,null,null,null,null,null,null,null,null,null,null,null,null,null,null,null,null,null,null,null,null,null,null,null,"มา","ขาด","ลา","ป่วย"]
[null,null,null,"เลขที่"]
[null,null,null,"จำนวนชั่วโมง/ครั้ง"]
[1,{"$f":"Sheet1!B2","v":15329},{"$f":"CONCATENATE(Sheet1!C2&Sheet1!D2&\"       \"&Sheet1!E2)","v":"เด็กชายทศพล  เต๊ะปู่       "},1,null,null,null,null,null,null,null,null,null,null,null,null,null,null,null,null,null,null,null,null,null,null,null,null,null,null,null,null,null,null,null,null,null,null,null,null,null,null,null,null,null,null,null,null,null,null,null,null,null,null,null,null,null,null,null,null,null,null,null,null,null,null,null,null,null,null,null,null,null,null,null,null,null,null,null,null,null,null,null,null,null,null,null,null,null,null,null,null,null,null,null,null,null,null,null,null,null,null,null,null,null,null,null,null,null,null,null,null,null,null,null,null,null,null,null,null,null,null,null,null,null,null,null,null,null,null,null,null,null,null,null,null,null,null,null,null,null,null,null,null,null,null,null,null,null,null,null,null,null,null,null,null,null,null,null,null,null,null,null,null,null,null,null,null,null,null,null,null,null,null,null,null,null,null,null,null,null,null,null,null,null,null,null,null,null,null,null,null,null,null,null,null,null,null,null,null,null,null,null,null,null,null,null,null,null,null,null,null,null,null,null,null,null,null,null,null,null,null,null,null,null,null,null,null,null,null,null,null,null,null,null,null,null,null,null,null,null,null,null,null,{"$f":"IF(C9=\"\",0,IF(IP9<>\"ปกติ\",0,$IK$47-IL9-IM9-IN9))","v":0},{"$f":"COUNTIF(E9:IJ9,\"ข\")","v":0},{"$f":"COUNTIF(E9:IJ9,\"ล\")","v":0},{"$f":"COUNTIF(E9:IJ9,\"ป\")","v":0},{"$f":"IF(ปก!$C$28=0,\"-\",IF(SUM(IK9*100)/ปก!$C$28>100,\"ERROR\",SUM(IK9*100)/ปก!$C$28))","v":0},"ปกติ"]
[2,{"$f":"Sheet1!B3","v":15330},{"$f":"CONCATENATE(Sheet1!C3&Sheet1!D3&\"       \"&Sheet1!E3)","v":"เด็กชายณัฐกานต์  เพชรลาย       "},2,null,null,null,null,null,null,null,null,null,null,null,null,null,null,null,null,null,null,null,null,null,null,null,null,null,null,null,null,null,null,null,null,null,null,null,null,null,null,null,null,null,null,null,null,null,null,null,null,null,null,null,null,null,null,null,null,null,null,null,null,null,null,null,null,null,null,null,null,null,null,null,null,null,null,null,null,null,null,null,null,null,null,null,null,null,null,null,null,null,null,null,null,null,null,null,null,null,null,null,null,null,null,null,null,null,null,null,null,null,null,null,null,null,null,null,null,null,null,null,null,null,null,null,null,null,null,null,null,null,null,null,null,null,null,null,null,null,null,null,null,null,null,null,null,null,null,null,null,null,null,null,null,null,null,null,null,null,null,null,null,null,null,null,null,null,null,null,null,null,null,null,null,null,null,null,null,null,null,null,null,null,null,null,null,null,null,null,null,null,null,null,null,null,null,null,null,null,null,null,null,null,null,null,null,null,null,null,null,null,null,null,null,null,null,null,null,null,null,null,null,null,null,null,null,null,null,null,null,null,null,null,null,null,null,null,null,null,null,null,null,0,{"$f":"COUNTIF(E10:IJ10,\"ข\")","v":0},{"$f":"COUNTIF(E10:IJ10,\"ล\")","v":0},{"$f":"COUNTIF(E10:IJ10,\"ป\")","v":0},{"$f":"IF(ปก!$C$28=0,\"-\",IF(SUM(IK10*100)/ปก!$C$28>100,\"ERROR\",SUM(IK10*100)/ปก!$C$28))","v":0},"ปกติ"]
[3,{"$f":"Sheet1!B4","v":15335},{"$f":"CONCATENATE(Sheet1!C4&Sheet1!D4&\"       \"&Sheet1!E4)","v":"เด็กชายอรรถกร  สุนทรา       "},3,null,null,null,null,null,null,null,null,null,null,null,null,null,null,null,null,null,null,null,null,null,null,null,null,null,null,null,null,null,null,null,null,null,null,null,null,null,null,null,null,null,null,null,null,null,null,null,null,null,null,null,null,null,null,null,null,null,null,null,null,null,null,null,null,null,null,null,null,null,null,null,null,null,null,null,null,null,null,null,null,null,null,null,null,null,null,null,null,null,null,null,null,null,null,null,null,null,null,null,null,null,null,null,null,null,null,null,null,null,null,null,null,null,null,null,null,null,null,null,null,null,null,null,null,null,null,null,null,null,null,null,null,null,null,null,null,null,null,null,null,null,null,null,null,null,null,null,null,null,null,null,null,null,null,null,null,null,null,null,null,null,null,null,null,null,null,null,null,null,null,null,null,null,null,null,null,null,null,null,null,null,null,null,null,null,null,null,null,null,null,null,null,null,null,null,null,null,null,null,null,null,null,null,null,null,null,null,null,null,null,null,null,null,null,null,null,null,null,null,null,null,null,null,null,null,null,null,null,null,null,null,null,null,null,null,null,null,null,null,null,0,0,0,0,{"$f":"IF(ปก!$C$28=0,\"-\",IF(SUM(IK11*100)/ปก!$C$28>100,\"ERROR\",SUM(IK11*100)/ปก!$C$28))","v":0},"ปกติ"]
[4,{"$f":"Sheet1!B5","v":15346},{"$f":"CONCATENATE(Sheet1!C5&Sheet1!D5&\"       \"&Sheet1!E5)","v":"เด็กหญิงภิญญาพัชญ์  สุทธิช่วย       "},4,null,null,null,null,null,null,null,null,null,null,null,null,null,null,null,null,null,null,null,null,null,null,null,null,null,null,null,null,null,null,null,null,null,null,null,null,null,null,null,null,null,null,null,null,null,null,null,null,null,null,null,null,null,null,null,null,null,null,null,null,null,null,null,null,null,null,null,null,null,null,null,null,null,null,null,null,null,null,null,null,null,null,null,null,null,null,null,null,null,null,null,null,null,null,null,null,null,null,null,null,null,null,null,null,null,null,null,null,null,null,null,null,null,null,null,null,null,null,null,null,null,null,null,null,null,null,null,null,null,null,null,null,null,null,null,null,null,null,null,null,null,null,null,null,null,null,null,null,null,null,null,null,null,null,null,null,null,null,null,null,null,null,null,null,null,null,null,null,null,null,null,null,null,null,null,null,null,null,null,null,null,null,null,null,null,null,null,null,null,null,null,null,null,null,null,null,null,null,null,null,null,null,null,null,null,null,null,null,null,null,null,null,null,null,null,null,null,null,null,null,null,null,null,null,null,null,null,null,null,null,null,null,null,null,null,null,null,null,null,null,0,0,0,0,{"$f":"IF(ปก!$C$28=0,\"-\",IF(SUM(IK12*100)/ปก!$C$28>100,\"ERROR\",SUM(IK12*100)/ปก!$C$28))","v":0},"ปกติ"]
[5,{"$f":"Sheet1!B6","v":15354},{"$f":"CONCATENATE(Sheet1!C6&Sheet1!D6&\"       \"&Sheet1!E6)","v":"เด็กหญิงญานิศา  คชนาค       "},5,null,null,null,null,null,null,null,null,null,null,null,null,null,null,null,null,null,null,null,null,null,null,null,null,null,null,null,null,null,null,null,null,null,null,null,null,null,null,null,null,null,null,null,null,null,null,null,null,null,null,null,null,null,null,null,null,null,null,null,null,null,null,null,null,null,null,null,null,null,null,null,null,null,null,null,null,null,null,null,null,null,null,null,null,null,null,null,null,null,null,null,null,null,null,null,null,null,null,null,null,null,null,null,null,null,null,null,null,null,null,null,null,null,null,null,null,null,null,null,null,null,null,null,null,null,null,null,null,null,null,null,null,null,null,null,null,null,null,null,null,null,null,null,null,null,null,null,null,null,null,null,null,null,null,null,null,null,null,null,null,null,null,null,null,null,null,null,null,null,null,null,null,null,null,null,null,null,null,null,null,null,null,null,null,null,null,null,null,null,null,null,null,null,null,null,null,null,null,null,null,null,null,null,null,null,null,null,null,null,null,null,null,null,null,null,null,null,null,null,null,null,null,null,null,null,null,null,null,null,null,null,null,null,null,null,null,null,null,null,null,0,0,0,0,{"$f":"IF(ปก!$C$28=0,\"-\",IF(SUM(IK13*100)/ปก!$C$28>100,\"ERROR\",SUM(IK13*100)/ปก!$C$28))","v":0},"ปกติ"]
[6,{"$f":"Sheet1!B7","v":15357},{"$f":"CONCATENATE(Sheet1!C7&Sheet1!D7&\"       \"&Sheet1!E7)","v":"เด็กชายชยพล  ชลสงคราม       "},6,null,null,null,null,null,null,null,null,null,null,null,null,null,null,null,null,null,null,null,null,null,null,null,null,null,null,null,null,null,null,null,null,null,null,null,null,null,null,null,null,null,null,null,null,null,null,null,null,null,null,null,null,null,null,null,null,null,null,null,null,null,null,null,null,null,null,null,null,null,null,null,null,null,null,null,null,null,null,null,null,null,null,null,null,null,null,null,null,null,null,null,null,null,null,null,null,null,null,null,null,null,null,null,null,null,null,null,null,null,null,null,null,null,null,null,null,null,null,null,null,null,null,null,null,null,null,null,null,null,null,null,null,null,null,null,null,null,null,null,null,null,null,null,null,null,null,null,null,null,null,null,null,null,null,null,null,null,null,null,null,null,null,null,null,null,null,null,null,null,null,null,null,null,null,null,null,null,null,null,null,null,null,null,null,null,null,null,null,null,null,null,null,null,null,null,null,null,null,null,null,null,null,null,null,null,null,null,null,null,null,null,null,null,null,null,null,null,null,null,null,null,null,null,null,null,null,null,null,null,null,null,null,null,null,null,null,null,null,null,null,0,0,0,0,{"$f":"IF(ปก!$C$28=0,\"-\",IF(SUM(IK14*100)/ปก!$C$28>100,\"ERROR\",SUM(IK14*100)/ปก!$C$28))","v":0},"ปกติ"]
[7,{"$f":"Sheet1!B8","v":15366},{"$f":"CONCATENATE(Sheet1!C8&Sheet1!D8&\"       \"&Sheet1!E8)","v":"เด็กชายณัฏฐากร  เติมชัย       "},7,null,null,null,null,null,null,null,null,null,null,null,null,null,null,null,null,null,null,null,null,null,null,null,null,null,null,null,null,null,null,null,null,null,null,null,null,null,null,null,null,null,null,null,null,null,null,null,null,null,null,null,null,null,null,null,null,null,null,null,null,null,null,null,null,null,null,null,null,null,null,null,null,null,null,null,null,null,null,null,null,null,null,null,null,null,null,null,null,null,null,null,null,null,null,null,null,null,null,null,null,null,null,null,null,null,null,null,null,null,null,null,null,null,null,null,null,null,null,null,null,null,null,null,null,null,null,null,null,null,null,null,null,null,null,null,null,null,null,null,null,null,null,null,null,null,null,null,null,null,null,null,null,null,null,null,null,null,null,null,null,null,null,null,null,null,null,null,null,null,null,null,null,null,null,null,null,null,null,null,null,null,null,null,null,null,null,null,null,null,null,null,null,null,null,null,null,null,null,null,null,null,null,null,null,null,null,null,null,null,null,null,null,null,null,null,null,null,null,null,null,null,null,null,null,null,null,null,null,null,null,null,null,null,null,null,null,null,null,null,null,0,0,0,0,{"$f":"IF(ปก!$C$28=0,\"-\",IF(SUM(IK15*100)/ปก!$C$28>100,\"ERROR\",SUM(IK15*100)/ปก!$C$28))","v":0},"ปกติ"]
[8,{"$f":"Sheet1!B9","v":15370},{"$f":"CONCATENATE(Sheet1!C9&Sheet1!D9&\"       \"&Sheet1!E9)","v":"เด็กหญิงอรนภา  จูละพันธ์       "},8,null,null,null,null,null,null,null,null,null,null,null,null,null,null,null,null,null,null,null,null,null,null,null,null,null,null,null,null,null,null,null,null,null,null,null,null,null,null,null,null,null,null,null,null,null,null,null,null,null,null,null,null,null,null,null,null,null,null,null,null,null,null,null,null,null,null,null,null,null,null,null,null,null,null,null,null,null,null,null,null,null,null,null,null,null,null,null,null,null,null,null,null,null,null,null,null,null,null,null,null,null,null,null,null,null,null,null,null,null,null,null,null,null,null,null,null,null,null,null,null,null,null,null,null,null,null,null,null,null,null,null,null,null,null,null,null,null,null,null,null,null,null,null,null,null,null,null,null,null,null,null,null,null,null,null,null,null,null,null,null,null,null,null,null,null,null,null,null,null,null,null,null,null,null,null,null,null,null,null,null,null,null,null,null,null,null,null,null,null,null,null,null,null,null,null,null,null,null,null,null,null,null,null,null,null,null,null,null,null,null,null,null,null,null,null,null,null,null,null,null,null,null,null,null,null,null,null,null,null,null,null,null,null,null,null,null,null,null,null,null,0,0,0,0,{"$f":"IF(ปก!$C$28=0,\"-\",IF(SUM(IK16*100)/ปก!$C$28>100,\"ERROR\",SUM(IK16*100)/ปก!$C$28))","v":0},"ปกติ"]
[9,{"$f":"Sheet1!B10","v":15378},{"$f":"CONCATENATE(Sheet1!C10&Sheet1!D10&\"       \"&Sheet1!E10)","v":"เด็กหญิงปนัดดา  ขุนทอง       "},9,null,null,null,null,null,null,null,null,null,null,null,null,null,null,null,null,null,null,null,null,null,null,null,null,null,null,null,null,null,null,null,null,null,null,null,null,null,null,null,null,null,null,null,null,null,null,null,null,null,null,null,null,null,null,null,null,null,null,null,null,null,null,null,null,null,null,null,null,null,null,null,null,null,null,null,null,null,null,null,null,null,null,null,null,null,null,null,null,null,null,null,null,null,null,null,null,null,null,null,null,null,null,null,null,null,null,null,null,null,null,null,null,null,null,null,null,null,null,null,null,null,null,null,null,null,null,null,null,null,null,null,null,null,null,null,null,null,null,null,null,null,null,null,null,null,null,null,null,null,null,null,null,null,null,null,null,null,null,null,null,null,null,null,null,null,null,null,null,null,null,null,null,null,null,null,null,null,null,null,null,null,null,null,null,null,null,null,null,null,null,null,null,null,null,null,null,null,null,null,null,null,null,null,null,null,null,null,null,null,null,null,null,null,null,null,null,null,null,null,null,null,null,null,null,null,null,null,null,null,null,null,null,null,null,null,null,null,null,null,null,0,0,0,0,{"$f":"IF(ปก!$C$28=0,\"-\",IF(SUM(IK17*100)/ปก!$C$28>100,\"ERROR\",SUM(IK17*100)/ปก!$C$28))","v":0},"ปกติ"]
[10,{"$f":"Sheet1!B11","v":15380},{"$f":"CONCATENATE(Sheet1!C11&Sheet1!D11&\"       \"&Sheet1!E11)","v":"เด็กหญิงนันท์นภัส  จันทร์ร้อย       "},10,null,null,null,null,null,null,null,null,null,null,null,null,null,null,null,null,null,null,null,null,null,null,null,null,null,null,null,null,null,null,null,null,null,null,null,null,null,null,null,null,null,null,null,null,null,null,null,null,null,null,null,null,null,null,null,null,null,null,null,null,null,null,null,null,null,null,null,null,null,null,null,null,null,null,null,null,null,null,null,null,null,null,null,null,null,null,null,null,null,null,null,null,null,null,null,null,null,null,null,null,null,null,null,null,null,null,null,null,null,null,null,null,null,null,null,null,null,null,null,null,null,null,null,null,null,null,null,null,null,null,null,null,null,null,null,null,null,null,null,null,null,null,null,null,null,null,null,null,null,null,null,null,null,null,null,null,null,null,null,null,null,null,null,null,null,null,null,null,null,null,null,null,null,null,null,null,null,null,null,null,null,null,null,null,null,null,null,null,null,null,null,null,null,null,null,null,null,null,null,null,null,null,null,null,null,null,null,null,null,null,null,null,null,null,null,null,null,null,null,null,null,null,null,null,null,null,null,null,null,null,null,null,null,null,null,null,null,null,null,null,0,0,0,0,{"$f":"IF(ปก!$C$28=0,\"-\",IF(SUM(IK18*100)/ปก!$C$28>100,\"ERROR\",SUM(IK18*100)/ปก!$C$28))","v":0},"ปกติ"]
[11,{"$f":"Sheet1!B12","v":15388},{"$f":"CONCATENATE(Sheet1!C12&Sheet1!D12&\"       \"&Sheet1!E12)","v":"เด็กชายณัฏฐะชัย  แซ่อั้ง       "},11,null,null,null,null,null,null,null,null,null,null,null,null,null,null,null,null,null,null,null,null,null,null,null,null,null,null,null,null,null,null,null,null,null,null,null,null,null,null,null,null,null,null,null,null,null,null,null,null,null,null,null,null,null,null,null,null,null,null,null,null,null,null,null,null,null,null,null,null,null,null,null,null,null,null,null,null,null,null,null,null,null,null,null,null,null,null,null,null,null,null,null,null,null,null,null,null,null,null,null,null,null,null,null,null,null,null,null,null,null,null,null,null,null,null,null,null,null,null,null,null,null,null,null,null,null,null,null,null,null,null,null,null,null,null,null,null,null,null,null,null,null,null,null,null,null,null,null,null,null,null,null,null,null,null,null,null,null,null,null,null,null,null,null,null,null,null,null,null,null,null,null,null,null,null,null,null,null,null,null,null,null,null,null,null,null,null,null,null,null,null,null,null,null,null,null,null,null,null,null,null,null,null,null,null,null,null,null,null,null,null,null,null,null,null,null,null,null,null,null,null,null,null,null,null,null,null,null,null,null,null,null,null,null,null,null,null,null,null,null,null,0,0,0,0,{"$f":"IF(ปก!$C$28=0,\"-\",IF(SUM(IK19*100)/ปก!$C$28>100,\"ERROR\",SUM(IK19*100)/ปก!$C$28))","v":0},"ปกติ"]
[12,{"$f":"Sheet1!B13","v":15389},{"$f":"CONCATENATE(Sheet1!C13&Sheet1!D13&\"       \"&Sheet1!E13)","v":"เด็กชายนวกร  อ่อนเกตุพล       "},12,null,null,null,null,null,null,null,null,null,null,null,null,null,null,null,null,null,null,null,null,null,null,null,null,null,null,null,null,null,null,null,null,null,null,null,null,null,null,null,null,null,null,null,null,null,null,null,null,null,null,null,null,null,null,null,null,null,null,null,null,null,null,null,null,null,null,null,null,null,null,null,null,null,null,null,null,null,null,null,null,null,null,null,null,null,null,null,null,null,null,null,null,null,null,null,null,null,null,null,null,null,null,null,null,null,null,null,null,null,null,null,null,null,null,null,null,null,null,null,null,null,null,null,null,null,null,null,null,null,null,null,null,null,null,null,null,null,null,null,null,null,null,null,null,null,null,null,null,null,null,null,null,null,null,null,null,null,null,null,null,null,null,null,null,null,null,null,null,null,null,null,null,null,null,null,null,null,null,null,null,null,null,null,null,null,null,null,null,null,null,null,null,null,null,null,null,null,null,null,null,null,null,null,null,null,null,null,null,null,null,null,null,null,null,null,null,null,null,null,null,null,null,null,null,null,null,null,null,null,null,null,null,null,null,null,null,null,null,null,null,0,0,0,0,{"$f":"IF(ปก!$C$28=0,\"-\",IF(SUM(IK20*100)/ปก!$C$28>100,\"ERROR\",SUM(IK20*100)/ปก!$C$28))","v":0},"ปกติ"]
[13,{"$f":"Sheet1!B14","v":15396},{"$f":"CONCATENATE(Sheet1!C14&Sheet1!D14&\"       \"&Sheet1!E14)","v":"เด็กชายธัญเทพ  นิยะกิจ       "},13,null,null,null,null,null,null,null,null,null,null,null,null,null,null,null,null,null,null,null,null,null,null,null,null,null,null,null,null,null,null,null,null,null,null,null,null,null,null,null,null,null,null,null,null,null,null,null,null,null,null,null,null,null,null,null,null,null,null,null,null,null,null,null,null,null,null,null,null,null,null,null,null,null,null,null,null,null,null,null,null,null,null,null,null,null,null,null,null,null,null,null,null,null,null,null,null,null,null,null,null,null,null,null,null,null,null,null,null,null,null,null,null,null,null,null,null,null,null,null,null,null,null,null,null,null,null,null,null,null,null,null,null,null,null,null,null,null,null,null,null,null,null,null,null,null,null,null,null,null,null,null,null,null,null,null,null,null,null,null,null,null,null,null,null,null,null,null,null,null,null,null,null,null,null,null,null,null,null,null,null,null,null,null,null,null,null,null,null,null,null,null,null,null,null,null,null,null,null,null,null,null,null,null,null,null,null,null,null,null,null,null,null,null,null,null,null,null,null,null,null,null,null,null,null,null,null,null,null,null,null,null,null,null,null,null,null,null,null,null,null,0,0,0,0,{"$f":"IF(ปก!$C$28=0,\"-\",IF(SUM(IK21*100)/ปก!$C$28>100,\"ERROR\",SUM(IK21*100)/ปก!$C$28))","v":0},"ปกติ"]
[14,{"$f":"Sheet1!B15","v":15403},{"$f":"CONCATENATE(Sheet1!C15&Sheet1!D15&\"       \"&Sheet1!E15)","v":"เด็กหญิงฐิติกาญจน์  กองวารี       "},14,null,null,null,null,null,null,null,null,null,null,null,null,null,null,null,null,null,null,null,null,null,null,null,null,null,null,null,null,null,null,null,null,null,null,null,null,null,null,null,null,null,null,null,null,null,null,null,null,null,null,null,null,null,null,null,null,null,null,null,null,null,null,null,null,null,null,null,null,null,null,null,null,null,null,null,null,null,null,null,null,null,null,null,null,null,null,null,null,null,null,null,null,null,null,null,null,null,null,null,null,null,null,null,null,null,null,null,null,null,null,null,null,null,null,null,null,null,null,null,null,null,null,null,null,null,null,null,null,null,null,null,null,null,null,null,null,null,null,null,null,null,null,null,null,null,null,null,null,null,null,null,null,null,null,null,null,null,null,null,null,null,null,null,null,null,null,null,null,null,null,null,null,null,null,null,null,null,null,null,null,null,null,null,null,null,null,null,null,null,null,null,null,null,null,null,null,null,null,null,null,null,null,null,null,null,null,null,null,null,null,null,null,null,null,null,null,null,null,null,null,null,null,null,null,null,null,null,null,null,null,null,null,null,null,null,null,null,null,null,null,0,0,0,0,{"$f":"IF(ปก!$C$28=0,\"-\",IF(SUM(IK22*100)/ปก!$C$28>100,\"ERROR\",SUM(IK22*100)/ปก!$C$28))","v":0},"ปกติ"]
[15,{"$f":"Sheet1!B16","v":15406},{"$f":"CONCATENATE(Sheet1!C16&Sheet1!D16&\"       \"&Sheet1!E16)","v":"เด็กหญิงสุวิชญา  พิชัย       "},15,null,null,null,null,null,null,null,null,null,null,null,null,null,null,null,null,null,null,null,null,null,null,null,null,null,null,null,null,null,null,null,null,null,null,null,null,null,null,null,null,null,null,null,null,null,null,null,null,null,null,null,null,null,null,null,null,null,null,null,null,null,null,null,null,null,null,null,null,null,null,null,null,null,null,null,null,null,null,null,null,null,null,null,null,null,null,null,null,null,null,null,null,null,null,null,null,null,null,null,null,null,null,null,null,null,null,null,null,null,null,null,null,null,null,null,null,null,null,null,null,null,null,null,null,null,null,null,null,null,null,null,null,null,null,null,null,null,null,null,null,null,null,null,null,null,null,null,null,null,null,null,null,null,null,null,null,null,null,null,null,null,null,null,null,null,null,null,null,null,null,null,null,null,null,null,null,null,null,null,null,null,null,null,null,null,null,null,null,null,null,null,null,null,null,null,null,null,null,null,null,null,null,null,null,null,null,null,null,null,null,null,null,null,null,null,null,null,null,null,null,null,null,null,null,null,null,null,null,null,null,null,null,null,null,null,null,null,null,null,null,0,0,0,0,{"$f":"IF(ปก!$C$28=0,\"-\",IF(SUM(IK23*100)/ปก!$C$28>100,\"ERROR\",SUM(IK23*100)/ปก!$C$28))","v":0},"ปกติ"]
[16,{"$f":"Sheet1!B17","v":15407},{"$f":"CONCATENATE(Sheet1!C17&Sheet1!D17&\"       \"&Sheet1!E17)","v":"เด็กหญิงนันท์นภัส  เต็มสงสัย       "},16,null,null,null,null,null,null,null,null,null,null,null,null,null,null,null,null,null,null,null,null,null,null,null,null,null,null,null,null,null,null,null,null,null,null,null,null,null,null,null,null,null,null,null,null,null,null,null,null,null,null,null,null,null,null,null,null,null,null,null,null,null,null,null,null,null,null,null,null,null,null,null,null,null,null,null,null,null,null,null,null,null,null,null,null,null,null,null,null,null,null,null,null,null,null,null,null,null,null,null,null,null,null,null,null,null,null,null,null,null,null,null,null,null,null,null,null,null,null,null,null,null,null,null,null,null,null,null,null,null,null,null,null,null,null,null,null,null,null,null,null,null,null,null,null,null,null,null,null,null,null,null,null,null,null,null,null,null,null,null,null,null,null,null,null,null,null,null,null,null,null,null,null,null,null,null,null,null,null,null,null,null,null,null,null,null,null,null,null,null,null,null,null,null,null,null,null,null,null,null,null,null,null,null,null,null,null,null,null,null,null,null,null,null,null,null,null,null,null,null,null,null,null,null,null,null,null,null,null,null,null,null,null,null,null,null,null,null,null,null,null,0,0,0,0,{"$f":"IF(ปก!$C$28=0,\"-\",IF(SUM(IK24*100)/ปก!$C$28>100,\"ERROR\",SUM(IK24*100)/ปก!$C$28))","v":0},"ปกติ"]
[17,{"$f":"Sheet1!B18","v":17084},{"$f":"CONCATENATE(Sheet1!C18&Sheet1!D18&\"       \"&Sheet1!E18)","v":"เด็กชายธนิสร  ทิพย์เกิด       "},17,null,null,null,null,null,null,null,null,null,null,null,null,null,null,null,null,null,null,null,null,null,null,null,null,null,null,null,null,null,null,null,null,null,null,null,null,null,null,null,null,null,null,null,null,null,null,null,null,null,null,null,null,null,null,null,null,null,null,null,null,null,null,null,null,null,null,null,null,null,null,null,null,null,null,null,null,null,null,null,null,null,null,null,null,null,null,null,null,null,null,null,null,null,null,null,null,null,null,null,null,null,null,null,null,null,null,null,null,null,null,null,null,null,null,null,null,null,null,null,null,null,null,null,null,null,null,null,null,null,null,null,null,null,null,null,null,null,null,null,null,null,null,null,null,null,null,null,null,null,null,null,null,null,null,null,null,null,null,null,null,null,null,null,null,null,null,null,null,null,null,null,null,null,null,null,null,null,null,null,null,null,null,null,null,null,null,null,null,null,null,null,null,null,null,null,null,null,null,null,null,null,null,null,null,null,null,null,null,null,null,null,null,null,null,null,null,null,null,null,null,null,null,null,null,null,null,null,null,null,null,null,null,null,null,null,null,null,null,null,null,0,0,0,0,{"$f":"IF(ปก!$C$28=0,\"-\",IF(SUM(IK25*100)/ปก!$C$28>100,\"ERROR\",SUM(IK25*100)/ปก!$C$28))","v":0},"ปกติ"]
[18,{"$f":"Sheet1!B19","v":17085},{"$f":"CONCATENATE(Sheet1!C19&Sheet1!D19&\"       \"&Sheet1!E19)","v":"เด็กชายนันทิพัฒน์  วงศ์คำลือ       "},18,null,null,null,null,null,null,null,null,null,null,null,null,null,null,null,null,null,null,null,null,null,null,null,null,null,null,null,null,null,null,null,null,null,null,null,null,null,null,null,null,null,null,null,null,null,null,null,null,null,null,null,null,null,null,null,null,null,null,null,null,null,null,null,null,null,null,null,null,null,null,null,null,null,null,null,null,null,null,null,null,null,null,null,null,null,null,null,null,null,null,null,null,null,null,null,null,null,null,null,null,null,null,null,null,null,null,null,null,null,null,null,null,null,null,null,null,null,null,null,null,null,null,null,null,null,null,null,null,null,null,null,null,null,null,null,null,null,null,null,null,null,null,null,null,null,null,null,null,null,null,null,null,null,null,null,null,null,null,null,null,null,null,null,null,null,null,null,null,null,null,null,null,null,null,null,null,null,null,null,null,null,null,null,null,null,null,null,null,null,null,null,null,null,null,null,null,null,null,null,null,null,null,null,null,null,null,null,null,null,null,null,null,null,null,null,null,null,null,null,null,null,null,null,null,null,null,null,null,null,null,null,null,null,null,null,null,null,null,null,null,0,0,0,0,{"$f":"IF(ปก!$C$28=0,\"-\",IF(SUM(IK26*100)/ปก!$C$28>100,\"ERROR\",SUM(IK26*100)/ปก!$C$28))","v":0},"ปกติ"]
[19,{"$f":"Sheet1!B20","v":17086},{"$f":"CONCATENATE(Sheet1!C20&Sheet1!D20&\"       \"&Sheet1!E20)","v":"เด็กชายธนโชติ  โภคา       "},19,null,null,null,null,null,null,null,null,null,null,null,null,null,null,null,null,null,null,null,null,null,null,null,null,null,null,null,null,null,null,null,null,null,null,null,null,null,null,null,null,null,null,null,null,null,null,null,null,null,null,null,null,null,null,null,null,null,null,null,null,null,null,null,null,null,null,null,null,null,null,null,null,null,null,null,null,null,null,null,null,null,null,null,null,null,null,null,null,null,null,null,null,null,null,null,null,null,null,null,null,null,null,null,null,null,null,null,null,null,null,null,null,null,null,null,null,null,null,null,null,null,null,null,null,null,null,null,null,null,null,null,null,null,null,null,null,null,null,null,null,null,null,null,null,null,null,null,null,null,null,null,null,null,null,null,null,null,null,null,null,null,null,null,null,null,null,null,null,null,null,null,null,null,null,null,null,null,null,null,null,null,null,null,null,null,null,null,null,null,null,null,null,null,null,null,null,null,null,null,null,null,null,null,null,null,null,null,null,null,null,null,null,null,null,null,null,null,null,null,null,null,null,null,null,null,null,null,null,null,null,null,null,null,null,null,null,null,null,null,null,0,0,0,0,{"$f":"IF(ปก!$C$28=0,\"-\",IF(SUM(IK27*100)/ปก!$C$28>100,\"ERROR\",SUM(IK27*100)/ปก!$C$28))","v":0},"ปกติ"]
[20,{"$f":"Sheet1!B21","v":17087},{"$f":"CONCATENATE(Sheet1!C21&Sheet1!D21&\"       \"&Sheet1!E21)","v":"เด็กชายจิรภัทร  หีตพรหม       "},20,null,null,null,null,null,null,null,null,null,null,null,null,null,null,null,null,null,null,null,null,null,null,null,null,null,null,null,null,null,null,null,null,null,null,null,null,null,null,null,null,null,null,null,null,null,null,null,null,null,null,null,null,null,null,null,null,null,null,null,null,null,null,null,null,null,null,null,null,null,null,null,null,null,null,null,null,null,null,null,null,null,null,null,null,null,null,null,null,null,null,null,null,null,null,null,null,null,null,null,null,null,null,null,null,null,null,null,null,null,null,null,null,null,null,null,null,null,null,null,null,null,null,null,null,null,null,null,null,null,null,null,null,null,null,null,null,null,null,null,null,null,null,null,null,null,null,null,null,null,null,null,null,null,null,null,null,null,null,null,null,null,null,null,null,null,null,null,null,null,null,null,null,null,null,null,null,null,null,null,null,null,null,null,null,null,null,null,null,null,null,null,null,null,null,null,null,null,null,null,null,null,null,null,null,null,null,null,null,null,null,null,null,null,null,null,null,null,null,null,null,null,null,null,null,null,null,null,null,null,null,null,null,null,null,null,null,null,null,null,null,0,0,0,0,{"$f":"IF(ปก!$C$28=0,\"-\",IF(SUM(IK28*100)/ปก!$C$28>100,\"ERROR\",SUM(IK28*100)/ปก!$C$28))","v":0},"ปกติ"]
[21,{"$f":"Sheet1!B22","v":17088},{"$f":"CONCATENATE(Sheet1!C22&Sheet1!D22&\"       \"&Sheet1!E22)","v":"เด็กชายพงศพัศ  พิชิตพงศาภรณ์       "},21,null,null,null,null,null,null,null,null,null,null,null,null,null,null,null,null,null,null,null,null,null,null,null,null,null,null,null,null,null,null,null,null,null,null,null,null,null,null,null,null,null,null,null,null,null,null,null,null,null,null,null,null,null,null,null,null,null,null,null,null,null,null,null,null,null,null,null,null,null,null,null,null,null,null,null,null,null,null,null,null,null,null,null,null,null,null,null,null,null,null,null,null,null,null,null,null,null,null,null,null,null,null,null,null,null,null,null,null,null,null,null,null,null,null,null,null,null,null,null,null,null,null,null,null,null,null,null,null,null,null,null,null,null,null,null,null,null,null,null,null,null,null,null,null,null,null,null,null,null,null,null,null,null,null,null,null,null,null,null,null,null,null,null,null,null,null,null,null,null,null,null,null,null,null,null,null,null,null,null,null,null,null,null,null,null,null,null,null,null,null,null,null,null,null,null,null,null,null,null,null,null,null,null,null,null,null,null,null,null,null,null,null,null,null,null,null,null,null,null,null,null,null,null,null,null,null,null,null,null,null,null,null,null,null,null,null,null,null,null,null,0,0,0,0,{"$f":"IF(ปก!$C$28=0,\"-\",IF(SUM(IK29*100)/ปก!$C$28>100,\"ERROR\",SUM(IK29*100)/ปก!$C$28))","v":0},"ปกติ"]
[22,{"$f":"Sheet1!B23","v":17089},{"$f":"CONCATENATE(Sheet1!C23&Sheet1!D23&\"       \"&Sheet1!E23)","v":"เด็กหญิงชนัดดา  บุญวิก       "},22,null,null,null,null,null,null,null,null,null,null,null,null,null,null,null,null,null,null,null,null,null,null,null,null,null,null,null,null,null,null,null,null,null,null,null,null,null,null,null,null,null,null,null,null,null,null,null,null,null,null,null,null,null,null,null,null,null,null,null,null,null,null,null,null,null,null,null,null,null,null,null,null,null,null,null,null,null,null,null,null,null,null,null,null,null,null,null,null,null,null,null,null,null,null,null,null,null,null,null,null,null,null,null,null,null,null,null,null,null,null,null,null,null,null,null,null,null,null,null,null,null,null,null,null,null,null,null,null,null,null,null,null,null,null,null,null,null,null,null,null,null,null,null,null,null,null,null,null,null,null,null,null,null,null,null,null,null,null,null,null,null,null,null,null,null,null,null,null,null,null,null,null,null,null,null,null,null,null,null,null,null,null,null,null,null,null,null,null,null,null,null,null,null,null,null,null,null,null,null,null,null,null,null,null,null,null,null,null,null,null,null,null,null,null,null,null,null,null,null,null,null,null,null,null,null,null,null,null,null,null,null,null,null,null,null,null,null,null,null,null,0,0,0,0,{"$f":"IF(ปก!$C$28=0,\"-\",IF(SUM(IK30*100)/ปก!$C$28>100,\"ERROR\",SUM(IK30*100)/ปก!$C$28))","v":0},"ปกติ"]
[23,{"$f":"Sheet1!B24","v":17090},{"$f":"CONCATENATE(Sheet1!C24&Sheet1!D24&\"       \"&Sheet1!E24)","v":"เด็กหญิงชัชชญา  บุญวิก       "},23,null,null,null,null,null,null,null,null,null,null,null,null,null,null,null,null,null,null,null,null,null,null,null,null,null,null,null,null,null,null,null,null,null,null,null,null,null,null,null,null,null,null,null,null,null,null,null,null,null,null,null,null,null,null,null,null,null,null,null,null,null,null,null,null,null,null,null,null,null,null,null,null,null,null,null,null,null,null,null,null,null,null,null,null,null,null,null,null,null,null,null,null,null,null,null,null,null,null,null,null,null,null,null,null,null,null,null,null,null,null,null,null,null,null,null,null,null,null,null,null,null,null,null,null,null,null,null,null,null,null,null,null,null,null,null,null,null,null,null,null,null,null,null,null,null,null,null,null,null,null,null,null,null,null,null,null,null,null,null,null,null,null,null,null,null,null,null,null,null,null,null,null,null,null,null,null,null,null,null,null,null,null,null,null,null,null,null,null,null,null,null,null,null,null,null,null,null,null,null,null,null,null,null,null,null,null,null,null,null,null,null,null,null,null,null,null,null,null,null,null,null,null,null,null,null,null,null,null,null,null,null,null,null,null,null,null,null,null,null,null,0,0,0,0,{"$f":"IF(ปก!$C$28=0,\"-\",IF(SUM(IK31*100)/ปก!$C$28>100,\"ERROR\",SUM(IK31*100)/ปก!$C$28))","v":0},"ปกติ"]
[24,{"$f":"Sheet1!B25","v":17091},{"$f":"CONCATENATE(Sheet1!C25&Sheet1!D25&\"       \"&Sheet1!E25)","v":"เด็กหญิงญาณิศา  วรรณพัฒน์       "},24,null,null,null,null,null,null,null,null,null,null,null,null,null,null,null,null,null,null,null,null,null,null,null,null,null,null,null,null,null,null,null,null,null,null,null,null,null,null,null,null,null,null,null,null,null,null,null,null,null,null,null,null,null,null,null,null,null,null,null,null,null,null,null,null,null,null,null,null,null,null,null,null,null,null,null,null,null,null,null,null,null,null,null,null,null,null,null,null,null,null,null,null,null,null,null,null,null,null,null,null,null,null,null,null,null,null,null,null,null,null,null,null,null,null,null,null,null,null,null,null,null,null,null,null,null,null,null,null,null,null,null,null,null,null,null,null,null,null,null,null,null,null,null,null,null,null,null,null,null,null,null,null,null,null,null,null,null,null,null,null,null,null,null,null,null,null,null,null,null,null,null,null,null,null,null,null,null,null,null,null,null,null,null,null,null,null,null,null,null,null,null,null,null,null,null,null,null,null,null,null,null,null,null,null,null,null,null,null,null,null,null,null,null,null,null,null,null,null,null,null,null,null,null,null,null,null,null,null,null,null,null,null,null,null,null,null,null,null,null,null,0,0,0,0,{"$f":"IF(ปก!$C$28=0,\"-\",IF(SUM(IK32*100)/ปก!$C$28>100,\"ERROR\",SUM(IK32*100)/ปก!$C$28))","v":0},"ปกติ"]
[25,{"$f":"Sheet1!B26","v":17092},{"$f":"CONCATENATE(Sheet1!C26&Sheet1!D26&\"       \"&Sheet1!E26)","v":"เด็กหญิงกรชนก  คงจันทร์       "},25,null,null,null,null,null,null,null,null,null,null,null,null,null,null,null,null,null,null,null,null,null,null,null,null,null,null,null,null,null,null,null,null,null,null,null,null,null,null,null,null,null,null,null,null,null,null,null,null,null,null,null,null,null,null,null,null,null,null,null,null,null,null,null,null,null,null,null,null,null,null,null,null,null,null,null,null,null,null,null,null,null,null,null,null,null,null,null,null,null,null,null,null,null,null,null,null,null,null,null,null,null,null,null,null,null,null,null,null,null,null,null,null,null,null,null,null,null,null,null,null,null,null,null,null,null,null,null,null,null,null,null,null,null,null,null,null,null,null,null,null,null,null,null,null,null,null,null,null,null,null,null,null,null,null,null,null,null,null,null,null,null,null,null,null,null,null,null,null,null,null,null,null,null,null,null,null,null,null,null,null,null,null,null,null,null,null,null,null,null,null,null,null,null,null,null,null,null,null,null,null,null,null,null,null,null,null,null,null,null,null,null,null,null,null,null,null,null,null,null,null,null,null,null,null,null,null,null,null,null,null,null,null,null,null,null,null,null,null,null,null,0,0,0,0,{"$f":"IF(ปก!$C$28=0,\"-\",IF(SUM(IK33*100)/ปก!$C$28>100,\"ERROR\",SUM(IK33*100)/ปก!$C$28))","v":0},"ปกติ"]
[26,{"$f":"Sheet1!B27","v":17093},{"$f":"CONCATENATE(Sheet1!C27&Sheet1!D27&\"       \"&Sheet1!E27)","v":"เด็กหญิงอาทิตยา  อ่วมทองดี       "},26,null,null,null,null,null,null,null,null,null,null,null,null,null,null,null,null,null,null,null,null,null,null,null,null,null,null,null,null,null,null,null,null,null,null,null,null,null,null,null,null,null,null,null,null,null,null,null,null,null,null,null,null,null,null,null,null,null,null,null,null,null,null,null,null,null,null,null,null,null,null,null,null,null,null,null,null,null,null,null,null,null,null,null,null,null,null,null,null,null,null,null,null,null,null,null,null,null,null,null,null,null,null,null,null,null,null,null,null,null,null,null,null,null,null,null,null,null,null,null,null,null,null,null,null,null,null,null,null,null,null,null,null,null,null,null,null,null,null,null,null,null,null,null,null,null,null,null,null,null,null,null,null,null,null,null,null,null,null,null,null,null,null,null,null,null,null,null,null,null,null,null,null,null,null,null,null,null,null,null,null,null,null,null,null,null,null,null,null,null,null,null,null,null,null,null,null,null,null,null,null,null,null,null,null,null,null,null,null,null,null,null,null,null,null,null,null,null,null,null,null,null,null,null,null,null,null,null,null,null,null,null,null,null,null,null,null,null,null,null,null,0,0,0,0,{"$f":"IF(ปก!$C$28=0,\"-\",IF(SUM(IK34*100)/ปก!$C$28>100,\"ERROR\",SUM(IK34*100)/ปก!$C$28))","v":0},"ปกติ"]
[27,{"$f":"Sheet1!B28","v":17095},{"$f":"CONCATENATE(Sheet1!C28&Sheet1!D28&\"       \"&Sheet1!E28)","v":"เด็กหญิงณัฏฐนันท์  เหมือนทอง       "},27,null,null,null,null,null,null,null,null,null,null,null,null,null,null,null,null,null,null,null,null,null,null,null,null,null,null,null,null,null,null,null,null,null,null,null,null,null,null,null,null,null,null,null,null,null,null,null,null,null,null,null,null,null,null,null,null,null,null,null,null,null,null,null,null,null,null,null,null,null,null,null,null,null,null,null,null,null,null,null,null,null,null,null,null,null,null,null,null,null,null,null,null,null,null,null,null,null,null,null,null,null,null,null,null,null,null,null,null,null,null,null,null,null,null,null,null,null,null,null,null,null,null,null,null,null,null,null,null,null,null,null,null,null,null,null,null,null,null,null,null,null,null,null,null,null,null,null,null,null,null,null,null,null,null,null,null,null,null,null,null,null,null,null,null,null,null,null,null,null,null,null,null,null,null,null,null,null,null,null,null,null,null,null,null,null,null,null,null,null,null,null,null,null,null,null,null,null,null,null,null,null,null,null,null,null,null,null,null,null,null,null,null,null,null,null,null,null,null,null,null,null,null,null,null,null,null,null,null,null,null,null,null,null,null,null,null,null,null,null,null,0,0,0,0,{"$f":"IF(ปก!$C$28=0,\"-\",IF(SUM(IK35*100)/ปก!$C$28>100,\"ERROR\",SUM(IK35*100)/ปก!$C$28))","v":0},"ปกติ"]
[28,{"$f":"Sheet1!B29","v":18483},{"$f":"CONCATENATE(Sheet1!C29&Sheet1!D29&\"       \"&Sheet1!E29)","v":"เด็กชายศรันย์  นาคสวัสดิ์       "},28,null,null,null,null,null,null,null,null,null,null,null,null,null,null,null,null,null,null,null,null,null,null,null,null,null,null,null,null,null,null,null,null,null,null,null,null,null,null,null,null,null,null,null,null,null,null,null,null,null,null,null,null,null,null,null,null,null,null,null,null,null,null,null,null,null,null,null,null,null,null,null,null,null,null,null,null,null,null,null,null,null,null,null,null,null,null,null,null,null,null,null,null,null,null,null,null,null,null,null,null,null,null,null,null,null,null,null,null,null,null,null,null,null,null,null,null,null,null,null,null,null,null,null,null,null,null,null,null,null,null,null,null,null,null,null,null,null,null,null,null,null,null,null,null,null,null,null,null,null,null,null,null,null,null,null,null,null,null,null,null,null,null,null,null,null,null,null,null,null,null,null,null,null,null,null,null,null,null,null,null,null,null,null,null,null,null,null,null,null,null,null,null,null,null,null,null,null,null,null,null,null,null,null,null,null,null,null,null,null,null,null,null,null,null,null,null,null,null,null,null,null,null,null,null,null,null,null,null,null,null,null,null,null,null,null,null,null,null,null,null,0,0,0,0,{"$f":"IF(ปก!$C$28=0,\"-\",IF(SUM(IK36*100)/ปก!$C$28>100,\"ERROR\",SUM(IK36*100)/ปก!$C$28))","v":0},"ปกติ"]
[29,{"$f":"Sheet1!B30","v":18484},{"$f":"CONCATENATE(Sheet1!C30&Sheet1!D30&\"       \"&Sheet1!E30)","v":"เด็กหญิงณธิดา  บุญฤทธิ์       "},29,null,null,null,null,null,null,null,null,null,null,null,null,null,null,null,null,null,null,null,null,null,null,null,null,null,null,null,null,null,null,null,null,null,null,null,null,null,null,null,null,null,null,null,null,null,null,null,null,null,null,null,null,null,null,null,null,null,null,null,null,null,null,null,null,null,null,null,null,null,null,null,null,null,null,null,null,null,null,null,null,null,null,null,null,null,null,null,null,null,null,null,null,null,null,null,null,null,null,null,null,null,null,null,null,null,null,null,null,null,null,null,null,null,null,null,null,null,null,null,null,null,null,null,null,null,null,null,null,null,null,null,null,null,null,null,null,null,null,null,null,null,null,null,null,null,null,null,null,null,null,null,null,null,null,null,null,null,null,null,null,null,null,null,null,null,null,null,null,null,null,null,null,null,null,null,null,null,null,null,null,null,null,null,null,null,null,null,null,null,null,null,null,null,null,null,null,null,null,null,null,null,null,null,null,null,null,null,null,null,null,null,null,null,null,null,null,null,null,null,null,null,null,null,null,null,null,null,null,null,null,null,null,null,null,null,null,null,null,null,null,0,0,0,0,{"$f":"IF(ปก!$C$28=0,\"-\",IF(SUM(IK37*100)/ปก!$C$28>100,\"ERROR\",SUM(IK37*100)/ปก!$C$28))","v":0},"ปกติ"]
[30,{"$f":"Sheet1!B31","v":18485},{"$f":"CONCATENATE(Sheet1!C31&Sheet1!D31&\"       \"&Sheet1!E31)","v":"เด็กหญิงปวันพัสตร์  ตั้งสันทัศน์กุล       "},30,null,null,null,null,null,null,null,null,null,null,null,null,null,null,null,null,null,null,null,null,null,null,null,null,null,null,null,null,null,null,null,null,null,null,null,null,null,null,null,null,null,null,null,null,null,null,null,null,null,null,null,null,null,null,null,null,null,null,null,null,null,null,null,null,null,null,null,null,null,null,null,null,null,null,null,null,null,null,null,null,null,null,null,null,null,null,null,null,null,null,null,null,null,null,null,null,null,null,null,null,null,null,null,null,null,null,null,null,null,null,null,null,null,null,null,null,null,null,null,null,null,null,null,null,null,null,null,null,null,null,null,null,null,null,null,null,null,null,null,null,null,null,null,null,null,null,null,null,null,null,null,null,null,null,null,null,null,null,null,null,null,null,null,null,null,null,null,null,null,null,null,null,null,null,null,null,null,null,null,null,null,null,null,null,null,null,null,null,null,null,null,null,null,null,null,null,null,null,null,null,null,null,null,null,null,null,null,null,null,null,null,null,null,null,null,null,null,null,null,null,null,null,null,null,null,null,null,null,null,null,null,null,null,null,null,null,null,null,null,null,0,0,0,0,{"$f":"IF(ปก!$C$28=0,\"-\",IF(SUM(IK38*100)/ปก!$C$28>100,\"ERROR\",SUM(IK38*100)/ปก!$C$28))","v":0},"ปกติ"]
[31,{"$f":"Sheet1!B32","v":18506},{"$f":"CONCATENATE(Sheet1!C32&Sheet1!D32&\"       \"&Sheet1!E32)","v":"เด็กชายกันต์กมล  วิชัยดิษฐ       "},31,null,null,null,null,null,null,null,null,null,null,null,null,null,null,null,null,null,null,null,null,null,null,null,null,null,null,null,null,null,null,null,null,null,null,null,null,null,null,null,null,null,null,null,null,null,null,null,null,null,null,null,null,null,null,null,null,null,null,null,null,null,null,null,null,null,null,null,null,null,null,null,null,null,null,null,null,null,null,null,null,null,null,null,null,null,null,null,null,null,null,null,null,null,null,null,null,null,null,null,null,null,null,null,null,null,null,null,null,null,null,null,null,null,null,null,null,null,null,null,null,null,null,null,null,null,null,null,null,null,null,null,null,null,null,null,null,null,null,null,null,null,null,null,null,null,null,null,null,null,null,null,null,null,null,null,null,null,null,null,null,null,null,null,null,null,null,null,null,null,null,null,null,null,null,null,null,null,null,null,null,null,null,null,null,null,null,null,null,null,null,null,null,null,null,null,null,null,null,null,null,null,null,null,null,null,null,null,null,null,null,null,null,null,null,null,null,null,null,null,null,null,null,null,null,null,null,null,null,null,null,null,null,null,null,null,null,null,null,null,null,0,0,0,0,{"$f":"IF(ปก!$C$28=0,\"-\",IF(SUM(IK39*100)/ปก!$C$28>100,\"ERROR\",SUM(IK39*100)/ปก!$C$28))","v":0},"ปกติ"]
[32,{"$f":"Sheet1!B33","v":18910},{"$f":"CONCATENATE(Sheet1!C33&Sheet1!D33&\"       \"&Sheet1!E33)","v":"เด็กชายทินภัทร  ทัดดอกไม้       "},32,null,null,null,null,null,null,null,null,null,null,null,null,null,null,null,null,null,null,null,null,null,null,null,null,null,null,null,null,null,null,null,null,null,null,null,null,null,null,null,null,null,null,null,null,null,null,null,null,null,null,null,null,null,null,null,null,null,null,null,null,null,null,null,null,null,null,null,null,null,null,null,null,null,null,null,null,null,null,null,null,null,null,null,null,null,null,null,null,null,null,null,null,null,null,null,null,null,null,null,null,null,null,null,null,null,null,null,null,null,null,null,null,null,null,null,null,null,null,null,null,null,null,null,null,null,null,null,null,null,null,null,null,null,null,null,null,null,null,null,null,null,null,null,null,null,null,null,null,null,null,null,null,null,null,null,null,null,null,null,null,null,null,null,null,null,null,null,null,null,null,null,null,null,null,null,null,null,null,null,null,null,null,null,null,null,null,null,null,null,null,null,null,null,null,null,null,null,null,null,null,null,null,null,null,null,null,null,null,null,null,null,null,null,null,null,null,null,null,null,null,null,null,null,null,null,null,null,null,null,null,null,null,null,null,null,null,null,null,null,null,0,0,0,0,{"$f":"IF(ปก!$C$28=0,\"-\",IF(SUM(IK40*100)/ปก!$C$28>100,\"ERROR\",SUM(IK40*100)/ปก!$C$28))","v":0},"ปกติ"]
[33,{"$f":"Sheet1!B34","v":18913},{"$f":"CONCATENATE(Sheet1!C34&Sheet1!D34&\"       \"&Sheet1!E34)","v":"เด็กชายปิยะวัฒน์  วิโรจน์       "},33,null,null,null,null,null,null,null,null,null,null,null,null,null,null,null,null,null,null,null,null,null,null,null,null,null,null,null,null,null,null,null,null,null,null,null,null,null,null,null,null,null,null,null,null,null,null,null,null,null,null,null,null,null,null,null,null,null,null,null,null,null,null,null,null,null,null,null,null,null,null,null,null,null,null,null,null,null,null,null,null,null,null,null,null,null,null,null,null,null,null,null,null,null,null,null,null,null,null,null,null,null,null,null,null,null,null,null,null,null,null,null,null,null,null,null,null,null,null,null,null,null,null,null,null,null,null,null,null,null,null,null,null,null,null,null,null,null,null,null,null,null,null,null,null,null,null,null,null,null,null,null,null,null,null,null,null,null,null,null,null,null,null,null,null,null,null,null,null,null,null,null,null,null,null,null,null,null,null,null,null,null,null,null,null,null,null,null,null,null,null,null,null,null,null,null,null,null,null,null,null,null,null,null,null,null,null,null,null,null,null,null,null,null,null,null,null,null,null,null,null,null,null,null,null,null,null,null,null,null,null,null,null,null,null,null,null,null,null,null,null,0,{"$f":"COUNTIF(E41:IJ41,\"ข\")","v":0},{"$f":"COUNTIF(E41:IJ41,\"ล\")","v":0},{"$f":"COUNTIF(E41:IJ41,\"ป\")","v":0},{"$f":"IF(ปก!$C$28=0,\"-\",IF(SUM(IK41*100)/ปก!$C$28>100,\"ERROR\",SUM(IK41*100)/ปก!$C$28))","v":0},"ปกติ"]
[34,{"$f":"Sheet1!B35","v":18935},{"$f":"CONCATENATE(Sheet1!C35&Sheet1!D35&\"       \"&Sheet1!E35)","v":"เด็กหญิงศกลภัทร  ชาวน้ำ       "},34,null,null,null,null,null,null,null,null,null,null,null,null,null,null,null,null,null,null,null,null,null,null,null,null,null,null,null,null,null,null,null,null,null,null,null,null,null,null,null,null,null,null,null,null,null,null,null,null,null,null,null,null,null,null,null,null,null,null,null,null,null,null,null,null,null,null,null,null,null,null,null,null,null,null,null,null,null,null,null,null,null,null,null,null,null,null,null,null,null,null,null,null,null,null,null,null,null,null,null,null,null,null,null,null,null,null,null,null,null,null,null,null,null,null,null,null,null,null,null,null,null,null,null,null,null,null,null,null,null,null,null,null,null,null,null,null,null,null,null,null,null,null,null,null,null,null,null,null,null,null,null,null,null,null,null,null,null,null,null,null,null,null,null,null,null,null,null,null,null,null,null,null,null,null,null,null,null,null,null,null,null,null,null,null,null,null,null,null,null,null,null,null,null,null,null,null,null,null,null,null,null,null,null,null,null,null,null,null,null,null,null,null,null,null,null,null,null,null,null,null,null,null,null,null,null,null,null,null,null,null,null,null,null,null,null,null,null,null,null,null,0,{"$f":"COUNTIF(E42:IJ42,\"ข\")","v":0},{"$f":"COUNTIF(E42:IJ42,\"ล\")","v":0},{"$f":"COUNTIF(E42:IJ42,\"ป\")","v":0},{"$f":"IF(ปก!$C$28=0,\"-\",IF(SUM(IK42*100)/ปก!$C$28>100,\"ERROR\",SUM(IK42*100)/ปก!$C$28))","v":0},"ปกติ"]
[35,{"$f":"Sheet1!B36","v":19037},{"$f":"CONCATENATE(Sheet1!C36&Sheet1!D36&\"       \"&Sheet1!E36)","v":"เด็กชายอริญชัย  นครจินดา       "},35,null,null,null,null,null,null,null,null,null,null,null,null,null,null,null,null,null,null,null,null,null,null,null,null,null,null,null,null,null,null,null,null,null,null,null,null,null,null,null,null,null,null,null,null,null,null,null,null,null,null,null,null,null,null,null,null,null,null,null,null,null,null,null,null,null,null,null,null,null,null,null,null,null,null,null,null,null,null,null,null,null,null,null,null,null,null,null,null,null,null,null,null,null,null,null,null,null,null,null,null,null,null,null,null,null,null,null,null,null,null,null,null,null,null,null,null,null,null,null,null,null,null,null,null,null,null,null,null,null,null,null,null,null,null,null,null,null,null,null,null,null,null,null,null,null,null,null,null,null,null,null,null,null,null,null,null,null,null,null,null,null,null,null,null,null,null,null,null,null,null,null,null,null,null,null,null,null,null,null,null,null,null,null,null,null,null,null,null,null,null,null,null,null,null,null,null,null,null,null,null,null,null,null,null,null,null,null,null,null,null,null,null,null,null,null,null,null,null,null,null,null,null,null,null,null,null,null,null,null,null,null,null,null,null,null,null,null,null,null,null,0,0,0,0,{"$f":"IF(ปก!$C$28=0,\"-\",IF(SUM(IK43*100)/ปก!$C$28>100,\"ERROR\",SUM(IK43*100)/ปก!$C$28))","v":0},"ปกติ"]
[36,{"$f":"Sheet1!B37","v":19038},{"$f":"CONCATENATE(Sheet1!C37&Sheet1!D37&\"       \"&Sheet1!E37)","v":"เด็กชายภูวรินทร์  กลางประพันธ์       "},36,null,null,null,null,null,null,null,null,null,null,null,null,null,null,null,null,null,null,null,null,null,null,null,null,null,null,null,null,null,null,null,null,null,null,null,null,null,null,null,null,null,null,null,null,null,null,null,null,null,null,null,null,null,null,null,null,null,null,null,null,null,null,null,null,null,null,null,null,null,null,null,null,null,null,null,null,null,null,null,null,null,null,null,null,null,null,null,null,null,null,null,null,null,null,null,null,null,null,null,null,null,null,null,null,null,null,null,null,null,null,null,null,null,null,null,null,null,null,null,null,null,null,null,null,null,null,null,null,null,null,null,null,null,null,null,null,null,null,null,null,null,null,null,null,null,null,null,null,null,null,null,null,null,null,null,null,null,null,null,null,null,null,null,null,null,null,null,null,null,null,null,null,null,null,null,null,null,null,null,null,null,null,null,null,null,null,null,null,null,null,null,null,null,null,null,null,null,null,null,null,null,null,null,null,null,null,null,null,null,null,null,null,null,null,null,null,null,null,null,null,null,null,null,null,null,null,null,null,null,null,null,null,null,null,null,null,null,null,null,null,0,0,0,0,{"$f":"IF(ปก!$C$28=0,\"-\",IF(SUM(IK44*100)/ปก!$C$28>100,\"ERROR\",SUM(IK44*100)/ปก!$C$28))","v":0},"ปกติ"]
[37,{"$f":"Sheet1!B38","v":19039},{"$f":"CONCATENATE(Sheet1!C38&Sheet1!D38&\"       \"&Sheet1!E38)","v":"เด็กหญิงพรรณวรท  หนูรอด       "},37,null,null,null,null,null,null,null,null,null,null,null,null,null,null,null,null,null,null,null,null,null,null,null,null,null,null,null,null,null,null,null,null,null,null,null,null,null,null,null,null,null,null,null,null,null,null,null,null,null,null,null,null,null,null,null,null,null,null,null,null,null,null,null,null,null,null,null,null,null,null,null,null,null,null,null,null,null,null,null,null,null,null,null,null,null,null,null,null,null,null,null,null,null,null,null,null,null,null,null,null,null,null,null,null,null,null,null,null,null,null,null,null,null,null,null,null,null,null,null,null,null,null,null,null,null,null,null,null,null,null,null,null,null,null,null,null,null,null,null,null,null,null,null,null,null,null,null,null,null,null,null,null,null,null,null,null,null,null,null,null,null,null,null,null,null,null,null,null,null,null,null,null,null,null,null,null,null,null,null,null,null,null,null,null,null,null,null,null,null,null,null,null,null,null,null,null,null,null,null,null,null,null,null,null,null,null,null,null,null,null,null,null,null,null,null,null,null,null,null,null,null,null,null,null,null,null,null,null,null,null,null,null,null,null,null,null,null,null,null,null,0,0,0,0,{"$f":"IF(ปก!$C$28=0,\"-\",IF(SUM(IK45*100)/ปก!$C$28>100,\"ERROR\",SUM(IK45*100)/ปก!$C$28))","v":0},"ปกติ"]
[null,null,null,null,null,null,null,null,null,null,null,null,null,null,null,null,null,null,null,null,null,null,null,null,null,null,null,null,null,null,null,null,null,null,null,null,null,null,null,null,null,null,null,null,null,null,null,null,null,null,null,null,null,null,null,null,null,null,null,null,null,null,null,null,null,null,null,null,null,null,null,null,null,null,null,null,null,null,null,null,null,null,null,null,null,null,null,null,null,null,null,null,null,null,null,null,null,null,null,null,null,null,null,null,null,null,null,null,null,null,null,null,null,null,null,null,null,null,null,null,null,null,null,null,null,null,null,null,null,null,null,null,null,null,null,null,null,null,null,null,null,null,null,null,null,null,null,null,null,null,null,null,null,null,null,null,null,null,null,null,null,null,null,null,null,null,null,null,null,null,null,null,null,null,null,null,null,null,null,null,null,null,null,null,null,null,null,null,null,null,null,null,null,null,null,null,null,null,null,null,null,null,null,null,null,null,null,null,null,null,null,null,null,null,null,null,null,null,null,null,null,null,null,null,null,null,null,null,null,null,null,null,null,null,null,null,null,null,null,null,null,null,null,null,0,0,0,0,{"$f":"IF(ปก!$C$28=0,\"-\",IF(SUM(IK46*100)/ปก!$C$28>100,\"ERROR\",SUM(IK46*100)/ปก!$C$28))","v":0},"ปกติ"]
[null,null,null,null,{"$f":"IF(E6=\"\",0,1)","v":0},0,0,0,0,0,0,0,0,0,0,0,0,0,0,0,0,0,0,0,0,0,0,0,0,0,0,0,0,0,0,0,0,0,0,0,0,0,0,0,0,0,0,0,0,0,0,0,0,0,0,0,0,0,0,0,0,0,0,0,0,0,0,0,{"$f":"IF(BQ6=\"\",0,1)","v":0},0,0,0,0,0,0,0,0,0,0,0,0,0,0,0,0,0,0,0,0,0,0,0,0,0,0,0,0,0,0,0,0,0,0,0,0,0,0,0,0,0,0,0,0,0,0,0,0,0,0,0,0,0,0,0,0,0,0,0,0,0,0,0,{"$f":"IF(EC6=\"\",0,1)","v":0},0,0,0,0,0,0,0,0,0,0,0,0,0,0,0,0,0,0,0,0,0,0,0,0,0,0,0,0,0,0,0,0,0,0,0,0,0,0,0,0,0,0,0,0,0,0,0,0,0,0,0,0,0,0,0,0,0,0,0,0,0,0,0,{"$f":"IF(GO6=\"\",0,1)","v":0},0,0,0,0,0,0,0,0,0,0,0,0,0,0,0,0,0,0,0,0,0,0,0,0,0,0,0,0,0,0,0,0,0,0,0,0,0,0,0,0,0,0,0,0,0,0,0,{"$f":"SUM(E47:IJ47)","v":0},null,null,null,{"$f":"IF($IM$1=0,\"\",SUM(IK47*100)/$IM$1)","v":""}]

{"sheet":"คะแนนเทอม1","index":5,"n_rows":152,"n_cols":215,"rows_kept":152,"cut":false,"hidden":false,"merged":[[0,232,4,232],[0,229,4,229],[2,227,4,227],[2,226,4,226],[0,226,0,227],[0,185,0,202],[0,203,0,219],[0,220,0,224],[0,121,0,143],[0,144,0,166],[2,210,4,210],[2,211,2,218],[2,219,4,219],[2,202,3,202],[2,203,2,207],[2,208,3,208],[2,209,3,209],[0,231,4,231],[4,151,5,151],[4,218,5,218],[4,217,5,217],[4,174,5,174],[4,169,5,169],[4,168,5,168],[2,118,5,118],[2,119,5,119],[4,126,5,126],[4,127,5,127],[4,128,5,128],[2,99,4,99],[4,121,5,121],[4,122,5,122],[4,160,5,160],[4,156,5,156],[4,155,5,155],[4,154,5,154],[4,153,5,153],[4,152,5,152],[4,149,5,149],[4,148,5,148],[4,133,5,133],[4,134,5,134],[4,131,5,131],[4,130,5,130],[4,129,5,129],[4,135,5,135],[1,0,5,0],[1,1,5,1],[2,5,2,24],[2,25,3,25],[2,26,3,26],[2,2,5,2],[4,5,5,5],[4,6,5,6],[4,7,5,7],[4,8,5,8],[4,9,5,9],[4,10,5,10],[4,11,5,11],[4,12,5,12],[4,13,5,13],[4,14,5,14],[4,15,5,15],[4,16,5,16],[4,3,5,3],[4,22,5,22],[4,23,5,23],[4,24,5,24],[0,167,0,184],[2,51,2,65],[4,17,5,17],[4,18,5,18],[4,19,5,19],[4,20,5,20],[4,21,5,21],[2,50,3,50],[2,68,3,68],[2,69,2,83],[2,84,3,84],[2,85,3,85],[2,86,3,86],[2,66,3,66],[2,67,3,67],[4,44,5,44],[4,48,5,48],[4,50,5,50],[4,73,5,73],[4,79,5,79],[4,80,5,80],[4,57,5,57],[4,58,5,58],[4,59,5,59],[0,96,4,96],[2,87,4,87],[2,88,4,88],[2,92,4,92],[2,89,4,89],[2,90,4,90],[0,94,4,94],[0,97,4,97],[0,87,0,92],[4,68,5,68],[4,69,5,69],[4,70,5,70],[4,71,5,71],[4,72,5,72],[4,81,5,81],[4,82,5,82],[4,83,5,83],[4,86,5,86],[0,5,0,27],[0,28,0,50],[0,51,0,68],[0,69,0,86],[2,27,3,27],[2,28,2,47],[2,48,3,48],[2,49,3,49],[4,60,5,60],[4,61,5,61],[4,74,5,74],[4,75,5,75],[4,76,5,76],[4,77,5,77],[4,62,5,62],[4,34,5,34],[4,35,5,35],[4,36,5,36],[4,37,5,37],[4,38,5,38],[4,63,5,63],[4,64,5,64],[4,65,5,65],[4,66,5,66],[4,28,5,28],[4,29,5,29],[4,30,5,30],[4,31,5,31],[4,32,5,32],[4,33,5,33],[4,25,5,25],[4,27,5,27],[4,150,5,150],[4,145,5,145],[4,46,5,46],[4,47,5,47],[4,51,5,51],[4,52,5,52],[4,53,5,53],[4,54,5,54],[4,55,5,55],[4,56,5,56],[4,45,5,45],[4,39,5,39],[4,40,5,40],[4,41,5,41],[4,42,5,42],[4,43,5,43],[0,234,4,234],[4,78,5,78],[4,84,5,84],[4,196,5,196],[4,197,5,197],[4,198,5,198],[4,202,5,202],[4,203,5,203],[4,191,5,191],[4,192,5,192],[4,193,5,193],[4,194,5,194],[4,195,5,195],[4,199,5,199],[4,164,5,164],[4,166,5,166],[4,167,5,167],[4,187,5,187],[4,188,5,188],[4,189,5,189],[4,190,5,190],[4,177,5,177],[4,178,5,178],[4,162,5,162],[7,103,8,103],[7,101,7,102],[2,235,4,235],[4,214,5,214],[4,215,5,215],[4,216,5,216],[4,161,5,161],[4,163,5,163],[4,170,5,170],[4,172,5,172],[4,180,5,180],[4,209,5,209],[4,211,5,211],[4,212,5,212],[4,213,5,213],[4,204,5,204],[4,205,5,205],[4,206,5,206],[4,207,5,207],[4,208,5,208],[4,184,5,184],[4,185,5,185],[4,182,5,182],[4,186,5,186],[2,224,4,224],[2,223,4,223],[2,222,4,222],[2,221,4,221],[2,220,4,220],[2,201,3,201],[4,200,5,200],[2,182,3,182],[2,165,3,165],[2,200,3,200],[2,166,3,166],[2,167,2,181],[2,183,3,183],[2,184,3,184],[2,185,2,199],[4,181,5,181],[4,173,5,173],[4,171,5,171],[4,176,5,176],[4,175,5,175],[4,179,5,179],[2,164,3,164],[2,144,2,163],[2,143,3,143],[4,143,5,143],[2,142,3,142],[2,141,3,141],[4,141,5,141],[2,121,2,140],[4,144,5,144],[4,147,5,147],[4,146,5,146],[4,123,5,123],[4,124,5,124],[4,125,5,125],[4,157,5,157],[4,139,5,139],[4,140,5,140],[4,138,5,138],[4,137,5,137],[4,136,5,136],[4,132,5,132],[4,159,5,159],[4,158,5,158]]}
[null,null,null,null,"80 : 20",{"$f":"\"คะแนนประเมินผลสัมฤทธิ์ ภาคเรียนที่1 \"&\"  วิชา \"&ปก!AS15&\"   \"&\"ชั้น ป.\"&ปก!$C$21&\"/\"&ปก!$C$22&\"  หน้า 9\"","v":"คะแนนประเมินผลสัมฤทธิ์ ภาคเรียนที่1   วิชา    ชั้น ป.4/4  หน้า 9"},null,null,null,null,null,null,null,null,null,null,null,null,null,null,null,null,null,null,null,null,null,null,{"$f":"\"คะแนนประเมินผลสัมฤทธิ์ ภาคเรียนที่1 \"&\"  วิชา \"&ปก!AS15&\"   \"&\"ชั้น ป.\"&ปก!$C$21&\"/\"&ปก!$C$22&\"  หน้า 10\"","v":"คะแนนประเมินผลสัมฤทธิ์ ภาคเรียนที่1   วิชา    ชั้น ป.4/4  หน้า 10"},null,null,null,null,null,null,null,null,null,null,null,null,null,null,null,null,null,null,null,null,null,null,{"$f":"\"คะแนนประเมินผลสัมฤทธิ์ ภาคเรียนที่1 \"&\"  วิชา \"&ปก!AS15&\"   \"&\"ชั้น ป.\"&ปก!$C$21&\"/\"&ปก!$C$22&\"  หน้า 11\"","v":"คะแนนประเมินผลสัมฤทธิ์ ภาคเรียนที่1   วิชา    ชั้น ป.4/4  หน้า 11"},null,null,null,null,null,null,null,null,null,null,null,null,null,null,null,null,null,{"$f":"\"คะแนนประเมินผลสัมฤทธิ์ ภาคเรียนที่1 \"&\"  วิชา \"&ปก!AS15&\"   \"&\"ชั้น ป.\"&ปก!$C$21&\"/\"&ปก!$C$22&\"  หน้า 12\"","v":"คะแนนประเมินผลสัมฤทธิ์ ภาคเรียนที่1   วิชา    ชั้น ป.4/4  หน้า 12"},null,null,null,null,null,null,null,null,null,null,null,null,null,null,null,null,null,"คะแนนกิจกรรมพัฒนาผู้เรียน ภาคเรียนที่ 1",null,null,null,null,null,null,"คะแนนรวมตลอดภาคเรียน",null,"ผลการประเมินกิจกรรม","คะแนนย้ายเข้ากลางปี",null,"หน้า 14"]
[null,null,null,null,null,null,null,null,null,null,null,null,null,null,null,null,null,null,null,null,null,null,null,null,null,{"$f":"กำหนดอัตราส่วนคะแนน!B41","v":0},null,null,null,null,null,null,null,null,null,null,null,null,null,null,null,null,null,null,null,null,null,null,{"$f":"กำหนดอัตราส่วนคะแนน!Y41","v":0},null,null,null,null,null,null,null,null,null,null,null,null,null,null,null,null,null,{"$f":"กำหนดอัตราส่วนคะแนน!BQ41","v":0},null,null,null,null,null,null,null,null,null,null,null,null,null,null,null,null,null,{"$f":"กำหนดอัตราส่วนคะแนน!CN41","v":0}]
[null,null,"เลข\nประจำ\nตัว\nนักเรียน","กำหนดอัตราส่วนสอบปลายภาค","การประเมิน","บันทึกคะแนนกิจกรรมพัฒนาผู้เรียน ครั้งที่ 1 (ปฏิบัติ)",null,null,null,null,null,null,null,null,null,null,null,null,null,null,null,null,null,null,null,"คะแนนรวม",null,"คะแนนเต็ม","บันทึกคะแนนกิจกรรมพัฒนาผู้เรียน ครั้งที่ 2 (ปฏิบัติ)",null,null,null,null,null,null,null,null,null,null,null,null,null,null,null,null,null,null,null,"คะแนนรวม",null,"คะแนนเต็ม","บันทึกคะแนนกิจกรรมพัฒนาผู้เรียน ครั้งที่ 3 (ปฏิบัติ)",null,null,null,null,null,null,null,null,null,null,null,null,null,null,"คะแนนรวม",null,"คะแนนเต็ม","บันทึกคะแนนกิจกรรมพัฒนาผู้เรียน ครั้งที่ 4 (ทดสอบ)",null,null,null,null,null,null,null,null,null,null,null,null,null,null,"คะแนนรวม",null,"คะแนนเต็ม","ครั้งที่ 1","ครั้งที่ 2","ครั้งที่ 3","รวมคะแนนปฏิบัติ",null,"ทดสอบ",null,null,null,null,null,null,"สถานะ\nนักเรียน\nปัจจุบัน"]
[null,null,null,"100","ข้อที่",null,null,null,null,null,null,null,null,null,null,null,null,null,null,null,null,null,18,19,20,null,null,null,null,null,null,null,null,null,null,null,null,null,null,null,null,null,null,null,null,18,19,20]
[null,null,null,"ชื่อ - นามสกุล","คะแนน",null,null,null,null,null,null,null,null,null,null,null,null,null,null,null,null,null,null,null,null,{"$f":"SUM(F5,G5,H5,I5,J5,K5,L5,M5,N5,O5,P5,Q5,R5,S5,T5,U5,V5,W5,X5,Y5)","v":0},{"$f":"$Z$5/$AB$5","v":0},25,null,null,null,null,null,null,null,null,null,null,null,null,null,null,null,null,null,null,null,null,{"$f":"SUM(AC5,AD5,AE5,AF5,AG5,AH5,AI5,AJ5,AK5,AL5,AM5,AN5,AO5,AP5,AQ5,AR5,AS5,AT5,AU5,AV5)","v":0},{"$f":"$AW$5/$AY$5","v":0},25,null,null,null,null,null,null,null,null,null,null,null,null,null,null,null,{"$f":"SUM(AZ5,BA5,BB5,BC5,BD5,BE5,BF5,BG5,BH5,BI5,BJ5,BK5,BL5,BM5,BN5)","v":0},{"$f":"$BO$5/$BQ$5","v":0},30,null,null,null,null,null,null,null,null,null,null,null,null,null,null,null,{"$f":"SUM(BR5,BS5,BT5,BU5,BV5,BW5,BX5,BY5,BZ5,CA5,CB5,CC5,CD5,CE5,CF5)","v":0},{"$f":"$CG$5/$CI$5","v":0},20]
[null,null,null,null,"เลขที่",null,null,null,null,null,null,null,null,null,null,null,null,null,null,null,null,null,null,null,null,null,null,null,null,null,null,null,null,null,null,null,null,null,null,null,null,null,null,null,null,null,null,null,null,null,null,null,null,null,null,null,null,null,null,null,null,null,null,null,null,null,null,null,null,null,null,null,null,null,null,null,null,null,null,null,null,null,null,null,null,null,null,{"$f":"AB5","v":25},{"$f":"AY5","v":25},{"$f":"BQ5","v":30},{"$f":"SUM(CJ6,CK6,CL6)","v":80},null,{"$f":"CI5","v":20},null,{"$f":"IF(CM6+CO6<>100,\"ERROR\",SUM(CM6,CO6))","v":100},null,"ผ/มผ",100]
[1,null,{"$f":"CONCATENATE(Sheet1!B2)","v":"15329"},{"$f":"CONCATENATE(Sheet1!C2&Sheet1!D2&\"       \"&Sheet1!E2)","v":"เด็กชายทศพล  เต๊ะปู่       "},1,null,null,null,null,null,null,null,null,null,null,null,null,null,null,null,null,null,null,null,null,{"$f":"IF(Sheet1!C2=\"\",\"\",IF(COUNTIF(F7:V7,\"-1\"),\"ร\",IF(CV7=\"ปกติ\",SUM(F7,G7,H7,I7,J7,K7,L7,M7,N7,O7,P7,Q7,R7,S7,T7,U7,V7,W7,X7,Y7),\"-\")))","v":0},null,{"$f":"IF(Z7=\"\",\"\",IF(Z7=\"-\",\"-\",IF(Z7=\"ร\",\"ร\",IF(Z7=0,\"\",IF($Z$5=0,\"\",ROUND(Z7/$AA$5,0))))))","v":""},null,null,null,null,null,null,null,null,null,null,null,null,null,null,null,null,null,null,null,null,{"$f":"IF(Sheet1!C2=\"\",\"\",IF(COUNTIF(AC7:AS7,\"-1\"),\"ร\",IF(CV7=\"ปกติ\",SUM(AC7,AD7,AE7,AF7,AG7,AH7,AI7,AJ7,AK7,AL7,AM7,AN7,AO7,AP7,AQ7,AR7,AS7),\"-\")))","v":0},null,{"$f":"IF(AW7=\"\",\"\",IF(AW7=\"-\",\"-\",IF(AW7=\"ร\",\"ร\",IF(AW7=0,\"\",IF($AW$5=0,\"\",ROUND(AW7/$AX$5,0))))))","v":""},null,null,null,null,null,null,null,null,null,null,null,null,null,null,null,{"$f":"IF(Sheet1!C2=\"\",\"\",IF(COUNTIF(AZ7:BN7,\"-1\"),\"ร\",IF(CV7=\"ปกติ\",SUM(AZ7,BA7,BB7,BC7,BD7,BE7,BF7,BG7,BH7,BI7,BJ7,BK7,BL7,BM7,BN7),\"-\")))","v":0},null,{"$f":"IF(BO7=\"\",\"\",IF(BO7=\"-\",\"-\",IF(BO7=\"ร\",\"ร\",IF(BO7=0,\"\",IF($BO$5=0,\"\",ROUND(BO7/$BP$5,0))))))","v":""},null,null,null,null,null,null,null,null,null,null,null,null,null,null,null,{"$f":"IF(Sheet1!C2=\"\",\"\",IF(COUNTIF(BR7:CF7,\"-1\"),\"ร\",IF(CV7=\"ปกติ\",SUM(BR7,BS7,BT7,BU7,BV7,BW7,BX7,BY7,BZ7,CA7,CB7,CC7,CD7,CE7,CF7),\"-\")))","v":0},null,{"$f":"IF(CG7=\"\",\"\",IF(CG7=\"-\",\"-\",IF(CG7=\"ร\",\"ร\",IF(CG7=0,\"\",IF($CG$5=0,\"\",ROUND(CG7/$CH$5,0))))))","v":""},{"$f":"AB7","v":""},{"$f":"AY7","v":""},{"$f":"BQ7","v":""},{"$f":"SUM(CJ7:CL7)","v":0},null,{"$f":"CI7","v":""},null,{"$f":"CM7+CO7","v":{"$error":"#VALUE!"}},null,{"$f":"IF(CQ7>=50,\"ผ\",\"มผ\")","v":{"$error":"#VALUE!"}},null,null,{"$f":"IF(เวลาเรียน!IP9=\"\",\"\",เวลาเรียน!IP9)","v":"ปกติ"}]
[2,2498,{"$f":"CONCATENATE(Sheet1!B3)","v":"15330"},{"$f":"CONCATENATE(Sheet1!C3&Sheet1!D3&\"       \"&Sheet1!E3)","v":"เด็กชายณัฐกานต์  เพชรลาย       "},2,null,null,null,null,null,null,null,null,null,null,null,null,null,null,null,null,null,null,null,null,{"$f":"IF(Sheet1!C3=\"\",\"\",IF(COUNTIF(F8:V8,\"-1\"),\"ร\",IF(CV8=\"ปกติ\",SUM(F8,G8,H8,I8,J8,K8,L8,M8,N8,O8,P8,Q8,R8,S8,T8,U8,V8,W8,X8,Y8),\"-\")))","v":0},null,{"$f":"IF(Z8=\"\",\"\",IF(Z8=\"-\",\"-\",IF(Z8=\"ร\",\"ร\",IF(Z8=0,\"\",IF($Z$5=0,\"\",ROUND(Z8/$AA$5,0))))))","v":""},null,null,null,null,null,null,null,null,null,null,null,null,null,null,null,null,null,null,null,null,{"$f":"IF(Sheet1!C3=\"\",\"\",IF(COUNTIF(AC8:AS8,\"-1\"),\"ร\",IF(CV8=\"ปกติ\",SUM(AC8,AD8,AE8,AF8,AG8,AH8,AI8,AJ8,AK8,AL8,AM8,AN8,AO8,AP8,AQ8,AR8,AS8),\"-\")))","v":0},null,{"$f":"IF(AW8=\"\",\"\",IF(AW8=\"-\",\"-\",IF(AW8=\"ร\",\"ร\",IF(AW8=0,\"\",IF($AW$5=0,\"\",ROUND(AW8/$AX$5,0))))))","v":""},null,null,null,null,null,null,null,null,null,null,null,null,null,null,null,{"$f":"IF(Sheet1!C3=\"\",\"\",IF(COUNTIF(AZ8:BN8,\"-1\"),\"ร\",IF(CV8=\"ปกติ\",SUM(AZ8,BA8,BB8,BC8,BD8,BE8,BF8,BG8,BH8,BI8,BJ8,BK8,BL8,BM8,BN8),\"-\")))","v":0},null,{"$f":"IF(BO8=\"\",\"\",IF(BO8=\"-\",\"-\",IF(BO8=\"ร\",\"ร\",IF(BO8=0,\"\",IF($BO$5=0,\"\",ROUND(BO8/$BP$5,0))))))","v":""},null,null,null,null,null,null,null,null,null,null,null,null,null,null,null,{"$f":"IF(Sheet1!C3=\"\",\"\",IF(COUNTIF(BR8:CF8,\"-1\"),\"ร\",IF(CV8=\"ปกติ\",SUM(BR8,BS8,BT8,BU8,BV8,BW8,BX8,BY8,BZ8,CA8,CB8,CC8,CD8,CE8,CF8),\"-\")))","v":0},null,"","","","",{"$f":"SUM(CJ8:CL8)","v":0},null,"",null,{"$f":"CM8+CO8","v":{"$error":"#VALUE!"}},null,{"$f":"IF(CQ8>=50,\"ผ\",\"มผ\")","v":{"$error":"#VALUE!"}},null,null,{"$f":"IF(เวลาเรียน!IP10=\"\",\"\",เวลาเรียน!IP10)","v":"ปกติ"},null,"ช่วงคะแนน",null,"ผลประเมิน",null,4,3.5,3,2.5,2,1.5,1,0,"ร","มส"]
[3,2499,{"$f":"CONCATENATE(Sheet1!B4)","v":"15335"},{"$f":"CONCATENATE(Sheet1!C4&Sheet1!D4&\"       \"&Sheet1!E4)","v":"เด็กชายอรรถกร  สุนทรา       "},3,null,null,null,null,null,null,null,null,null,null,null,null,null,null,null,null,null,null,null,null,{"$f":"IF(Sheet1!C4=\"\",\"\",IF(COUNTIF(F9:V9,\"-1\"),\"ร\",IF(CV9=\"ปกติ\",SUM(F9,G9,H9,I9,J9,K9,L9,M9,N9,O9,P9,Q9,R9,S9,T9,U9,V9,W9,X9,Y9),\"-\")))","v":0},null,"",null,null,null,null,null,null,null,null,null,null,null,null,null,null,null,null,null,null,null,null,{"$f":"IF(Sheet1!C4=\"\",\"\",IF(COUNTIF(AC9:AS9,\"-1\"),\"ร\",IF(CV9=\"ปกติ\",SUM(AC9,AD9,AE9,AF9,AG9,AH9,AI9,AJ9,AK9,AL9,AM9,AN9,AO9,AP9,AQ9,AR9,AS9),\"-\")))","v":0},null,"",null,null,null,null,null,null,null,null,null,null,null,null,null,null,null,{"$f":"IF(Sheet1!C4=\"\",\"\",IF(COUNTIF(AZ9:BN9,\"-1\"),\"ร\",IF(CV9=\"ปกติ\",SUM(AZ9,BA9,BB9,BC9,BD9,BE9,BF9,BG9,BH9,BI9,BJ9,BK9,BL9,BM9,BN9),\"-\")))","v":0},null,"",null,null,null,null,null,null,null,null,null,null,null,null,null,null,null,{"$f":"IF(Sheet1!C4=\"\",\"\",IF(COUNTIF(BR9:CF9,\"-1\"),\"ร\",IF(CV9=\"ปกติ\",SUM(BR9,BS9,BT9,BU9,BV9,BW9,BX9,BY9,BZ9,CA9,CB9,CC9,CD9,CE9,CF9),\"-\")))","v":0},null,"","","","",{"$f":"SUM(CJ9:CL9)","v":0},null,"",null,{"$f":"CM9+CO9","v":{"$error":"#VALUE!"}},null,{"$error":"#VALUE!"},null,null,{"$f":"IF(เวลาเรียน!IP11=\"\",\"\",เวลาเรียน!IP11)","v":"ปกติ"},null,"จาก","ถึง",null,null,{"$f":"COUNTIF($CS$7:$CS$44,DB8)","v":0},0,0,0,0,0,0,0,0,0]
[4,2500,{"$f":"CONCATENATE(Sheet1!B5)","v":"15346"},{"$f":"CONCATENATE(Sheet1!C5&Sheet1!D5&\"       \"&Sheet1!E5)","v":"เด็กหญิงภิญญาพัชญ์  สุทธิช่วย       "},4,null,null,null,null,null,null,null,null,null,null,null,null,null,null,null,null,null,null,null,null,{"$f":"IF(Sheet1!C5=\"\",\"\",IF(COUNTIF(F10:V10,\"-1\"),\"ร\",IF(CV10=\"ปกติ\",SUM(F10,G10,H10,I10,J10,K10,L10,M10,N10,O10,P10,Q10,R10,S10,T10,U10,V10,W10,X10,Y10),\"-\")))","v":0},null,"",null,null,null,null,null,null,null,null,null,null,null,null,null,null,null,null,null,null,null,null,{"$f":"IF(Sheet1!C5=\"\",\"\",IF(COUNTIF(AC10:AS10,\"-1\"),\"ร\",IF(CV10=\"ปกติ\",SUM(AC10,AD10,AE10,AF10,AG10,AH10,AI10,AJ10,AK10,AL10,AM10,AN10,AO10,AP10,AQ10,AR10,AS10),\"-\")))","v":0},null,"",null,null,null,null,null,null,null,null,null,null,null,null,null,null,null,{"$f":"IF(Sheet1!C5=\"\",\"\",IF(COUNTIF(AZ10:BN10,\"-1\"),\"ร\",IF(CV10=\"ปกติ\",SUM(AZ10,BA10,BB10,BC10,BD10,BE10,BF10,BG10,BH10,BI10,BJ10,BK10,BL10,BM10,BN10),\"-\")))","v":0},null,"",null,null,null,null,null,null,null,null,null,null,null,null,null,null,null,{"$f":"IF(Sheet1!C5=\"\",\"\",IF(COUNTIF(BR10:CF10,\"-1\"),\"ร\",IF(CV10=\"ปกติ\",SUM(BR10,BS10,BT10,BU10,BV10,BW10,BX10,BY10,BZ10,CA10,CB10,CC10,CD10,CE10,CF10),\"-\")))","v":0},null,"","","","",0,null,"",null,{"$error":"#VALUE!"},null,{"$error":"#VALUE!"},null,null,{"$f":"IF(เวลาเรียน!IP12=\"\",\"\",เวลาเรียน!IP12)","v":"ปกติ"},null,0,49,"มผ"]
[5,2501,{"$f":"CONCATENATE(Sheet1!B6)","v":"15354"},{"$f":"CONCATENATE(Sheet1!C6&Sheet1!D6&\"       \"&Sheet1!E6)","v":"เด็กหญิงญานิศา  คชนาค       "},5,null,null,null,null,null,null,null,null,null,null,null,null,null,null,null,null,null,null,null,null,{"$f":"IF(Sheet1!C6=\"\",\"\",IF(COUNTIF(F11:V11,\"-1\"),\"ร\",IF(CV11=\"ปกติ\",SUM(F11,G11,H11,I11,J11,K11,L11,M11,N11,O11,P11,Q11,R11,S11,T11,U11,V11,W11,X11,Y11),\"-\")))","v":0},null,"",null,null,null,null,null,null,null,null,null,null,null,null,null,null,null,null,null,null,null,null,{"$f":"IF(Sheet1!C6=\"\",\"\",IF(COUNTIF(AC11:AS11,\"-1\"),\"ร\",IF(CV11=\"ปกติ\",SUM(AC11,AD11,AE11,AF11,AG11,AH11,AI11,AJ11,AK11,AL11,AM11,AN11,AO11,AP11,AQ11,AR11,AS11),\"-\")))","v":0},null,"",null,null,null,null,null,null,null,null,null,null,null,null,null,null,null,{"$f":"IF(Sheet1!C6=\"\",\"\",IF(COUNTIF(AZ11:BN11,\"-1\"),\"ร\",IF(CV11=\"ปกติ\",SUM(AZ11,BA11,BB11,BC11,BD11,BE11,BF11,BG11,BH11,BI11,BJ11,BK11,BL11,BM11,BN11),\"-\")))","v":0},null,"",null,null,null,null,null,null,null,null,null,null,null,null,null,null,null,{"$f":"IF(Sheet1!C6=\"\",\"\",IF(COUNTIF(BR11:CF11,\"-1\"),\"ร\",IF(CV11=\"ปกติ\",SUM(BR11,BS11,BT11,BU11,BV11,BW11,BX11,BY11,BZ11,CA11,CB11,CC11,CD11,CE11,CF11),\"-\")))","v":0},null,"","","","",{"$f":"SUM(CJ11:CL11)","v":0},null,"",null,{"$f":"CM11+CO11","v":{"$error":"#VALUE!"}},null,{"$f":"IF(CQ11>=50,\"ผ\",\"มผ\")","v":{"$error":"#VALUE!"}},null,null,{"$f":"IF(เวลาเรียน!IP13=\"\",\"\",เวลาเรียน!IP13)","v":"ปกติ"},null,50,100,"ผ"]
[6,2502,{"$f":"CONCATENATE(Sheet1!B7)","v":"15357"},{"$f":"CONCATENATE(Sheet1!C7&Sheet1!D7&\"       \"&Sheet1!E7)","v":"เด็กชายชยพล  ชลสงคราม       "},6,null,null,null,null,null,null,null,null,null,null,null,null,null,null,null,null,null,null,null,null,{"$f":"IF(Sheet1!C7=\"\",\"\",IF(COUNTIF(F12:V12,\"-1\"),\"ร\",IF(CV12=\"ปกติ\",SUM(F12,G12,H12,I12,J12,K12,L12,M12,N12,O12,P12,Q12,R12,S12,T12,U12,V12,W12,X12,Y12),\"-\")))","v":0},null,"",null,null,null,null,null,null,null,null,null,null,null,null,null,null,null,null,null,null,null,null,{"$f":"IF(Sheet1!C7=\"\",\"\",IF(COUNTIF(AC12:AS12,\"-1\"),\"ร\",IF(CV12=\"ปกติ\",SUM(AC12,AD12,AE12,AF12,AG12,AH12,AI12,AJ12,AK12,AL12,AM12,AN12,AO12,AP12,AQ12,AR12,AS12),\"-\")))","v":0},null,"",null,null,null,null,null,null,null,null,null,null,null,null,null,null,null,{"$f":"IF(Sheet1!C7=\"\",\"\",IF(COUNTIF(AZ12:BN12,\"-1\"),\"ร\",IF(CV12=\"ปกติ\",SUM(AZ12,BA12,BB12,BC12,BD12,BE12,BF12,BG12,BH12,BI12,BJ12,BK12,BL12,BM12,BN12),\"-\")))","v":0},null,"",null,null,null,null,null,null,null,null,null,null,null,null,null,null,null,{"$f":"IF(Sheet1!C7=\"\",\"\",IF(COUNTIF(BR12:CF12,\"-1\"),\"ร\",IF(CV12=\"ปกติ\",SUM(BR12,BS12,BT12,BU12,BV12,BW12,BX12,BY12,BZ12,CA12,CB12,CC12,CD12,CE12,CF12),\"-\")))","v":0},null,"","","","",{"$f":"SUM(CJ12:CL12)","v":0},null,"",null,{"$f":"CM12+CO12","v":{"$error":"#VALUE!"}},null,{"$f":"IF(CQ12>=50,\"ผ\",\"มผ\")","v":{"$error":"#VALUE!"}},null,null,{"$f":"IF(เวลาเรียน!IP14=\"\",\"\",เวลาเรียน!IP14)","v":"ปกติ"}]
[7,2503,{"$f":"CONCATENATE(Sheet1!B8)","v":"15366"},{"$f":"CONCATENATE(Sheet1!C8&Sheet1!D8&\"       \"&Sheet1!E8)","v":"เด็กชายณัฏฐากร  เติมชัย       "},7,null,null,null,null,null,null,null,null,null,null,null,null,null,null,null,null,null,null,null,null,{"$f":"IF(Sheet1!C8=\"\",\"\",IF(COUNTIF(F13:V13,\"-1\"),\"ร\",IF(CV13=\"ปกติ\",SUM(F13,G13,H13,I13,J13,K13,L13,M13,N13,O13,P13,Q13,R13,S13,T13,U13,V13,W13,X13,Y13),\"-\")))","v":0},null,"",null,null,null,null,null,null,null,null,null,null,null,null,null,null,null,null,null,null,null,null,{"$f":"IF(Sheet1!C8=\"\",\"\",IF(COUNTIF(AC13:AS13,\"-1\"),\"ร\",IF(CV13=\"ปกติ\",SUM(AC13,AD13,AE13,AF13,AG13,AH13,AI13,AJ13,AK13,AL13,AM13,AN13,AO13,AP13,AQ13,AR13,AS13),\"-\")))","v":0},null,"",null,null,null,null,null,null,null,null,null,null,null,null,null,null,null,{"$f":"IF(Sheet1!C8=\"\",\"\",IF(COUNTIF(AZ13:BN13,\"-1\"),\"ร\",IF(CV13=\"ปกติ\",SUM(AZ13,BA13,BB13,BC13,BD13,BE13,BF13,BG13,BH13,BI13,BJ13,BK13,BL13,BM13,BN13),\"-\")))","v":0},null,"",null,null,null,null,null,null,null,null,null,null,null,null,null,null,null,{"$f":"IF(Sheet1!C8=\"\",\"\",IF(COUNTIF(BR13:CF13,\"-1\"),\"ร\",IF(CV13=\"ปกติ\",SUM(BR13,BS13,BT13,BU13,BV13,BW13,BX13,BY13,BZ13,CA13,CB13,CC13,CD13,CE13,CF13),\"-\")))","v":0},null,"","","","",{"$f":"SUM(CJ13:CL13)","v":0},null,"",null,{"$f":"CM13+CO13","v":{"$error":"#VALUE!"}},null,{"$error":"#VALUE!"},null,null,{"$f":"IF(เวลาเรียน!IP15=\"\",\"\",เวลาเรียน!IP15)","v":"ปกติ"}]
[8,2504,{"$f":"CONCATENATE(Sheet1!B9)","v":"15370"},{"$f":"CONCATENATE(Sheet1!C9&Sheet1!D9&\"       \"&Sheet1!E9)","v":"เด็กหญิงอรนภา  จูละพันธ์       "},8,null,null,null,null,null,null,null,null,null,null,null,null,null,null,null,null,null,null,null,null,{"$f":"IF(Sheet1!C9=\"\",\"\",IF(COUNTIF(F14:V14,\"-1\"),\"ร\",IF(CV14=\"ปกติ\",SUM(F14,G14,H14,I14,J14,K14,L14,M14,N14,O14,P14,Q14,R14,S14,T14,U14,V14,W14,X14,Y14),\"-\")))","v":0},null,"",null,null,null,null,null,null,null,null,null,null,null,null,null,null,null,null,null,null,null,null,{"$f":"IF(Sheet1!C9=\"\",\"\",IF(COUNTIF(AC14:AS14,\"-1\"),\"ร\",IF(CV14=\"ปกติ\",SUM(AC14,AD14,AE14,AF14,AG14,AH14,AI14,AJ14,AK14,AL14,AM14,AN14,AO14,AP14,AQ14,AR14,AS14),\"-\")))","v":0},null,"",null,null,null,null,null,null,null,null,null,null,null,null,null,null,null,{"$f":"IF(Sheet1!C9=\"\",\"\",IF(COUNTIF(AZ14:BN14,\"-1\"),\"ร\",IF(CV14=\"ปกติ\",SUM(AZ14,BA14,BB14,BC14,BD14,BE14,BF14,BG14,BH14,BI14,BJ14,BK14,BL14,BM14,BN14),\"-\")))","v":0},null,"",null,null,null,null,null,null,null,null,null,null,null,null,null,null,null,{"$f":"IF(Sheet1!C9=\"\",\"\",IF(COUNTIF(BR14:CF14,\"-1\"),\"ร\",IF(CV14=\"ปกติ\",SUM(BR14,BS14,BT14,BU14,BV14,BW14,BX14,BY14,BZ14,CA14,CB14,CC14,CD14,CE14,CF14),\"-\")))","v":0},null,"","","","",{"$f":"SUM(CJ14:CL14)","v":0},null,"",null,{"$f":"CM14+CO14","v":{"$error":"#VALUE!"}},null,{"$error":"#VALUE!"},null,null,{"$f":"IF(เวลาเรียน!IP16=\"\",\"\",เวลาเรียน!IP16)","v":"ปกติ"}]
[9,2505,{"$f":"CONCATENATE(Sheet1!B10)","v":"15378"},{"$f":"CONCATENATE(Sheet1!C10&Sheet1!D10&\"       \"&Sheet1!E10)","v":"เด็กหญิงปนัดดา  ขุนทอง       "},9,null,null,null,null,null,null,null,null,null,null,null,null,null,null,null,null,null,null,null,null,{"$f":"IF(Sheet1!C10=\"\",\"\",IF(COUNTIF(F15:V15,\"-1\"),\"ร\",IF(CV15=\"ปกติ\",SUM(F15,G15,H15,I15,J15,K15,L15,M15,N15,O15,P15,Q15,R15,S15,T15,U15,V15,W15,X15,Y15),\"-\")))","v":0},null,"",null,null,null,null,null,null,null,null,null,null,null,null,null,null,null,null,null,null,null,null,{"$f":"IF(Sheet1!C10=\"\",\"\",IF(COUNTIF(AC15:AS15,\"-1\"),\"ร\",IF(CV15=\"ปกติ\",SUM(AC15,AD15,AE15,AF15,AG15,AH15,AI15,AJ15,AK15,AL15,AM15,AN15,AO15,AP15,AQ15,AR15,AS15),\"-\")))","v":0},null,"",null,null,null,null,null,null,null,null,null,null,null,null,null,null,null,{"$f":"IF(Sheet1!C10=\"\",\"\",IF(COUNTIF(AZ15:BN15,\"-1\"),\"ร\",IF(CV15=\"ปกติ\",SUM(AZ15,BA15,BB15,BC15,BD15,BE15,BF15,BG15,BH15,BI15,BJ15,BK15,BL15,BM15,BN15),\"-\")))","v":0},null,"",null,null,null,null,null,null,null,null,null,null,null,null,null,null,null,{"$f":"IF(Sheet1!C10=\"\",\"\",IF(COUNTIF(BR15:CF15,\"-1\"),\"ร\",IF(CV15=\"ปกติ\",SUM(BR15,BS15,BT15,BU15,BV15,BW15,BX15,BY15,BZ15,CA15,CB15,CC15,CD15,CE15,CF15),\"-\")))","v":0},null,"","","","",0,null,"",null,{"$error":"#VALUE!"},null,{"$error":"#VALUE!"},null,null,{"$f":"IF(เวลาเรียน!IP17=\"\",\"\",เวลาเรียน!IP17)","v":"ปกติ"}]
[10,2506,{"$f":"CONCATENATE(Sheet1!B11)","v":"15380"},{"$f":"CONCATENATE(Sheet1!C11&Sheet1!D11&\"       \"&Sheet1!E11)","v":"เด็กหญิงนันท์นภัส  จันทร์ร้อย       "},10,null,null,null,null,null,null,null,null,null,null,null,null,null,null,null,null,null,null,null,null,{"$f":"IF(Sheet1!C11=\"\",\"\",IF(COUNTIF(F16:V16,\"-1\"),\"ร\",IF(CV16=\"ปกติ\",SUM(F16,G16,H16,I16,J16,K16,L16,M16,N16,O16,P16,Q16,R16,S16,T16,U16,V16,W16,X16,Y16),\"-\")))","v":0},null,"",null,null,null,null,null,null,null,null,null,null,null,null,null,null,null,null,null,null,null,null,{"$f":"IF(Sheet1!C11=\"\",\"\",IF(COUNTIF(AC16:AS16,\"-1\"),\"ร\",IF(CV16=\"ปกติ\",SUM(AC16,AD16,AE16,AF16,AG16,AH16,AI16,AJ16,AK16,AL16,AM16,AN16,AO16,AP16,AQ16,AR16,AS16),\"-\")))","v":0},null,"",null,null,null,null,null,null,null,null,null,null,null,null,null,null,null,{"$f":"IF(Sheet1!C11=\"\",\"\",IF(COUNTIF(AZ16:BN16,\"-1\"),\"ร\",IF(CV16=\"ปกติ\",SUM(AZ16,BA16,BB16,BC16,BD16,BE16,BF16,BG16,BH16,BI16,BJ16,BK16,BL16,BM16,BN16),\"-\")))","v":0},null,"",null,null,null,null,null,null,null,null,null,null,null,null,null,null,null,{"$f":"IF(Sheet1!C11=\"\",\"\",IF(COUNTIF(BR16:CF16,\"-1\"),\"ร\",IF(CV16=\"ปกติ\",SUM(BR16,BS16,BT16,BU16,BV16,BW16,BX16,BY16,BZ16,CA16,CB16,CC16,CD16,CE16,CF16),\"-\")))","v":0},null,"","","","",{"$f":"SUM(CJ16:CL16)","v":0},null,"",null,{"$f":"CM16+CO16","v":{"$error":"#VALUE!"}},null,{"$f":"IF(CQ16>=50,\"ผ\",\"มผ\")","v":{"$error":"#VALUE!"}},null,null,{"$f":"IF(เวลาเรียน!IP18=\"\",\"\",เวลาเรียน!IP18)","v":"ปกติ"}]
[11,2507,{"$f":"CONCATENATE(Sheet1!B12)","v":"15388"},{"$f":"CONCATENATE(Sheet1!C12&Sheet1!D12&\"       \"&Sheet1!E12)","v":"เด็กชายณัฏฐะชัย  แซ่อั้ง       "},11,null,null,null,null,null,null,null,null,null,null,null,null,null,null,null,null,null,null,null,null,{"$f":"IF(Sheet1!C12=\"\",\"\",IF(COUNTIF(F17:V17,\"-1\"),\"ร\",IF(CV17=\"ปกติ\",SUM(F17,G17,H17,I17,J17,K17,L17,M17,N17,O17,P17,Q17,R17,S17,T17,U17,V17,W17,X17,Y17),\"-\")))","v":0},null,"",null,null,null,null,null,null,null,null,null,null,null,null,null,null,null,null,null,null,null,null,{"$f":"IF(Sheet1!C12=\"\",\"\",IF(COUNTIF(AC17:AS17,\"-1\"),\"ร\",IF(CV17=\"ปกติ\",SUM(AC17,AD17,AE17,AF17,AG17,AH17,AI17,AJ17,AK17,AL17,AM17,AN17,AO17,AP17,AQ17,AR17,AS17),\"-\")))","v":0},null,"",null,null,null,null,null,null,null,null,null,null,null,null,null,null,null,{"$f":"IF(Sheet1!C12=\"\",\"\",IF(COUNTIF(AZ17:BN17,\"-1\"),\"ร\",IF(CV17=\"ปกติ\",SUM(AZ17,BA17,BB17,BC17,BD17,BE17,BF17,BG17,BH17,BI17,BJ17,BK17,BL17,BM17,BN17),\"-\")))","v":0},null,"",null,null,null,null,null,null,null,null,null,null,null,null,null,null,null,{"$f":"IF(Sheet1!C12=\"\",\"\",IF(COUNTIF(BR17:CF17,\"-1\"),\"ร\",IF(CV17=\"ปกติ\",SUM(BR17,BS17,BT17,BU17,BV17,BW17,BX17,BY17,BZ17,CA17,CB17,CC17,CD17,CE17,CF17),\"-\")))","v":0},null,"","","","",{"$f":"SUM(CJ17:CL17)","v":0},null,"",null,{"$f":"CM17+CO17","v":{"$error":"#VALUE!"}},null,{"$f":"IF(CQ17>=50,\"ผ\",\"มผ\")","v":{"$error":"#VALUE!"}},null,null,{"$f":"IF(เวลาเรียน!IP19=\"\",\"\",เวลาเรียน!IP19)","v":"ปกติ"}]
[12,2508,{"$f":"CONCATENATE(Sheet1!B13)","v":"15389"},{"$f":"CONCATENATE(Sheet1!C13&Sheet1!D13&\"       \"&Sheet1!E13)","v":"เด็กชายนวกร  อ่อนเกตุพล       "},12,null,null,null,null,null,null,null,null,null,null,null,null,null,null,null,null,null,null,null,null,{"$f":"IF(Sheet1!C13=\"\",\"\",IF(COUNTIF(F18:V18,\"-1\"),\"ร\",IF(CV18=\"ปกติ\",SUM(F18,G18,H18,I18,J18,K18,L18,M18,N18,O18,P18,Q18,R18,S18,T18,U18,V18,W18,X18,Y18),\"-\")))","v":0},null,"",null,null,null,null,null,null,null,null,null,null,null,null,null,null,null,null,null,null,null,null,{"$f":"IF(Sheet1!C13=\"\",\"\",IF(COUNTIF(AC18:AS18,\"-1\"),\"ร\",IF(CV18=\"ปกติ\",SUM(AC18,AD18,AE18,AF18,AG18,AH18,AI18,AJ18,AK18,AL18,AM18,AN18,AO18,AP18,AQ18,AR18,AS18),\"-\")))","v":0},null,"",null,null,null,null,null,null,null,null,null,null,null,null,null,null,null,{"$f":"IF(Sheet1!C13=\"\",\"\",IF(COUNTIF(AZ18:BN18,\"-1\"),\"ร\",IF(CV18=\"ปกติ\",SUM(AZ18,BA18,BB18,BC18,BD18,BE18,BF18,BG18,BH18,BI18,BJ18,BK18,BL18,BM18,BN18),\"-\")))","v":0},null,"",null,null,null,null,null,null,null,null,null,null,null,null,null,null,null,{"$f":"IF(Sheet1!C13=\"\",\"\",IF(COUNTIF(BR18:CF18,\"-1\"),\"ร\",IF(CV18=\"ปกติ\",SUM(BR18,BS18,BT18,BU18,BV18,BW18,BX18,BY18,BZ18,CA18,CB18,CC18,CD18,CE18,CF18),\"-\")))","v":0},null,"","","","",{"$f":"SUM(CJ18:CL18)","v":0},null,"",null,{"$f":"CM18+CO18","v":{"$error":"#VALUE!"}},null,{"$f":"IF(CQ18>=50,\"ผ\",\"มผ\")","v":{"$error":"#VALUE!"}},null,null,{"$f":"IF(เวลาเรียน!IP20=\"\",\"\",เวลาเรียน!IP20)","v":"ปกติ"}]
[13,2509,{"$f":"CONCATENATE(Sheet1!B14)","v":"15396"},{"$f":"CONCATENATE(Sheet1!C14&Sheet1!D14&\"       \"&Sheet1!E14)","v":"เด็กชายธัญเทพ  นิยะกิจ       "},13,null,null,null,null,null,null,null,null,null,null,null,null,null,null,null,null,null,null,null,null,{"$f":"IF(Sheet1!C14=\"\",\"\",IF(COUNTIF(F19:V19,\"-1\"),\"ร\",IF(CV19=\"ปกติ\",SUM(F19,G19,H19,I19,J19,K19,L19,M19,N19,O19,P19,Q19,R19,S19,T19,U19,V19,W19,X19,Y19),\"-\")))","v":0},null,"",null,null,null,null,null,null,null,null,null,null,null,null,null,null,null,null,null,null,null,null,{"$f":"IF(Sheet1!C14=\"\",\"\",IF(COUNTIF(AC19:AS19,\"-1\"),\"ร\",IF(CV19=\"ปกติ\",SUM(AC19,AD19,AE19,AF19,AG19,AH19,AI19,AJ19,AK19,AL19,AM19,AN19,AO19,AP19,AQ19,AR19,AS19),\"-\")))","v":0},null,"",null,null,null,null,null,null,null,null,null,null,null,null,null,null,null,{"$f":"IF(Sheet1!C14=\"\",\"\",IF(COUNTIF(AZ19:BN19,\"-1\"),\"ร\",IF(CV19=\"ปกติ\",SUM(AZ19,BA19,BB19,BC19,BD19,BE19,BF19,BG19,BH19,BI19,BJ19,BK19,BL19,BM19,BN19),\"-\")))","v":0},null,"",null,null,null,null,null,null,null,null,null,null,null,null,null,null,null,{"$f":"IF(Sheet1!C14=\"\",\"\",IF(COUNTIF(BR19:CF19,\"-1\"),\"ร\",IF(CV19=\"ปกติ\",SUM(BR19,BS19,BT19,BU19,BV19,BW19,BX19,BY19,BZ19,CA19,CB19,CC19,CD19,CE19,CF19),\"-\")))","v":0},null,"","","","",{"$f":"SUM(CJ19:CL19)","v":0},null,"",null,{"$f":"CM19+CO19","v":{"$error":"#VALUE!"}},null,{"$error":"#VALUE!"},null,null,{"$f":"IF(เวลาเรียน!IP21=\"\",\"\",เวลาเรียน!IP21)","v":"ปกติ"},null,0,50,0]
[14,2510,{"$f":"CONCATENATE(Sheet1!B15)","v":"15403"},{"$f":"CONCATENATE(Sheet1!C15&Sheet1!D15&\"       \"&Sheet1!E15)","v":"เด็กหญิงฐิติกาญจน์  กองวารี       "},14,null,null,null,null,null,null,null,null,null,null,null,null,null,null,null,null,null,null,null,null,{"$f":"IF(Sheet1!C15=\"\",\"\",IF(COUNTIF(F20:V20,\"-1\"),\"ร\",IF(CV20=\"ปกติ\",SUM(F20,G20,H20,I20,J20,K20,L20,M20,N20,O20,P20,Q20,R20,S20,T20,U20,V20,W20,X20,Y20),\"-\")))","v":0},null,"",null,null,null,null,null,null,null,null,null,null,null,null,null,null,null,null,null,null,null,null,{"$f":"IF(Sheet1!C15=\"\",\"\",IF(COUNTIF(AC20:AS20,\"-1\"),\"ร\",IF(CV20=\"ปกติ\",SUM(AC20,AD20,AE20,AF20,AG20,AH20,AI20,AJ20,AK20,AL20,AM20,AN20,AO20,AP20,AQ20,AR20,AS20),\"-\")))","v":0},null,"",null,null,null,null,null,null,null,null,null,null,null,null,null,null,null,{"$f":"IF(Sheet1!C15=\"\",\"\",IF(COUNTIF(AZ20:BN20,\"-1\"),\"ร\",IF(CV20=\"ปกติ\",SUM(AZ20,BA20,BB20,BC20,BD20,BE20,BF20,BG20,BH20,BI20,BJ20,BK20,BL20,BM20,BN20),\"-\")))","v":0},null,"",null,null,null,null,null,null,null,null,null,null,null,null,null,null,null,{"$f":"IF(Sheet1!C15=\"\",\"\",IF(COUNTIF(BR20:CF20,\"-1\"),\"ร\",IF(CV20=\"ปกติ\",SUM(BR20,BS20,BT20,BU20,BV20,BW20,BX20,BY20,BZ20,CA20,CB20,CC20,CD20,CE20,CF20),\"-\")))","v":0},null,"","","","",0,null,"",null,{"$error":"#VALUE!"},null,{"$error":"#VALUE!"},null,null,{"$f":"IF(เวลาเรียน!IP22=\"\",\"\",เวลาเรียน!IP22)","v":"ปกติ"},null,50,55,1]
[15,2511,{"$f":"CONCATENATE(Sheet1!B16)","v":"15406"},{"$f":"CONCATENATE(Sheet1!C16&Sheet1!D16&\"       \"&Sheet1!E16)","v":"เด็กหญิงสุวิชญา  พิชัย       "},15,null,null,null,null,null,null,null,null,null,null,null,null,null,null,null,null,null,null,null,null,{"$f":"IF(Sheet1!C16=\"\",\"\",IF(COUNTIF(F21:V21,\"-1\"),\"ร\",IF(CV21=\"ปกติ\",SUM(F21,G21,H21,I21,J21,K21,L21,M21,N21,O21,P21,Q21,R21,S21,T21,U21,V21,W21,X21,Y21),\"-\")))","v":0},null,"",null,null,null,null,null,null,null,null,null,null,null,null,null,null,null,null,null,null,null,null,{"$f":"IF(Sheet1!C16=\"\",\"\",IF(COUNTIF(AC21:AS21,\"-1\"),\"ร\",IF(CV21=\"ปกติ\",SUM(AC21,AD21,AE21,AF21,AG21,AH21,AI21,AJ21,AK21,AL21,AM21,AN21,AO21,AP21,AQ21,AR21,AS21),\"-\")))","v":0},null,"",null,null,null,null,null,null,null,null,null,null,null,null,null,null,null,{"$f":"IF(Sheet1!C16=\"\",\"\",IF(COUNTIF(AZ21:BN21,\"-1\"),\"ร\",IF(CV21=\"ปกติ\",SUM(AZ21,BA21,BB21,BC21,BD21,BE21,BF21,BG21,BH21,BI21,BJ21,BK21,BL21,BM21,BN21),\"-\")))","v":0},null,"",null,null,null,null,null,null,null,null,null,null,null,null,null,null,null,{"$f":"IF(Sheet1!C16=\"\",\"\",IF(COUNTIF(BR21:CF21,\"-1\"),\"ร\",IF(CV21=\"ปกติ\",SUM(BR21,BS21,BT21,BU21,BV21,BW21,BX21,BY21,BZ21,CA21,CB21,CC21,CD21,CE21,CF21),\"-\")))","v":0},null,"","","","",{"$f":"SUM(CJ21:CL21)","v":0},null,"",null,{"$f":"CM21+CO21","v":{"$error":"#VALUE!"}},null,{"$f":"IF(CQ21>=50,\"ผ\",\"มผ\")","v":{"$error":"#VALUE!"}},null,null,{"$f":"IF(เวลาเรียน!IP23=\"\",\"\",เวลาเรียน!IP23)","v":"ปกติ"},null,55,60,1.5]
[16,2512,{"$f":"CONCATENATE(Sheet1!B17)","v":"15407"},{"$f":"CONCATENATE(Sheet1!C17&Sheet1!D17&\"       \"&Sheet1!E17)","v":"เด็กหญิงนันท์นภัส  เต็มสงสัย       "},16,null,null,null,null,null,null,null,null,null,null,null,null,null,null,null,null,null,null,null,null,{"$f":"IF(Sheet1!C17=\"\",\"\",IF(COUNTIF(F22:V22,\"-1\"),\"ร\",IF(CV22=\"ปกติ\",SUM(F22,G22,H22,I22,J22,K22,L22,M22,N22,O22,P22,Q22,R22,S22,T22,U22,V22,W22,X22,Y22),\"-\")))","v":0},null,"",null,null,null,null,null,null,null,null,null,null,null,null,null,null,null,null,null,null,null,null,{"$f":"IF(Sheet1!C17=\"\",\"\",IF(COUNTIF(AC22:AS22,\"-1\"),\"ร\",IF(CV22=\"ปกติ\",SUM(AC22,AD22,AE22,AF22,AG22,AH22,AI22,AJ22,AK22,AL22,AM22,AN22,AO22,AP22,AQ22,AR22,AS22),\"-\")))","v":0},null,"",null,null,null,null,null,null,null,null,null,null,null,null,null,null,null,{"$f":"IF(Sheet1!C17=\"\",\"\",IF(COUNTIF(AZ22:BN22,\"-1\"),\"ร\",IF(CV22=\"ปกติ\",SUM(AZ22,BA22,BB22,BC22,BD22,BE22,BF22,BG22,BH22,BI22,BJ22,BK22,BL22,BM22,BN22),\"-\")))","v":0},null,"",null,null,null,null,null,null,null,null,null,null,null,null,null,null,null,{"$f":"IF(Sheet1!C17=\"\",\"\",IF(COUNTIF(BR22:CF22,\"-1\"),\"ร\",IF(CV22=\"ปกติ\",SUM(BR22,BS22,BT22,BU22,BV22,BW22,BX22,BY22,BZ22,CA22,CB22,CC22,CD22,CE22,CF22),\"-\")))","v":0},null,"","","","",{"$f":"SUM(CJ22:CL22)","v":0},null,"",null,{"$f":"CM22+CO22","v":{"$error":"#VALUE!"}},null,{"$f":"IF(CQ22>=50,\"ผ\",\"มผ\")","v":{"$error":"#VALUE!"}},null,null,{"$f":"IF(เวลาเรียน!IP24=\"\",\"\",เวลาเรียน!IP24)","v":"ปกติ"},null,60,65,2]
[17,2513,{"$f":"CONCATENATE(Sheet1!B18)","v":"17084"},{"$f":"CONCATENATE(Sheet1!C18&Sheet1!D18&\"       \"&Sheet1!E18)","v":"เด็กชายธนิสร  ทิพย์เกิด       "},17,null,null,null,null,null,null,null,null,null,null,null,null,null,null,null,null,null,null,null,null,{"$f":"IF(Sheet1!C18=\"\",\"\",IF(COUNTIF(F23:V23,\"-1\"),\"ร\",IF(CV23=\"ปกติ\",SUM(F23,G23,H23,I23,J23,K23,L23,M23,N23,O23,P23,Q23,R23,S23,T23,U23,V23,W23,X23,Y23),\"-\")))","v":0},null,"",null,null,null,null,null,null,null,null,null,null,null,null,null,null,null,null,null,null,null,null,{"$f":"IF(Sheet1!C18=\"\",\"\",IF(COUNTIF(AC23:AS23,\"-1\"),\"ร\",IF(CV23=\"ปกติ\",SUM(AC23,AD23,AE23,AF23,AG23,AH23,AI23,AJ23,AK23,AL23,AM23,AN23,AO23,AP23,AQ23,AR23,AS23),\"-\")))","v":0},null,"",null,null,null,null,null,null,null,null,null,null,null,null,null,null,null,{"$f":"IF(Sheet1!C18=\"\",\"\",IF(COUNTIF(AZ23:BN23,\"-1\"),\"ร\",IF(CV23=\"ปกติ\",SUM(AZ23,BA23,BB23,BC23,BD23,BE23,BF23,BG23,BH23,BI23,BJ23,BK23,BL23,BM23,BN23),\"-\")))","v":0},null,"",null,null,null,null,null,null,null,null,null,null,null,null,null,null,null,{"$f":"IF(Sheet1!C18=\"\",\"\",IF(COUNTIF(BR23:CF23,\"-1\"),\"ร\",IF(CV23=\"ปกติ\",SUM(BR23,BS23,BT23,BU23,BV23,BW23,BX23,BY23,BZ23,CA23,CB23,CC23,CD23,CE23,CF23),\"-\")))","v":0},null,"","","","",{"$f":"SUM(CJ23:CL23)","v":0},null,"",null,{"$f":"CM23+CO23","v":{"$error":"#VALUE!"}},null,{"$f":"IF(CQ23>=50,\"ผ\",\"มผ\")","v":{"$error":"#VALUE!"}},null,null,{"$f":"IF(เวลาเรียน!IP25=\"\",\"\",เวลาเรียน!IP25)","v":"ปกติ"},null,65,70,2.5]
[18,2514,{"$f":"CONCATENATE(Sheet1!B19)","v":"17085"},{"$f":"CONCATENATE(Sheet1!C19&Sheet1!D19&\"       \"&Sheet1!E19)","v":"เด็กชายนันทิพัฒน์  วงศ์คำลือ       "},18,null,null,null,null,null,null,null,null,null,null,null,null,null,null,null,null,null,null,null,null,{"$f":"IF(Sheet1!C19=\"\",\"\",IF(COUNTIF(F24:V24,\"-1\"),\"ร\",IF(CV24=\"ปกติ\",SUM(F24,G24,H24,I24,J24,K24,L24,M24,N24,O24,P24,Q24,R24,S24,T24,U24,V24,W24,X24,Y24),\"-\")))","v":0},null,"",null,null,null,null,null,null,null,null,null,null,null,null,null,null,null,null,null,null,null,null,{"$f":"IF(Sheet1!C19=\"\",\"\",IF(COUNTIF(AC24:AS24,\"-1\"),\"ร\",IF(CV24=\"ปกติ\",SUM(AC24,AD24,AE24,AF24,AG24,AH24,AI24,AJ24,AK24,AL24,AM24,AN24,AO24,AP24,AQ24,AR24,AS24),\"-\")))","v":0},null,"",null,null,null,null,null,null,null,null,null,null,null,null,null,null,null,{"$f":"IF(Sheet1!C19=\"\",\"\",IF(COUNTIF(AZ24:BN24,\"-1\"),\"ร\",IF(CV24=\"ปกติ\",SUM(AZ24,BA24,BB24,BC24,BD24,BE24,BF24,BG24,BH24,BI24,BJ24,BK24,BL24,BM24,BN24),\"-\")))","v":0},null,"",null,null,null,null,null,null,null,null,null,null,null,null,null,null,null,{"$f":"IF(Sheet1!C19=\"\",\"\",IF(COUNTIF(BR24:CF24,\"-1\"),\"ร\",IF(CV24=\"ปกติ\",SUM(BR24,BS24,BT24,BU24,BV24,BW24,BX24,BY24,BZ24,CA24,CB24,CC24,CD24,CE24,CF24),\"-\")))","v":0},null,"","","","",{"$f":"SUM(CJ24:CL24)","v":0},null,"",null,{"$f":"CM24+CO24","v":{"$error":"#VALUE!"}},null,{"$error":"#VALUE!"},null,null,{"$f":"IF(เวลาเรียน!IP26=\"\",\"\",เวลาเรียน!IP26)","v":"ปกติ"},null,70,75,3]
[19,2515,{"$f":"CONCATENATE(Sheet1!B20)","v":"17086"},{"$f":"CONCATENATE(Sheet1!C20&Sheet1!D20&\"       \"&Sheet1!E20)","v":"เด็กชายธนโชติ  โภคา       "},19,null,null,null,null,null,null,null,null,null,null,null,null,null,null,null,null,null,null,null,null,{"$f":"IF(Sheet1!C20=\"\",\"\",IF(COUNTIF(F25:V25,\"-1\"),\"ร\",IF(CV25=\"ปกติ\",SUM(F25,G25,H25,I25,J25,K25,L25,M25,N25,O25,P25,Q25,R25,S25,T25,U25,V25,W25,X25,Y25),\"-\")))","v":0},null,"",null,null,null,null,null,null,null,null,null,null,null,null,null,null,null,null,null,null,null,null,{"$f":"IF(Sheet1!C20=\"\",\"\",IF(COUNTIF(AC25:AS25,\"-1\"),\"ร\",IF(CV25=\"ปกติ\",SUM(AC25,AD25,AE25,AF25,AG25,AH25,AI25,AJ25,AK25,AL25,AM25,AN25,AO25,AP25,AQ25,AR25,AS25),\"-\")))","v":0},null,"",null,null,null,null,null,null,null,null,null,null,null,null,null,null,null,{"$f":"IF(Sheet1!C20=\"\",\"\",IF(COUNTIF(AZ25:BN25,\"-1\"),\"ร\",IF(CV25=\"ปกติ\",SUM(AZ25,BA25,BB25,BC25,BD25,BE25,BF25,BG25,BH25,BI25,BJ25,BK25,BL25,BM25,BN25),\"-\")))","v":0},null,"",null,null,null,null,null,null,null,null,null,null,null,null,null,null,null,{"$f":"IF(Sheet1!C20=\"\",\"\",IF(COUNTIF(BR25:CF25,\"-1\"),\"ร\",IF(CV25=\"ปกติ\",SUM(BR25,BS25,BT25,BU25,BV25,BW25,BX25,BY25,BZ25,CA25,CB25,CC25,CD25,CE25,CF25),\"-\")))","v":0},null,"","","","",0,null,"",null,{"$error":"#VALUE!"},null,{"$error":"#VALUE!"},null,null,{"$f":"IF(เวลาเรียน!IP27=\"\",\"\",เวลาเรียน!IP27)","v":"ปกติ"},null,75,80,3.5]
[20,2516,{"$f":"CONCATENATE(Sheet1!B21)","v":"17087"},{"$f":"CONCATENATE(Sheet1!C21&Sheet1!D21&\"       \"&Sheet1!E21)","v":"เด็กชายจิรภัทร  หีตพรหม       "},20,null,null,null,null,null,null,null,null,null,null,null,null,null,null,null,null,null,null,null,null,{"$f":"IF(Sheet1!C21=\"\",\"\",IF(COUNTIF(F26:V26,\"-1\"),\"ร\",IF(CV26=\"ปกติ\",SUM(F26,G26,H26,I26,J26,K26,L26,M26,N26,O26,P26,Q26,R26,S26,T26,U26,V26,W26,X26,Y26),\"-\")))","v":0},null,"",null,null,null,null,null,null,null,null,null,null,null,null,null,null,null,null,null,null,null,null,{"$f":"IF(Sheet1!C21=\"\",\"\",IF(COUNTIF(AC26:AS26,\"-1\"),\"ร\",IF(CV26=\"ปกติ\",SUM(AC26,AD26,AE26,AF26,AG26,AH26,AI26,AJ26,AK26,AL26,AM26,AN26,AO26,AP26,AQ26,AR26,AS26),\"-\")))","v":0},null,"",null,null,null,null,null,null,null,null,null,null,null,null,null,null,null,{"$f":"IF(Sheet1!C21=\"\",\"\",IF(COUNTIF(AZ26:BN26,\"-1\"),\"ร\",IF(CV26=\"ปกติ\",SUM(AZ26,BA26,BB26,BC26,BD26,BE26,BF26,BG26,BH26,BI26,BJ26,BK26,BL26,BM26,BN26),\"-\")))","v":0},null,"",null,null,null,null,null,null,null,null,null,null,null,null,null,null,null,{"$f":"IF(Sheet1!C21=\"\",\"\",IF(COUNTIF(BR26:CF26,\"-1\"),\"ร\",IF(CV26=\"ปกติ\",SUM(BR26,BS26,BT26,BU26,BV26,BW26,BX26,BY26,BZ26,CA26,CB26,CC26,CD26,CE26,CF26),\"-\")))","v":0},null,"","","","",{"$f":"SUM(CJ26:CL26)","v":0},null,"",null,{"$f":"CM26+CO26","v":{"$error":"#VALUE!"}},null,{"$f":"IF(CQ26>=50,\"ผ\",\"มผ\")","v":{"$error":"#VALUE!"}},null,null,{"$f":"IF(เวลาเรียน!IP28=\"\",\"\",เวลาเรียน!IP28)","v":"ปกติ"},null,80,100,4]
[21,2517,{"$f":"CONCATENATE(Sheet1!B22)","v":"17088"},{"$f":"CONCATENATE(Sheet1!C22&Sheet1!D22&\"       \"&Sheet1!E22)","v":"เด็กชายพงศพัศ  พิชิตพงศาภรณ์       "},21,null,null,null,null,null,null,null,null,null,null,null,null,null,null,null,null,null,null,null,null,{"$f":"IF(Sheet1!C22=\"\",\"\",IF(COUNTIF(F27:V27,\"-1\"),\"ร\",IF(CV27=\"ปกติ\",SUM(F27,G27,H27,I27,J27,K27,L27,M27,N27,O27,P27,Q27,R27,S27,T27,U27,V27,W27,X27,Y27),\"-\")))","v":0},null,"",null,null,null,null,null,null,null,null,null,null,null,null,null,null,null,null,null,null,null,null,{"$f":"IF(Sheet1!C22=\"\",\"\",IF(COUNTIF(AC27:AS27,\"-1\"),\"ร\",IF(CV27=\"ปกติ\",SUM(AC27,AD27,AE27,AF27,AG27,AH27,AI27,AJ27,AK27,AL27,AM27,AN27,AO27,AP27,AQ27,AR27,AS27),\"-\")))","v":0},null,"",null,null,null,null,null,null,null,null,null,null,null,null,null,null,null,{"$f":"IF(Sheet1!C22=\"\",\"\",IF(COUNTIF(AZ27:BN27,\"-1\"),\"ร\",IF(CV27=\"ปกติ\",SUM(AZ27,BA27,BB27,BC27,BD27,BE27,BF27,BG27,BH27,BI27,BJ27,BK27,BL27,BM27,BN27),\"-\")))","v":0},null,"",null,null,null,null,null,null,null,null,null,null,null,null,null,null,null,{"$f":"IF(Sheet1!C22=\"\",\"\",IF(COUNTIF(BR27:CF27,\"-1\"),\"ร\",IF(CV27=\"ปกติ\",SUM(BR27,BS27,BT27,BU27,BV27,BW27,BX27,BY27,BZ27,CA27,CB27,CC27,CD27,CE27,CF27),\"-\")))","v":0},null,"","","","",{"$f":"SUM(CJ27:CL27)","v":0},null,"",null,{"$f":"CM27+CO27","v":{"$error":"#VALUE!"}},null,{"$f":"IF(CQ27>=50,\"ผ\",\"มผ\")","v":{"$error":"#VALUE!"}},null,null,{"$f":"IF(เวลาเรียน!IP29=\"\",\"\",เวลาเรียน!IP29)","v":"ปกติ"}]
[22,2518,{"$f":"CONCATENATE(Sheet1!B23)","v":"17089"},{"$f":"CONCATENATE(Sheet1!C23&Sheet1!D23&\"       \"&Sheet1!E23)","v":"เด็กหญิงชนัดดา  บุญวิก       "},22,null,null,null,null,null,null,null,null,null,null,null,null,null,null,null,null,null,null,null,null,{"$f":"IF(Sheet1!C23=\"\",\"\",IF(COUNTIF(F28:V28,\"-1\"),\"ร\",IF(CV28=\"ปกติ\",SUM(F28,G28,H28,I28,J28,K28,L28,M28,N28,O28,P28,Q28,R28,S28,T28,U28,V28,W28,X28,Y28),\"-\")))","v":0},null,"",null,null,null,null,null,null,null,null,null,null,null,null,null,null,null,null,null,null,null,null,{"$f":"IF(Sheet1!C23=\"\",\"\",IF(COUNTIF(AC28:AS28,\"-1\"),\"ร\",IF(CV28=\"ปกติ\",SUM(AC28,AD28,AE28,AF28,AG28,AH28,AI28,AJ28,AK28,AL28,AM28,AN28,AO28,AP28,AQ28,AR28,AS28),\"-\")))","v":0},null,"",null,null,null,null,null,null,null,null,null,null,null,null,null,null,null,{"$f":"IF(Sheet1!C23=\"\",\"\",IF(COUNTIF(AZ28:BN28,\"-1\"),\"ร\",IF(CV28=\"ปกติ\",SUM(AZ28,BA28,BB28,BC28,BD28,BE28,BF28,BG28,BH28,BI28,BJ28,BK28,BL28,BM28,BN28),\"-\")))","v":0},null,"",null,null,null,null,null,null,null,null,null,null,null,null,null,null,null,{"$f":"IF(Sheet1!C23=\"\",\"\",IF(COUNTIF(BR28:CF28,\"-1\"),\"ร\",IF(CV28=\"ปกติ\",SUM(BR28,BS28,BT28,BU28,BV28,BW28,BX28,BY28,BZ28,CA28,CB28,CC28,CD28,CE28,CF28),\"-\")))","v":0},null,"","","","",{"$f":"SUM(CJ28:CL28)","v":0},null,"",null,{"$f":"CM28+CO28","v":{"$error":"#VALUE!"}},null,{"$f":"IF(CQ28>=50,\"ผ\",\"มผ\")","v":{"$error":"#VALUE!"}},null,null,{"$f":"IF(เวลาเรียน!IP30=\"\",\"\",เวลาเรียน!IP30)","v":"ปกติ"}]
[23,2519,{"$f":"CONCATENATE(Sheet1!B24)","v":"17090"},{"$f":"CONCATENATE(Sheet1!C24&Sheet1!D24&\"       \"&Sheet1!E24)","v":"เด็กหญิงชัชชญา  บุญวิก       "},23,null,null,null,null,null,null,null,null,null,null,null,null,null,null,null,null,null,null,null,null,{"$f":"IF(Sheet1!C24=\"\",\"\",IF(COUNTIF(F29:V29,\"-1\"),\"ร\",IF(CV29=\"ปกติ\",SUM(F29,G29,H29,I29,J29,K29,L29,M29,N29,O29,P29,Q29,R29,S29,T29,U29,V29,W29,X29,Y29),\"-\")))","v":0},null,"",null,null,null,null,null,null,null,null,null,null,null,null,null,null,null,null,null,null,null,null,{"$f":"IF(Sheet1!C24=\"\",\"\",IF(COUNTIF(AC29:AS29,\"-1\"),\"ร\",IF(CV29=\"ปกติ\",SUM(AC29,AD29,AE29,AF29,AG29,AH29,AI29,AJ29,AK29,AL29,AM29,AN29,AO29,AP29,AQ29,AR29,AS29),\"-\")))","v":0},null,"",null,null,null,null,null,null,null,null,null,null,null,null,null,null,null,{"$f":"IF(Sheet1!C24=\"\",\"\",IF(COUNTIF(AZ29:BN29,\"-1\"),\"ร\",IF(CV29=\"ปกติ\",SUM(AZ29,BA29,BB29,BC29,BD29,BE29,BF29,BG29,BH29,BI29,BJ29,BK29,BL29,BM29,BN29),\"-\")))","v":0},null,"",null,null,null,null,null,null,null,null,null,null,null,null,null,null,null,{"$f":"IF(Sheet1!C24=\"\",\"\",IF(COUNTIF(BR29:CF29,\"-1\"),\"ร\",IF(CV29=\"ปกติ\",SUM(BR29,BS29,BT29,BU29,BV29,BW29,BX29,BY29,BZ29,CA29,CB29,CC29,CD29,CE29,CF29),\"-\")))","v":0},null,"","","","",{"$f":"SUM(CJ29:CL29)","v":0},null,"",null,{"$f":"CM29+CO29","v":{"$error":"#VALUE!"}},null,{"$error":"#VALUE!"},null,null,{"$f":"IF(เวลาเรียน!IP31=\"\",\"\",เวลาเรียน!IP31)","v":"ปกติ"}]
[24,2520,{"$f":"CONCATENATE(Sheet1!B25)","v":"17091"},{"$f":"CONCATENATE(Sheet1!C25&Sheet1!D25&\"       \"&Sheet1!E25)","v":"เด็กหญิงญาณิศา  วรรณพัฒน์       "},24,null,null,null,null,null,null,null,null,null,null,null,null,null,null,null,null,null,null,null,null,{"$f":"IF(Sheet1!C25=\"\",\"\",IF(COUNTIF(F30:V30,\"-1\"),\"ร\",IF(CV30=\"ปกติ\",SUM(F30,G30,H30,I30,J30,K30,L30,M30,N30,O30,P30,Q30,R30,S30,T30,U30,V30,W30,X30,Y30),\"-\")))","v":0},null,"",null,null,null,null,null,null,null,null,null,null,null,null,null,null,null,null,null,null,null,null,{"$f":"IF(Sheet1!C25=\"\",\"\",IF(COUNTIF(AC30:AS30,\"-1\"),\"ร\",IF(CV30=\"ปกติ\",SUM(AC30,AD30,AE30,AF30,AG30,AH30,AI30,AJ30,AK30,AL30,AM30,AN30,AO30,AP30,AQ30,AR30,AS30),\"-\")))","v":0},null,"",null,null,null,null,null,null,null,null,null,null,null,null,null,null,null,{"$f":"IF(Sheet1!C25=\"\",\"\",IF(COUNTIF(AZ30:BN30,\"-1\"),\"ร\",IF(CV30=\"ปกติ\",SUM(AZ30,BA30,BB30,BC30,BD30,BE30,BF30,BG30,BH30,BI30,BJ30,BK30,BL30,BM30,BN30),\"-\")))","v":0},null,"",null,null,null,null,null,null,null,null,null,null,null,null,null,null,null,{"$f":"IF(Sheet1!C25=\"\",\"\",IF(COUNTIF(BR30:CF30,\"-1\"),\"ร\",IF(CV30=\"ปกติ\",SUM(BR30,BS30,BT30,BU30,BV30,BW30,BX30,BY30,BZ30,CA30,CB30,CC30,CD30,CE30,CF30),\"-\")))","v":0},null,"","","","",0,null,"",null,{"$error":"#VALUE!"},null,{"$error":"#VALUE!"},null,null,{"$f":"IF(เวลาเรียน!IP32=\"\",\"\",เวลาเรียน!IP32)","v":"ปกติ"}]
[25,2521,{"$f":"CONCATENATE(Sheet1!B26)","v":"17092"},{"$f":"CONCATENATE(Sheet1!C26&Sheet1!D26&\"       \"&Sheet1!E26)","v":"เด็กหญิงกรชนก  คงจันทร์       "},25,null,null,null,null,null,null,null,null,null,null,null,null,null,null,null,null,null,null,null,null,{"$f":"IF(Sheet1!C26=\"\",\"\",IF(COUNTIF(F31:V31,\"-1\"),\"ร\",IF(CV31=\"ปกติ\",SUM(F31,G31,H31,I31,J31,K31,L31,M31,N31,O31,P31,Q31,R31,S31,T31,U31,V31,W31,X31,Y31),\"-\")))","v":0},null,"",null,null,null,null,null,null,null,null,null,null,null,null,null,null,null,null,null,null,null,null,{"$f":"IF(Sheet1!C26=\"\",\"\",IF(COUNTIF(AC31:AS31,\"-1\"),\"ร\",IF(CV31=\"ปกติ\",SUM(AC31,AD31,AE31,AF31,AG31,AH31,AI31,AJ31,AK31,AL31,AM31,AN31,AO31,AP31,AQ31,AR31,AS31),\"-\")))","v":0},null,"",null,null,null,null,null,null,null,null,null,null,null,null,null,null,null,{"$f":"IF(Sheet1!C26=\"\",\"\",IF(COUNTIF(AZ31:BN31,\"-1\"),\"ร\",IF(CV31=\"ปกติ\",SUM(AZ31,BA31,BB31,BC31,BD31,BE31,BF31,BG31,BH31,BI31,BJ31,BK31,BL31,BM31,BN31),\"-\")))","v":0},null,"",null,null,null,null,null,null,null,null,null,null,null,null,null,null,null,{"$f":"IF(Sheet1!C26=\"\",\"\",IF(COUNTIF(BR31:CF31,\"-1\"),\"ร\",IF(CV31=\"ปกติ\",SUM(BR31,BS31,BT31,BU31,BV31,BW31,BX31,BY31,BZ31,CA31,CB31,CC31,CD31,CE31,CF31),\"-\")))","v":0},null,"","","","",{"$f":"SUM(CJ31:CL31)","v":0},null,"",null,{"$f":"CM31+CO31","v":{"$error":"#VALUE!"}},null,{"$f":"IF(CQ31>=50,\"ผ\",\"มผ\")","v":{"$error":"#VALUE!"}},null,null,{"$f":"IF(เวลาเรียน!IP33=\"\",\"\",เวลาเรียน!IP33)","v":"ปกติ"}]
[26,2522,{"$f":"CONCATENATE(Sheet1!B27)","v":"17093"},{"$f":"CONCATENATE(Sheet1!C27&Sheet1!D27&\"       \"&Sheet1!E27)","v":"เด็กหญิงอาทิตยา  อ่วมทองดี       "},26,null,null,null,null,null,null,null,null,null,null,null,null,null,null,null,null,null,null,null,null,{"$f":"IF(Sheet1!C27=\"\",\"\",IF(COUNTIF(F32:V32,\"-1\"),\"ร\",IF(CV32=\"ปกติ\",SUM(F32,G32,H32,I32,J32,K32,L32,M32,N32,O32,P32,Q32,R32,S32,T32,U32,V32,W32,X32,Y32),\"-\")))","v":0},null,"",null,null,null,null,null,null,null,null,null,null,null,null,null,null,null,null,null,null,null,null,{"$f":"IF(Sheet1!C27=\"\",\"\",IF(COUNTIF(AC32:AS32,\"-1\"),\"ร\",IF(CV32=\"ปกติ\",SUM(AC32,AD32,AE32,AF32,AG32,AH32,AI32,AJ32,AK32,AL32,AM32,AN32,AO32,AP32,AQ32,AR32,AS32),\"-\")))","v":0},null,"",null,null,null,null,null,null,null,null,null,null,null,null,null,null,null,{"$f":"IF(Sheet1!C27=\"\",\"\",IF(COUNTIF(AZ32:BN32,\"-1\"),\"ร\",IF(CV32=\"ปกติ\",SUM(AZ32,BA32,BB32,BC32,BD32,BE32,BF32,BG32,BH32,BI32,BJ32,BK32,BL32,BM32,BN32),\"-\")))","v":0},null,"",null,null,null,null,null,null,null,null,null,null,null,null,null,null,null,{"$f":"IF(Sheet1!C27=\"\",\"\",IF(COUNTIF(BR32:CF32,\"-1\"),\"ร\",IF(CV32=\"ปกติ\",SUM(BR32,BS32,BT32,BU32,BV32,BW32,BX32,BY32,BZ32,CA32,CB32,CC32,CD32,CE32,CF32),\"-\")))","v":0},null,"","","","",{"$f":"SUM(CJ32:CL32)","v":0},null,"",null,{"$f":"CM32+CO32","v":{"$error":"#VALUE!"}},null,{"$f":"IF(CQ32>=50,\"ผ\",\"มผ\")","v":{"$error":"#VALUE!"}},null,null,{"$f":"IF(เวลาเรียน!IP34=\"\",\"\",เวลาเรียน!IP34)","v":"ปกติ"}]
[27,2523,{"$f":"CONCATENATE(Sheet1!B28)","v":"17095"},{"$f":"CONCATENATE(Sheet1!C28&Sheet1!D28&\"       \"&Sheet1!E28)","v":"เด็กหญิงณัฏฐนันท์  เหมือนทอง       "},27,null,null,null,null,null,null,null,null,null,null,null,null,null,null,null,null,null,null,null,null,{"$f":"IF(Sheet1!C28=\"\",\"\",IF(COUNTIF(F33:V33,\"-1\"),\"ร\",IF(CV33=\"ปกติ\",SUM(F33,G33,H33,I33,J33,K33,L33,M33,N33,O33,P33,Q33,R33,S33,T33,U33,V33,W33,X33,Y33),\"-\")))","v":0},null,"",null,null,null,null,null,null,null,null,null,null,null,null,null,null,null,null,null,null,null,null,{"$f":"IF(Sheet1!C28=\"\",\"\",IF(COUNTIF(AC33:AS33,\"-1\"),\"ร\",IF(CV33=\"ปกติ\",SUM(AC33,AD33,AE33,AF33,AG33,AH33,AI33,AJ33,AK33,AL33,AM33,AN33,AO33,AP33,AQ33,AR33,AS33),\"-\")))","v":0},null,"",null,null,null,null,null,null,null,null,null,null,null,null,null,null,null,{"$f":"IF(Sheet1!C28=\"\",\"\",IF(COUNTIF(AZ33:BN33,\"-1\"),\"ร\",IF(CV33=\"ปกติ\",SUM(AZ33,BA33,BB33,BC33,BD33,BE33,BF33,BG33,BH33,BI33,BJ33,BK33,BL33,BM33,BN33),\"-\")))","v":0},null,"",null,null,null,null,null,null,null,null,null,null,null,null,null,null,null,{"$f":"IF(Sheet1!C28=\"\",\"\",IF(COUNTIF(BR33:CF33,\"-1\"),\"ร\",IF(CV33=\"ปกติ\",SUM(BR33,BS33,BT33,BU33,BV33,BW33,BX33,BY33,BZ33,CA33,CB33,CC33,CD33,CE33,CF33),\"-\")))","v":0},null,"","","","",{"$f":"SUM(CJ33:CL33)","v":0},null,"",null,{"$f":"CM33+CO33","v":{"$error":"#VALUE!"}},null,{"$f":"IF(CQ33>=50,\"ผ\",\"มผ\")","v":{"$error":"#VALUE!"}},null,null,{"$f":"IF(เวลาเรียน!IP35=\"\",\"\",เวลาเรียน!IP35)","v":"ปกติ"}]
[28,2524,{"$f":"CONCATENATE(Sheet1!B29)","v":"18483"},{"$f":"CONCATENATE(Sheet1!C29&Sheet1!D29&\"       \"&Sheet1!E29)","v":"เด็กชายศรันย์  นาคสวัสดิ์       "},28,null,null,null,null,null,null,null,null,null,null,null,null,null,null,null,null,null,null,null,null,{"$f":"IF(Sheet1!C29=\"\",\"\",IF(COUNTIF(F34:V34,\"-1\"),\"ร\",IF(CV34=\"ปกติ\",SUM(F34,G34,H34,I34,J34,K34,L34,M34,N34,O34,P34,Q34,R34,S34,T34,U34,V34,W34,X34,Y34),\"-\")))","v":0},null,"",null,null,null,null,null,null,null,null,null,null,null,null,null,null,null,null,null,null,null,null,{"$f":"IF(Sheet1!C29=\"\",\"\",IF(COUNTIF(AC34:AS34,\"-1\"),\"ร\",IF(CV34=\"ปกติ\",SUM(AC34,AD34,AE34,AF34,AG34,AH34,AI34,AJ34,AK34,AL34,AM34,AN34,AO34,AP34,AQ34,AR34,AS34),\"-\")))","v":0},null,"",null,null,null,null,null,null,null,null,null,null,null,null,null,null,null,{"$f":"IF(Sheet1!C29=\"\",\"\",IF(COUNTIF(AZ34:BN34,\"-1\"),\"ร\",IF(CV34=\"ปกติ\",SUM(AZ34,BA34,BB34,BC34,BD34,BE34,BF34,BG34,BH34,BI34,BJ34,BK34,BL34,BM34,BN34),\"-\")))","v":0},null,"",null,null,null,null,null,null,null,null,null,null,null,null,null,null,null,{"$f":"IF(Sheet1!C29=\"\",\"\",IF(COUNTIF(BR34:CF34,\"-1\"),\"ร\",IF(CV34=\"ปกติ\",SUM(BR34,BS34,BT34,BU34,BV34,BW34,BX34,BY34,BZ34,CA34,CB34,CC34,CD34,CE34,CF34),\"-\")))","v":0},null,"","","","",{"$f":"SUM(CJ34:CL34)","v":0},null,"",null,{"$f":"CM34+CO34","v":{"$error":"#VALUE!"}},null,{"$error":"#VALUE!"},null,null,{"$f":"IF(เวลาเรียน!IP36=\"\",\"\",เวลาเรียน!IP36)","v":"ปกติ"}]
[29,2525,{"$f":"CONCATENATE(Sheet1!B30)","v":"18484"},{"$f":"CONCATENATE(Sheet1!C30&Sheet1!D30&\"       \"&Sheet1!E30)","v":"เด็กหญิงณธิดา  บุญฤทธิ์       "},29,null,null,null,null,null,null,null,null,null,null,null,null,null,null,null,null,null,null,null,null,{"$f":"IF(Sheet1!C30=\"\",\"\",IF(COUNTIF(F35:V35,\"-1\"),\"ร\",IF(CV35=\"ปกติ\",SUM(F35,G35,H35,I35,J35,K35,L35,M35,N35,O35,P35,Q35,R35,S35,T35,U35,V35,W35,X35,Y35),\"-\")))","v":0},null,"",null,null,null,null,null,null,null,null,null,null,null,null,null,null,null,null,null,null,null,null,{"$f":"IF(Sheet1!C30=\"\",\"\",IF(COUNTIF(AC35:AS35,\"-1\"),\"ร\",IF(CV35=\"ปกติ\",SUM(AC35,AD35,AE35,AF35,AG35,AH35,AI35,AJ35,AK35,AL35,AM35,AN35,AO35,AP35,AQ35,AR35,AS35),\"-\")))","v":0},null,"",null,null,null,null,null,null,null,null,null,null,null,null,null,null,null,{"$f":"IF(Sheet1!C30=\"\",\"\",IF(COUNTIF(AZ35:BN35,\"-1\"),\"ร\",IF(CV35=\"ปกติ\",SUM(AZ35,BA35,BB35,BC35,BD35,BE35,BF35,BG35,BH35,BI35,BJ35,BK35,BL35,BM35,BN35),\"-\")))","v":0},null,"",null,null,null,null,null,null,null,null,null,null,null,null,null,null,null,{"$f":"IF(Sheet1!C30=\"\",\"\",IF(COUNTIF(BR35:CF35,\"-1\"),\"ร\",IF(CV35=\"ปกติ\",SUM(BR35,BS35,BT35,BU35,BV35,BW35,BX35,BY35,BZ35,CA35,CB35,CC35,CD35,CE35,CF35),\"-\")))","v":0},null,"","","","",0,null,"",null,{"$error":"#VALUE!"},null,{"$error":"#VALUE!"},null,null,{"$f":"IF(เวลาเรียน!IP37=\"\",\"\",เวลาเรียน!IP37)","v":"ปกติ"}]
[30,2526,{"$f":"CONCATENATE(Sheet1!B31)","v":"18485"},{"$f":"CONCATENATE(Sheet1!C31&Sheet1!D31&\"       \"&Sheet1!E31)","v":"เด็กหญิงปวันพัสตร์  ตั้งสันทัศน์กุล       "},30,null,null,null,null,null,null,null,null,null,null,null,null,null,null,null,null,null,null,null,null,{"$f":"IF(Sheet1!C31=\"\",\"\",IF(COUNTIF(F36:V36,\"-1\"),\"ร\",IF(CV36=\"ปกติ\",SUM(F36,G36,H36,I36,J36,K36,L36,M36,N36,O36,P36,Q36,R36,S36,T36,U36,V36,W36,X36,Y36),\"-\")))","v":0},null,"",null,null,null,null,null,null,null,null,null,null,null,null,null,null,null,null,null,null,null,null,{"$f":"IF(Sheet1!C31=\"\",\"\",IF(COUNTIF(AC36:AS36,\"-1\"),\"ร\",IF(CV36=\"ปกติ\",SUM(AC36,AD36,AE36,AF36,AG36,AH36,AI36,AJ36,AK36,AL36,AM36,AN36,AO36,AP36,AQ36,AR36,AS36),\"-\")))","v":0},null,"",null,null,null,null,null,null,null,null,null,null,null,null,null,null,null,{"$f":"IF(Sheet1!C31=\"\",\"\",IF(COUNTIF(AZ36:BN36,\"-1\"),\"ร\",IF(CV36=\"ปกติ\",SUM(AZ36,BA36,BB36,BC36,BD36,BE36,BF36,BG36,BH36,BI36,BJ36,BK36,BL36,BM36,BN36),\"-\")))","v":0},null,"",null,null,null,null,null,null,null,null,null,null,null,null,null,null,null,{"$f":"IF(Sheet1!C31=\"\",\"\",IF(COUNTIF(BR36:CF36,\"-1\"),\"ร\",IF(CV36=\"ปกติ\",SUM(BR36,BS36,BT36,BU36,BV36,BW36,BX36,BY36,BZ36,CA36,CB36,CC36,CD36,CE36,CF36),\"-\")))","v":0},null,"","","","",{"$f":"SUM(CJ36:CL36)","v":0},null,"",null,{"$f":"CM36+CO36","v":{"$error":"#VALUE!"}},null,{"$f":"IF(CQ36>=50,\"ผ\",\"มผ\")","v":{"$error":"#VALUE!"}},null,null,{"$f":"IF(เวลาเรียน!IP38=\"\",\"\",เวลาเรียน!IP38)","v":"ปกติ"}]
[31,2528,{"$f":"CONCATENATE(Sheet1!B32)","v":"18506"},{"$f":"CONCATENATE(Sheet1!C32&Sheet1!D32&\"       \"&Sheet1!E32)","v":"เด็กชายกันต์กมล  วิชัยดิษฐ       "},{"$f":"Sheet1!H32","v":31},null,null,null,null,null,null,null,null,null,null,null,null,null,null,null,null,null,null,null,null,{"$f":"IF(Sheet1!C32=\"\",\"\",IF(COUNTIF(F37:V37,\"-1\"),\"ร\",IF(CV37=\"ปกติ\",SUM(F37,G37,H37,I37,J37,K37,L37,M37,N37,O37,P37,Q37,R37,S37,T37,U37,V37,W37,X37,Y37),\"-\")))","v":0},null,"",null,null,null,null,null,null,null,null,null,null,null,null,null,null,null,null,null,null,null,null,{"$f":"IF(Sheet1!C32=\"\",\"\",IF(COUNTIF(AC37:AS37,\"-1\"),\"ร\",IF(CV37=\"ปกติ\",SUM(AC37,AD37,AE37,AF37,AG37,AH37,AI37,AJ37,AK37,AL37,AM37,AN37,AO37,AP37,AQ37,AR37,AS37),\"-\")))","v":0},null,"",null,null,null,null,null,null,null,null,null,null,null,null,null,null,null,{"$f":"IF(Sheet1!C32=\"\",\"\",IF(COUNTIF(AZ37:BN37,\"-1\"),\"ร\",IF(CV37=\"ปกติ\",SUM(AZ37,BA37,BB37,BC37,BD37,BE37,BF37,BG37,BH37,BI37,BJ37,BK37,BL37,BM37,BN37),\"-\")))","v":0},null,"",null,null,null,null,null,null,null,null,null,null,null,null,null,null,null,{"$f":"IF(Sheet1!C32=\"\",\"\",IF(COUNTIF(BR37:CF37,\"-1\"),\"ร\",IF(CV37=\"ปกติ\",SUM(BR37,BS37,BT37,BU37,BV37,BW37,BX37,BY37,BZ37,CA37,CB37,CC37,CD37,CE37,CF37),\"-\")))","v":0},null,"","","","",{"$f":"SUM(CJ37:CL37)","v":0},null,"",null,{"$f":"CM37+CO37","v":{"$error":"#VALUE!"}},null,{"$f":"IF(CQ37>=50,\"ผ\",\"มผ\")","v":{"$error":"#VALUE!"}},null,null,{"$f":"IF(เวลาเรียน!IP39=\"\",\"\",เวลาเรียน!IP39)","v":"ปกติ"}]
[32,2529,{"$f":"CONCATENATE(Sheet1!B33)","v":"18910"},{"$f":"CONCATENATE(Sheet1!C33&Sheet1!D33&\"       \"&Sheet1!E33)","v":"เด็กชายทินภัทร  ทัดดอกไม้       "},{"$f":"Sheet1!H33","v":32},null,null,null,null,null,null,null,null,null,null,null,null,null,null,null,null,null,null,null,null,{"$f":"IF(Sheet1!C33=\"\",\"\",IF(COUNTIF(F38:V38,\"-1\"),\"ร\",IF(CV38=\"ปกติ\",SUM(F38,G38,H38,I38,J38,K38,L38,M38,N38,O38,P38,Q38,R38,S38,T38,U38,V38,W38,X38,Y38),\"-\")))","v":0},null,"",null,null,null,null,null,null,null,null,null,null,null,null,null,null,null,null,null,null,null,null,{"$f":"IF(Sheet1!C33=\"\",\"\",IF(COUNTIF(AC38:AS38,\"-1\"),\"ร\",IF(CV38=\"ปกติ\",SUM(AC38,AD38,AE38,AF38,AG38,AH38,AI38,AJ38,AK38,AL38,AM38,AN38,AO38,AP38,AQ38,AR38,AS38),\"-\")))","v":0},null,"",null,null,null,null,null,null,null,null,null,null,null,null,null,null,null,{"$f":"IF(Sheet1!C33=\"\",\"\",IF(COUNTIF(AZ38:BN38,\"-1\"),\"ร\",IF(CV38=\"ปกติ\",SUM(AZ38,BA38,BB38,BC38,BD38,BE38,BF38,BG38,BH38,BI38,BJ38,BK38,BL38,BM38,BN38),\"-\")))","v":0},null,"",null,null,null,null,null,null,null,null,null,null,null,null,null,null,null,{"$f":"IF(Sheet1!C33=\"\",\"\",IF(COUNTIF(BR38:CF38,\"-1\"),\"ร\",IF(CV38=\"ปกติ\",SUM(BR38,BS38,BT38,BU38,BV38,BW38,BX38,BY38,BZ38,CA38,CB38,CC38,CD38,CE38,CF38),\"-\")))","v":0},null,"","","","",{"$f":"SUM(CJ38:CL38)","v":0},null,"",null,{"$f":"CM38+CO38","v":{"$error":"#VALUE!"}},null,{"$f":"IF(CQ38>=50,\"ผ\",\"มผ\")","v":{"$error":"#VALUE!"}},null,null,{"$f":"IF(เวลาเรียน!IP40=\"\",\"\",เวลาเรียน!IP40)","v":"ปกติ"}]
[33,0,{"$f":"CONCATENATE(Sheet1!B34)","v":"18913"},{"$f":"CONCATENATE(Sheet1!C34&Sheet1!D34&\"       \"&Sheet1!E34)","v":"เด็กชายปิยะวัฒน์  วิโรจน์       "},{"$f":"Sheet1!H34","v":33},null,null,null,null,null,null,null,null,null,null,null,null,null,null,null,null,null,null,null,null,{"$f":"IF(Sheet1!C34=\"\",\"\",IF(COUNTIF(F39:V39,\"-1\"),\"ร\",IF(CV39=\"ปกติ\",SUM(F39,G39,H39,I39,J39,K39,L39,M39,N39,O39,P39,Q39,R39,S39,T39,U39,V39,W39,X39,Y39),\"-\")))","v":0},null,"",null,null,null,null,null,null,null,null,null,null,null,null,null,null,null,null,null,null,null,null,{"$f":"IF(Sheet1!C34=\"\",\"\",IF(COUNTIF(AC39:AS39,\"-1\"),\"ร\",IF(CV39=\"ปกติ\",SUM(AC39,AD39,AE39,AF39,AG39,AH39,AI39,AJ39,AK39,AL39,AM39,AN39,AO39,AP39,AQ39,AR39,AS39),\"-\")))","v":0},null,"",null,null,null,null,null,null,null,null,null,null,null,null,null,null,null,{"$f":"IF(Sheet1!C34=\"\",\"\",IF(COUNTIF(AZ39:BN39,\"-1\"),\"ร\",IF(CV39=\"ปกติ\",SUM(AZ39,BA39,BB39,BC39,BD39,BE39,BF39,BG39,BH39,BI39,BJ39,BK39,BL39,BM39,BN39),\"-\")))","v":0},null,"",null,null,null,null,null,null,null,null,null,null,null,null,null,null,null,{"$f":"IF(Sheet1!C34=\"\",\"\",IF(COUNTIF(BR39:CF39,\"-1\"),\"ร\",IF(CV39=\"ปกติ\",SUM(BR39,BS39,BT39,BU39,BV39,BW39,BX39,BY39,BZ39,CA39,CB39,CC39,CD39,CE39,CF39),\"-\")))","v":0},null,"","","","",{"$f":"SUM(CJ39:CL39)","v":0},null,"",null,{"$f":"CM39+CO39","v":{"$error":"#VALUE!"}},null,{"$error":"#VALUE!"},null,null,{"$f":"IF(เวลาเรียน!IP41=\"\",\"\",เวลาเรียน!IP41)","v":"ปกติ"}]
[34,0,{"$f":"CONCATENATE(Sheet1!B35)","v":"18935"},{"$f":"CONCATENATE(Sheet1!C35&Sheet1!D35&\"       \"&Sheet1!E35)","v":"เด็กหญิงศกลภัทร  ชาวน้ำ       "},{"$f":"Sheet1!H35","v":34},null,null,null,null,null,null,null,null,null,null,null,null,null,null,null,null,null,null,null,null,{"$f":"IF(Sheet1!C35=\"\",\"\",IF(COUNTIF(F40:V40,\"-1\"),\"ร\",IF(CV40=\"ปกติ\",SUM(F40,G40,H40,I40,J40,K40,L40,M40,N40,O40,P40,Q40,R40,S40,T40,U40,V40,W40,X40,Y40),\"-\")))","v":0},null,"",null,null,null,null,null,null,null,null,null,null,null,null,null,null,null,null,null,null,null,null,{"$f":"IF(Sheet1!C35=\"\",\"\",IF(COUNTIF(AC40:AS40,\"-1\"),\"ร\",IF(CV40=\"ปกติ\",SUM(AC40,AD40,AE40,AF40,AG40,AH40,AI40,AJ40,AK40,AL40,AM40,AN40,AO40,AP40,AQ40,AR40,AS40),\"-\")))","v":0},null,"",null,null,null,null,null,null,null,null,null,null,null,null,null,null,null,{"$f":"IF(Sheet1!C35=\"\",\"\",IF(COUNTIF(AZ40:BN40,\"-1\"),\"ร\",IF(CV40=\"ปกติ\",SUM(AZ40,BA40,BB40,BC40,BD40,BE40,BF40,BG40,BH40,BI40,BJ40,BK40,BL40,BM40,BN40),\"-\")))","v":0},null,"",null,null,null,null,null,null,null,null,null,null,null,null,null,null,null,{"$f":"IF(Sheet1!C35=\"\",\"\",IF(COUNTIF(BR40:CF40,\"-1\"),\"ร\",IF(CV40=\"ปกติ\",SUM(BR40,BS40,BT40,BU40,BV40,BW40,BX40,BY40,BZ40,CA40,CB40,CC40,CD40,CE40,CF40),\"-\")))","v":0},null,"","","","",0,null,"",null,{"$error":"#VALUE!"},null,{"$error":"#VALUE!"},null,null,{"$f":"IF(เวลาเรียน!IP42=\"\",\"\",เวลาเรียน!IP42)","v":"ปกติ"}]
[35,0,{"$f":"CONCATENATE(Sheet1!B36)","v":"19037"},{"$f":"CONCATENATE(Sheet1!C36&Sheet1!D36&\"       \"&Sheet1!E36)","v":"เด็กชายอริญชัย  นครจินดา       "},{"$f":"Sheet1!H36","v":35},null,null,null,null,null,null,null,null,null,null,null,null,null,null,null,null,null,null,null,null,{"$f":"IF(Sheet1!C36=\"\",\"\",IF(COUNTIF(F41:V41,\"-1\"),\"ร\",IF(CV41=\"ปกติ\",SUM(F41,G41,H41,I41,J41,K41,L41,M41,N41,O41,P41,Q41,R41,S41,T41,U41,V41,W41,X41,Y41),\"-\")))","v":0},null,"",null,null,null,null,null,null,null,null,null,null,null,null,null,null,null,null,null,null,null,null,{"$f":"IF(Sheet1!C36=\"\",\"\",IF(COUNTIF(AC41:AS41,\"-1\"),\"ร\",IF(CV41=\"ปกติ\",SUM(AC41,AD41,AE41,AF41,AG41,AH41,AI41,AJ41,AK41,AL41,AM41,AN41,AO41,AP41,AQ41,AR41,AS41),\"-\")))","v":0},null,"",null,null,null,null,null,null,null,null,null,null,null,null,null,null,null,{"$f":"IF(Sheet1!C36=\"\",\"\",IF(COUNTIF(AZ41:BN41,\"-1\"),\"ร\",IF(CV41=\"ปกติ\",SUM(AZ41,BA41,BB41,BC41,BD41,BE41,BF41,BG41,BH41,BI41,BJ41,BK41,BL41,BM41,BN41),\"-\")))","v":0},null,"",null,null,null,null,null,null,null,null,null,null,null,null,null,null,null,{"$f":"IF(Sheet1!C36=\"\",\"\",IF(COUNTIF(BR41:CF41,\"-1\"),\"ร\",IF(CV41=\"ปกติ\",SUM(BR41,BS41,BT41,BU41,BV41,BW41,BX41,BY41,BZ41,CA41,CB41,CC41,CD41,CE41,CF41),\"-\")))","v":0},null,"","","","",{"$f":"SUM(CJ41:CL41)","v":0},null,"",null,{"$f":"CM41+CO41","v":{"$error":"#VALUE!"}},null,{"$f":"IF(CQ41>=50,\"ผ\",\"มผ\")","v":{"$error":"#VALUE!"}},null,null,{"$f":"IF(เวลาเรียน!IP43=\"\",\"\",เวลาเรียน!IP43)","v":"ปกติ"}]
[36,0,{"$f":"CONCATENATE(Sheet1!B37)","v":"19038"},{"$f":"CONCATENATE(Sheet1!C37&Sheet1!D37&\"       \"&Sheet1!E37)","v":"เด็กชายภูวรินทร์  กลางประพันธ์       "},{"$f":"Sheet1!H37","v":36},null,null,null,null,null,null,null,null,null,null,null,null,null,null,null,null,null,null,null,null,{"$f":"IF(Sheet1!C37=\"\",\"\",IF(COUNTIF(F42:V42,\"-1\"),\"ร\",IF(CV42=\"ปกติ\",SUM(F42,G42,H42,I42,J42,K42,L42,M42,N42,O42,P42,Q42,R42,S42,T42,U42,V42,W42,X42,Y42),\"-\")))","v":0},null,{"$f":"IF(Z42=\"\",\"\",IF(Z42=\"-\",\"-\",IF(Z42=\"ร\",\"ร\",IF(Z42=0,\"\",IF($Z$5=0,\"\",ROUND(Z42/$AA$5,0))))))","v":""},null,null,null,null,null,null,null,null,null,null,null,null,null,null,null,null,null,null,null,null,{"$f":"IF(Sheet1!C37=\"\",\"\",IF(COUNTIF(AC42:AS42,\"-1\"),\"ร\",IF(CV42=\"ปกติ\",SUM(AC42,AD42,AE42,AF42,AG42,AH42,AI42,AJ42,AK42,AL42,AM42,AN42,AO42,AP42,AQ42,AR42,AS42),\"-\")))","v":0},null,{"$f":"IF(AW42=\"\",\"\",IF(AW42=\"-\",\"-\",IF(AW42=\"ร\",\"ร\",IF(AW42=0,\"\",IF($AW$5=0,\"\",ROUND(AW42/$AX$5,0))))))","v":""},null,null,null,null,null,null,null,null,null,null,null,null,null,null,null,{"$f":"IF(Sheet1!C37=\"\",\"\",IF(COUNTIF(AZ42:BN42,\"-1\"),\"ร\",IF(CV42=\"ปกติ\",SUM(AZ42,BA42,BB42,BC42,BD42,BE42,BF42,BG42,BH42,BI42,BJ42,BK42,BL42,BM42,BN42),\"-\")))","v":0},null,{"$f":"IF(BO42=\"\",\"\",IF(BO42=\"-\",\"-\",IF(BO42=\"ร\",\"ร\",IF(BO42=0,\"\",IF($BO$5=0,\"\",ROUND(BO42/$BP$5,0))))))","v":""},null,null,null,null,null,null,null,null,null,null,null,null,null,null,null,{"$f":"IF(Sheet1!C37=\"\",\"\",IF(COUNTIF(BR42:CF42,\"-1\"),\"ร\",IF(CV42=\"ปกติ\",SUM(BR42,BS42,BT42,BU42,BV42,BW42,BX42,BY42,BZ42,CA42,CB42,CC42,CD42,CE42,CF42),\"-\")))","v":0},null,{"$f":"IF(CG42=\"\",\"\",IF(CG42=\"-\",\"-\",IF(CG42=\"ร\",\"ร\",IF(CG42=0,\"\",IF($CG$5=0,\"\",ROUND(CG42/$CH$5,0))))))","v":""},{"$f":"AB42","v":""},{"$f":"AY42","v":""},{"$f":"BQ42","v":""},{"$f":"SUM(CJ42:CL42)","v":0},null,{"$f":"CI42","v":""},null,{"$f":"CM42+CO42","v":{"$error":"#VALUE!"}},null,{"$f":"IF(CQ42>=50,\"ผ\",\"มผ\")","v":{"$error":"#VALUE!"}},null,null,{"$f":"IF(เวลาเรียน!IP44=\"\",\"\",เวลาเรียน!IP44)","v":"ปกติ"}]
[37,0,{"$f":"CONCATENATE(Sheet1!B38)","v":"19039"},{"$f":"CONCATENATE(Sheet1!C38&Sheet1!D38&\"       \"&Sheet1!E38)","v":"เด็กหญิงพรรณวรท  หนูรอด       "},{"$f":"Sheet1!H38","v":37},null,null,null,null,null,null,null,null,null,null,null,null,null,null,null,null,null,null,null,null,{"$f":"IF(Sheet1!C38=\"\",\"\",IF(COUNTIF(F43:V43,\"-1\"),\"ร\",IF(CV43=\"ปกติ\",SUM(F43,G43,H43,I43,J43,K43,L43,M43,N43,O43,P43,Q43,R43,S43,T43,U43,V43,W43,X43,Y43),\"-\")))","v":0},null,"",null,null,null,null,null,null,null,null,null,null,null,null,null,null,null,null,null,null,null,null,{"$f":"IF(Sheet1!C38=\"\",\"\",IF(COUNTIF(AC43:AS43,\"-1\"),\"ร\",IF(CV43=\"ปกติ\",SUM(AC43,AD43,AE43,AF43,AG43,AH43,AI43,AJ43,AK43,AL43,AM43,AN43,AO43,AP43,AQ43,AR43,AS43),\"-\")))","v":0},null,"",null,null,null,null,null,null,null,null,null,null,null,null,null,null,null,{"$f":"IF(Sheet1!C38=\"\",\"\",IF(COUNTIF(AZ43:BN43,\"-1\"),\"ร\",IF(CV43=\"ปกติ\",SUM(AZ43,BA43,BB43,BC43,BD43,BE43,BF43,BG43,BH43,BI43,BJ43,BK43,BL43,BM43,BN43),\"-\")))","v":0},null,"",null,null,null,null,null,null,null,null,null,null,null,null,null,null,null,{"$f":"IF(Sheet1!C38=\"\",\"\",IF(COUNTIF(BR43:CF43,\"-1\"),\"ร\",IF(CV43=\"ปกติ\",SUM(BR43,BS43,BT43,BU43,BV43,BW43,BX43,BY43,BZ43,CA43,CB43,CC43,CD43,CE43,CF43),\"-\")))","v":0},null,"","","","",{"$f":"SUM(CJ43:CL43)","v":0},null,"",null,{"$f":"CM43+CO43","v":{"$error":"#VALUE!"}},null,{"$f":"IF(CQ43>=50,\"ผ\",\"มผ\")","v":{"$error":"#VALUE!"}},null,null,{"$f":"IF(เวลาเรียน!IP45=\"\",\"\",เวลาเรียน!IP45)","v":"ปกติ"}]
[38,0,{"$f":"CONCATENATE(Sheet1!B39)","v":""},{"$f":"CONCATENATE(Sheet1!C39&Sheet1!D39&\"       \"&Sheet1!E39)","v":"       "},{"$f":"Sheet1!H39","v":0},null,null,null,null,null,null,null,null,null,null,null,null,null,null,null,null,null,null,null,null,{"$f":"IF(Sheet1!C39=\"\",\"\",IF(COUNTIF(F44:V44,\"-1\"),\"ร\",IF(CV44=\"ปกติ\",SUM(F44,G44,H44,I44,J44,K44,L44,M44,N44,O44,P44,Q44,R44,S44,T44,U44,V44,W44,X44,Y44),\"-\")))","v":""},null,"",null,null,null,null,null,null,null,null,null,null,null,null,null,null,null,null,null,null,null,null,{"$f":"IF(Sheet1!C39=\"\",\"\",IF(COUNTIF(AC44:AS44,\"-1\"),\"ร\",IF(CV44=\"ปกติ\",SUM(AC44,AD44,AE44,AF44,AG44,AH44,AI44,AJ44,AK44,AL44,AM44,AN44,AO44,AP44,AQ44,AR44,AS44),\"-\")))","v":""},null,"",null,null,null,null,null,null,null,null,null,null,null,null,null,null,null,{"$f":"IF(Sheet1!C39=\"\",\"\",IF(COUNTIF(AZ44:BN44,\"-1\"),\"ร\",IF(CV44=\"ปกติ\",SUM(AZ44,BA44,BB44,BC44,BD44,BE44,BF44,BG44,BH44,BI44,BJ44,BK44,BL44,BM44,BN44),\"-\")))","v":""},null,"",null,null,null,null,null,null,null,null,null,null,null,null,null,null,null,{"$f":"IF(Sheet1!C39=\"\",\"\",IF(COUNTIF(BR44:CF44,\"-1\"),\"ร\",IF(CV44=\"ปกติ\",SUM(BR44,BS44,BT44,BU44,BV44,BW44,BX44,BY44,BZ44,CA44,CB44,CC44,CD44,CE44,CF44),\"-\")))","v":""},null,"","","","",{"$f":"SUM(CJ44:CL44)","v":0},null,"",null,{"$f":"CM44+CO44","v":{"$error":"#VALUE!"}},null,{"$error":"#VALUE!"},null,null,{"$f":"IF(เวลาเรียน!IP46=\"\",\"\",เวลาเรียน!IP46)","v":"ปกติ"}]
[null,null,null,null,null,null,null,null,null,null,null,null,null,null,null,null,null,null,null,null,null,null,null,null,null,null,null,null,null,null,null,null,null,null,null,null,null,null,null,null,null,null,null,null,null,null,null,null,null,null,null,null,null,null,null,null,null,null,null,null,null,null,null,null,null,null,null,null,null,null,null,null,null,null,null,null,null,null,null,null,null,null,null,null,null,null,null,null,null,null,null,null,null,null,null,null,null,null,null,null,null,null,null,null,null,null,null,null,null,null,null,null,null,null,null,null,null,null,{"$f":"กำหนดอัตราส่วนคะแนน!FA4","v":0},null,null,null,null,null,null,null,null,null,null,null,null,null,null,null,null,null,null,null,null,null,null,null,null,null,null,null,null,null,null,null,null,null,null,null,null,null,null,null,null,null,null,null,null,null,null,null,null,null,null,null,null,null,null,null,null,null,null,null,null,null,null,null,null,null,null,null,null,null,null,null,null,null,null,null,null,null,null,null,null,null,null,null,null,{"$f":"COUNTIF(#REF!,\"3\")","v":{"$error":"#REF!"}},{"$f":"COUNTIF(#REF!,\"2\")","v":{"$error":"#REF!"}},{"$f":"COUNTIF(#REF!,\"1\")","v":{"$error":"#REF!"}},{"$f":"COUNTIF(#REF!,\"0\")","v":{"$error":"#REF!"}},null,null,null,null,{"$f":"COUNTIF(#REF!,\"3\")","v":{"$error":"#REF!"}},{"$f":"COUNTIF(#REF!,\"2\")","v":{"$error":"#REF!"}},{"$f":"COUNTIF(#REF!,\"1\")","v":{"$error":"#REF!"}},{"$f":"COUNTIF(#REF!,\"0\")","v":{"$error":"#REF!"}}]
[]
[]
[]
[]
[]
[]
[]
[]
[]
[]
[]
[]
[]
[]
[]
[]
[]
[]
[]
[]
[]
[]
[]
[]
[]
[]
[]
[]
[]
[]
[]
[]
[]
[]
[]
[]
[]
[]
[]
[]
[null,"ท 1.1",null,null,null,null,null,null,null,null,null,null,null,null,null,null,null,null,null,null,null,null,null,null,null,null,null,null,null,null,null,null,null,null,null,null,null,null,null,null,null,null,null,null,null,null,null,null,null,null,null,null,null,null,null,null,null,null,null,null,null,null,null,null,null,null,null,null,null,null,null,null,null,null,null,null,null,null,null,null,null,null,null,null,null,null,null,null,null,null,null,null,null,null,null,null,null,null,null,null,null,null,null,null,null,null,null,null,null,null,null,null,null,null,null,null,null,null,null,null,"ม.1/1"]
[null,"ท 2.1",null,null,null,null,null,null,null,null,null,null,null,null,null,null,null,null,null,null,null,null,null,null,null,null,null,null,null,null,null,null,null,null,null,null,null,null,null,null,null,null,null,null,null,null,null,null,null,null,null,null,null,null,null,null,null,null,null,null,null,null,null,null,null,null,null,null,null,null,null,null,null,null,null,null,null,null,null,null,null,null,null,null,null,null,null,null,null,null,null,null,null,null,null,null,null,null,null,null,null,null,null,null,null,null,null,null,null,null,null,null,null,null,null,null,null,null,null,null,"ม.1/2"]
[null,"ท 3.1",null,null,null,null,null,null,null,null,null,null,null,null,null,null,null,null,null,null,null,null,null,null,null,null,null,null,null,null,null,null,null,null,null,null,null,null,null,null,null,null,null,null,null,null,null,null,null,null,null,null,null,null,null,null,null,null,null,null,null,null,null,null,null,null,null,null,null,null,null,null,null,null,null,null,null,null,null,null,null,null,null,null,null,null,null,null,null,null,null,null,null,null,null,null,null,null,null,null,null,null,null,null,null,null,null,null,null,null,null,null,null,null,null,null,null,null,null,null,"ม.1/3"]
[null,"ท 4.1",null,null,null,null,null,null,null,null,null,null,null,null,null,null,null,null,null,null,null,null,null,null,null,null,null,null,null,null,null,null,null,null,null,null,null,null,null,null,null,null,null,null,null,null,null,null,null,null,null,null,null,null,null,null,null,null,null,null,null,null,null,null,null,null,null,null,null,null,null,null,null,null,null,null,null,null,null,null,null,null,null,null,null,null,null,null,null,null,null,null,null,null,null,null,null,null,null,null,null,null,null,null,null,null,null,null,null,null,null,null,null,null,null,null,null,null,null,null,"ม.1/4"]
[null,"ท 5.1",null,null,null,null,null,null,null,null,null,null,null,null,null,null,null,null,null,null,null,null,null,null,null,null,null,null,null,null,null,null,null,null,null,null,null,null,null,null,null,null,null,null,null,null,null,null,null,null,null,null,null,null,null,null,null,null,null,null,null,null,null,null,null,null,null,null,null,null,null,null,null,null,null,null,null,null,null,null,null,null,null,null,null,null,null,null,null,null,null,null,null,null,null,null,null,null,null,null,null,null,null,null,null,null,null,null,null,null,null,null,null,null,null,null,null,null,null,null,"ม.1/5"]
[null,"ค 1.1",null,null,null,null,null,null,null,null,null,null,null,null,null,null,null,null,null,null,null,null,null,null,null,null,null,null,null,null,null,null,null,null,null,null,null,null,null,null,null,null,null,null,null,null,null,null,null,null,null,null,null,null,null,null,null,null,null,null,null,null,null,null,null,null,null,null,null,null,null,null,null,null,null,null,null,null,null,null,null,null,null,null,null,null,null,null,null,null,null,null,null,null,null,null,null,null,null,null,null,null,null,null,null,null,null,null,null,null,null,null,null,null,null,null,null,null,null,null,"ม.1/6"]
[null,"ค 1.2",null,null,null,null,null,null,null,null,null,null,null,null,null,null,null,null,null,null,null,null,null,null,null,null,null,null,null,null,null,null,null,null,null,null,null,null,null,null,null,null,null,null,null,null,null,null,null,null,null,null,null,null,null,null,null,null,null,null,null,null,null,null,null,null,null,null,null,null,null,null,null,null,null,null,null,null,null,null,null,null,null,null,null,null,null,null,null,null,null,null,null,null,null,null,null,null,null,null,null,null,null,null,null,null,null,null,null,null,null,null,null,null,null,null,null,null,null,null,"ม.1/7"]
[null,"ค 1.3",null,null,null,null,null,null,null,null,null,null,null,null,null,null,null,null,null,null,null,null,null,null,null,null,null,null,null,null,null,null,null,null,null,null,null,null,null,null,null,null,null,null,null,null,null,null,null,null,null,null,null,null,null,null,null,null,null,null,null,null,null,null,null,null,null,null,null,null,null,null,null,null,null,null,null,null,null,null,null,null,null,null,null,null,null,null,null,null,null,null,null,null,null,null,null,null,null,null,null,null,null,null,null,null,null,null,null,null,null,null,null,null,null,null,null,null,null,null,"ม.1/8"]
[null,"ค 1.4",null,null,null,null,null,null,null,null,null,null,null,null,null,null,null,null,null,null,null,null,null,null,null,null,null,null,null,null,null,null,null,null,null,null,null,null,null,null,null,null,null,null,null,null,null,null,null,null,null,null,null,null,null,null,null,null,null,null,null,null,null,null,null,null,null,null,null,null,null,null,null,null,null,null,null,null,null,null,null,null,null,null,null,null,null,null,null,null,null,null,null,null,null,null,null,null,null,null,null,null,null,null,null,null,null,null,null,null,null,null,null,null,null,null,null,null,null,null,"ม.1/9"]
[null,"ค 2.1",null,null,null,null,null,null,null,null,null,null,null,null,null,null,null,null,null,null,null,null,null,null,null,null,null,null,null,null,null,null,null,null,null,null,null,null,null,null,null,null,null,null,null,null,null,null,null,null,null,null,null,null,null,null,null,null,null,null,null,null,null,null,null,null,null,null,null,null,null,null,null,null,null,null,null,null,null,null,null,null,null,null,null,null,null,null,null,null,null,null,null,null,null,null,null,null,null,null,null,null,null,null,null,null,null,null,null,null,null,null,null,null,null,null,null,null,null,null,"ม.1/10"]
[null,"ค 2.2",null,null,null,null,null,null,null,null,null,null,null,null,null,null,null,null,null,null,null,null,null,null,null,null,null,null,null,null,null,null,null,null,null,null,null,null,null,null,null,null,null,null,null,null,null,null,null,null,null,null,null,null,null,null,null,null,null,null,null,null,null,null,null,null,null,null,null,null,null,null,null,null,null,null,null,null,null,null,null,null,null,null,null,null,null,null,null,null,null,null,null,null,null,null,null,null,null,null,null,null,null,null,null,null,null,null,null,null,null,null,null,null,null,null,null,null,null,null,"ม.2/1"]
[null,"ค 3.1",null,null,null,null,null,null,null,null,null,null,null,null,null,null,null,null,null,null,null,null,null,null,null,null,null,null,null,null,null,null,null,null,null,null,null,null,null,null,null,null,null,null,null,null,null,null,null,null,null,null,null,null,null,null,null,null,null,null,null,null,null,null,null,null,null,null,null,null,null,null,null,null,null,null,null,null,null,null,null,null,null,null,null,null,null,null,null,null,null,null,null,null,null,null,null,null,null,null,null,null,null,null,null,null,null,null,null,null,null,null,null,null,null,null,null,null,null,null,"ม.2/2"]
[null,"ค 3.2",null,null,null,null,null,null,null,null,null,null,null,null,null,null,null,null,null,null,null,null,null,null,null,null,null,null,null,null,null,null,null,null,null,null,null,null,null,null,null,null,null,null,null,null,null,null,null,null,null,null,null,null,null,null,null,null,null,null,null,null,null,null,null,null,null,null,null,null,null,null,null,null,null,null,null,null,null,null,null,null,null,null,null,null,null,null,null,null,null,null,null,null,null,null,null,null,null,null,null,null,null,null,null,null,null,null,null,null,null,null,null,null,null,null,null,null,null,null,"ม.2/3"]
[null,"ค 4.1",null,null,null,null,null,null,null,null,null,null,null,null,null,null,null,null,null,null,null,null,null,null,null,null,null,null,null,null,null,null,null,null,null,null,null,null,null,null,null,null,null,null,null,null,null,null,null,null,null,null,null,null,null,null,null,null,null,null,null,null,null,null,null,null,null,null,null,null,null,null,null,null,null,null,null,null,null,null,null,null,null,null,null,null,null,null,null,null,null,null,null,null,null,null,null,null,null,null,null,null,null,null,null,null,null,null,null,null,null,null,null,null,null,null,null,null,null,null,"ม.2/4"]
[null,"ค 4.2",null,null,null,null,null,null,null,null,null,null,null,null,null,null,null,null,null,null,null,null,null,null,null,null,null,null,null,null,null,null,null,null,null,null,null,null,null,null,null,null,null,null,null,null,null,null,null,null,null,null,null,null,null,null,null,null,null,null,null,null,null,null,null,null,null,null,null,null,null,null,null,null,null,null,null,null,null,null,null,null,null,null,null,null,null,null,null,null,null,null,null,null,null,null,null,null,null,null,null,null,null,null,null,null,null,null,null,null,null,null,null,null,null,null,null,null,null,null,"ม.2/5"]
[null,"ค 5.1",null,null,null,null,null,null,null,null,null,null,null,null,null,null,null,null,null,null,null,null,null,null,null,null,null,null,null,null,null,null,null,null,null,null,null,null,null,null,null,null,null,null,null,null,null,null,null,null,null,null,null,null,null,null,null,null,null,null,null,null,null,null,null,null,null,null,null,null,null,null,null,null,null,null,null,null,null,null,null,null,null,null,null,null,null,null,null,null,null,null,null,null,null,null,null,null,null,null,null,null,null,null,null,null,null,null,null,null,null,null,null,null,null,null,null,null,null,null,"ม.2/6"]
[null,"ค 5.2",null,null,null,null,null,null,null,null,null,null,null,null,null,null,null,null,null,null,null,null,null,null,null,null,null,null,null,null,null,null,null,null,null,null,null,null,null,null,null,null,null,null,null,null,null,null,null,null,null,null,null,null,null,null,null,null,null,null,null,null,null,null,null,null,null,null,null,null,null,null,null,null,null,null,null,null,null,null,null,null,null,null,null,null,null,null,null,null,null,null,null,null,null,null,null,null,null,null,null,null,null,null,null,null,null,null,null,null,null,null,null,null,null,null,null,null,null,null,"ม.2/7"]
[null,"ค 5.3",null,null,null,null,null,null,null,null,null,null,null,null,null,null,null,null,null,null,null,null,null,null,null,null,null,null,null,null,null,null,null,null,null,null,null,null,null,null,null,null,null,null,null,null,null,null,null,null,null,null,null,null,null,null,null,null,null,null,null,null,null,null,null,null,null,null,null,null,null,null,null,null,null,null,null,null,null,null,null,null,null,null,null,null,null,null,null,null,null,null,null,null,null,null,null,null,null,null,null,null,null,null,null,null,null,null,null,null,null,null,null,null,null,null,null,null,null,null,"ม.2/8"]
[null,"ค 6.1",null,null,null,null,null,null,null,null,null,null,null,null,null,null,null,null,null,null,null,null,null,null,null,null,null,null,null,null,null,null,null,null,null,null,null,null,null,null,null,null,null,null,null,null,null,null,null,null,null,null,null,null,null,null,null,null,null,null,null,null,null,null,null,null,null,null,null,null,null,null,null,null,null,null,null,null,null,null,null,null,null,null,null,null,null,null,null,null,null,null,null,null,null,null,null,null,null,null,null,null,null,null,null,null,null,null,null,null,null,null,null,null,null,null,null,null,null,null,"ม.2/9"]
[null,"ว 1.1",null,null,null,null,null,null,null,null,null,null,null,null,null,null,null,null,null,null,null,null,null,null,null,null,null,null,null,null,null,null,null,null,null,null,null,null,null,null,null,null,null,null,null,null,null,null,null,null,null,null,null,null,null,null,null,null,null,null,null,null,null,null,null,null,null,null,null,null,null,null,null,null,null,null,null,null,null,null,null,null,null,null,null,null,null,null,null,null,null,null,null,null,null,null,null,null,null,null,null,null,null,null,null,null,null,null,null,null,null,null,null,null,null,null,null,null,null,null,"ม.2/10"]
[null,"ว 1.2",null,null,null,null,null,null,null,null,null,null,null,null,null,null,null,null,null,null,null,null,null,null,null,null,null,null,null,null,null,null,null,null,null,null,null,null,null,null,null,null,null,null,null,null,null,null,null,null,null,null,null,null,null,null,null,null,null,null,null,null,null,null,null,null,null,null,null,null,null,null,null,null,null,null,null,null,null,null,null,null,null,null,null,null,null,null,null,null,null,null,null,null,null,null,null,null,null,null,null,null,null,null,null,null,null,null,null,null,null,null,null,null,null,null,null,null,null,null,"ม.3/1"]
[null,"ว 2.1",null,null,null,null,null,null,null,null,null,null,null,null,null,null,null,null,null,null,null,null,null,null,null,null,null,null,null,null,null,null,null,null,null,null,null,null,null,null,null,null,null,null,null,null,null,null,null,null,null,null,null,null,null,null,null,null,null,null,null,null,null,null,null,null,null,null,null,null,null,null,null,null,null,null,null,null,null,null,null,null,null,null,null,null,null,null,null,null,null,null,null,null,null,null,null,null,null,null,null,null,null,null,null,null,null,null,null,null,null,null,null,null,null,null,null,null,null,null,"ม.3/2"]
[null,"ว 2.2",null,null,null,null,null,null,null,null,null,null,null,null,null,null,null,null,null,null,null,null,null,null,null,null,null,null,null,null,null,null,null,null,null,null,null,null,null,null,null,null,null,null,null,null,null,null,null,null,null,null,null,null,null,null,null,null,null,null,null,null,null,null,null,null,null,null,null,null,null,null,null,null,null,null,null,null,null,null,null,null,null,null,null,null,null,null,null,null,null,null,null,null,null,null,null,null,null,null,null,null,null,null,null,null,null,null,null,null,null,null,null,null,null,null,null,null,null,null,"ม.3/3"]
[null,"ว 3.1",null,null,null,null,null,null,null,null,null,null,null,null,null,null,null,null,null,null,null,null,null,null,null,null,null,null,null,null,null,null,null,null,null,null,null,null,null,null,null,null,null,null,null,null,null,null,null,null,null,null,null,null,null,null,null,null,null,null,null,null,null,null,null,null,null,null,null,null,null,null,null,null,null,null,null,null,null,null,null,null,null,null,null,null,null,null,null,null,null,null,null,null,null,null,null,null,null,null,null,null,null,null,null,null,null,null,null,null,null,null,null,null,null,null,null,null,null,null,"ม.3/4"]
[null,"ว 3.2",null,null,null,null,null,null,null,null,null,null,null,null,null,null,null,null,null,null,null,null,null,null,null,null,null,null,null,null,null,null,null,null,null,null,null,null,null,null,null,null,null,null,null,null,null,null,null,null,null,null,null,null,null,null,null,null,null,null,null,null,null,null,null,null,null,null,null,null,null,null,null,null,null,null,null,null,null,null,null,null,null,null,null,null,null,null,null,null,null,null,null,null,null,null,null,null,null,null,null,null,null,null,null,null,null,null,null,null,null,null,null,null,null,null,null,null,null,null,"ม.3/5"]
[null,"ว 4.1",null,null,null,null,null,null,null,null,null,null,null,null,null,null,null,null,null,null,null,null,null,null,null,null,null,null,null,null,null,null,null,null,null,null,null,null,null,null,null,null,null,null,null,null,null,null,null,null,null,null,null,null,null,null,null,null,null,null,null,null,null,null,null,null,null,null,null,null,null,null,null,null,null,null,null,null,null,null,null,null,null,null,null,null,null,null,null,null,null,null,null,null,null,null,null,null,null,null,null,null,null,null,null,null,null,null,null,null,null,null,null,null,null,null,null,null,null,null,"ม.3/6"]
[null,"ว 4.2",null,null,null,null,null,null,null,null,null,null,null,null,null,null,null,null,null,null,null,null,null,null,null,null,null,null,null,null,null,null,null,null,null,null,null,null,null,null,null,null,null,null,null,null,null,null,null,null,null,null,null,null,null,null,null,null,null,null,null,null,null,null,null,null,null,null,null,null,null,null,null,null,null,null,null,null,null,null,null,null,null,null,null,null,null,null,null,null,null,null,null,null,null,null,null,null,null,null,null,null,null,null,null,null,null,null,null,null,null,null,null,null,null,null,null,null,null,null,"ม.3/7"]
[null,"ว 5.1",null,null,null,null,null,null,null,null,null,null,null,null,null,null,null,null,null,null,null,null,null,null,null,null,null,null,null,null,null,null,null,null,null,null,null,null,null,null,null,null,null,null,null,null,null,null,null,null,null,null,null,null,null,null,null,null,null,null,null,null,null,null,null,null,null,null,null,null,null,null,null,null,null,null,null,null,null,null,null,null,null,null,null,null,null,null,null,null,null,null,null,null,null,null,null,null,null,null,null,null,null,null,null,null,null,null,null,null,null,null,null,null,null,null,null,null,null,null,"ม.3/8"]
[null,"ว 6.1",null,null,null,null,null,null,null,null,null,null,null,null,null,null,null,null,null,null,null,null,null,null,null,null,null,null,null,null,null,null,null,null,null,null,null,null,null,null,null,null,null,null,null,null,null,null,null,null,null,null,null,null,null,null,null,null,null,null,null,null,null,null,null,null,null,null,null,null,null,null,null,null,null,null,null,null,null,null,null,null,null,null,null,null,null,null,null,null,null,null,null,null,null,null,null,null,null,null,null,null,null,null,null,null,null,null,null,null,null,null,null,null,null,null,null,null,null,null,"ม.3/9"]
[null,"ว 7.1",null,null,null,null,null,null,null,null,null,null,null,null,null,null,null,null,null,null,null,null,null,null,null,null,null,null,null,null,null,null,null,null,null,null,null,null,null,null,null,null,null,null,null,null,null,null,null,null,null,null,null,null,null,null,null,null,null,null,null,null,null,null,null,null,null,null,null,null,null,null,null,null,null,null,null,null,null,null,null,null,null,null,null,null,null,null,null,null,null,null,null,null,null,null,null,null,null,null,null,null,null,null,null,null,null,null,null,null,null,null,null,null,null,null,null,null,null,null,"ม.3/10"]
[null,"ว 7.2",null,null,null,null,null,null,null,null,null,null,null,null,null,null,null,null,null,null,null,null,null,null,null,null,null,null,null,null,null,null,null,null,null,null,null,null,null,null,null,null,null,null,null,null,null,null,null,null,null,null,null,null,null,null,null,null,null,null,null,null,null,null,null,null,null,null,null,null,null,null,null,null,null,null,null,null,null,null,null,null,null,null,null,null,null,null,null,null,null,null,null,null,null,null,null,null,null,null,null,null,null,null,null,null,null,null,null,null,null,null,null,null,null,null,null,null,null,null,"ม.4-6/1"]
[null,"ว 8.1",null,null,null,null,null,null,null,null,null,null,null,null,null,null,null,null,null,null,null,null,null,null,null,null,null,null,null,null,null,null,null,null,null,null,null,null,null,null,null,null,null,null,null,null,null,null,null,null,null,null,null,null,null,null,null,null,null,null,null,null,null,null,null,null,null,null,null,null,null,null,null,null,null,null,null,null,null,null,null,null,null,null,null,null,null,null,null,null,null,null,null,null,null,null,null,null,null,null,null,null,null,null,null,null,null,null,null,null,null,null,null,null,null,null,null,null,null,null,"ม.4-6/2"]
[null,"ส 1.1",null,null,null,null,null,null,null,null,null,null,null,null,null,null,null,null,null,null,null,null,null,null,null,null,null,null,null,null,null,null,null,null,null,null,null,null,null,null,null,null,null,null,null,null,null,null,null,null,null,null,null,null,null,null,null,null,null,null,null,null,null,null,null,null,null,null,null,null,null,null,null,null,null,null,null,null,null,null,null,null,null,null,null,null,null,null,null,null,null,null,null,null,null,null,null,null,null,null,null,null,null,null,null,null,null,null,null,null,null,null,null,null,null,null,null,null,null,null,"ม.4-6/3"]
[null,"ส 1.2",null,null,null,null,null,null,null,null,null,null,null,null,null,null,null,null,null,null,null,null,null,null,null,null,null,null,null,null,null,null,null,null,null,null,null,null,null,null,null,null,null,null,null,null,null,null,null,null,null,null,null,null,null,null,null,null,null,null,null,null,null,null,null,null,null,null,null,null,null,null,null,null,null,null,null,null,null,null,null,null,null,null,null,null,null,null,null,null,null,null,null,null,null,null,null,null,null,null,null,null,null,null,null,null,null,null,null,null,null,null,null,null,null,null,null,null,null,null,"ม.4-6/4"]
[null,"ส 2.1",null,null,null,null,null,null,null,null,null,null,null,null,null,null,null,null,null,null,null,null,null,null,null,null,null,null,null,null,null,null,null,null,null,null,null,null,null,null,null,null,null,null,null,null,null,null,null,null,null,null,null,null,null,null,null,null,null,null,null,null,null,null,null,null,null,null,null,null,null,null,null,null,null,null,null,null,null,null,null,null,null,null,null,null,null,null,null,null,null,null,null,null,null,null,null,null,null,null,null,null,null,null,null,null,null,null,null,null,null,null,null,null,null,null,null,null,null,null,"ม.4-6/5"]
[null,"ส 2.2",null,null,null,null,null,null,null,null,null,null,null,null,null,null,null,null,null,null,null,null,null,null,null,null,null,null,null,null,null,null,null,null,null,null,null,null,null,null,null,null,null,null,null,null,null,null,null,null,null,null,null,null,null,null,null,null,null,null,null,null,null,null,null,null,null,null,null,null,null,null,null,null,null,null,null,null,null,null,null,null,null,null,null,null,null,null,null,null,null,null,null,null,null,null,null,null,null,null,null,null,null,null,null,null,null,null,null,null,null,null,null,null,null,null,null,null,null,null,"ม.4-6/6"]
[null,"ส 3.1",null,null,null,null,null,null,null,null,null,null,null,null,null,null,null,null,null,null,null,null,null,null,null,null,null,null,null,null,null,null,null,null,null,null,null,null,null,null,null,null,null,null,null,null,null,null,null,null,null,null,null,null,null,null,null,null,null,null,null,null,null,null,null,null,null,null,null,null,null,null,null,null,null,null,null,null,null,null,null,null,null,null,null,null,null,null,null,null,null,null,null,null,null,null,null,null,null,null,null,null,null,null,null,null,null,null,null,null,null,null,null,null,null,null,null,null,null,null,"ม.4-6/7"]
[null,"ส 3.2",null,null,null,null,null,null,null,null,null,null,null,null,null,null,null,null,null,null,null,null,null,null,null,null,null,null,null,null,null,null,null,null,null,null,null,null,null,null,null,null,null,null,null,null,null,null,null,null,null,null,null,null,null,null,null,null,null,null,null,null,null,null,null,null,null,null,null,null,null,null,null,null,null,null,null,null,null,null,null,null,null,null,null,null,null,null,null,null,null,null,null,null,null,null,null,null,null,null,null,null,null,null,null,null,null,null,null,null,null,null,null,null,null,null,null,null,null,null,"ม.4-6/8"]
[null,"ส 4.1",null,null,null,null,null,null,null,null,null,null,null,null,null,null,null,null,null,null,null,null,null,null,null,null,null,null,null,null,null,null,null,null,null,null,null,null,null,null,null,null,null,null,null,null,null,null,null,null,null,null,null,null,null,null,null,null,null,null,null,null,null,null,null,null,null,null,null,null,null,null,null,null,null,null,null,null,null,null,null,null,null,null,null,null,null,null,null,null,null,null,null,null,null,null,null,null,null,null,null,null,null,null,null,null,null,null,null,null,null,null,null,null,null,null,null,null,null,null,"ม.4-6/9"]
[null,"ส 4.2",null,null,null,null,null,null,null,null,null,null,null,null,null,null,null,null,null,null,null,null,null,null,null,null,null,null,null,null,null,null,null,null,null,null,null,null,null,null,null,null,null,null,null,null,null,null,null,null,null,null,null,null,null,null,null,null,null,null,null,null,null,null,null,null,null,null,null,null,null,null,null,null,null,null,null,null,null,null,null,null,null,null,null,null,null,null,null,null,null,null,null,null,null,null,null,null,null,null,null,null,null,null,null,null,null,null,null,null,null,null,null,null,null,null,null,null,null,null,"ม.4-6/10"]
[null,"ส 4.2",null,null,null,null,null,null,null,null,null,null,null,null,null,null,null,null,null,null,null,null,null,null,null,null,null,null,null,null,null,null,null,null,null,null,null,null,null,null,null,null,null,null,null,null,null,null,null,null,null,null,null,null,null,null,null,null,null,null,null,null,null,null,null,null,null,null,null,null,null,null,null,null,null,null,null,null,null,null,null,null,null,null,null,null,null,null,null,null,null,null,null,null,null,null,null,null,null,null,null,null,null,null,null,null,null,null,null,null,null,null,null,null,null,null,null,null,null,null,"ม.4-6/11"]
[null,"ส 5.1",null,null,null,null,null,null,null,null,null,null,null,null,null,null,null,null,null,null,null,null,null,null,null,null,null,null,null,null,null,null,null,null,null,null,null,null,null,null,null,null,null,null,null,null,null,null,null,null,null,null,null,null,null,null,null,null,null,null,null,null,null,null,null,null,null,null,null,null,null,null,null,null,null,null,null,null,null,null,null,null,null,null,null,null,null,null,null,null,null,null,null,null,null,null,null,null,null,null,null,null,null,null,null,null,null,null,null,null,null,null,null,null,null,null,null,null,null,null,"ม.4-6/12"]
[null,"ส 5.2",null,null,null,null,null,null,null,null,null,null,null,null,null,null,null,null,null,null,null,null,null,null,null,null,null,null,null,null,null,null,null,null,null,null,null,null,null,null,null,null,null,null,null,null,null,null,null,null,null,null,null,null,null,null,null,null,null,null,null,null,null,null,null,null,null,null,null,null,null,null,null,null,null,null,null,null,null,null,null,null,null,null,null,null,null,null,null,null,null,null,null,null,null,null,null,null,null,null,null,null,null,null,null,null,null,null,null,null,null,null,null,null,null,null,null,null,null,null,"ม.4-6/13"]
[null,"พ 1.1",null,null,null,null,null,null,null,null,null,null,null,null,null,null,null,null,null,null,null,null,null,null,null,null,null,null,null,null,null,null,null,null,null,null,null,null,null,null,null,null,null,null,null,null,null,null,null,null,null,null,null,null,null,null,null,null,null,null,null,null,null,null,null,null,null,null,null,null,null,null,null,null,null,null,null,null,null,null,null,null,null,null,null,null,null,null,null,null,null,null,null,null,null,null,null,null,null,null,null,null,null,null,null,null,null,null,null,null,null,null,null,null,null,null,null,null,null,null,"ม.4-6/14"]
[null,"พ 2.1",null,null,null,null,null,null,null,null,null,null,null,null,null,null,null,null,null,null,null,null,null,null,null,null,null,null,null,null,null,null,null,null,null,null,null,null,null,null,null,null,null,null,null,null,null,null,null,null,null,null,null,null,null,null,null,null,null,null,null,null,null,null,null,null,null,null,null,null,null,null,null,null,null,null,null,null,null,null,null,null,null,null,null,null,null,null,null,null,null,null,null,null,null,null,null,null,null,null,null,null,null,null,null,null,null,null,null,null,null,null,null,null,null,null,null,null,null,null,"ม.4-6/15"]
[null,"พ 3.1",null,null,null,null,null,null,null,null,null,null,null,null,null,null,null,null,null,null,null,null,null,null,null,null,null,null,null,null,null,null,null,null,null,null,null,null,null,null,null,null,null,null,null,null,null,null,null,null,null,null,null,null,null,null,null,null,null,null,null,null,null,null,null,null,null,null,null,null,null,null,null,null,null,null,null,null,null,null,null,null,null,null,null,null,null,null,null,null,null,null,null,null,null,null,null,null,null,null,null,null,null,null,null,null,null,null,null,null,null,null,null,null,null,null,null,null,null,null,"ม.4-6/16"]
[null,"พ 3.2",null,null,null,null,null,null,null,null,null,null,null,null,null,null,null,null,null,null,null,null,null,null,null,null,null,null,null,null,null,null,null,null,null,null,null,null,null,null,null,null,null,null,null,null,null,null,null,null,null,null,null,null,null,null,null,null,null,null,null,null,null,null,null,null,null,null,null,null,null,null,null,null,null,null,null,null,null,null,null,null,null,null,null,null,null,null,null,null,null,null,null,null,null,null,null,null,null,null,null,null,null,null,null,null,null,null,null,null,null,null,null,null,null,null,null,null,null,null,"ม.4-6/17"]
[null,"พ 4.1",null,null,null,null,null,null,null,null,null,null,null,null,null,null,null,null,null,null,null,null,null,null,null,null,null,null,null,null,null,null,null,null,null,null,null,null,null,null,null,null,null,null,null,null,null,null,null,null,null,null,null,null,null,null,null,null,null,null,null,null,null,null,null,null,null,null,null,null,null,null,null,null,null,null,null,null,null,null,null,null,null,null,null,null,null,null,null,null,null,null,null,null,null,null,null,null,null,null,null,null,null,null,null,null,null,null,null,null,null,null,null,null,null,null,null,null,null,null,"ม.4-6/18"]
[null,"พ 5.1",null,null,null,null,null,null,null,null,null,null,null,null,null,null,null,null,null,null,null,null,null,null,null,null,null,null,null,null,null,null,null,null,null,null,null,null,null,null,null,null,null,null,null,null,null,null,null,null,null,null,null,null,null,null,null,null,null,null,null,null,null,null,null,null,null,null,null,null,null,null,null,null,null,null,null,null,null,null,null,null,null,null,null,null,null,null,null,null,null,null,null,null,null,null,null,null,null,null,null,null,null,null,null,null,null,null,null,null,null,null,null,null,null,null,null,null,null,null,"ม.4-6/19"]
[null,"ศ. 1.1",null,null,null,null,null,null,null,null,null,null,null,null,null,null,null,null,null,null,null,null,null,null,null,null,null,null,null,null,null,null,null,null,null,null,null,null,null,null,null,null,null,null,null,null,null,null,null,null,null,null,null,null,null,null,null,null,null,null,null,null,null,null,null,null,null,null,null,null,null,null,null,null,null,null,null,null,null,null,null,null,null,null,null,null,null,null,null,null,null,null,null,null,null,null,null,null,null,null,null,null,null,null,null,null,null,null,null,null,null,null,null,null,null,null,null,null,null,null,"ม.4-6/20"]
[null,"ศ 1.2",null,null,null,null,null,null,null,null,null,null,null,null,null,null,null,null,null,null,null,null,null,null,null,null,null,null,null,null,null,null,null,null,null,null,null,null,null,null,null,null,null,null,null,null,null,null,null,null,null,null,null,null,null,null,null,null,null,null,null,null,null,null,null,null,null,null,null,null,null,null,null,null,null,null,null,null,null,null,null,null,null,null,null,null,null,null,null,null,null,null,null,null,null,null,null,null,null,null,null,null,null,null,null,null,null,null,null,null,null,null,null,null,null,null,null,null,null,null,"ม.4-6/21"]
[null,"ศ 2.1",null,null,null,null,null,null,null,null,null,null,null,null,null,null,null,null,null,null,null,null,null,null,null,null,null,null,null,null,null,null,null,null,null,null,null,null,null,null,null,null,null,null,null,null,null,null,null,null,null,null,null,null,null,null,null,null,null,null,null,null,null,null,null,null,null,null,null,null,null,null,null,null,null,null,null,null,null,null,null,null,null,null,null,null,null,null,null,null,null,null,null,null,null,null,null,null,null,null,null,null,null,null,null,null,null,null,null,null,null,null,null,null,null,null,null,null,null,null,"ม.4-6/22"]
[null,"ศ 2.2",null,null,null,null,null,null,null,null,null,null,null,null,null,null,null,null,null,null,null,null,null,null,null,null,null,null,null,null,null,null,null,null,null,null,null,null,null,null,null,null,null,null,null,null,null,null,null,null,null,null,null,null,null,null,null,null,null,null,null,null,null,null,null,null,null,null,null,null,null,null,null,null,null,null,null,null,null,null,null,null,null,null,null,null,null,null,null,null,null,null,null,null,null,null,null,null,null,null,null,null,null,null,null,null,null,null,null,null,null,null,null,null,null,null,null,null,null,null,"ม.4-6/23"]
[null,"ศ 3.1",null,null,null,null,null,null,null,null,null,null,null,null,null,null,null,null,null,null,null,null,null,null,null,null,null,null,null,null,null,null,null,null,null,null,null,null,null,null,null,null,null,null,null,null,null,null,null,null,null,null,null,null,null,null,null,null,null,null,null,null,null,null,null,null,null,null,null,null,null,null,null,null,null,null,null,null,null,null,null,null,null,null,null,null,null,null,null,null,null,null,null,null,null,null,null,null,null,null,null,null,null,null,null,null,null,null,null,null,null,null,null,null,null,null,null,null,null,null,"ม.4-6/24"]
[null,"ศ 3.2",null,null,null,null,null,null,null,null,null,null,null,null,null,null,null,null,null,null,null,null,null,null,null,null,null,null,null,null,null,null,null,null,null,null,null,null,null,null,null,null,null,null,null,null,null,null,null,null,null,null,null,null,null,null,null,null,null,null,null,null,null,null,null,null,null,null,null,null,null,null,null,null,null,null,null,null,null,null,null,null,null,null,null,null,null,null,null,null,null,null,null,null,null,null,null,null,null,null,null,null,null,null,null,null,null,null,null,null,null,null,null,null,null,null,null,null,null,null,"ม.4-6/25"]
[null,"ง 1.1",null,null,null,null,null,null,null,null,null,null,null,null,null,null,null,null,null,null,null,null,null,null,null,null,null,null,null,null,null,null,null,null,null,null,null,null,null,null,null,null,null,null,null,null,null,null,null,null,null,null,null,null,null,null,null,null,null,null,null,null,null,null,null,null,null,null,null,null,null,null,null,null,null,null,null,null,null,null,null,null,null,null,null,null,null,null,null,null,null,null,null,null,null,null,null,null,null,null,null,null,null,null,null,null,null,null,null,null,null,null,null,null,null,null,null,null,null,null,"ม.4-6/26"]
[null,"ง 2.1",null,null,null,null,null,null,null,null,null,null,null,null,null,null,null,null,null,null,null,null,null,null,null,null,null,null,null,null,null,null,null,null,null,null,null,null,null,null,null,null,null,null,null,null,null,null,null,null,null,null,null,null,null,null,null,null,null,null,null,null,null,null,null,null,null,null,null,null,null,null,null,null,null,null,null,null,null,null,null,null,null,null,null,null,null,null,null,null,null,null,null,null,null,null,null,null,null,null,null,null,null,null,null,null,null,null,null,null,null,null,null,null,null,null,null,null,null,null,"ม.4-6/27"]
[null,"ง 3.1",null,null,null,null,null,null,null,null,null,null,null,null,null,null,null,null,null,null,null,null,null,null,null,null,null,null,null,null,null,null,null,null,null,null,null,null,null,null,null,null,null,null,null,null,null,null,null,null,null,null,null,null,null,null,null,null,null,null,null,null,null,null,null,null,null,null,null,null,null,null,null,null,null,null,null,null,null,null,null,null,null,null,null,null,null,null,null,null,null,null,null,null,null,null,null,null,null,null,null,null,null,null,null,null,null,null,null,null,null,null,null,null,null,null,null,null,null,null,"ม.4-6/28"]
[null,"ง 4.1",null,null,null,null,null,null,null,null,null,null,null,null,null,null,null,null,null,null,null,null,null,null,null,null,null,null,null,null,null,null,null,null,null,null,null,null,null,null,null,null,null,null,null,null,null,null,null,null,null,null,null,null,null,null,null,null,null,null,null,null,null,null,null,null,null,null,null,null,null,null,null,null,null,null,null,null,null,null,null,null,null,null,null,null,null,null,null,null,null,null,null,null,null,null,null,null,null,null,null,null,null,null,null,null,null,null,null,null,null,null,null,null,null,null,null,null,null,null,"ม.4-6/29"]
[null,"ต 1.1",null,null,null,null,null,null,null,null,null,null,null,null,null,null,null,null,null,null,null,null,null,null,null,null,null,null,null,null,null,null,null,null,null,null,null,null,null,null,null,null,null,null,null,null,null,null,null,null,null,null,null,null,null,null,null,null,null,null,null,null,null,null,null,null,null,null,null,null,null,null,null,null,null,null,null,null,null,null,null,null,null,null,null,null,null,null,null,null,null,null,null,null,null,null,null,null,null,null,null,null,null,null,null,null,null,null,null,null,null,null,null,null,null,null,null,null,null,null,"ม.4-6/30"]
[null,"ต 1.2"]
[null,"ต 1.3"]
[null,"ต 2.1"]
[null,"ต 2.2"]
[null,"ต 3.1"]
[null,"ต 4.1"]
[null,"ต 4.2"]

{"sheet":"คะแนนเทอม2","index":6,"n_rows":152,"n_cols":217,"rows_kept":152,"cut":false,"hidden":false,"merged":[[7,103,7,104],[7,105,8,105],[4,211,5,211],[4,213,5,213],[4,214,5,214],[4,215,5,215],[4,216,5,216],[4,217,5,217],[4,205,5,205],[4,206,5,206],[4,207,5,207],[4,208,5,208],[4,209,5,209],[4,210,5,210],[4,198,5,198],[4,199,5,199],[4,200,5,200],[4,201,5,201],[4,202,5,202],[4,204,5,204],[4,192,5,192],[4,193,5,193],[4,194,5,194],[4,195,5,195],[4,197,5,197],[4,186,5,186],[4,187,5,187],[4,188,5,188],[4,189,5,189],[4,190,5,190],[4,191,5,191],[4,179,5,179],[4,180,5,180],[4,181,5,181],[4,182,5,182],[4,183,5,183],[4,184,5,184],[4,166,5,166],[4,168,5,168],[4,169,5,169],[4,170,5,170],[4,171,5,171],[4,172,5,172],[4,173,5,173],[4,174,5,174],[4,196,5,196],[4,141,5,141],[4,142,5,142],[4,143,5,143],[4,145,5,145],[4,146,5,146],[4,147,5,147],[4,160,5,160],[4,161,5,161],[4,162,5,162],[4,154,5,154],[4,155,5,155],[4,156,5,156],[4,157,5,157],[4,158,5,158],[4,159,5,159],[4,137,5,137],[4,138,5,138],[4,139,5,139],[4,140,5,140],[4,129,5,129],[4,130,5,130],[4,131,5,131],[4,132,5,132],[4,133,5,133],[4,134,5,134],[4,124,5,124],[4,84,5,84],[4,86,5,86],[2,90,4,90],[2,101,4,101],[2,92,4,92],[2,120,5,120],[2,121,5,121],[0,94,4,94],[0,87,0,92],[4,82,5,82],[4,83,5,83],[4,72,5,72],[4,73,5,73],[4,74,5,74],[4,75,5,75],[4,76,5,76],[4,77,5,77],[4,123,5,123],[4,60,5,60],[4,61,5,61],[4,62,5,62],[4,63,5,63],[4,64,5,64],[4,78,5,78],[4,79,5,79],[4,80,5,80],[4,81,5,81],[4,65,5,65],[4,66,5,66],[4,68,5,68],[4,69,5,69],[4,70,5,70],[4,71,5,71],[4,24,5,24],[4,25,5,25],[4,27,5,27],[4,40,5,40],[4,41,5,41],[4,42,5,42],[4,34,5,34],[4,35,5,35],[4,36,5,36],[4,37,5,37],[4,38,5,38],[4,39,5,39],[4,28,5,28],[4,29,5,29],[4,30,5,30],[4,31,5,31],[4,32,5,32],[4,33,5,33],[2,226,4,226],[2,228,4,228],[2,184,3,184],[2,185,3,185],[2,186,3,186],[2,187,2,201],[2,143,3,143],[2,144,3,144],[2,145,3,145],[2,146,2,165],[2,166,3,166],[2,167,3,167],[4,148,5,148],[4,149,5,149],[4,150,5,150],[4,151,5,151],[4,152,5,152],[4,153,5,153],[4,163,5,163],[4,164,5,164],[4,175,5,175],[4,176,5,176],[4,177,5,177],[4,178,5,178],[2,202,3,202],[2,203,3,203],[4,15,5,15],[4,16,5,16],[4,17,5,17],[4,59,5,59],[4,19,5,19],[4,20,5,20],[4,43,5,43],[4,44,5,44],[4,45,5,45],[4,53,5,53],[4,54,5,54],[4,55,5,55],[4,56,5,56],[4,57,5,57],[4,58,5,58],[4,46,5,46],[4,47,5,47],[4,48,5,48],[4,50,5,50],[4,51,5,51],[4,52,5,52],[4,21,5,21],[2,212,4,212],[2,213,2,220],[2,221,4,221],[2,222,4,222],[2,223,4,223],[2,224,4,224],[4,218,5,218],[4,219,5,219],[4,220,5,220],[2,237,4,237],[1,0,5,0],[1,1,5,1],[2,2,5,2],[2,5,2,24],[2,25,3,25],[4,11,5,11],[4,12,5,12],[4,13,5,13],[4,14,5,14],[2,51,2,65],[2,66,3,66],[2,67,3,67],[2,68,3,68],[2,69,2,83],[2,84,3,84],[2,26,3,26],[2,27,3,27],[2,28,2,47],[2,48,3,48],[4,165,5,165],[2,50,3,50],[2,85,3,85],[2,229,4,229],[0,228,0,229],[0,231,4,231],[0,233,4,233],[0,234,4,234],[0,236,4,236],[0,123,0,145],[0,146,0,168],[0,169,0,186],[0,187,0,204],[0,205,0,221],[0,222,0,226],[2,123,2,142],[4,125,5,125],[4,126,5,126],[4,127,5,127],[4,128,5,128],[2,204,3,204],[2,205,2,209],[2,210,3,210],[2,211,3,211],[2,169,2,183],[4,135,5,135],[4,136,5,136],[2,225,4,225],[2,168,3,168],[4,3,5,3],[0,95,4,95],[0,97,4,97],[0,98,4,98],[0,100,4,100],[0,5,0,27],[0,28,0,50],[0,51,0,68],[0,69,0,86],[2,86,3,86],[2,49,3,49],[2,87,4,87],[2,88,4,88],[2,89,4,89],[4,18,5,18],[4,5,5,5],[4,6,5,6],[4,7,5,7],[4,8,5,8],[4,9,5,9],[4,10,5,10],[4,22,5,22],[4,23,5,23]]}
[null,null,null,"อัตราส่วนคะแนน =",{"$f":"คะแนนเทอม1!E1","v":"80 : 20"},{"$f":"\"คะแนนประเมินผลสัมฤทธิ์ ภาคเรียนที่ 2 \"&\"  วิชา \"&ปก!AS15&\"   \"&\"ชั้น ป.\"&ปก!$C$21&\"/\"&ปก!$C$22&\"  หน้า 15\"","v":"คะแนนประเมินผลสัมฤทธิ์ ภาคเรียนที่ 2   วิชา    ชั้น ป.4/4  หน้า 15"},null,null,null,null,null,null,null,null,null,null,null,null,null,null,null,null,null,null,null,null,null,null,{"$f":"\"คะแนนประเมินผลสัมฤทธิ์ ภาคเรียนที่ 2 \"&\"  วิชา \"&ปก!AS15&\"   \"&\"ชั้น ป.\"&ปก!$C$21&\"/\"&ปก!$C$22&\"  หน้า 16\"","v":"คะแนนประเมินผลสัมฤทธิ์ ภาคเรียนที่ 2   วิชา    ชั้น ป.4/4  หน้า 16"},null,null,null,null,null,null,null,null,null,null,null,null,null,null,null,null,null,null,null,null,null,null,{"$f":"\"คะแนนประเมินผลสัมฤทธิ์ ภาคเรียนที่ 2 \"&\"  วิชา \"&ปก!AS15&\"   \"&\"ชั้น ป.\"&ปก!$C$21&\"/\"&ปก!$C$22&\"  หน้า 17\"","v":"คะแนนประเมินผลสัมฤทธิ์ ภาคเรียนที่ 2   วิชา    ชั้น ป.4/4  หน้า 17"},null,null,null,null,null,null,null,null,null,null,null,null,null,null,null,null,null,{"$f":"\"คะแนนประเมินผลสัมฤทธิ์ ภาคเรียนที่ 2 \"&\"  วิชา \"&ปก!AS15&\"   \"&\"ชั้น ป.\"&ปก!$C$21&\"/\"&ปก!$C$22&\"  หน้า 18\"","v":"คะแนนประเมินผลสัมฤทธิ์ ภาคเรียนที่ 2   วิชา    ชั้น ป.4/4  หน้า 18"},null,null,null,null,null,null,null,null,null,null,null,null,null,null,null,null,null,"คะแนนกิจกรรมพัฒนาผู้เรียน ภาคเรียนที่ 2",null,null,null,null,null,null,"คะแนนรวมตลอดภาคเรียน","ผลการประเมินกิจกรรม",null,"ระดับผลการเรียน(เกรด)","คะแนนย้ายเข้ากลางปี",null,"แก้ไข","หน้า 20"]
[null,null,null,null,null,null,null,null,null,null,null,null,null,null,null,null,null,null,null,null,null,null,null,null,null,{"$f":"กำหนดอัตราส่วนคะแนน!B41","v":0},null,null,null,null,null,null,null,null,null,null,null,null,null,null,null,null,null,null,null,null,null,null,{"$f":"กำหนดอัตราส่วนคะแนน!Y41","v":0},null,null,null,null,null,null,null,null,null,null,null,null,null,null,null,null,null,{"$f":"กำหนดอัตราส่วนคะแนน!BQ41","v":0},null,null,null,null,null,null,null,null,null,null,null,null,null,null,null,null,null,{"$f":"กำหนดอัตราส่วนคะแนน!CN41","v":0}]
[null,null,"เลข\nประจำ\nตัว\nนักเรียน","กำหนดอัตราส่วนสอบปลายภาค","การประเมิน","บันทึกคะแนนกิจกรรมพัฒนาผู้เรียน ครั้งที่ 1 (ปฏิบัติ)",null,null,null,null,null,null,null,null,null,null,null,null,null,null,null,null,null,null,null,"คะแนนรวม",null,"คะแนนเต็ม","บันทึกคะแนนกิจกรรมพัฒนาผู้เรียน ครั้งที่ 2 (ปฏิบัติ)",null,null,null,null,null,null,null,null,null,null,null,null,null,null,null,null,null,null,null,"คะแนนรวม",null,"คะแนนเต็ม","บันทึกคะแนนกิจกรรมพัฒนาผู้เรียน ครั้งที่ 3 (ปฏิบัติ)",null,null,null,null,null,null,null,null,null,null,null,null,null,null,"คะแนนรวม",null,"คะแนนเต็ม","บันทึกคะแนนกิจกรรมพัฒนาผู้เรียน ครั้งที่ 4 (ทดสอบ)",null,null,null,null,null,null,null,null,null,null,null,null,null,null,"คะแนนรวม",null,"คะแนนเต็ม","ครั้งที่ 1","ครั้งที่ 2","ครั้งที่ 3","รวมคะแนนปฏิบัติ",null,"ทดสอบ",null,null,null,null,null,null,null,null,"สถานะ\nนักเรียน\nปัจจุบัน"]
[null,null,null,"100","ข้อที่",null,null,null,null,null,null,null,null,null,null,null,null,null,null,null,null,null,18,19,20,null,null,null,null,null,null,null,null,null,null,null,null,null,null,null,null,null,null,null,null,18,19,20]
[null,null,null,"ชื่อ - นามสกุล","คะแนน",null,null,null,null,null,null,null,null,null,null,null,null,null,null,null,null,null,null,null,null,{"$f":"SUM(F5,G5,H5,I5,J5,K5,L5,M5,N5,O5,P5,Q5,R5,S5,T5,U5,V5,W5,X5,Y5)","v":0},{"$f":"$Z$5/$AB$5","v":0},{"$f":"คะแนนเทอม1!AB5","v":25},null,null,null,null,null,null,null,null,null,null,null,null,null,null,null,null,null,null,null,null,{"$f":"SUM(AC5,AD5,AE5,AF5,AG5,AH5,AI5,AJ5,AK5,AL5,AM5,AN5,AO5,AP5,AQ5,AR5,AS5,AT5,AU5,AV5)","v":0},{"$f":"$AW$5/$AY$5","v":0},{"$f":"คะแนนเทอม1!AY5","v":25},null,null,null,null,null,null,null,null,null,null,null,null,null,null,null,{"$f":"SUM(AZ5,BA5,BB5,BC5,BD5,BE5,BF5,BG5,BH5,BI5,BJ5,BK5,BL5,BM5,BN5)","v":0},{"$f":"$BO$5/$BQ$5","v":0},{"$f":"คะแนนเทอม1!BQ5","v":30},null,null,null,null,null,null,null,null,null,null,null,null,null,null,null,{"$f":"SUM(BR5,BS5,BT5,BU5,BV5,BW5,BX5,BY5,BZ5,CA5,CB5,CC5,CD5,CE5,CF5)","v":0},{"$f":"$CG$5/$CI$5","v":0},{"$f":"IF(คะแนนเทอม2!E1=\"50 : 50\",50,IF(คะแนนเทอม2!E1=\"60 : 40\",40,IF(คะแนนเทอม2!E1=\"70 : 30\",30,IF(คะแนนเทอม2!E1=\"80 : 20\",20,IF(คะแนนเทอม2!E1=\"90 : 10\",10)))))","v":20}]
[null,null,null,null,"เลขที่",null,null,null,null,null,null,null,null,null,null,null,null,null,null,null,null,null,null,null,null,null,null,null,null,null,null,null,null,null,null,null,null,null,null,null,null,null,null,null,null,null,null,null,null,null,null,null,null,null,null,null,null,null,null,null,null,null,null,null,null,null,null,null,null,null,null,null,null,null,null,null,null,null,null,null,null,null,null,null,null,null,null,{"$f":"AB5","v":25},{"$f":"AY5","v":25},{"$f":"BQ5","v":30},{"$f":"SUM(CJ6,CK6,CL6)","v":80},null,{"$f":"$CI$5*($D$4/100)","v":20},null,100,"ผ/มผ",null,null,100]
[1,null,{"$f":"CONCATENATE(Sheet1!B2)","v":"15329"},{"$f":"CONCATENATE(Sheet1!C2&Sheet1!D2&\"       \"&Sheet1!E2)","v":"เด็กชายทศพล  เต๊ะปู่       "},1,null,null,null,null,null,null,null,null,null,null,null,null,null,null,null,null,null,null,null,null,{"$f":"IF(Sheet1!C2=\"\",\"\",IF(COUNTIF(F7:V7,\"-1\"),\"ร\",IF(CX7=\"ปกติ\",SUM(F7,G7,H7,I7,J7,K7,L7,M7,N7,O7,P7,Q7,R7,S7,T7,U7,V7,W7,X7,Y7),\"-\")))","v":0},null,{"$f":"IF(Z7=\"\",\"\",IF(Z7=\"-\",\"-\",IF(Z7=\"ร\",\"ร\",IF(Z7=0,\"\",IF($Z$5=0,\"\",ROUND(Z7/$AA$5,0))))))","v":""},null,null,null,null,null,null,null,null,null,null,null,null,null,null,null,null,null,null,null,null,{"$f":"IF(Sheet1!C2=\"\",\"\",IF(COUNTIF(AC7:AS7,\"-1\"),\"ร\",IF(CX7=\"ปกติ\",SUM(AC7,AD7,AE7,AF7,AG7,AH7,AI7,AJ7,AK7,AL7,AM7,AN7,AO7,AP7,AQ7,AR7,AS7),\"-\")))","v":0},null,{"$f":"IF(AW7=\"\",\"\",IF(AW7=\"-\",\"-\",IF(AW7=\"ร\",\"ร\",IF(AW7=0,\"\",IF($AW$5=0,\"\",ROUND(AW7/$AX$5,0))))))","v":""},null,null,null,null,null,null,null,null,null,null,null,null,null,null,null,{"$f":"IF(Sheet1!C2=\"\",\"\",IF(COUNTIF(AZ7:BN7,\"-1\"),\"ร\",IF(CX7=\"ปกติ\",SUM(AZ7,BA7,BB7,BC7,BD7,BE7,BF7,BG7,BH7,BI7,BJ7,BK7,BL7,BM7,BN7),\"-\")))","v":0},null,{"$f":"IF(BO7=\"\",\"\",IF(BO7=\"-\",\"-\",IF(BO7=\"ร\",\"ร\",IF(BO7=0,\"\",IF($BO$5=0,\"\",ROUND(BO7/$BP$5,0))))))","v":""},null,null,null,null,null,null,null,null,null,null,null,null,null,null,null,{"$f":"IF(Sheet1!C2=\"\",\"\",IF(COUNTIF(BR7:CF7,\"-1\"),\"ร\",IF(CX7=\"ปกติ\",SUM(BR7,BS7,BT7,BU7,BV7,BW7,BX7,BY7,BZ7,CA7,CB7,CC7,CD7,CE7,CF7),\"-\")))","v":0},null,{"$f":"IF(CG7=\"\",\"\",IF(CG7=\"-\",\"-\",IF(CG7=\"ร\",\"ร\",IF(CG7=0,\"\",IF($CG$5=0,\"\",ROUND(CG7/$CH$5,0))))))","v":""},{"$f":"AB7","v":""},{"$f":"AY7","v":""},{"$f":"BQ7","v":""},{"$f":"SUM(CJ7:CL7)","v":0},null,{"$f":"IF(CX7=\"\",\"\",IF(CX7=\"ปกติ\",IF(CI7=\"\",\"\",(CI7*($D$4/100))),\"\"))","v":""},null,{"$f":"CM7+CO7","v":{"$error":"#VALUE!"}},{"$f":"IF(CQ7>=50,\"ผ\",\"มผ\")","v":{"$error":"#VALUE!"}},null,{"$f":"IF(CR7=\"\",\"\",IF(CX7=\"\",\"\",IF(CX7=\"ย้าย\",\"-\",IF(CX7=\"จำหน่าย\",\"-\",IF(CX7=\"ขาดเรียนนาน\",\"-\",IF(เวลาเรียน!IO9<80,\"มส\",IF(CR7=\"ร\",\"ร\",VLOOKUP(CR7,$CZ$19:$DB$26,3))))))))","v":{"$error":"#VALUE!"}},null,null,null,{"$f":"IF(เวลาเรียน!IP9=\"\",\"\",เวลาเรียน!IP9)","v":"ปกติ"}]
[2,2498,{"$f":"CONCATENATE(Sheet1!B3)","v":"15330"},{"$f":"CONCATENATE(Sheet1!C3&Sheet1!D3&\"       \"&Sheet1!E3)","v":"เด็กชายณัฐกานต์  เพชรลาย       "},2,null,null,null,null,null,null,null,null,null,null,null,null,null,null,null,null,null,null,null,null,{"$f":"IF(Sheet1!C3=\"\",\"\",IF(COUNTIF(F8:V8,\"-1\"),\"ร\",IF(CX8=\"ปกติ\",SUM(F8,G8,H8,I8,J8,K8,L8,M8,N8,O8,P8,Q8,R8,S8,T8,U8,V8,W8,X8,Y8),\"-\")))","v":0},null,{"$f":"IF(Z8=\"\",\"\",IF(Z8=\"-\",\"-\",IF(Z8=\"ร\",\"ร\",IF(Z8=0,\"\",IF($Z$5=0,\"\",ROUND(Z8/$AA$5,0))))))","v":""},null,null,null,null,null,null,null,null,null,null,null,null,null,null,null,null,null,null,null,null,{"$f":"IF(Sheet1!C3=\"\",\"\",IF(COUNTIF(AC8:AS8,\"-1\"),\"ร\",IF(CX8=\"ปกติ\",SUM(AC8,AD8,AE8,AF8,AG8,AH8,AI8,AJ8,AK8,AL8,AM8,AN8,AO8,AP8,AQ8,AR8,AS8),\"-\")))","v":0},null,{"$f":"IF(AW8=\"\",\"\",IF(AW8=\"-\",\"-\",IF(AW8=\"ร\",\"ร\",IF(AW8=0,\"\",IF($AW$5=0,\"\",ROUND(AW8/$AX$5,0))))))","v":""},null,null,null,null,null,null,null,null,null,null,null,null,null,null,null,{"$f":"IF(Sheet1!C3=\"\",\"\",IF(COUNTIF(AZ8:BN8,\"-1\"),\"ร\",IF(CX8=\"ปกติ\",SUM(AZ8,BA8,BB8,BC8,BD8,BE8,BF8,BG8,BH8,BI8,BJ8,BK8,BL8,BM8,BN8),\"-\")))","v":0},null,{"$f":"IF(BO8=\"\",\"\",IF(BO8=\"-\",\"-\",IF(BO8=\"ร\",\"ร\",IF(BO8=0,\"\",IF($BO$5=0,\"\",ROUND(BO8/$BP$5,0))))))","v":""},null,null,null,null,null,null,null,null,null,null,null,null,null,null,null,{"$f":"IF(Sheet1!C3=\"\",\"\",IF(COUNTIF(BR8:CF8,\"-1\"),\"ร\",IF(CX8=\"ปกติ\",SUM(BR8,BS8,BT8,BU8,BV8,BW8,BX8,BY8,BZ8,CA8,CB8,CC8,CD8,CE8,CF8),\"-\")))","v":0},null,"","","","",{"$f":"SUM(CJ8:CL8)","v":0},null,"",null,{"$f":"CM8+CO8","v":{"$error":"#VALUE!"}},{"$f":"IF(CQ8>=50,\"ผ\",\"มผ\")","v":{"$error":"#VALUE!"}},null,{"$f":"IF(CR8=\"\",\"\",IF(CX8=\"\",\"\",IF(CX8=\"ย้าย\",\"-\",IF(CX8=\"จำหน่าย\",\"-\",IF(CX8=\"ขาดเรียนนาน\",\"-\",IF(เวลาเรียน!IO10<80,\"มส\",IF(CR8=\"ร\",\"ร\",VLOOKUP(CR8,$CZ$19:$DB$26,3))))))))","v":{"$error":"#VALUE!"}},null,null,null,{"$f":"IF(เวลาเรียน!IP10=\"\",\"\",เวลาเรียน!IP10)","v":"ปกติ"},null,"ช่วงคะแนน",null,"ผลประเมิน",null,4,3.5,3,2.5,2,1.5,1,0,"ร","มส"]
[3,2499,{"$f":"CONCATENATE(Sheet1!B4)","v":"15335"},{"$f":"CONCATENATE(Sheet1!C4&Sheet1!D4&\"       \"&Sheet1!E4)","v":"เด็กชายอรรถกร  สุนทรา       "},3,null,null,null,null,null,null,null,null,null,null,null,null,null,null,null,null,null,null,null,null,{"$f":"IF(Sheet1!C4=\"\",\"\",IF(COUNTIF(F9:V9,\"-1\"),\"ร\",IF(CX9=\"ปกติ\",SUM(F9,G9,H9,I9,J9,K9,L9,M9,N9,O9,P9,Q9,R9,S9,T9,U9,V9,W9,X9,Y9),\"-\")))","v":0},null,"",null,null,null,null,null,null,null,null,null,null,null,null,null,null,null,null,null,null,null,null,{"$f":"IF(Sheet1!C4=\"\",\"\",IF(COUNTIF(AC9:AS9,\"-1\"),\"ร\",IF(CX9=\"ปกติ\",SUM(AC9,AD9,AE9,AF9,AG9,AH9,AI9,AJ9,AK9,AL9,AM9,AN9,AO9,AP9,AQ9,AR9,AS9),\"-\")))","v":0},null,"",null,null,null,null,null,null,null,null,null,null,null,null,null,null,null,{"$f":"IF(Sheet1!C4=\"\",\"\",IF(COUNTIF(AZ9:BN9,\"-1\"),\"ร\",IF(CX9=\"ปกติ\",SUM(AZ9,BA9,BB9,BC9,BD9,BE9,BF9,BG9,BH9,BI9,BJ9,BK9,BL9,BM9,BN9),\"-\")))","v":0},null,"",null,null,null,null,null,null,null,null,null,null,null,null,null,null,null,{"$f":"IF(Sheet1!C4=\"\",\"\",IF(COUNTIF(BR9:CF9,\"-1\"),\"ร\",IF(CX9=\"ปกติ\",SUM(BR9,BS9,BT9,BU9,BV9,BW9,BX9,BY9,BZ9,CA9,CB9,CC9,CD9,CE9,CF9),\"-\")))","v":0},null,"","","","",{"$f":"SUM(CJ9:CL9)","v":0},null,"",null,{"$f":"CM9+CO9","v":{"$error":"#VALUE!"}},{"$f":"IF(CQ9>=50,\"ผ\",\"มผ\")","v":{"$error":"#VALUE!"}},null,{"$f":"IF(CR9=\"\",\"\",IF(CX9=\"\",\"\",IF(CX9=\"ย้าย\",\"-\",IF(CX9=\"จำหน่าย\",\"-\",IF(CX9=\"ขาดเรียนนาน\",\"-\",IF(เวลาเรียน!IO11<80,\"มส\",IF(CR9=\"ร\",\"ร\",VLOOKUP(CR9,$CZ$19:$DB$26,3))))))))","v":{"$error":"#VALUE!"}},null,null,null,{"$f":"IF(เวลาเรียน!IP11=\"\",\"\",เวลาเรียน!IP11)","v":"ปกติ"},null,"จาก","ถึง",null,null,{"$f":"COUNTIF($CT$7:$CT$44,DD8)","v":0},0,0,0,0,0,0,0,0,0]
[4,2500,{"$f":"CONCATENATE(Sheet1!B5)","v":"15346"},{"$f":"CONCATENATE(Sheet1!C5&Sheet1!D5&\"       \"&Sheet1!E5)","v":"เด็กหญิงภิญญาพัชญ์  สุทธิช่วย       "},4,null,null,null,null,null,null,null,null,null,null,null,null,null,null,null,null,null,null,null,null,{"$f":"IF(Sheet1!C5=\"\",\"\",IF(COUNTIF(F10:V10,\"-1\"),\"ร\",IF(CX10=\"ปกติ\",SUM(F10,G10,H10,I10,J10,K10,L10,M10,N10,O10,P10,Q10,R10,S10,T10,U10,V10,W10,X10,Y10),\"-\")))","v":0},null,"",null,null,null,null,null,null,null,null,null,null,null,null,null,null,null,null,null,null,null,null,{"$f":"IF(Sheet1!C5=\"\",\"\",IF(COUNTIF(AC10:AS10,\"-1\"),\"ร\",IF(CX10=\"ปกติ\",SUM(AC10,AD10,AE10,AF10,AG10,AH10,AI10,AJ10,AK10,AL10,AM10,AN10,AO10,AP10,AQ10,AR10,AS10),\"-\")))","v":0},null,"",null,null,null,null,null,null,null,null,null,null,null,null,null,null,null,{"$f":"IF(Sheet1!C5=\"\",\"\",IF(COUNTIF(AZ10:BN10,\"-1\"),\"ร\",IF(CX10=\"ปกติ\",SUM(AZ10,BA10,BB10,BC10,BD10,BE10,BF10,BG10,BH10,BI10,BJ10,BK10,BL10,BM10,BN10),\"-\")))","v":0},null,"",null,null,null,null,null,null,null,null,null,null,null,null,null,null,null,{"$f":"IF(Sheet1!C5=\"\",\"\",IF(COUNTIF(BR10:CF10,\"-1\"),\"ร\",IF(CX10=\"ปกติ\",SUM(BR10,BS10,BT10,BU10,BV10,BW10,BX10,BY10,BZ10,CA10,CB10,CC10,CD10,CE10,CF10),\"-\")))","v":0},null,"","","","",0,null,"",null,{"$error":"#VALUE!"},{"$error":"#VALUE!"},null,{"$f":"IF(CR10=\"\",\"\",IF(CX10=\"\",\"\",IF(CX10=\"ย้าย\",\"-\",IF(CX10=\"จำหน่าย\",\"-\",IF(CX10=\"ขาดเรียนนาน\",\"-\",IF(เวลาเรียน!IO12<80,\"มส\",IF(CR10=\"ร\",\"ร\",VLOOKUP(CR10,$CZ$19:$DB$26,3))))))))","v":{"$error":"#VALUE!"}},null,null,null,{"$f":"IF(เวลาเรียน!IP12=\"\",\"\",เวลาเรียน!IP12)","v":"ปกติ"},null,0,49,"มผ"]
[5,2501,{"$f":"CONCATENATE(Sheet1!B6)","v":"15354"},{"$f":"CONCATENATE(Sheet1!C6&Sheet1!D6&\"       \"&Sheet1!E6)","v":"เด็กหญิงญานิศา  คชนาค       "},5,null,null,null,null,null,null,null,null,null,null,null,null,null,null,null,null,null,null,null,null,{"$f":"IF(Sheet1!C6=\"\",\"\",IF(COUNTIF(F11:V11,\"-1\"),\"ร\",IF(CX11=\"ปกติ\",SUM(F11,G11,H11,I11,J11,K11,L11,M11,N11,O11,P11,Q11,R11,S11,T11,U11,V11,W11,X11,Y11),\"-\")))","v":0},null,"",null,null,null,null,null,null,null,null,null,null,null,null,null,null,null,null,null,null,null,null,{"$f":"IF(Sheet1!C6=\"\",\"\",IF(COUNTIF(AC11:AS11,\"-1\"),\"ร\",IF(CX11=\"ปกติ\",SUM(AC11,AD11,AE11,AF11,AG11,AH11,AI11,AJ11,AK11,AL11,AM11,AN11,AO11,AP11,AQ11,AR11,AS11),\"-\")))","v":0},null,"",null,null,null,null,null,null,null,null,null,null,null,null,null,null,null,{"$f":"IF(Sheet1!C6=\"\",\"\",IF(COUNTIF(AZ11:BN11,\"-1\"),\"ร\",IF(CX11=\"ปกติ\",SUM(AZ11,BA11,BB11,BC11,BD11,BE11,BF11,BG11,BH11,BI11,BJ11,BK11,BL11,BM11,BN11),\"-\")))","v":0},null,"",null,null,null,null,null,null,null,null,null,null,null,null,null,null,null,{"$f":"IF(Sheet1!C6=\"\",\"\",IF(COUNTIF(BR11:CF11,\"-1\"),\"ร\",IF(CX11=\"ปกติ\",SUM(BR11,BS11,BT11,BU11,BV11,BW11,BX11,BY11,BZ11,CA11,CB11,CC11,CD11,CE11,CF11),\"-\")))","v":0},null,"","","","",{"$f":"SUM(CJ11:CL11)","v":0},null,"",null,{"$f":"CM11+CO11","v":{"$error":"#VALUE!"}},{"$error":"#VALUE!"},null,{"$f":"IF(CR11=\"\",\"\",IF(CX11=\"\",\"\",IF(CX11=\"ย้าย\",\"-\",IF(CX11=\"จำหน่าย\",\"-\",IF(CX11=\"ขาดเรียนนาน\",\"-\",IF(เวลาเรียน!IO13<80,\"มส\",IF(CR11=\"ร\",\"ร\",VLOOKUP(CR11,$CZ$19:$DB$26,3))))))))","v":{"$error":"#VALUE!"}},null,null,null,{"$f":"IF(เวลาเรียน!IP13=\"\",\"\",เวลาเรียน!IP13)","v":"ปกติ"},null,50,100,"ผ"]
[6,2502,{"$f":"CONCATENATE(Sheet1!B7)","v":"15357"},{"$f":"CONCATENATE(Sheet1!C7&Sheet1!D7&\"       \"&Sheet1!E7)","v":"เด็กชายชยพล  ชลสงคราม       "},6,null,null,null,null,null,null,null,null,null,null,null,null,null,null,null,null,null,null,null,null,{"$f":"IF(Sheet1!C7=\"\",\"\",IF(COUNTIF(F12:V12,\"-1\"),\"ร\",IF(CX12=\"ปกติ\",SUM(F12,G12,H12,I12,J12,K12,L12,M12,N12,O12,P12,Q12,R12,S12,T12,U12,V12,W12,X12,Y12),\"-\")))","v":0},null,"",null,null,null,null,null,null,null,null,null,null,null,null,null,null,null,null,null,null,null,null,{"$f":"IF(Sheet1!C7=\"\",\"\",IF(COUNTIF(AC12:AS12,\"-1\"),\"ร\",IF(CX12=\"ปกติ\",SUM(AC12,AD12,AE12,AF12,AG12,AH12,AI12,AJ12,AK12,AL12,AM12,AN12,AO12,AP12,AQ12,AR12,AS12),\"-\")))","v":0},null,"",null,null,null,null,null,null,null,null,null,null,null,null,null,null,null,{"$f":"IF(Sheet1!C7=\"\",\"\",IF(COUNTIF(AZ12:BN12,\"-1\"),\"ร\",IF(CX12=\"ปกติ\",SUM(AZ12,BA12,BB12,BC12,BD12,BE12,BF12,BG12,BH12,BI12,BJ12,BK12,BL12,BM12,BN12),\"-\")))","v":0},null,"",null,null,null,null,null,null,null,null,null,null,null,null,null,null,null,{"$f":"IF(Sheet1!C7=\"\",\"\",IF(COUNTIF(BR12:CF12,\"-1\"),\"ร\",IF(CX12=\"ปกติ\",SUM(BR12,BS12,BT12,BU12,BV12,BW12,BX12,BY12,BZ12,CA12,CB12,CC12,CD12,CE12,CF12),\"-\")))","v":0},null,"","","","",{"$f":"SUM(CJ12:CL12)","v":0},null,"",null,{"$f":"CM12+CO12","v":{"$error":"#VALUE!"}},{"$f":"IF(CQ12>=50,\"ผ\",\"มผ\")","v":{"$error":"#VALUE!"}},null,{"$f":"IF(CR12=\"\",\"\",IF(CX12=\"\",\"\",IF(CX12=\"ย้าย\",\"-\",IF(CX12=\"จำหน่าย\",\"-\",IF(CX12=\"ขาดเรียนนาน\",\"-\",IF(เวลาเรียน!IO14<80,\"มส\",IF(CR12=\"ร\",\"ร\",VLOOKUP(CR12,$CZ$19:$DB$26,3))))))))","v":{"$error":"#VALUE!"}},null,null,null,{"$f":"IF(เวลาเรียน!IP14=\"\",\"\",เวลาเรียน!IP14)","v":"ปกติ"}]
[7,2503,{"$f":"CONCATENATE(Sheet1!B8)","v":"15366"},{"$f":"CONCATENATE(Sheet1!C8&Sheet1!D8&\"       \"&Sheet1!E8)","v":"เด็กชายณัฏฐากร  เติมชัย       "},7,null,null,null,null,null,null,null,null,null,null,null,null,null,null,null,null,null,null,null,null,{"$f":"IF(Sheet1!C8=\"\",\"\",IF(COUNTIF(F13:V13,\"-1\"),\"ร\",IF(CX13=\"ปกติ\",SUM(F13,G13,H13,I13,J13,K13,L13,M13,N13,O13,P13,Q13,R13,S13,T13,U13,V13,W13,X13,Y13),\"-\")))","v":0},null,"",null,null,null,null,null,null,null,null,null,null,null,null,null,null,null,null,null,null,null,null,{"$f":"IF(Sheet1!C8=\"\",\"\",IF(COUNTIF(AC13:AS13,\"-1\"),\"ร\",IF(CX13=\"ปกติ\",SUM(AC13,AD13,AE13,AF13,AG13,AH13,AI13,AJ13,AK13,AL13,AM13,AN13,AO13,AP13,AQ13,AR13,AS13),\"-\")))","v":0},null,"",null,null,null,null,null,null,null,null,null,null,null,null,null,null,null,{"$f":"IF(Sheet1!C8=\"\",\"\",IF(COUNTIF(AZ13:BN13,\"-1\"),\"ร\",IF(CX13=\"ปกติ\",SUM(AZ13,BA13,BB13,BC13,BD13,BE13,BF13,BG13,BH13,BI13,BJ13,BK13,BL13,BM13,BN13),\"-\")))","v":0},null,"",null,null,null,null,null,null,null,null,null,null,null,null,null,null,null,{"$f":"IF(Sheet1!C8=\"\",\"\",IF(COUNTIF(BR13:CF13,\"-1\"),\"ร\",IF(CX13=\"ปกติ\",SUM(BR13,BS13,BT13,BU13,BV13,BW13,BX13,BY13,BZ13,CA13,CB13,CC13,CD13,CE13,CF13),\"-\")))","v":0},null,"","","","",{"$f":"SUM(CJ13:CL13)","v":0},null,"",null,{"$f":"CM13+CO13","v":{"$error":"#VALUE!"}},{"$f":"IF(CQ13>=50,\"ผ\",\"มผ\")","v":{"$error":"#VALUE!"}},null,{"$f":"IF(CR13=\"\",\"\",IF(CX13=\"\",\"\",IF(CX13=\"ย้าย\",\"-\",IF(CX13=\"จำหน่าย\",\"-\",IF(CX13=\"ขาดเรียนนาน\",\"-\",IF(เวลาเรียน!IO15<80,\"มส\",IF(CR13=\"ร\",\"ร\",VLOOKUP(CR13,$CZ$19:$DB$26,3))))))))","v":{"$error":"#VALUE!"}},null,null,null,{"$f":"IF(เวลาเรียน!IP15=\"\",\"\",เวลาเรียน!IP15)","v":"ปกติ"}]
[8,2504,{"$f":"CONCATENATE(Sheet1!B9)","v":"15370"},{"$f":"CONCATENATE(Sheet1!C9&Sheet1!D9&\"       \"&Sheet1!E9)","v":"เด็กหญิงอรนภา  จูละพันธ์       "},8,null,null,null,null,null,null,null,null,null,null,null,null,null,null,null,null,null,null,null,null,{"$f":"IF(Sheet1!C9=\"\",\"\",IF(COUNTIF(F14:V14,\"-1\"),\"ร\",IF(CX14=\"ปกติ\",SUM(F14,G14,H14,I14,J14,K14,L14,M14,N14,O14,P14,Q14,R14,S14,T14,U14,V14,W14,X14,Y14),\"-\")))","v":0},null,"",null,null,null,null,null,null,null,null,null,null,null,null,null,null,null,null,null,null,null,null,{"$f":"IF(Sheet1!C9=\"\",\"\",IF(COUNTIF(AC14:AS14,\"-1\"),\"ร\",IF(CX14=\"ปกติ\",SUM(AC14,AD14,AE14,AF14,AG14,AH14,AI14,AJ14,AK14,AL14,AM14,AN14,AO14,AP14,AQ14,AR14,AS14),\"-\")))","v":0},null,"",null,null,null,null,null,null,null,null,null,null,null,null,null,null,null,{"$f":"IF(Sheet1!C9=\"\",\"\",IF(COUNTIF(AZ14:BN14,\"-1\"),\"ร\",IF(CX14=\"ปกติ\",SUM(AZ14,BA14,BB14,BC14,BD14,BE14,BF14,BG14,BH14,BI14,BJ14,BK14,BL14,BM14,BN14),\"-\")))","v":0},null,"",null,null,null,null,null,null,null,null,null,null,null,null,null,null,null,{"$f":"IF(Sheet1!C9=\"\",\"\",IF(COUNTIF(BR14:CF14,\"-1\"),\"ร\",IF(CX14=\"ปกติ\",SUM(BR14,BS14,BT14,BU14,BV14,BW14,BX14,BY14,BZ14,CA14,CB14,CC14,CD14,CE14,CF14),\"-\")))","v":0},null,"","","","",{"$f":"SUM(CJ14:CL14)","v":0},null,"",null,{"$f":"CM14+CO14","v":{"$error":"#VALUE!"}},{"$error":"#VALUE!"},null,{"$f":"IF(CR14=\"\",\"\",IF(CX14=\"\",\"\",IF(CX14=\"ย้าย\",\"-\",IF(CX14=\"จำหน่าย\",\"-\",IF(CX14=\"ขาดเรียนนาน\",\"-\",IF(เวลาเรียน!IO16<80,\"มส\",IF(CR14=\"ร\",\"ร\",VLOOKUP(CR14,$CZ$19:$DB$26,3))))))))","v":{"$error":"#VALUE!"}},null,null,null,{"$f":"IF(เวลาเรียน!IP16=\"\",\"\",เวลาเรียน!IP16)","v":"ปกติ"}]
[9,2505,{"$f":"CONCATENATE(Sheet1!B10)","v":"15378"},{"$f":"CONCATENATE(Sheet1!C10&Sheet1!D10&\"       \"&Sheet1!E10)","v":"เด็กหญิงปนัดดา  ขุนทอง       "},9,null,null,null,null,null,null,null,null,null,null,null,null,null,null,null,null,null,null,null,null,{"$f":"IF(Sheet1!C10=\"\",\"\",IF(COUNTIF(F15:V15,\"-1\"),\"ร\",IF(CX15=\"ปกติ\",SUM(F15,G15,H15,I15,J15,K15,L15,M15,N15,O15,P15,Q15,R15,S15,T15,U15,V15,W15,X15,Y15),\"-\")))","v":0},null,"",null,null,null,null,null,null,null,null,null,null,null,null,null,null,null,null,null,null,null,null,{"$f":"IF(Sheet1!C10=\"\",\"\",IF(COUNTIF(AC15:AS15,\"-1\"),\"ร\",IF(CX15=\"ปกติ\",SUM(AC15,AD15,AE15,AF15,AG15,AH15,AI15,AJ15,AK15,AL15,AM15,AN15,AO15,AP15,AQ15,AR15,AS15),\"-\")))","v":0},null,"",null,null,null,null,null,null,null,null,null,null,null,null,null,null,null,{"$f":"IF(Sheet1!C10=\"\",\"\",IF(COUNTIF(AZ15:BN15,\"-1\"),\"ร\",IF(CX15=\"ปกติ\",SUM(AZ15,BA15,BB15,BC15,BD15,BE15,BF15,BG15,BH15,BI15,BJ15,BK15,BL15,BM15,BN15),\"-\")))","v":0},null,"",null,null,null,null,null,null,null,null,null,null,null,null,null,null,null,{"$f":"IF(Sheet1!C10=\"\",\"\",IF(COUNTIF(BR15:CF15,\"-1\"),\"ร\",IF(CX15=\"ปกติ\",SUM(BR15,BS15,BT15,BU15,BV15,BW15,BX15,BY15,BZ15,CA15,CB15,CC15,CD15,CE15,CF15),\"-\")))","v":0},null,"","","","",0,null,"",null,{"$error":"#VALUE!"},{"$error":"#VALUE!"},null,{"$f":"IF(CR15=\"\",\"\",IF(CX15=\"\",\"\",IF(CX15=\"ย้าย\",\"-\",IF(CX15=\"จำหน่าย\",\"-\",IF(CX15=\"ขาดเรียนนาน\",\"-\",IF(เวลาเรียน!IO17<80,\"มส\",IF(CR15=\"ร\",\"ร\",VLOOKUP(CR15,$CZ$19:$DB$26,3))))))))","v":{"$error":"#VALUE!"}},null,null,null,{"$f":"IF(เวลาเรียน!IP17=\"\",\"\",เวลาเรียน!IP17)","v":"ปกติ"}]
[10,2506,{"$f":"CONCATENATE(Sheet1!B11)","v":"15380"},{"$f":"CONCATENATE(Sheet1!C11&Sheet1!D11&\"       \"&Sheet1!E11)","v":"เด็กหญิงนันท์นภัส  จันทร์ร้อย       "},10,null,null,null,null,null,null,null,null,null,null,null,null,null,null,null,null,null,null,null,null,{"$f":"IF(Sheet1!C11=\"\",\"\",IF(COUNTIF(F16:V16,\"-1\"),\"ร\",IF(CX16=\"ปกติ\",SUM(F16,G16,H16,I16,J16,K16,L16,M16,N16,O16,P16,Q16,R16,S16,T16,U16,V16,W16,X16,Y16),\"-\")))","v":0},null,"",null,null,null,null,null,null,null,null,null,null,null,null,null,null,null,null,null,null,null,null,{"$f":"IF(Sheet1!C11=\"\",\"\",IF(COUNTIF(AC16:AS16,\"-1\"),\"ร\",IF(CX16=\"ปกติ\",SUM(AC16,AD16,AE16,AF16,AG16,AH16,AI16,AJ16,AK16,AL16,AM16,AN16,AO16,AP16,AQ16,AR16,AS16),\"-\")))","v":0},null,"",null,null,null,null,null,null,null,null,null,null,null,null,null,null,null,{"$f":"IF(Sheet1!C11=\"\",\"\",IF(COUNTIF(AZ16:BN16,\"-1\"),\"ร\",IF(CX16=\"ปกติ\",SUM(AZ16,BA16,BB16,BC16,BD16,BE16,BF16,BG16,BH16,BI16,BJ16,BK16,BL16,BM16,BN16),\"-\")))","v":0},null,"",null,null,null,null,null,null,null,null,null,null,null,null,null,null,null,{"$f":"IF(Sheet1!C11=\"\",\"\",IF(COUNTIF(BR16:CF16,\"-1\"),\"ร\",IF(CX16=\"ปกติ\",SUM(BR16,BS16,BT16,BU16,BV16,BW16,BX16,BY16,BZ16,CA16,CB16,CC16,CD16,CE16,CF16),\"-\")))","v":0},null,"","","","",{"$f":"SUM(CJ16:CL16)","v":0},null,"",null,{"$f":"CM16+CO16","v":{"$error":"#VALUE!"}},{"$error":"#VALUE!"},null,{"$f":"IF(CR16=\"\",\"\",IF(CX16=\"\",\"\",IF(CX16=\"ย้าย\",\"-\",IF(CX16=\"จำหน่าย\",\"-\",IF(CX16=\"ขาดเรียนนาน\",\"-\",IF(เวลาเรียน!IO18<80,\"มส\",IF(CR16=\"ร\",\"ร\",VLOOKUP(CR16,$CZ$19:$DB$26,3))))))))","v":{"$error":"#VALUE!"}},null,null,null,{"$f":"IF(เวลาเรียน!IP18=\"\",\"\",เวลาเรียน!IP18)","v":"ปกติ"}]
[11,2507,{"$f":"CONCATENATE(Sheet1!B12)","v":"15388"},{"$f":"CONCATENATE(Sheet1!C12&Sheet1!D12&\"       \"&Sheet1!E12)","v":"เด็กชายณัฏฐะชัย  แซ่อั้ง       "},11,null,null,null,null,null,null,null,null,null,null,null,null,null,null,null,null,null,null,null,null,{"$f":"IF(Sheet1!C12=\"\",\"\",IF(COUNTIF(F17:V17,\"-1\"),\"ร\",IF(CX17=\"ปกติ\",SUM(F17,G17,H17,I17,J17,K17,L17,M17,N17,O17,P17,Q17,R17,S17,T17,U17,V17,W17,X17,Y17),\"-\")))","v":0},null,"",null,null,null,null,null,null,null,null,null,null,null,null,null,null,null,null,null,null,null,null,{"$f":"IF(Sheet1!C12=\"\",\"\",IF(COUNTIF(AC17:AS17,\"-1\"),\"ร\",IF(CX17=\"ปกติ\",SUM(AC17,AD17,AE17,AF17,AG17,AH17,AI17,AJ17,AK17,AL17,AM17,AN17,AO17,AP17,AQ17,AR17,AS17),\"-\")))","v":0},null,"",null,null,null,null,null,null,null,null,null,null,null,null,null,null,null,{"$f":"IF(Sheet1!C12=\"\",\"\",IF(COUNTIF(AZ17:BN17,\"-1\"),\"ร\",IF(CX17=\"ปกติ\",SUM(AZ17,BA17,BB17,BC17,BD17,BE17,BF17,BG17,BH17,BI17,BJ17,BK17,BL17,BM17,BN17),\"-\")))","v":0},null,"",null,null,null,null,null,null,null,null,null,null,null,null,null,null,null,{"$f":"IF(Sheet1!C12=\"\",\"\",IF(COUNTIF(BR17:CF17,\"-1\"),\"ร\",IF(CX17=\"ปกติ\",SUM(BR17,BS17,BT17,BU17,BV17,BW17,BX17,BY17,BZ17,CA17,CB17,CC17,CD17,CE17,CF17),\"-\")))","v":0},null,"","","","",{"$f":"SUM(CJ17:CL17)","v":0},null,"",null,{"$f":"CM17+CO17","v":{"$error":"#VALUE!"}},{"$f":"IF(CQ17>=50,\"ผ\",\"มผ\")","v":{"$error":"#VALUE!"}},null,{"$f":"IF(CR17=\"\",\"\",IF(CX17=\"\",\"\",IF(CX17=\"ย้าย\",\"-\",IF(CX17=\"จำหน่าย\",\"-\",IF(CX17=\"ขาดเรียนนาน\",\"-\",IF(เวลาเรียน!IO19<80,\"มส\",IF(CR17=\"ร\",\"ร\",VLOOKUP(CR17,$CZ$19:$DB$26,3))))))))","v":{"$error":"#VALUE!"}},null,null,null,{"$f":"IF(เวลาเรียน!IP19=\"\",\"\",เวลาเรียน!IP19)","v":"ปกติ"}]
[12,2508,{"$f":"CONCATENATE(Sheet1!B13)","v":"15389"},{"$f":"CONCATENATE(Sheet1!C13&Sheet1!D13&\"       \"&Sheet1!E13)","v":"เด็กชายนวกร  อ่อนเกตุพล       "},12,null,null,null,null,null,null,null,null,null,null,null,null,null,null,null,null,null,null,null,null,{"$f":"IF(Sheet1!C13=\"\",\"\",IF(COUNTIF(F18:V18,\"-1\"),\"ร\",IF(CX18=\"ปกติ\",SUM(F18,G18,H18,I18,J18,K18,L18,M18,N18,O18,P18,Q18,R18,S18,T18,U18,V18,W18,X18,Y18),\"-\")))","v":0},null,"",null,null,null,null,null,null,null,null,null,null,null,null,null,null,null,null,null,null,null,null,{"$f":"IF(Sheet1!C13=\"\",\"\",IF(COUNTIF(AC18:AS18,\"-1\"),\"ร\",IF(CX18=\"ปกติ\",SUM(AC18,AD18,AE18,AF18,AG18,AH18,AI18,AJ18,AK18,AL18,AM18,AN18,AO18,AP18,AQ18,AR18,AS18),\"-\")))","v":0},null,"",null,null,null,null,null,null,null,null,null,null,null,null,null,null,null,{"$f":"IF(Sheet1!C13=\"\",\"\",IF(COUNTIF(AZ18:BN18,\"-1\"),\"ร\",IF(CX18=\"ปกติ\",SUM(AZ18,BA18,BB18,BC18,BD18,BE18,BF18,BG18,BH18,BI18,BJ18,BK18,BL18,BM18,BN18),\"-\")))","v":0},null,"",null,null,null,null,null,null,null,null,null,null,null,null,null,null,null,{"$f":"IF(Sheet1!C13=\"\",\"\",IF(COUNTIF(BR18:CF18,\"-1\"),\"ร\",IF(CX18=\"ปกติ\",SUM(BR18,BS18,BT18,BU18,BV18,BW18,BX18,BY18,BZ18,CA18,CB18,CC18,CD18,CE18,CF18),\"-\")))","v":0},null,"","","","",{"$f":"SUM(CJ18:CL18)","v":0},null,"",null,{"$f":"CM18+CO18","v":{"$error":"#VALUE!"}},{"$f":"IF(CQ18>=50,\"ผ\",\"มผ\")","v":{"$error":"#VALUE!"}},null,{"$f":"IF(CR18=\"\",\"\",IF(CX18=\"\",\"\",IF(CX18=\"ย้าย\",\"-\",IF(CX18=\"จำหน่าย\",\"-\",IF(CX18=\"ขาดเรียนนาน\",\"-\",IF(เวลาเรียน!IO20<80,\"มส\",IF(CR18=\"ร\",\"ร\",VLOOKUP(CR18,$CZ$19:$DB$26,3))))))))","v":{"$error":"#VALUE!"}},null,null,null,{"$f":"IF(เวลาเรียน!IP20=\"\",\"\",เวลาเรียน!IP20)","v":"ปกติ"}]
[13,2509,{"$f":"CONCATENATE(Sheet1!B14)","v":"15396"},{"$f":"CONCATENATE(Sheet1!C14&Sheet1!D14&\"       \"&Sheet1!E14)","v":"เด็กชายธัญเทพ  นิยะกิจ       "},13,null,null,null,null,null,null,null,null,null,null,null,null,null,null,null,null,null,null,null,null,{"$f":"IF(Sheet1!C14=\"\",\"\",IF(COUNTIF(F19:V19,\"-1\"),\"ร\",IF(CX19=\"ปกติ\",SUM(F19,G19,H19,I19,J19,K19,L19,M19,N19,O19,P19,Q19,R19,S19,T19,U19,V19,W19,X19,Y19),\"-\")))","v":0},null,"",null,null,null,null,null,null,null,null,null,null,null,null,null,null,null,null,null,null,null,null,{"$f":"IF(Sheet1!C14=\"\",\"\",IF(COUNTIF(AC19:AS19,\"-1\"),\"ร\",IF(CX19=\"ปกติ\",SUM(AC19,AD19,AE19,AF19,AG19,AH19,AI19,AJ19,AK19,AL19,AM19,AN19,AO19,AP19,AQ19,AR19,AS19),\"-\")))","v":0},null,"",null,null,null,null,null,null,null,null,null,null,null,null,null,null,null,{"$f":"IF(Sheet1!C14=\"\",\"\",IF(COUNTIF(AZ19:BN19,\"-1\"),\"ร\",IF(CX19=\"ปกติ\",SUM(AZ19,BA19,BB19,BC19,BD19,BE19,BF19,BG19,BH19,BI19,BJ19,BK19,BL19,BM19,BN19),\"-\")))","v":0},null,"",null,null,null,null,null,null,null,null,null,null,null,null,null,null,null,{"$f":"IF(Sheet1!C14=\"\",\"\",IF(COUNTIF(BR19:CF19,\"-1\"),\"ร\",IF(CX19=\"ปกติ\",SUM(BR19,BS19,BT19,BU19,BV19,BW19,BX19,BY19,BZ19,CA19,CB19,CC19,CD19,CE19,CF19),\"-\")))","v":0},null,"","","","",{"$f":"SUM(CJ19:CL19)","v":0},null,"",null,{"$f":"CM19+CO19","v":{"$error":"#VALUE!"}},{"$f":"IF(CQ19>=50,\"ผ\",\"มผ\")","v":{"$error":"#VALUE!"}},null,{"$f":"IF(CR19=\"\",\"\",IF(CX19=\"\",\"\",IF(CX19=\"ย้าย\",\"-\",IF(CX19=\"จำหน่าย\",\"-\",IF(CX19=\"ขาดเรียนนาน\",\"-\",IF(เวลาเรียน!IO21<80,\"มส\",IF(CR19=\"ร\",\"ร\",VLOOKUP(CR19,$CZ$19:$DB$26,3))))))))","v":{"$error":"#VALUE!"}},null,null,null,{"$f":"IF(เวลาเรียน!IP21=\"\",\"\",เวลาเรียน!IP21)","v":"ปกติ"},null,0,50,0]
[14,2510,{"$f":"CONCATENATE(Sheet1!B15)","v":"15403"},{"$f":"CONCATENATE(Sheet1!C15&Sheet1!D15&\"       \"&Sheet1!E15)","v":"เด็กหญิงฐิติกาญจน์  กองวารี       "},14,null,null,null,null,null,null,null,null,null,null,null,null,null,null,null,null,null,null,null,null,{"$f":"IF(Sheet1!C15=\"\",\"\",IF(COUNTIF(F20:V20,\"-1\"),\"ร\",IF(CX20=\"ปกติ\",SUM(F20,G20,H20,I20,J20,K20,L20,M20,N20,O20,P20,Q20,R20,S20,T20,U20,V20,W20,X20,Y20),\"-\")))","v":0},null,"",null,null,null,null,null,null,null,null,null,null,null,null,null,null,null,null,null,null,null,null,{"$f":"IF(Sheet1!C15=\"\",\"\",IF(COUNTIF(AC20:AS20,\"-1\"),\"ร\",IF(CX20=\"ปกติ\",SUM(AC20,AD20,AE20,AF20,AG20,AH20,AI20,AJ20,AK20,AL20,AM20,AN20,AO20,AP20,AQ20,AR20,AS20),\"-\")))","v":0},null,"",null,null,null,null,null,null,null,null,null,null,null,null,null,null,null,{"$f":"IF(Sheet1!C15=\"\",\"\",IF(COUNTIF(AZ20:BN20,\"-1\"),\"ร\",IF(CX20=\"ปกติ\",SUM(AZ20,BA20,BB20,BC20,BD20,BE20,BF20,BG20,BH20,BI20,BJ20,BK20,BL20,BM20,BN20),\"-\")))","v":0},null,"",null,null,null,null,null,null,null,null,null,null,null,null,null,null,null,{"$f":"IF(Sheet1!C15=\"\",\"\",IF(COUNTIF(BR20:CF20,\"-1\"),\"ร\",IF(CX20=\"ปกติ\",SUM(BR20,BS20,BT20,BU20,BV20,BW20,BX20,BY20,BZ20,CA20,CB20,CC20,CD20,CE20,CF20),\"-\")))","v":0},null,"","","","",0,null,"",null,{"$error":"#VALUE!"},{"$error":"#VALUE!"},null,{"$f":"IF(CR20=\"\",\"\",IF(CX20=\"\",\"\",IF(CX20=\"ย้าย\",\"-\",IF(CX20=\"จำหน่าย\",\"-\",IF(CX20=\"ขาดเรียนนาน\",\"-\",IF(เวลาเรียน!IO22<80,\"มส\",IF(CR20=\"ร\",\"ร\",VLOOKUP(CR20,$CZ$19:$DB$26,3))))))))","v":{"$error":"#VALUE!"}},null,null,null,{"$f":"IF(เวลาเรียน!IP22=\"\",\"\",เวลาเรียน!IP22)","v":"ปกติ"},null,50,55,1]
[15,2511,{"$f":"CONCATENATE(Sheet1!B16)","v":"15406"},{"$f":"CONCATENATE(Sheet1!C16&Sheet1!D16&\"       \"&Sheet1!E16)","v":"เด็กหญิงสุวิชญา  พิชัย       "},15,null,null,null,null,null,null,null,null,null,null,null,null,null,null,null,null,null,null,null,null,{"$f":"IF(Sheet1!C16=\"\",\"\",IF(COUNTIF(F21:V21,\"-1\"),\"ร\",IF(CX21=\"ปกติ\",SUM(F21,G21,H21,I21,J21,K21,L21,M21,N21,O21,P21,Q21,R21,S21,T21,U21,V21,W21,X21,Y21),\"-\")))","v":0},null,"",null,null,null,null,null,null,null,null,null,null,null,null,null,null,null,null,null,null,null,null,{"$f":"IF(Sheet1!C16=\"\",\"\",IF(COUNTIF(AC21:AS21,\"-1\"),\"ร\",IF(CX21=\"ปกติ\",SUM(AC21,AD21,AE21,AF21,AG21,AH21,AI21,AJ21,AK21,AL21,AM21,AN21,AO21,AP21,AQ21,AR21,AS21),\"-\")))","v":0},null,"",null,null,null,null,null,null,null,null,null,null,null,null,null,null,null,{"$f":"IF(Sheet1!C16=\"\",\"\",IF(COUNTIF(AZ21:BN21,\"-1\"),\"ร\",IF(CX21=\"ปกติ\",SUM(AZ21,BA21,BB21,BC21,BD21,BE21,BF21,BG21,BH21,BI21,BJ21,BK21,BL21,BM21,BN21),\"-\")))","v":0},null,"",null,null,null,null,null,null,null,null,null,null,null,null,null,null,null,{"$f":"IF(Sheet1!C16=\"\",\"\",IF(COUNTIF(BR21:CF21,\"-1\"),\"ร\",IF(CX21=\"ปกติ\",SUM(BR21,BS21,BT21,BU21,BV21,BW21,BX21,BY21,BZ21,CA21,CB21,CC21,CD21,CE21,CF21),\"-\")))","v":0},null,"","","","",{"$f":"SUM(CJ21:CL21)","v":0},null,"",null,{"$f":"CM21+CO21","v":{"$error":"#VALUE!"}},{"$error":"#VALUE!"},null,{"$f":"IF(CR21=\"\",\"\",IF(CX21=\"\",\"\",IF(CX21=\"ย้าย\",\"-\",IF(CX21=\"จำหน่าย\",\"-\",IF(CX21=\"ขาดเรียนนาน\",\"-\",IF(เวลาเรียน!IO23<80,\"มส\",IF(CR21=\"ร\",\"ร\",VLOOKUP(CR21,$CZ$19:$DB$26,3))))))))","v":{"$error":"#VALUE!"}},null,null,null,{"$f":"IF(เวลาเรียน!IP23=\"\",\"\",เวลาเรียน!IP23)","v":"ปกติ"},null,55,60,1.5]
[16,2512,{"$f":"CONCATENATE(Sheet1!B17)","v":"15407"},{"$f":"CONCATENATE(Sheet1!C17&Sheet1!D17&\"       \"&Sheet1!E17)","v":"เด็กหญิงนันท์นภัส  เต็มสงสัย       "},16,null,null,null,null,null,null,null,null,null,null,null,null,null,null,null,null,null,null,null,null,{"$f":"IF(Sheet1!C17=\"\",\"\",IF(COUNTIF(F22:V22,\"-1\"),\"ร\",IF(CX22=\"ปกติ\",SUM(F22,G22,H22,I22,J22,K22,L22,M22,N22,O22,P22,Q22,R22,S22,T22,U22,V22,W22,X22,Y22),\"-\")))","v":0},null,"",null,null,null,null,null,null,null,null,null,null,null,null,null,null,null,null,null,null,null,null,{"$f":"IF(Sheet1!C17=\"\",\"\",IF(COUNTIF(AC22:AS22,\"-1\"),\"ร\",IF(CX22=\"ปกติ\",SUM(AC22,AD22,AE22,AF22,AG22,AH22,AI22,AJ22,AK22,AL22,AM22,AN22,AO22,AP22,AQ22,AR22,AS22),\"-\")))","v":0},null,"",null,null,null,null,null,null,null,null,null,null,null,null,null,null,null,{"$f":"IF(Sheet1!C17=\"\",\"\",IF(COUNTIF(AZ22:BN22,\"-1\"),\"ร\",IF(CX22=\"ปกติ\",SUM(AZ22,BA22,BB22,BC22,BD22,BE22,BF22,BG22,BH22,BI22,BJ22,BK22,BL22,BM22,BN22),\"-\")))","v":0},null,"",null,null,null,null,null,null,null,null,null,null,null,null,null,null,null,{"$f":"IF(Sheet1!C17=\"\",\"\",IF(COUNTIF(BR22:CF22,\"-1\"),\"ร\",IF(CX22=\"ปกติ\",SUM(BR22,BS22,BT22,BU22,BV22,BW22,BX22,BY22,BZ22,CA22,CB22,CC22,CD22,CE22,CF22),\"-\")))","v":0},null,"","","","",{"$f":"SUM(CJ22:CL22)","v":0},null,"",null,{"$f":"CM22+CO22","v":{"$error":"#VALUE!"}},{"$f":"IF(CQ22>=50,\"ผ\",\"มผ\")","v":{"$error":"#VALUE!"}},null,{"$f":"IF(CR22=\"\",\"\",IF(CX22=\"\",\"\",IF(CX22=\"ย้าย\",\"-\",IF(CX22=\"จำหน่าย\",\"-\",IF(CX22=\"ขาดเรียนนาน\",\"-\",IF(เวลาเรียน!IO24<80,\"มส\",IF(CR22=\"ร\",\"ร\",VLOOKUP(CR22,$CZ$19:$DB$26,3))))))))","v":{"$error":"#VALUE!"}},null,null,null,{"$f":"IF(เวลาเรียน!IP24=\"\",\"\",เวลาเรียน!IP24)","v":"ปกติ"},null,60,65,2]
[17,2513,{"$f":"CONCATENATE(Sheet1!B18)","v":"17084"},{"$f":"CONCATENATE(Sheet1!C18&Sheet1!D18&\"       \"&Sheet1!E18)","v":"เด็กชายธนิสร  ทิพย์เกิด       "},17,null,null,null,null,null,null,null,null,null,null,null,null,null,null,null,null,null,null,null,null,{"$f":"IF(Sheet1!C18=\"\",\"\",IF(COUNTIF(F23:V23,\"-1\"),\"ร\",IF(CX23=\"ปกติ\",SUM(F23,G23,H23,I23,J23,K23,L23,M23,N23,O23,P23,Q23,R23,S23,T23,U23,V23,W23,X23,Y23),\"-\")))","v":0},null,"",null,null,null,null,null,null,null,null,null,null,null,null,null,null,null,null,null,null,null,null,{"$f":"IF(Sheet1!C18=\"\",\"\",IF(COUNTIF(AC23:AS23,\"-1\"),\"ร\",IF(CX23=\"ปกติ\",SUM(AC23,AD23,AE23,AF23,AG23,AH23,AI23,AJ23,AK23,AL23,AM23,AN23,AO23,AP23,AQ23,AR23,AS23),\"-\")))","v":0},null,"",null,null,null,null,null,null,null,null,null,null,null,null,null,null,null,{"$f":"IF(Sheet1!C18=\"\",\"\",IF(COUNTIF(AZ23:BN23,\"-1\"),\"ร\",IF(CX23=\"ปกติ\",SUM(AZ23,BA23,BB23,BC23,BD23,BE23,BF23,BG23,BH23,BI23,BJ23,BK23,BL23,BM23,BN23),\"-\")))","v":0},null,"",null,null,null,null,null,null,null,null,null,null,null,null,null,null,null,{"$f":"IF(Sheet1!C18=\"\",\"\",IF(COUNTIF(BR23:CF23,\"-1\"),\"ร\",IF(CX23=\"ปกติ\",SUM(BR23,BS23,BT23,BU23,BV23,BW23,BX23,BY23,BZ23,CA23,CB23,CC23,CD23,CE23,CF23),\"-\")))","v":0},null,"","","","",{"$f":"SUM(CJ23:CL23)","v":0},null,"",null,{"$f":"CM23+CO23","v":{"$error":"#VALUE!"}},{"$f":"IF(CQ23>=50,\"ผ\",\"มผ\")","v":{"$error":"#VALUE!"}},null,{"$f":"IF(CR23=\"\",\"\",IF(CX23=\"\",\"\",IF(CX23=\"ย้าย\",\"-\",IF(CX23=\"จำหน่าย\",\"-\",IF(CX23=\"ขาดเรียนนาน\",\"-\",IF(เวลาเรียน!IO25<80,\"มส\",IF(CR23=\"ร\",\"ร\",VLOOKUP(CR23,$CZ$19:$DB$26,3))))))))","v":{"$error":"#VALUE!"}},null,null,null,{"$f":"IF(เวลาเรียน!IP25=\"\",\"\",เวลาเรียน!IP25)","v":"ปกติ"},null,65,70,2.5]
[18,2514,{"$f":"CONCATENATE(Sheet1!B19)","v":"17085"},{"$f":"CONCATENATE(Sheet1!C19&Sheet1!D19&\"       \"&Sheet1!E19)","v":"เด็กชายนันทิพัฒน์  วงศ์คำลือ       "},18,null,null,null,null,null,null,null,null,null,null,null,null,null,null,null,null,null,null,null,null,{"$f":"IF(Sheet1!C19=\"\",\"\",IF(COUNTIF(F24:V24,\"-1\"),\"ร\",IF(CX24=\"ปกติ\",SUM(F24,G24,H24,I24,J24,K24,L24,M24,N24,O24,P24,Q24,R24,S24,T24,U24,V24,W24,X24,Y24),\"-\")))","v":0},null,"",null,null,null,null,null,null,null,null,null,null,null,null,null,null,null,null,null,null,null,null,{"$f":"IF(Sheet1!C19=\"\",\"\",IF(COUNTIF(AC24:AS24,\"-1\"),\"ร\",IF(CX24=\"ปกติ\",SUM(AC24,AD24,AE24,AF24,AG24,AH24,AI24,AJ24,AK24,AL24,AM24,AN24,AO24,AP24,AQ24,AR24,AS24),\"-\")))","v":0},null,"",null,null,null,null,null,null,null,null,null,null,null,null,null,null,null,{"$f":"IF(Sheet1!C19=\"\",\"\",IF(COUNTIF(AZ24:BN24,\"-1\"),\"ร\",IF(CX24=\"ปกติ\",SUM(AZ24,BA24,BB24,BC24,BD24,BE24,BF24,BG24,BH24,BI24,BJ24,BK24,BL24,BM24,BN24),\"-\")))","v":0},null,"",null,null,null,null,null,null,null,null,null,null,null,null,null,null,null,{"$f":"IF(Sheet1!C19=\"\",\"\",IF(COUNTIF(BR24:CF24,\"-1\"),\"ร\",IF(CX24=\"ปกติ\",SUM(BR24,BS24,BT24,BU24,BV24,BW24,BX24,BY24,BZ24,CA24,CB24,CC24,CD24,CE24,CF24),\"-\")))","v":0},null,"","","","",{"$f":"SUM(CJ24:CL24)","v":0},null,"",null,{"$f":"CM24+CO24","v":{"$error":"#VALUE!"}},{"$f":"IF(CQ24>=50,\"ผ\",\"มผ\")","v":{"$error":"#VALUE!"}},null,{"$f":"IF(CR24=\"\",\"\",IF(CX24=\"\",\"\",IF(CX24=\"ย้าย\",\"-\",IF(CX24=\"จำหน่าย\",\"-\",IF(CX24=\"ขาดเรียนนาน\",\"-\",IF(เวลาเรียน!IO26<80,\"มส\",IF(CR24=\"ร\",\"ร\",VLOOKUP(CR24,$CZ$19:$DB$26,3))))))))","v":{"$error":"#VALUE!"}},null,null,null,{"$f":"IF(เวลาเรียน!IP26=\"\",\"\",เวลาเรียน!IP26)","v":"ปกติ"},null,70,75,3]
[19,2515,{"$f":"CONCATENATE(Sheet1!B20)","v":"17086"},{"$f":"CONCATENATE(Sheet1!C20&Sheet1!D20&\"       \"&Sheet1!E20)","v":"เด็กชายธนโชติ  โภคา       "},19,null,null,null,null,null,null,null,null,null,null,null,null,null,null,null,null,null,null,null,null,{"$f":"IF(Sheet1!C20=\"\",\"\",IF(COUNTIF(F25:V25,\"-1\"),\"ร\",IF(CX25=\"ปกติ\",SUM(F25,G25,H25,I25,J25,K25,L25,M25,N25,O25,P25,Q25,R25,S25,T25,U25,V25,W25,X25,Y25),\"-\")))","v":0},null,"",null,null,null,null,null,null,null,null,null,null,null,null,null,null,null,null,null,null,null,null,{"$f":"IF(Sheet1!C20=\"\",\"\",IF(COUNTIF(AC25:AS25,\"-1\"),\"ร\",IF(CX25=\"ปกติ\",SUM(AC25,AD25,AE25,AF25,AG25,AH25,AI25,AJ25,AK25,AL25,AM25,AN25,AO25,AP25,AQ25,AR25,AS25),\"-\")))","v":0},null,"",null,null,null,null,null,null,null,null,null,null,null,null,null,null,null,{"$f":"IF(Sheet1!C20=\"\",\"\",IF(COUNTIF(AZ25:BN25,\"-1\"),\"ร\",IF(CX25=\"ปกติ\",SUM(AZ25,BA25,BB25,BC25,BD25,BE25,BF25,BG25,BH25,BI25,BJ25,BK25,BL25,BM25,BN25),\"-\")))","v":0},null,"",null,null,null,null,null,null,null,null,null,null,null,null,null,null,null,{"$f":"IF(Sheet1!C20=\"\",\"\",IF(COUNTIF(BR25:CF25,\"-1\"),\"ร\",IF(CX25=\"ปกติ\",SUM(BR25,BS25,BT25,BU25,BV25,BW25,BX25,BY25,BZ25,CA25,CB25,CC25,CD25,CE25,CF25),\"-\")))","v":0},null,"","","","",0,null,"",null,{"$error":"#VALUE!"},{"$error":"#VALUE!"},null,{"$f":"IF(CR25=\"\",\"\",IF(CX25=\"\",\"\",IF(CX25=\"ย้าย\",\"-\",IF(CX25=\"จำหน่าย\",\"-\",IF(CX25=\"ขาดเรียนนาน\",\"-\",IF(เวลาเรียน!IO27<80,\"มส\",IF(CR25=\"ร\",\"ร\",VLOOKUP(CR25,$CZ$19:$DB$26,3))))))))","v":{"$error":"#VALUE!"}},null,null,null,{"$f":"IF(เวลาเรียน!IP27=\"\",\"\",เวลาเรียน!IP27)","v":"ปกติ"},null,75,80,3.5]
[20,2516,{"$f":"CONCATENATE(Sheet1!B21)","v":"17087"},{"$f":"CONCATENATE(Sheet1!C21&Sheet1!D21&\"       \"&Sheet1!E21)","v":"เด็กชายจิรภัทร  หีตพรหม       "},20,null,null,null,null,null,null,null,null,null,null,null,null,null,null,null,null,null,null,null,null,{"$f":"IF(Sheet1!C21=\"\",\"\",IF(COUNTIF(F26:V26,\"-1\"),\"ร\",IF(CX26=\"ปกติ\",SUM(F26,G26,H26,I26,J26,K26,L26,M26,N26,O26,P26,Q26,R26,S26,T26,U26,V26,W26,X26,Y26),\"-\")))","v":0},null,"",null,null,null,null,null,null,null,null,null,null,null,null,null,null,null,null,null,null,null,null,{"$f":"IF(Sheet1!C21=\"\",\"\",IF(COUNTIF(AC26:AS26,\"-1\"),\"ร\",IF(CX26=\"ปกติ\",SUM(AC26,AD26,AE26,AF26,AG26,AH26,AI26,AJ26,AK26,AL26,AM26,AN26,AO26,AP26,AQ26,AR26,AS26),\"-\")))","v":0},null,"",null,null,null,null,null,null,null,null,null,null,null,null,null,null,null,{"$f":"IF(Sheet1!C21=\"\",\"\",IF(COUNTIF(AZ26:BN26,\"-1\"),\"ร\",IF(CX26=\"ปกติ\",SUM(AZ26,BA26,BB26,BC26,BD26,BE26,BF26,BG26,BH26,BI26,BJ26,BK26,BL26,BM26,BN26),\"-\")))","v":0},null,"",null,null,null,null,null,null,null,null,null,null,null,null,null,null,null,{"$f":"IF(Sheet1!C21=\"\",\"\",IF(COUNTIF(BR26:CF26,\"-1\"),\"ร\",IF(CX26=\"ปกติ\",SUM(BR26,BS26,BT26,BU26,BV26,BW26,BX26,BY26,BZ26,CA26,CB26,CC26,CD26,CE26,CF26),\"-\")))","v":0},null,"","","","",{"$f":"SUM(CJ26:CL26)","v":0},null,"",null,{"$f":"CM26+CO26","v":{"$error":"#VALUE!"}},{"$error":"#VALUE!"},null,{"$f":"IF(CR26=\"\",\"\",IF(CX26=\"\",\"\",IF(CX26=\"ย้าย\",\"-\",IF(CX26=\"จำหน่าย\",\"-\",IF(CX26=\"ขาดเรียนนาน\",\"-\",IF(เวลาเรียน!IO28<80,\"มส\",IF(CR26=\"ร\",\"ร\",VLOOKUP(CR26,$CZ$19:$DB$26,3))))))))","v":{"$error":"#VALUE!"}},null,null,null,{"$f":"IF(เวลาเรียน!IP28=\"\",\"\",เวลาเรียน!IP28)","v":"ปกติ"},null,80,100,4]
[21,2517,{"$f":"CONCATENATE(Sheet1!B22)","v":"17088"},{"$f":"CONCATENATE(Sheet1!C22&Sheet1!D22&\"       \"&Sheet1!E22)","v":"เด็กชายพงศพัศ  พิชิตพงศาภรณ์       "},21,null,null,null,null,null,null,null,null,null,null,null,null,null,null,null,null,null,null,null,null,{"$f":"IF(Sheet1!C22=\"\",\"\",IF(COUNTIF(F27:V27,\"-1\"),\"ร\",IF(CX27=\"ปกติ\",SUM(F27,G27,H27,I27,J27,K27,L27,M27,N27,O27,P27,Q27,R27,S27,T27,U27,V27,W27,X27,Y27),\"-\")))","v":0},null,"",null,null,null,null,null,null,null,null,null,null,null,null,null,null,null,null,null,null,null,null,{"$f":"IF(Sheet1!C22=\"\",\"\",IF(COUNTIF(AC27:AS27,\"-1\"),\"ร\",IF(CX27=\"ปกติ\",SUM(AC27,AD27,AE27,AF27,AG27,AH27,AI27,AJ27,AK27,AL27,AM27,AN27,AO27,AP27,AQ27,AR27,AS27),\"-\")))","v":0},null,"",null,null,null,null,null,null,null,null,null,null,null,null,null,null,null,{"$f":"IF(Sheet1!C22=\"\",\"\",IF(COUNTIF(AZ27:BN27,\"-1\"),\"ร\",IF(CX27=\"ปกติ\",SUM(AZ27,BA27,BB27,BC27,BD27,BE27,BF27,BG27,BH27,BI27,BJ27,BK27,BL27,BM27,BN27),\"-\")))","v":0},null,"",null,null,null,null,null,null,null,null,null,null,null,null,null,null,null,{"$f":"IF(Sheet1!C22=\"\",\"\",IF(COUNTIF(BR27:CF27,\"-1\"),\"ร\",IF(CX27=\"ปกติ\",SUM(BR27,BS27,BT27,BU27,BV27,BW27,BX27,BY27,BZ27,CA27,CB27,CC27,CD27,CE27,CF27),\"-\")))","v":0},null,"","","","",{"$f":"SUM(CJ27:CL27)","v":0},null,"",null,{"$f":"CM27+CO27","v":{"$error":"#VALUE!"}},{"$f":"IF(CQ27>=50,\"ผ\",\"มผ\")","v":{"$error":"#VALUE!"}},null,{"$f":"IF(CR27=\"\",\"\",IF(CX27=\"\",\"\",IF(CX27=\"ย้าย\",\"-\",IF(CX27=\"จำหน่าย\",\"-\",IF(CX27=\"ขาดเรียนนาน\",\"-\",IF(เวลาเรียน!IO29<80,\"มส\",IF(CR27=\"ร\",\"ร\",VLOOKUP(CR27,$CZ$19:$DB$26,3))))))))","v":{"$error":"#VALUE!"}},null,null,null,{"$f":"IF(เวลาเรียน!IP29=\"\",\"\",เวลาเรียน!IP29)","v":"ปกติ"}]
[22,2518,{"$f":"CONCATENATE(Sheet1!B23)","v":"17089"},{"$f":"CONCATENATE(Sheet1!C23&Sheet1!D23&\"       \"&Sheet1!E23)","v":"เด็กหญิงชนัดดา  บุญวิก       "},22,null,null,null,null,null,null,null,null,null,null,null,null,null,null,null,null,null,null,null,null,{"$f":"IF(Sheet1!C23=\"\",\"\",IF(COUNTIF(F28:V28,\"-1\"),\"ร\",IF(CX28=\"ปกติ\",SUM(F28,G28,H28,I28,J28,K28,L28,M28,N28,O28,P28,Q28,R28,S28,T28,U28,V28,W28,X28,Y28),\"-\")))","v":0},null,"",null,null,null,null,null,null,null,null,null,null,null,null,null,null,null,null,null,null,null,null,{"$f":"IF(Sheet1!C23=\"\",\"\",IF(COUNTIF(AC28:AS28,\"-1\"),\"ร\",IF(CX28=\"ปกติ\",SUM(AC28,AD28,AE28,AF28,AG28,AH28,AI28,AJ28,AK28,AL28,AM28,AN28,AO28,AP28,AQ28,AR28,AS28),\"-\")))","v":0},null,"",null,null,null,null,null,null,null,null,null,null,null,null,null,null,null,{"$f":"IF(Sheet1!C23=\"\",\"\",IF(COUNTIF(AZ28:BN28,\"-1\"),\"ร\",IF(CX28=\"ปกติ\",SUM(AZ28,BA28,BB28,BC28,BD28,BE28,BF28,BG28,BH28,BI28,BJ28,BK28,BL28,BM28,BN28),\"-\")))","v":0},null,"",null,null,null,null,null,null,null,null,null,null,null,null,null,null,null,{"$f":"IF(Sheet1!C23=\"\",\"\",IF(COUNTIF(BR28:CF28,\"-1\"),\"ร\",IF(CX28=\"ปกติ\",SUM(BR28,BS28,BT28,BU28,BV28,BW28,BX28,BY28,BZ28,CA28,CB28,CC28,CD28,CE28,CF28),\"-\")))","v":0},null,"","","","",{"$f":"SUM(CJ28:CL28)","v":0},null,"",null,{"$f":"CM28+CO28","v":{"$error":"#VALUE!"}},{"$f":"IF(CQ28>=50,\"ผ\",\"มผ\")","v":{"$error":"#VALUE!"}},null,{"$f":"IF(CR28=\"\",\"\",IF(CX28=\"\",\"\",IF(CX28=\"ย้าย\",\"-\",IF(CX28=\"จำหน่าย\",\"-\",IF(CX28=\"ขาดเรียนนาน\",\"-\",IF(เวลาเรียน!IO30<80,\"มส\",IF(CR28=\"ร\",\"ร\",VLOOKUP(CR28,$CZ$19:$DB$26,3))))))))","v":{"$error":"#VALUE!"}},null,null,null,{"$f":"IF(เวลาเรียน!IP30=\"\",\"\",เวลาเรียน!IP30)","v":"ปกติ"}]
[23,2519,{"$f":"CONCATENATE(Sheet1!B24)","v":"17090"},{"$f":"CONCATENATE(Sheet1!C24&Sheet1!D24&\"       \"&Sheet1!E24)","v":"เด็กหญิงชัชชญา  บุญวิก       "},23,null,null,null,null,null,null,null,null,null,null,null,null,null,null,null,null,null,null,null,null,{"$f":"IF(Sheet1!C24=\"\",\"\",IF(COUNTIF(F29:V29,\"-1\"),\"ร\",IF(CX29=\"ปกติ\",SUM(F29,G29,H29,I29,J29,K29,L29,M29,N29,O29,P29,Q29,R29,S29,T29,U29,V29,W29,X29,Y29),\"-\")))","v":0},null,"",null,null,null,null,null,null,null,null,null,null,null,null,null,null,null,null,null,null,null,null,{"$f":"IF(Sheet1!C24=\"\",\"\",IF(COUNTIF(AC29:AS29,\"-1\"),\"ร\",IF(CX29=\"ปกติ\",SUM(AC29,AD29,AE29,AF29,AG29,AH29,AI29,AJ29,AK29,AL29,AM29,AN29,AO29,AP29,AQ29,AR29,AS29),\"-\")))","v":0},null,"",null,null,null,null,null,null,null,null,null,null,null,null,null,null,null,{"$f":"IF(Sheet1!C24=\"\",\"\",IF(COUNTIF(AZ29:BN29,\"-1\"),\"ร\",IF(CX29=\"ปกติ\",SUM(AZ29,BA29,BB29,BC29,BD29,BE29,BF29,BG29,BH29,BI29,BJ29,BK29,BL29,BM29,BN29),\"-\")))","v":0},null,"",null,null,null,null,null,null,null,null,null,null,null,null,null,null,null,{"$f":"IF(Sheet1!C24=\"\",\"\",IF(COUNTIF(BR29:CF29,\"-1\"),\"ร\",IF(CX29=\"ปกติ\",SUM(BR29,BS29,BT29,BU29,BV29,BW29,BX29,BY29,BZ29,CA29,CB29,CC29,CD29,CE29,CF29),\"-\")))","v":0},null,"","","","",{"$f":"SUM(CJ29:CL29)","v":0},null,"",null,{"$f":"CM29+CO29","v":{"$error":"#VALUE!"}},{"$f":"IF(CQ29>=50,\"ผ\",\"มผ\")","v":{"$error":"#VALUE!"}},null,{"$f":"IF(CR29=\"\",\"\",IF(CX29=\"\",\"\",IF(CX29=\"ย้าย\",\"-\",IF(CX29=\"จำหน่าย\",\"-\",IF(CX29=\"ขาดเรียนนาน\",\"-\",IF(เวลาเรียน!IO31<80,\"มส\",IF(CR29=\"ร\",\"ร\",VLOOKUP(CR29,$CZ$19:$DB$26,3))))))))","v":{"$error":"#VALUE!"}},null,null,null,{"$f":"IF(เวลาเรียน!IP31=\"\",\"\",เวลาเรียน!IP31)","v":"ปกติ"}]
[24,2520,{"$f":"CONCATENATE(Sheet1!B25)","v":"17091"},{"$f":"CONCATENATE(Sheet1!C25&Sheet1!D25&\"       \"&Sheet1!E25)","v":"เด็กหญิงญาณิศา  วรรณพัฒน์       "},24,null,null,null,null,null,null,null,null,null,null,null,null,null,null,null,null,null,null,null,null,{"$f":"IF(Sheet1!C25=\"\",\"\",IF(COUNTIF(F30:V30,\"-1\"),\"ร\",IF(CX30=\"ปกติ\",SUM(F30,G30,H30,I30,J30,K30,L30,M30,N30,O30,P30,Q30,R30,S30,T30,U30,V30,W30,X30,Y30),\"-\")))","v":0},null,"",null,null,null,null,null,null,null,null,null,null,null,null,null,null,null,null,null,null,null,null,{"$f":"IF(Sheet1!C25=\"\",\"\",IF(COUNTIF(AC30:AS30,\"-1\"),\"ร\",IF(CX30=\"ปกติ\",SUM(AC30,AD30,AE30,AF30,AG30,AH30,AI30,AJ30,AK30,AL30,AM30,AN30,AO30,AP30,AQ30,AR30,AS30),\"-\")))","v":0},null,"",null,null,null,null,null,null,null,null,null,null,null,null,null,null,null,{"$f":"IF(Sheet1!C25=\"\",\"\",IF(COUNTIF(AZ30:BN30,\"-1\"),\"ร\",IF(CX30=\"ปกติ\",SUM(AZ30,BA30,BB30,BC30,BD30,BE30,BF30,BG30,BH30,BI30,BJ30,BK30,BL30,BM30,BN30),\"-\")))","v":0},null,"",null,null,null,null,null,null,null,null,null,null,null,null,null,null,null,{"$f":"IF(Sheet1!C25=\"\",\"\",IF(COUNTIF(BR30:CF30,\"-1\"),\"ร\",IF(CX30=\"ปกติ\",SUM(BR30,BS30,BT30,BU30,BV30,BW30,BX30,BY30,BZ30,CA30,CB30,CC30,CD30,CE30,CF30),\"-\")))","v":0},null,{"$f":"IF(CG30=\"\",\"\",IF(CG30=\"-\",\"-\",IF(CG30=\"ร\",\"ร\",IF(CG30=0,\"\",IF($BO$5=0,\"\",ROUND(CG30/$BP$5,0))))))","v":""},"","","",0,null,"",null,{"$error":"#VALUE!"},{"$error":"#VALUE!"},null,{"$f":"IF(CR30=\"\",\"\",IF(CX30=\"\",\"\",IF(CX30=\"ย้าย\",\"-\",IF(CX30=\"จำหน่าย\",\"-\",IF(CX30=\"ขาดเรียนนาน\",\"-\",IF(เวลาเรียน!IO32<80,\"มส\",IF(CR30=\"ร\",\"ร\",VLOOKUP(CR30,$CZ$19:$DB$26,3))))))))","v":{"$error":"#VALUE!"}},null,null,null,{"$f":"IF(เวลาเรียน!IP32=\"\",\"\",เวลาเรียน!IP32)","v":"ปกติ"}]
[25,2521,{"$f":"CONCATENATE(Sheet1!B26)","v":"17092"},{"$f":"CONCATENATE(Sheet1!C26&Sheet1!D26&\"       \"&Sheet1!E26)","v":"เด็กหญิงกรชนก  คงจันทร์       "},25,null,null,null,null,null,null,null,null,null,null,null,null,null,null,null,null,null,null,null,null,{"$f":"IF(Sheet1!C26=\"\",\"\",IF(COUNTIF(F31:V31,\"-1\"),\"ร\",IF(CX31=\"ปกติ\",SUM(F31,G31,H31,I31,J31,K31,L31,M31,N31,O31,P31,Q31,R31,S31,T31,U31,V31,W31,X31,Y31),\"-\")))","v":0},null,"",null,null,null,null,null,null,null,null,null,null,null,null,null,null,null,null,null,null,null,null,{"$f":"IF(Sheet1!C26=\"\",\"\",IF(COUNTIF(AC31:AS31,\"-1\"),\"ร\",IF(CX31=\"ปกติ\",SUM(AC31,AD31,AE31,AF31,AG31,AH31,AI31,AJ31,AK31,AL31,AM31,AN31,AO31,AP31,AQ31,AR31,AS31),\"-\")))","v":0},null,"",null,null,null,null,null,null,null,null,null,null,null,null,null,null,null,{"$f":"IF(Sheet1!C26=\"\",\"\",IF(COUNTIF(AZ31:BN31,\"-1\"),\"ร\",IF(CX31=\"ปกติ\",SUM(AZ31,BA31,BB31,BC31,BD31,BE31,BF31,BG31,BH31,BI31,BJ31,BK31,BL31,BM31,BN31),\"-\")))","v":0},null,"",null,null,null,null,null,null,null,null,null,null,null,null,null,null,null,{"$f":"IF(Sheet1!C26=\"\",\"\",IF(COUNTIF(BR31:CF31,\"-1\"),\"ร\",IF(CX31=\"ปกติ\",SUM(BR31,BS31,BT31,BU31,BV31,BW31,BX31,BY31,BZ31,CA31,CB31,CC31,CD31,CE31,CF31),\"-\")))","v":0},null,{"$f":"IF(CG31=\"\",\"\",IF(CG31=\"-\",\"-\",IF(CG31=\"ร\",\"ร\",IF(CG31=0,\"\",IF($CG$5=0,\"\",ROUND(CG31/$CH$5,0))))))","v":""},"","","",{"$f":"SUM(CJ31:CL31)","v":0},null,"",null,{"$f":"CM31+CO31","v":{"$error":"#VALUE!"}},{"$error":"#VALUE!"},null,{"$f":"IF(CR31=\"\",\"\",IF(CX31=\"\",\"\",IF(CX31=\"ย้าย\",\"-\",IF(CX31=\"จำหน่าย\",\"-\",IF(CX31=\"ขาดเรียนนาน\",\"-\",IF(เวลาเรียน!IO33<80,\"มส\",IF(CR31=\"ร\",\"ร\",VLOOKUP(CR31,$CZ$19:$DB$26,3))))))))","v":{"$error":"#VALUE!"}},null,null,null,{"$f":"IF(เวลาเรียน!IP33=\"\",\"\",เวลาเรียน!IP33)","v":"ปกติ"}]
[26,2522,{"$f":"CONCATENATE(Sheet1!B27)","v":"17093"},{"$f":"CONCATENATE(Sheet1!C27&Sheet1!D27&\"       \"&Sheet1!E27)","v":"เด็กหญิงอาทิตยา  อ่วมทองดี       "},{"$f":"Sheet1!H27","v":26},null,null,null,null,null,null,null,null,null,null,null,null,null,null,null,null,null,null,null,null,{"$f":"IF(Sheet1!C27=\"\",\"\",IF(COUNTIF(F32:V32,\"-1\"),\"ร\",IF(CX32=\"ปกติ\",SUM(F32,G32,H32,I32,J32,K32,L32,M32,N32,O32,P32,Q32,R32,S32,T32,U32,V32,W32,X32,Y32),\"-\")))","v":0},null,"",null,null,null,null,null,null,null,null,null,null,null,null,null,null,null,null,null,null,null,null,{"$f":"IF(Sheet1!C27=\"\",\"\",IF(COUNTIF(AC32:AS32,\"-1\"),\"ร\",IF(CX32=\"ปกติ\",SUM(AC32,AD32,AE32,AF32,AG32,AH32,AI32,AJ32,AK32,AL32,AM32,AN32,AO32,AP32,AQ32,AR32,AS32),\"-\")))","v":0},null,"",null,null,null,null,null,null,null,null,null,null,null,null,null,null,null,{"$f":"IF(Sheet1!C27=\"\",\"\",IF(COUNTIF(AZ32:BN32,\"-1\"),\"ร\",IF(CX32=\"ปกติ\",SUM(AZ32,BA32,BB32,BC32,BD32,BE32,BF32,BG32,BH32,BI32,BJ32,BK32,BL32,BM32,BN32),\"-\")))","v":0},null,"",null,null,null,null,null,null,null,null,null,null,null,null,null,null,null,{"$f":"IF(Sheet1!C27=\"\",\"\",IF(COUNTIF(BR32:CF32,\"-1\"),\"ร\",IF(CX32=\"ปกติ\",SUM(BR32,BS32,BT32,BU32,BV32,BW32,BX32,BY32,BZ32,CA32,CB32,CC32,CD32,CE32,CF32),\"-\")))","v":0},null,{"$f":"IF(CG32=\"\",\"\",IF(CG32=\"-\",\"-\",IF(CG32=\"ร\",\"ร\",IF(CG32=0,\"\",IF($CG$5=0,\"\",ROUND(CG32/$CH$5,0))))))","v":""},"","","",{"$f":"SUM(CJ32:CL32)","v":0},null,"",null,{"$f":"CM32+CO32","v":{"$error":"#VALUE!"}},{"$f":"IF(CQ32>=50,\"ผ\",\"มผ\")","v":{"$error":"#VALUE!"}},null,{"$f":"IF(CR32=\"\",\"\",IF(CX32=\"\",\"\",IF(CX32=\"ย้าย\",\"-\",IF(CX32=\"จำหน่าย\",\"-\",IF(CX32=\"ขาดเรียนนาน\",\"-\",IF(เวลาเรียน!IO34<80,\"มส\",IF(CR32=\"ร\",\"ร\",VLOOKUP(CR32,$CZ$19:$DB$26,3))))))))","v":{"$error":"#VALUE!"}},null,null,null,{"$f":"IF(เวลาเรียน!IP34=\"\",\"\",เวลาเรียน!IP34)","v":"ปกติ"}]
[27,2523,{"$f":"CONCATENATE(Sheet1!B28)","v":"17095"},{"$f":"CONCATENATE(Sheet1!C28&Sheet1!D28&\"       \"&Sheet1!E28)","v":"เด็กหญิงณัฏฐนันท์  เหมือนทอง       "},{"$f":"Sheet1!H28","v":27},null,null,null,null,null,null,null,null,null,null,null,null,null,null,null,null,null,null,null,null,{"$f":"IF(Sheet1!C28=\"\",\"\",IF(COUNTIF(F33:V33,\"-1\"),\"ร\",IF(CX33=\"ปกติ\",SUM(F33,G33,H33,I33,J33,K33,L33,M33,N33,O33,P33,Q33,R33,S33,T33,U33,V33,W33,X33,Y33),\"-\")))","v":0},null,"",null,null,null,null,null,null,null,null,null,null,null,null,null,null,null,null,null,null,null,null,{"$f":"IF(Sheet1!C28=\"\",\"\",IF(COUNTIF(AC33:AS33,\"-1\"),\"ร\",IF(CX33=\"ปกติ\",SUM(AC33,AD33,AE33,AF33,AG33,AH33,AI33,AJ33,AK33,AL33,AM33,AN33,AO33,AP33,AQ33,AR33,AS33),\"-\")))","v":0},null,"",null,null,null,null,null,null,null,null,null,null,null,null,null,null,null,{"$f":"IF(Sheet1!C28=\"\",\"\",IF(COUNTIF(AZ33:BN33,\"-1\"),\"ร\",IF(CX33=\"ปกติ\",SUM(AZ33,BA33,BB33,BC33,BD33,BE33,BF33,BG33,BH33,BI33,BJ33,BK33,BL33,BM33,BN33),\"-\")))","v":0},null,"",null,null,null,null,null,null,null,null,null,null,null,null,null,null,null,{"$f":"IF(Sheet1!C28=\"\",\"\",IF(COUNTIF(BR33:CF33,\"-1\"),\"ร\",IF(CX33=\"ปกติ\",SUM(BR33,BS33,BT33,BU33,BV33,BW33,BX33,BY33,BZ33,CA33,CB33,CC33,CD33,CE33,CF33),\"-\")))","v":0},null,{"$f":"IF(CG33=\"\",\"\",IF(CG33=\"-\",\"-\",IF(CG33=\"ร\",\"ร\",IF(CG33=0,\"\",IF($CG$5=0,\"\",ROUND(CG33/$CH$5,0))))))","v":""},"","","",{"$f":"SUM(CJ33:CL33)","v":0},null,"",null,{"$f":"CM33+CO33","v":{"$error":"#VALUE!"}},{"$f":"IF(CQ33>=50,\"ผ\",\"มผ\")","v":{"$error":"#VALUE!"}},null,{"$f":"IF(CR33=\"\",\"\",IF(CX33=\"\",\"\",IF(CX33=\"ย้าย\",\"-\",IF(CX33=\"จำหน่าย\",\"-\",IF(CX33=\"ขาดเรียนนาน\",\"-\",IF(เวลาเรียน!IO35<80,\"มส\",IF(CR33=\"ร\",\"ร\",VLOOKUP(CR33,$CZ$19:$DB$26,3))))))))","v":{"$error":"#VALUE!"}},null,null,null,{"$f":"IF(เวลาเรียน!IP35=\"\",\"\",เวลาเรียน!IP35)","v":"ปกติ"}]
[28,2524,{"$f":"CONCATENATE(Sheet1!B29)","v":"18483"},{"$f":"CONCATENATE(Sheet1!C29&Sheet1!D29&\"       \"&Sheet1!E29)","v":"เด็กชายศรันย์  นาคสวัสดิ์       "},{"$f":"Sheet1!H29","v":28},null,null,null,null,null,null,null,null,null,null,null,null,null,null,null,null,null,null,null,null,{"$f":"IF(Sheet1!C29=\"\",\"\",IF(COUNTIF(F34:V34,\"-1\"),\"ร\",IF(CX34=\"ปกติ\",SUM(F34,G34,H34,I34,J34,K34,L34,M34,N34,O34,P34,Q34,R34,S34,T34,U34,V34,W34,X34,Y34),\"-\")))","v":0},null,"",null,null,null,null,null,null,null,null,null,null,null,null,null,null,null,null,null,null,null,null,{"$f":"IF(Sheet1!C29=\"\",\"\",IF(COUNTIF(AC34:AS34,\"-1\"),\"ร\",IF(CX34=\"ปกติ\",SUM(AC34,AD34,AE34,AF34,AG34,AH34,AI34,AJ34,AK34,AL34,AM34,AN34,AO34,AP34,AQ34,AR34,AS34),\"-\")))","v":0},null,"",null,null,null,null,null,null,null,null,null,null,null,null,null,null,null,{"$f":"IF(Sheet1!C29=\"\",\"\",IF(COUNTIF(AZ34:BN34,\"-1\"),\"ร\",IF(CX34=\"ปกติ\",SUM(AZ34,BA34,BB34,BC34,BD34,BE34,BF34,BG34,BH34,BI34,BJ34,BK34,BL34,BM34,BN34),\"-\")))","v":0},null,"",null,null,null,null,null,null,null,null,null,null,null,null,null,null,null,{"$f":"IF(Sheet1!C29=\"\",\"\",IF(COUNTIF(BR34:CF34,\"-1\"),\"ร\",IF(CX34=\"ปกติ\",SUM(BR34,BS34,BT34,BU34,BV34,BW34,BX34,BY34,BZ34,CA34,CB34,CC34,CD34,CE34,CF34),\"-\")))","v":0},null,{"$f":"IF(CG34=\"\",\"\",IF(CG34=\"-\",\"-\",IF(CG34=\"ร\",\"ร\",IF(CG34=0,\"\",IF($CG$5=0,\"\",ROUND(CG34/$CH$5,0))))))","v":""},"","","",{"$f":"SUM(CJ34:CL34)","v":0},null,"",null,{"$f":"CM34+CO34","v":{"$error":"#VALUE!"}},{"$f":"IF(CQ34>=50,\"ผ\",\"มผ\")","v":{"$error":"#VALUE!"}},null,{"$f":"IF(CR34=\"\",\"\",IF(CX34=\"\",\"\",IF(CX34=\"ย้าย\",\"-\",IF(CX34=\"จำหน่าย\",\"-\",IF(CX34=\"ขาดเรียนนาน\",\"-\",IF(เวลาเรียน!IO36<80,\"มส\",IF(CR34=\"ร\",\"ร\",VLOOKUP(CR34,$CZ$19:$DB$26,3))))))))","v":{"$error":"#VALUE!"}},null,null,null,{"$f":"IF(เวลาเรียน!IP36=\"\",\"\",เวลาเรียน!IP36)","v":"ปกติ"}]
[29,2525,{"$f":"CONCATENATE(Sheet1!B30)","v":"18484"},{"$f":"CONCATENATE(Sheet1!C30&Sheet1!D30&\"       \"&Sheet1!E30)","v":"เด็กหญิงณธิดา  บุญฤทธิ์       "},{"$f":"Sheet1!H30","v":29},null,null,null,null,null,null,null,null,null,null,null,null,null,null,null,null,null,null,null,null,{"$f":"IF(Sheet1!C30=\"\",\"\",IF(COUNTIF(F35:V35,\"-1\"),\"ร\",IF(CX35=\"ปกติ\",SUM(F35,G35,H35,I35,J35,K35,L35,M35,N35,O35,P35,Q35,R35,S35,T35,U35,V35,W35,X35,Y35),\"-\")))","v":0},null,"",null,null,null,null,null,null,null,null,null,null,null,null,null,null,null,null,null,null,null,null,{"$f":"IF(Sheet1!C30=\"\",\"\",IF(COUNTIF(AC35:AS35,\"-1\"),\"ร\",IF(CX35=\"ปกติ\",SUM(AC35,AD35,AE35,AF35,AG35,AH35,AI35,AJ35,AK35,AL35,AM35,AN35,AO35,AP35,AQ35,AR35,AS35),\"-\")))","v":0},null,"",null,null,null,null,null,null,null,null,null,null,null,null,null,null,null,{"$f":"IF(Sheet1!C30=\"\",\"\",IF(COUNTIF(AZ35:BN35,\"-1\"),\"ร\",IF(CX35=\"ปกติ\",SUM(AZ35,BA35,BB35,BC35,BD35,BE35,BF35,BG35,BH35,BI35,BJ35,BK35,BL35,BM35,BN35),\"-\")))","v":0},null,"",null,null,null,null,null,null,null,null,null,null,null,null,null,null,null,{"$f":"IF(Sheet1!C30=\"\",\"\",IF(COUNTIF(BR35:CF35,\"-1\"),\"ร\",IF(CX35=\"ปกติ\",SUM(BR35,BS35,BT35,BU35,BV35,BW35,BX35,BY35,BZ35,CA35,CB35,CC35,CD35,CE35,CF35),\"-\")))","v":0},null,{"$f":"IF(CG35=\"\",\"\",IF(CG35=\"-\",\"-\",IF(CG35=\"ร\",\"ร\",IF(CG35=0,\"\",IF($BO$5=0,\"\",ROUND(CG35/$BP$5,0))))))","v":""},"","","",0,null,"",null,{"$error":"#VALUE!"},{"$error":"#VALUE!"},null,{"$f":"IF(CR35=\"\",\"\",IF(CX35=\"\",\"\",IF(CX35=\"ย้าย\",\"-\",IF(CX35=\"จำหน่าย\",\"-\",IF(CX35=\"ขาดเรียนนาน\",\"-\",IF(เวลาเรียน!IO37<80,\"มส\",IF(CR35=\"ร\",\"ร\",VLOOKUP(CR35,$CZ$19:$DB$26,3))))))))","v":{"$error":"#VALUE!"}},null,null,null,{"$f":"IF(เวลาเรียน!IP37=\"\",\"\",เวลาเรียน!IP37)","v":"ปกติ"}]
[30,2526,{"$f":"CONCATENATE(Sheet1!B31)","v":"18485"},{"$f":"CONCATENATE(Sheet1!C31&Sheet1!D31&\"       \"&Sheet1!E31)","v":"เด็กหญิงปวันพัสตร์  ตั้งสันทัศน์กุล       "},{"$f":"Sheet1!H31","v":30},null,null,null,null,null,null,null,null,null,null,null,null,null,null,null,null,null,null,null,null,{"$f":"IF(Sheet1!C31=\"\",\"\",IF(COUNTIF(F36:V36,\"-1\"),\"ร\",IF(CX36=\"ปกติ\",SUM(F36,G36,H36,I36,J36,K36,L36,M36,N36,O36,P36,Q36,R36,S36,T36,U36,V36,W36,X36,Y36),\"-\")))","v":0},null,"",null,null,null,null,null,null,null,null,null,null,null,null,null,null,null,null,null,null,null,null,{"$f":"IF(Sheet1!C31=\"\",\"\",IF(COUNTIF(AC36:AS36,\"-1\"),\"ร\",IF(CX36=\"ปกติ\",SUM(AC36,AD36,AE36,AF36,AG36,AH36,AI36,AJ36,AK36,AL36,AM36,AN36,AO36,AP36,AQ36,AR36,AS36),\"-\")))","v":0},null,"",null,null,null,null,null,null,null,null,null,null,null,null,null,null,null,{"$f":"IF(Sheet1!C31=\"\",\"\",IF(COUNTIF(AZ36:BN36,\"-1\"),\"ร\",IF(CX36=\"ปกติ\",SUM(AZ36,BA36,BB36,BC36,BD36,BE36,BF36,BG36,BH36,BI36,BJ36,BK36,BL36,BM36,BN36),\"-\")))","v":0},null,"",null,null,null,null,null,null,null,null,null,null,null,null,null,null,null,{"$f":"IF(Sheet1!C31=\"\",\"\",IF(COUNTIF(BR36:CF36,\"-1\"),\"ร\",IF(CX36=\"ปกติ\",SUM(BR36,BS36,BT36,BU36,BV36,BW36,BX36,BY36,BZ36,CA36,CB36,CC36,CD36,CE36,CF36),\"-\")))","v":0},null,{"$f":"IF(CG36=\"\",\"\",IF(CG36=\"-\",\"-\",IF(CG36=\"ร\",\"ร\",IF(CG36=0,\"\",IF($CG$5=0,\"\",ROUND(CG36/$CH$5,0))))))","v":""},"","","",{"$f":"SUM(CJ36:CL36)","v":0},null,"",null,{"$f":"CM36+CO36","v":{"$error":"#VALUE!"}},{"$error":"#VALUE!"},null,{"$f":"IF(CR36=\"\",\"\",IF(CX36=\"\",\"\",IF(CX36=\"ย้าย\",\"-\",IF(CX36=\"จำหน่าย\",\"-\",IF(CX36=\"ขาดเรียนนาน\",\"-\",IF(เวลาเรียน!IO38<80,\"มส\",IF(CR36=\"ร\",\"ร\",VLOOKUP(CR36,$CZ$19:$DB$26,3))))))))","v":{"$error":"#VALUE!"}},null,null,null,{"$f":"IF(เวลาเรียน!IP38=\"\",\"\",เวลาเรียน!IP38)","v":"ปกติ"}]
[31,2528,{"$f":"CONCATENATE(Sheet1!B32)","v":"18506"},{"$f":"CONCATENATE(Sheet1!C32&Sheet1!D32&\"       \"&Sheet1!E32)","v":"เด็กชายกันต์กมล  วิชัยดิษฐ       "},{"$f":"Sheet1!H32","v":31},null,null,null,null,null,null,null,null,null,null,null,null,null,null,null,null,null,null,null,null,{"$f":"IF(Sheet1!C32=\"\",\"\",IF(COUNTIF(F37:V37,\"-1\"),\"ร\",IF(CX37=\"ปกติ\",SUM(F37,G37,H37,I37,J37,K37,L37,M37,N37,O37,P37,Q37,R37,S37,T37,U37,V37,W37,X37,Y37),\"-\")))","v":0},null,{"$f":"IF(Z37=\"\",\"\",IF(Z37=\"-\",\"-\",IF(Z37=\"ร\",\"ร\",IF(Z37=0,\"\",IF($Z$5=0,\"\",ROUND(Z37/$AA$5,0))))))","v":""},null,null,null,null,null,null,null,null,null,null,null,null,null,null,null,null,null,null,null,null,{"$f":"IF(Sheet1!C32=\"\",\"\",IF(COUNTIF(AC37:AS37,\"-1\"),\"ร\",IF(CX37=\"ปกติ\",SUM(AC37,AD37,AE37,AF37,AG37,AH37,AI37,AJ37,AK37,AL37,AM37,AN37,AO37,AP37,AQ37,AR37,AS37),\"-\")))","v":0},null,{"$f":"IF(AW37=\"\",\"\",IF(AW37=\"-\",\"-\",IF(AW37=\"ร\",\"ร\",IF(AW37=0,\"\",IF($AW$5=0,\"\",ROUND(AW37/$AX$5,0))))))","v":""},null,null,null,null,null,null,null,null,null,null,null,null,null,null,null,{"$f":"IF(Sheet1!C32=\"\",\"\",IF(COUNTIF(AZ37:BN37,\"-1\"),\"ร\",IF(CX37=\"ปกติ\",SUM(AZ37,BA37,BB37,BC37,BD37,BE37,BF37,BG37,BH37,BI37,BJ37,BK37,BL37,BM37,BN37),\"-\")))","v":0},null,{"$f":"IF(BO37=\"\",\"\",IF(BO37=\"-\",\"-\",IF(BO37=\"ร\",\"ร\",IF(BO37=0,\"\",IF($BO$5=0,\"\",ROUND(BO37/$BP$5,0))))))","v":""},null,null,null,null,null,null,null,null,null,null,null,null,null,null,null,{"$f":"IF(Sheet1!C32=\"\",\"\",IF(COUNTIF(BR37:CF37,\"-1\"),\"ร\",IF(CX37=\"ปกติ\",SUM(BR37,BS37,BT37,BU37,BV37,BW37,BX37,BY37,BZ37,CA37,CB37,CC37,CD37,CE37,CF37),\"-\")))","v":0},null,{"$f":"IF(CG37=\"\",\"\",IF(CG37=\"-\",\"-\",IF(CG37=\"ร\",\"ร\",IF(CG37=0,\"\",IF($CG$5=0,\"\",ROUND(CG37/$CH$5,0))))))","v":""},{"$f":"AB37","v":""},{"$f":"AY37","v":""},{"$f":"BQ37","v":""},{"$f":"SUM(CJ37:CL37)","v":0},null,{"$f":"IF(CX37=\"\",\"\",IF(CX37=\"ปกติ\",IF(CI37=\"\",\"\",(CI37*($D$4/100))),\"\"))","v":""},null,{"$f":"CM37+CO37","v":{"$error":"#VALUE!"}},{"$f":"IF(CQ37>=50,\"ผ\",\"มผ\")","v":{"$error":"#VALUE!"}},null,{"$f":"IF(CR37=\"\",\"\",IF(CX37=\"\",\"\",IF(CX37=\"ย้าย\",\"-\",IF(CX37=\"จำหน่าย\",\"-\",IF(CX37=\"ขาดเรียนนาน\",\"-\",IF(เวลาเรียน!IO39<80,\"มส\",IF(CR37=\"ร\",\"ร\",VLOOKUP(CR37,$CZ$19:$DB$26,3))))))))","v":{"$error":"#VALUE!"}},null,null,null,{"$f":"IF(เวลาเรียน!IP39=\"\",\"\",เวลาเรียน!IP39)","v":"ปกติ"}]
[32,2529,{"$f":"CONCATENATE(Sheet1!B33)","v":"18910"},{"$f":"CONCATENATE(Sheet1!C33&Sheet1!D33&\"       \"&Sheet1!E33)","v":"เด็กชายทินภัทร  ทัดดอกไม้       "},{"$f":"Sheet1!H33","v":32},null,null,null,null,null,null,null,null,null,null,null,null,null,null,null,null,null,null,null,null,{"$f":"IF(Sheet1!C33=\"\",\"\",IF(COUNTIF(F38:V38,\"-1\"),\"ร\",IF(CX38=\"ปกติ\",SUM(F38,G38,H38,I38,J38,K38,L38,M38,N38,O38,P38,Q38,R38,S38,T38,U38,V38,W38,X38,Y38),\"-\")))","v":0},null,"",null,null,null,null,null,null,null,null,null,null,null,null,null,null,null,null,null,null,null,null,{"$f":"IF(Sheet1!C33=\"\",\"\",IF(COUNTIF(AC38:AS38,\"-1\"),\"ร\",IF(CX38=\"ปกติ\",SUM(AC38,AD38,AE38,AF38,AG38,AH38,AI38,AJ38,AK38,AL38,AM38,AN38,AO38,AP38,AQ38,AR38,AS38),\"-\")))","v":0},null,"",null,null,null,null,null,null,null,null,null,null,null,null,null,null,null,{"$f":"IF(Sheet1!C33=\"\",\"\",IF(COUNTIF(AZ38:BN38,\"-1\"),\"ร\",IF(CX38=\"ปกติ\",SUM(AZ38,BA38,BB38,BC38,BD38,BE38,BF38,BG38,BH38,BI38,BJ38,BK38,BL38,BM38,BN38),\"-\")))","v":0},null,"",null,null,null,null,null,null,null,null,null,null,null,null,null,null,null,{"$f":"IF(Sheet1!C33=\"\",\"\",IF(COUNTIF(BR38:CF38,\"-1\"),\"ร\",IF(CX38=\"ปกติ\",SUM(BR38,BS38,BT38,BU38,BV38,BW38,BX38,BY38,BZ38,CA38,CB38,CC38,CD38,CE38,CF38),\"-\")))","v":0},null,{"$f":"IF(CG38=\"\",\"\",IF(CG38=\"-\",\"-\",IF(CG38=\"ร\",\"ร\",IF(CG38=0,\"\",IF($CG$5=0,\"\",ROUND(CG38/$CH$5,0))))))","v":""},"","","",{"$f":"SUM(CJ38:CL38)","v":0},null,"",null,{"$f":"CM38+CO38","v":{"$error":"#VALUE!"}},{"$f":"IF(CQ38>=50,\"ผ\",\"มผ\")","v":{"$error":"#VALUE!"}},null,{"$f":"IF(CR38=\"\",\"\",IF(CX38=\"\",\"\",IF(CX38=\"ย้าย\",\"-\",IF(CX38=\"จำหน่าย\",\"-\",IF(CX38=\"ขาดเรียนนาน\",\"-\",IF(เวลาเรียน!IO40<80,\"มส\",IF(CR38=\"ร\",\"ร\",VLOOKUP(CR38,$CZ$19:$DB$26,3))))))))","v":{"$error":"#VALUE!"}},null,null,null,{"$f":"IF(เวลาเรียน!IP40=\"\",\"\",เวลาเรียน!IP40)","v":"ปกติ"}]
[33,0,{"$f":"CONCATENATE(Sheet1!B34)","v":"18913"},{"$f":"CONCATENATE(Sheet1!C34&Sheet1!D34&\"       \"&Sheet1!E34)","v":"เด็กชายปิยะวัฒน์  วิโรจน์       "},{"$f":"Sheet1!H34","v":33},null,null,null,null,null,null,null,null,null,null,null,null,null,null,null,null,null,null,null,null,{"$f":"IF(Sheet1!C34=\"\",\"\",IF(COUNTIF(F39:V39,\"-1\"),\"ร\",IF(CX39=\"ปกติ\",SUM(F39,G39,H39,I39,J39,K39,L39,M39,N39,O39,P39,Q39,R39,S39,T39,U39,V39,W39,X39,Y39),\"-\")))","v":0},null,"",null,null,null,null,null,null,null,null,null,null,null,null,null,null,null,null,null,null,null,null,{"$f":"IF(Sheet1!C34=\"\",\"\",IF(COUNTIF(AC39:AS39,\"-1\"),\"ร\",IF(CX39=\"ปกติ\",SUM(AC39,AD39,AE39,AF39,AG39,AH39,AI39,AJ39,AK39,AL39,AM39,AN39,AO39,AP39,AQ39,AR39,AS39),\"-\")))","v":0},null,"",null,null,null,null,null,null,null,null,null,null,null,null,null,null,null,{"$f":"IF(Sheet1!C34=\"\",\"\",IF(COUNTIF(AZ39:BN39,\"-1\"),\"ร\",IF(CX39=\"ปกติ\",SUM(AZ39,BA39,BB39,BC39,BD39,BE39,BF39,BG39,BH39,BI39,BJ39,BK39,BL39,BM39,BN39),\"-\")))","v":0},null,"",null,null,null,null,null,null,null,null,null,null,null,null,null,null,null,{"$f":"IF(Sheet1!C34=\"\",\"\",IF(COUNTIF(BR39:CF39,\"-1\"),\"ร\",IF(CX39=\"ปกติ\",SUM(BR39,BS39,BT39,BU39,BV39,BW39,BX39,BY39,BZ39,CA39,CB39,CC39,CD39,CE39,CF39),\"-\")))","v":0},null,{"$f":"IF(CG39=\"\",\"\",IF(CG39=\"-\",\"-\",IF(CG39=\"ร\",\"ร\",IF(CG39=0,\"\",IF($CG$5=0,\"\",ROUND(CG39/$CH$5,0))))))","v":""},"","","",{"$f":"SUM(CJ39:CL39)","v":0},null,"",null,{"$f":"CM39+CO39","v":{"$error":"#VALUE!"}},{"$f":"IF(CQ39>=50,\"ผ\",\"มผ\")","v":{"$error":"#VALUE!"}},null,{"$f":"IF(CR39=\"\",\"\",IF(CX39=\"\",\"\",IF(CX39=\"ย้าย\",\"-\",IF(CX39=\"จำหน่าย\",\"-\",IF(CX39=\"ขาดเรียนนาน\",\"-\",IF(เวลาเรียน!IO41<80,\"มส\",IF(CR39=\"ร\",\"ร\",VLOOKUP(CR39,$CZ$19:$DB$26,3))))))))","v":{"$error":"#VALUE!"}},null,null,null,{"$f":"IF(เวลาเรียน!IP41=\"\",\"\",เวลาเรียน!IP41)","v":"ปกติ"}]
[null,null,{"$f":"CONCATENATE(Sheet1!B35)","v":"18935"},{"$f":"CONCATENATE(Sheet1!C35&Sheet1!D35&\"       \"&Sheet1!E35)","v":"เด็กหญิงศกลภัทร  ชาวน้ำ       "},{"$f":"Sheet1!H35","v":34},null,null,null,null,null,null,null,null,null,null,null,null,null,null,null,null,null,null,null,null,{"$f":"IF(Sheet1!C35=\"\",\"\",IF(COUNTIF(F40:V40,\"-1\"),\"ร\",IF(CX40=\"ปกติ\",SUM(F40,G40,H40,I40,J40,K40,L40,M40,N40,O40,P40,Q40,R40,S40,T40,U40,V40,W40,X40,Y40),\"-\")))","v":0},null,"",null,null,null,null,null,null,null,null,null,null,null,null,null,null,null,null,null,null,null,null,{"$f":"IF(Sheet1!C35=\"\",\"\",IF(COUNTIF(AC40:AS40,\"-1\"),\"ร\",IF(CX40=\"ปกติ\",SUM(AC40,AD40,AE40,AF40,AG40,AH40,AI40,AJ40,AK40,AL40,AM40,AN40,AO40,AP40,AQ40,AR40,AS40),\"-\")))","v":0},null,"",null,null,null,null,null,null,null,null,null,null,null,null,null,null,null,{"$f":"IF(Sheet1!C35=\"\",\"\",IF(COUNTIF(AZ40:BN40,\"-1\"),\"ร\",IF(CX40=\"ปกติ\",SUM(AZ40,BA40,BB40,BC40,BD40,BE40,BF40,BG40,BH40,BI40,BJ40,BK40,BL40,BM40,BN40),\"-\")))","v":0},null,"",null,null,null,null,null,null,null,null,null,null,null,null,null,null,null,{"$f":"IF(Sheet1!C35=\"\",\"\",IF(COUNTIF(BR40:CF40,\"-1\"),\"ร\",IF(CX40=\"ปกติ\",SUM(BR40,BS40,BT40,BU40,BV40,BW40,BX40,BY40,BZ40,CA40,CB40,CC40,CD40,CE40,CF40),\"-\")))","v":0},null,{"$f":"IF(CG40=\"\",\"\",IF(CG40=\"-\",\"-\",IF(CG40=\"ร\",\"ร\",IF(CG40=0,\"\",IF($BO$5=0,\"\",ROUND(CG40/$BP$5,0))))))","v":""},"","","",0,null,"",null,{"$error":"#VALUE!"},{"$error":"#VALUE!"},null,{"$f":"IF(CR40=\"\",\"\",IF(CX40=\"\",\"\",IF(CX40=\"ย้าย\",\"-\",IF(CX40=\"จำหน่าย\",\"-\",IF(CX40=\"ขาดเรียนนาน\",\"-\",IF(เวลาเรียน!IO42<80,\"มส\",IF(CR40=\"ร\",\"ร\",VLOOKUP(CR40,$CZ$19:$DB$26,3))))))))","v":{"$error":"#VALUE!"}},null,null,null,{"$f":"IF(เวลาเรียน!IP42=\"\",\"\",เวลาเรียน!IP42)","v":"ปกติ"}]
[null,null,{"$f":"CONCATENATE(Sheet1!B36)","v":"19037"},{"$f":"CONCATENATE(Sheet1!C36&Sheet1!D36&\"       \"&Sheet1!E36)","v":"เด็กชายอริญชัย  นครจินดา       "},{"$f":"Sheet1!H36","v":35},null,null,null,null,null,null,null,null,null,null,null,null,null,null,null,null,null,null,null,null,{"$f":"IF(Sheet1!C36=\"\",\"\",IF(COUNTIF(F41:V41,\"-1\"),\"ร\",IF(CX41=\"ปกติ\",SUM(F41,G41,H41,I41,J41,K41,L41,M41,N41,O41,P41,Q41,R41,S41,T41,U41,V41,W41,X41,Y41),\"-\")))","v":0},null,"",null,null,null,null,null,null,null,null,null,null,null,null,null,null,null,null,null,null,null,null,{"$f":"IF(Sheet1!C36=\"\",\"\",IF(COUNTIF(AC41:AS41,\"-1\"),\"ร\",IF(CX41=\"ปกติ\",SUM(AC41,AD41,AE41,AF41,AG41,AH41,AI41,AJ41,AK41,AL41,AM41,AN41,AO41,AP41,AQ41,AR41,AS41),\"-\")))","v":0},null,"",null,null,null,null,null,null,null,null,null,null,null,null,null,null,null,{"$f":"IF(Sheet1!C36=\"\",\"\",IF(COUNTIF(AZ41:BN41,\"-1\"),\"ร\",IF(CX41=\"ปกติ\",SUM(AZ41,BA41,BB41,BC41,BD41,BE41,BF41,BG41,BH41,BI41,BJ41,BK41,BL41,BM41,BN41),\"-\")))","v":0},null,"",null,null,null,null,null,null,null,null,null,null,null,null,null,null,null,{"$f":"IF(Sheet1!C36=\"\",\"\",IF(COUNTIF(BR41:CF41,\"-1\"),\"ร\",IF(CX41=\"ปกติ\",SUM(BR41,BS41,BT41,BU41,BV41,BW41,BX41,BY41,BZ41,CA41,CB41,CC41,CD41,CE41,CF41),\"-\")))","v":0},null,{"$f":"IF(CG41=\"\",\"\",IF(CG41=\"-\",\"-\",IF(CG41=\"ร\",\"ร\",IF(CG41=0,\"\",IF($CG$5=0,\"\",ROUND(CG41/$CH$5,0))))))","v":""},"","","",{"$f":"SUM(CJ41:CL41)","v":0},null,"",null,{"$f":"CM41+CO41","v":{"$error":"#VALUE!"}},{"$error":"#VALUE!"},null,{"$f":"IF(CR41=\"\",\"\",IF(CX41=\"\",\"\",IF(CX41=\"ย้าย\",\"-\",IF(CX41=\"จำหน่าย\",\"-\",IF(CX41=\"ขาดเรียนนาน\",\"-\",IF(เวลาเรียน!IO43<80,\"มส\",IF(CR41=\"ร\",\"ร\",VLOOKUP(CR41,$CZ$19:$DB$26,3))))))))","v":{"$error":"#VALUE!"}},null,null,null,{"$f":"IF(เวลาเรียน!IP43=\"\",\"\",เวลาเรียน!IP43)","v":"ปกติ"}]
[null,null,{"$f":"CONCATENATE(Sheet1!B37)","v":"19038"},{"$f":"CONCATENATE(Sheet1!C37&Sheet1!D37&\"       \"&Sheet1!E37)","v":"เด็กชายภูวรินทร์  กลางประพันธ์       "},{"$f":"Sheet1!H37","v":36},null,null,null,null,null,null,null,null,null,null,null,null,null,null,null,null,null,null,null,null,{"$f":"IF(Sheet1!C37=\"\",\"\",IF(COUNTIF(F42:V42,\"-1\"),\"ร\",IF(CX42=\"ปกติ\",SUM(F42,G42,H42,I42,J42,K42,L42,M42,N42,O42,P42,Q42,R42,S42,T42,U42,V42,W42,X42,Y42),\"-\")))","v":0},null,"",null,null,null,null,null,null,null,null,null,null,null,null,null,null,null,null,null,null,null,null,{"$f":"IF(Sheet1!C37=\"\",\"\",IF(COUNTIF(AC42:AS42,\"-1\"),\"ร\",IF(CX42=\"ปกติ\",SUM(AC42,AD42,AE42,AF42,AG42,AH42,AI42,AJ42,AK42,AL42,AM42,AN42,AO42,AP42,AQ42,AR42,AS42),\"-\")))","v":0},null,"",null,null,null,null,null,null,null,null,null,null,null,null,null,null,null,{"$f":"IF(Sheet1!C37=\"\",\"\",IF(COUNTIF(AZ42:BN42,\"-1\"),\"ร\",IF(CX42=\"ปกติ\",SUM(AZ42,BA42,BB42,BC42,BD42,BE42,BF42,BG42,BH42,BI42,BJ42,BK42,BL42,BM42,BN42),\"-\")))","v":0},null,"",null,null,null,null,null,null,null,null,null,null,null,null,null,null,null,{"$f":"IF(Sheet1!C37=\"\",\"\",IF(COUNTIF(BR42:CF42,\"-1\"),\"ร\",IF(CX42=\"ปกติ\",SUM(BR42,BS42,BT42,BU42,BV42,BW42,BX42,BY42,BZ42,CA42,CB42,CC42,CD42,CE42,CF42),\"-\")))","v":0},null,{"$f":"IF(CG42=\"\",\"\",IF(CG42=\"-\",\"-\",IF(CG42=\"ร\",\"ร\",IF(CG42=0,\"\",IF($CG$5=0,\"\",ROUND(CG42/$CH$5,0))))))","v":""},"","","",{"$f":"SUM(CJ42:CL42)","v":0},null,"",null,{"$f":"CM42+CO42","v":{"$error":"#VALUE!"}},{"$f":"IF(CQ42>=50,\"ผ\",\"มผ\")","v":{"$error":"#VALUE!"}},null,{"$f":"IF(CR42=\"\",\"\",IF(CX42=\"\",\"\",IF(CX42=\"ย้าย\",\"-\",IF(CX42=\"จำหน่าย\",\"-\",IF(CX42=\"ขาดเรียนนาน\",\"-\",IF(เวลาเรียน!IO44<80,\"มส\",IF(CR42=\"ร\",\"ร\",VLOOKUP(CR42,$CZ$19:$DB$26,3))))))))","v":{"$error":"#VALUE!"}},null,null,null,{"$f":"IF(เวลาเรียน!IP44=\"\",\"\",เวลาเรียน!IP44)","v":"ปกติ"}]
[null,null,{"$f":"CONCATENATE(Sheet1!B38)","v":"19039"},{"$f":"CONCATENATE(Sheet1!C38&Sheet1!D38&\"       \"&Sheet1!E38)","v":"เด็กหญิงพรรณวรท  หนูรอด       "},{"$f":"Sheet1!H38","v":37},null,null,null,null,null,null,null,null,null,null,null,null,null,null,null,null,null,null,null,null,{"$f":"IF(Sheet1!C38=\"\",\"\",IF(COUNTIF(F43:V43,\"-1\"),\"ร\",IF(CX43=\"ปกติ\",SUM(F43,G43,H43,I43,J43,K43,L43,M43,N43,O43,P43,Q43,R43,S43,T43,U43,V43,W43,X43,Y43),\"-\")))","v":0},null,"",null,null,null,null,null,null,null,null,null,null,null,null,null,null,null,null,null,null,null,null,{"$f":"IF(Sheet1!C38=\"\",\"\",IF(COUNTIF(AC43:AS43,\"-1\"),\"ร\",IF(CX43=\"ปกติ\",SUM(AC43,AD43,AE43,AF43,AG43,AH43,AI43,AJ43,AK43,AL43,AM43,AN43,AO43,AP43,AQ43,AR43,AS43),\"-\")))","v":0},null,"",null,null,null,null,null,null,null,null,null,null,null,null,null,null,null,{"$f":"IF(Sheet1!C38=\"\",\"\",IF(COUNTIF(AZ43:BN43,\"-1\"),\"ร\",IF(CX43=\"ปกติ\",SUM(AZ43,BA43,BB43,BC43,BD43,BE43,BF43,BG43,BH43,BI43,BJ43,BK43,BL43,BM43,BN43),\"-\")))","v":0},null,"",null,null,null,null,null,null,null,null,null,null,null,null,null,null,null,{"$f":"IF(Sheet1!C38=\"\",\"\",IF(COUNTIF(BR43:CF43,\"-1\"),\"ร\",IF(CX43=\"ปกติ\",SUM(BR43,BS43,BT43,BU43,BV43,BW43,BX43,BY43,BZ43,CA43,CB43,CC43,CD43,CE43,CF43),\"-\")))","v":0},null,{"$f":"IF(CG43=\"\",\"\",IF(CG43=\"-\",\"-\",IF(CG43=\"ร\",\"ร\",IF(CG43=0,\"\",IF($CG$5=0,\"\",ROUND(CG43/$CH$5,0))))))","v":""},"","","",{"$f":"SUM(CJ43:CL43)","v":0},null,"",null,{"$f":"CM43+CO43","v":{"$error":"#VALUE!"}},{"$f":"IF(CQ43>=50,\"ผ\",\"มผ\")","v":{"$error":"#VALUE!"}},null,{"$f":"IF(CR43=\"\",\"\",IF(CX43=\"\",\"\",IF(CX43=\"ย้าย\",\"-\",IF(CX43=\"จำหน่าย\",\"-\",IF(CX43=\"ขาดเรียนนาน\",\"-\",IF(เวลาเรียน!IO45<80,\"มส\",IF(CR43=\"ร\",\"ร\",VLOOKUP(CR43,$CZ$19:$DB$26,3))))))))","v":{"$error":"#VALUE!"}},null,null,null,{"$f":"IF(เวลาเรียน!IP45=\"\",\"\",เวลาเรียน!IP45)","v":"ปกติ"}]
[null,null,{"$f":"CONCATENATE(Sheet1!B39)","v":""},{"$f":"CONCATENATE(Sheet1!C39&Sheet1!D39&\"       \"&Sheet1!E39)","v":"       "},null,null,null,null,null,null,null,null,null,null,null,null,null,null,null,null,null,null,null,null,null,{"$f":"IF(Sheet1!C39=\"\",\"\",IF(COUNTIF(F44:V44,\"-1\"),\"ร\",IF(CX44=\"ปกติ\",SUM(F44,G44,H44,I44,J44,K44,L44,M44,N44,O44,P44,Q44,R44,S44,T44,U44,V44,W44,X44,Y44),\"-\")))","v":""},null,"",null,null,null,null,null,null,null,null,null,null,null,null,null,null,null,null,null,null,null,null,{"$f":"IF(Sheet1!C39=\"\",\"\",IF(COUNTIF(AC44:AS44,\"-1\"),\"ร\",IF(CX44=\"ปกติ\",SUM(AC44,AD44,AE44,AF44,AG44,AH44,AI44,AJ44,AK44,AL44,AM44,AN44,AO44,AP44,AQ44,AR44,AS44),\"-\")))","v":""},null,"",null,null,null,null,null,null,null,null,null,null,null,null,null,null,null,{"$f":"IF(Sheet1!C39=\"\",\"\",IF(COUNTIF(AZ44:BN44,\"-1\"),\"ร\",IF(CX44=\"ปกติ\",SUM(AZ44,BA44,BB44,BC44,BD44,BE44,BF44,BG44,BH44,BI44,BJ44,BK44,BL44,BM44,BN44),\"-\")))","v":""},null,"",null,null,null,null,null,null,null,null,null,null,null,null,null,null,null,{"$f":"IF(Sheet1!C39=\"\",\"\",IF(COUNTIF(BR44:CF44,\"-1\"),\"ร\",IF(CX44=\"ปกติ\",SUM(BR44,BS44,BT44,BU44,BV44,BW44,BX44,BY44,BZ44,CA44,CB44,CC44,CD44,CE44,CF44),\"-\")))","v":""},null,{"$f":"IF(CG44=\"\",\"\",IF(CG44=\"-\",\"-\",IF(CG44=\"ร\",\"ร\",IF(CG44=0,\"\",IF($CG$5=0,\"\",ROUND(CG44/$CH$5,0))))))","v":""},"","","",{"$f":"SUM(CJ44:CL44)","v":0},null,"",null,{"$f":"CM44+CO44","v":{"$error":"#VALUE!"}},{"$f":"IF(CQ44>=50,\"ผ\",\"มผ\")","v":{"$error":"#VALUE!"}},null,{"$f":"IF(CR44=\"\",\"\",IF(CX44=\"\",\"\",IF(CX44=\"ย้าย\",\"-\",IF(CX44=\"จำหน่าย\",\"-\",IF(CX44=\"ขาดเรียนนาน\",\"-\",IF(เวลาเรียน!IO46<80,\"มส\",IF(CR44=\"ร\",\"ร\",VLOOKUP(CR44,$CZ$19:$DB$26,3))))))))","v":{"$error":"#VALUE!"}}]
[null,null,{"$f":"กำหนดอัตราส่วนคะแนน!U4","v":50},null,null,null,null,null,null,null,null,null,null,null,null,null,null,null,null,null,null,null,null,null,null,null,null,null,null,null,null,null,null,null,null,null,null,null,null,null,null,null,null,null,null,null,null,null,null,null,null,null,null,null,null,null,null,null,null,null,null,null,null,null,null,null,null,null,null,null,null,null,null,null,null,null,null,null,null,null,null,null,null,null,null,null,null,null,null,null,null,null,null,null,null,null,null,null,null,null,null,null,null,null,null,null,null,null,null,null,null,null,null,null,null,null,null,null,null,null,{"$f":"กำหนดอัตราส่วนคะแนน!FA4","v":0},null,null,null,null,null,null,null,null,null,null,null,null,null,null,null,null,null,null,null,null,null,null,null,null,null,null,null,null,null,null,null,null,null,null,null,null,null,null,null,null,null,null,null,null,null,null,null,null,null,null,null,null,null,null,null,null,null,null,null,null,null,null,null,null,null,null,null,null,null,null,null,null,null,null,null,null,null,null,null,null,null,null,null,null,{"$f":"COUNTIF(#REF!,\"3\")","v":{"$error":"#REF!"}},{"$f":"COUNTIF(#REF!,\"2\")","v":{"$error":"#REF!"}},{"$f":"COUNTIF(#REF!,\"1\")","v":{"$error":"#REF!"}},{"$f":"COUNTIF(#REF!,\"0\")","v":{"$error":"#REF!"}},null,null,null,null,{"$f":"COUNTIF(#REF!,\"3\")","v":{"$error":"#REF!"}},{"$f":"COUNTIF(#REF!,\"2\")","v":{"$error":"#REF!"}},{"$f":"COUNTIF(#REF!,\"1\")","v":{"$error":"#REF!"}},{"$f":"COUNTIF(#REF!,\"0\")","v":{"$error":"#REF!"}}]
[]
[]
[]
[]
[]
[]
[]
[]
[]
[]
[]
[]
[]
[]
[]
[]
[]
[]
[]
[]
[]
[]
[]
[]
[]
[]
[]
[]
[]
[]
[]
[]
[]
[]
[]
[]
[]
[]
[]
[]
[null,"ท 1.1",null,null,"ม.1/1",null,null,null,null,null,null,null,null,null,null,null,null,null,null,null,null,null,null,null,null,null,null,null,null,null,null,null,null,null,null,null,null,null,null,null,null,null,null,null,null,null,null,null,null,null,null,null,null,null,null,null,null,null,null,null,null,null,null,null,null,null,null,null,null,null,null,null,null,null,null,null,null,null,null,null,null,null,null,null,null,null,null,null,null,null,null,null,null,null,null,null,null,null,null,null,null,null,null,null,null,null,null,null,null,null,null,null,null,null,null,null,null,null,null,null,null,null,"ม.1/1"]
[null,"ท 2.1",null,null,"ม.1/2",null,null,null,null,null,null,null,null,null,null,null,null,null,null,null,null,null,null,null,null,null,null,null,null,null,null,null,null,null,null,null,null,null,null,null,null,null,null,null,null,null,null,null,null,null,null,null,null,null,null,null,null,null,null,null,null,null,null,null,null,null,null,null,null,null,null,null,null,null,null,null,null,null,null,null,null,null,null,null,null,null,null,null,null,null,null,null,null,null,null,null,null,null,null,null,null,null,null,null,null,null,null,null,null,null,null,null,null,null,null,null,null,null,null,null,null,null,"ม.1/2"]
[null,"ท 3.1",null,null,"ม.1/3",null,null,null,null,null,null,null,null,null,null,null,null,null,null,null,null,null,null,null,null,null,null,null,null,null,null,null,null,null,null,null,null,null,null,null,null,null,null,null,null,null,null,null,null,null,null,null,null,null,null,null,null,null,null,null,null,null,null,null,null,null,null,null,null,null,null,null,null,null,null,null,null,null,null,null,null,null,null,null,null,null,null,null,null,null,null,null,null,null,null,null,null,null,null,null,null,null,null,null,null,null,null,null,null,null,null,null,null,null,null,null,null,null,null,null,null,null,"ม.1/3"]
[null,"ท 4.1",null,null,"ม.1/4",null,null,null,null,null,null,null,null,null,null,null,null,null,null,null,null,null,null,null,null,null,null,null,null,null,null,null,null,null,null,null,null,null,null,null,null,null,null,null,null,null,null,null,null,null,null,null,null,null,null,null,null,null,null,null,null,null,null,null,null,null,null,null,null,null,null,null,null,null,null,null,null,null,null,null,null,null,null,null,null,null,null,null,null,null,null,null,null,null,null,null,null,null,null,null,null,null,null,null,null,null,null,null,null,null,null,null,null,null,null,null,null,null,null,null,null,null,"ม.1/4"]
[null,"ท 5.1",null,null,"ม.1/5",null,null,null,null,null,null,null,null,null,null,null,null,null,null,null,null,null,null,null,null,null,null,null,null,null,null,null,null,null,null,null,null,null,null,null,null,null,null,null,null,null,null,null,null,null,null,null,null,null,null,null,null,null,null,null,null,null,null,null,null,null,null,null,null,null,null,null,null,null,null,null,null,null,null,null,null,null,null,null,null,null,null,null,null,null,null,null,null,null,null,null,null,null,null,null,null,null,null,null,null,null,null,null,null,null,null,null,null,null,null,null,null,null,null,null,null,null,"ม.1/5"]
[null,"ค 1.1",null,null,"ม.1/6",null,null,null,null,null,null,null,null,null,null,null,null,null,null,null,null,null,null,null,null,null,null,null,null,null,null,null,null,null,null,null,null,null,null,null,null,null,null,null,null,null,null,null,null,null,null,null,null,null,null,null,null,null,null,null,null,null,null,null,null,null,null,null,null,null,null,null,null,null,null,null,null,null,null,null,null,null,null,null,null,null,null,null,null,null,null,null,null,null,null,null,null,null,null,null,null,null,null,null,null,null,null,null,null,null,null,null,null,null,null,null,null,null,null,null,null,null,"ม.1/6"]
[null,"ค 1.2",null,null,"ม.1/7",null,null,null,null,null,null,null,null,null,null,null,null,null,null,null,null,null,null,null,null,null,null,null,null,null,null,null,null,null,null,null,null,null,null,null,null,null,null,null,null,null,null,null,null,null,null,null,null,null,null,null,null,null,null,null,null,null,null,null,null,null,null,null,null,null,null,null,null,null,null,null,null,null,null,null,null,null,null,null,null,null,null,null,null,null,null,null,null,null,null,null,null,null,null,null,null,null,null,null,null,null,null,null,null,null,null,null,null,null,null,null,null,null,null,null,null,null,"ม.1/7"]
[null,"ค 1.3",null,null,"ม.1/8",null,null,null,null,null,null,null,null,null,null,null,null,null,null,null,null,null,null,null,null,null,null,null,null,null,null,null,null,null,null,null,null,null,null,null,null,null,null,null,null,null,null,null,null,null,null,null,null,null,null,null,null,null,null,null,null,null,null,null,null,null,null,null,null,null,null,null,null,null,null,null,null,null,null,null,null,null,null,null,null,null,null,null,null,null,null,null,null,null,null,null,null,null,null,null,null,null,null,null,null,null,null,null,null,null,null,null,null,null,null,null,null,null,null,null,null,null,"ม.1/8"]
[null,"ค 1.4",null,null,"ม.1/9",null,null,null,null,null,null,null,null,null,null,null,null,null,null,null,null,null,null,null,null,null,null,null,null,null,null,null,null,null,null,null,null,null,null,null,null,null,null,null,null,null,null,null,null,null,null,null,null,null,null,null,null,null,null,null,null,null,null,null,null,null,null,null,null,null,null,null,null,null,null,null,null,null,null,null,null,null,null,null,null,null,null,null,null,null,null,null,null,null,null,null,null,null,null,null,null,null,null,null,null,null,null,null,null,null,null,null,null,null,null,null,null,null,null,null,null,null,"ม.1/9"]
[null,"ค 2.1",null,null,"ม.1/10",null,null,null,null,null,null,null,null,null,null,null,null,null,null,null,null,null,null,null,null,null,null,null,null,null,null,null,null,null,null,null,null,null,null,null,null,null,null,null,null,null,null,null,null,null,null,null,null,null,null,null,null,null,null,null,null,null,null,null,null,null,null,null,null,null,null,null,null,null,null,null,null,null,null,null,null,null,null,null,null,null,null,null,null,null,null,null,null,null,null,null,null,null,null,null,null,null,null,null,null,null,null,null,null,null,null,null,null,null,null,null,null,null,null,null,null,null,"ม.1/10"]
[null,"ค 2.2",null,null,"ม.2/1",null,null,null,null,null,null,null,null,null,null,null,null,null,null,null,null,null,null,null,null,null,null,null,null,null,null,null,null,null,null,null,null,null,null,null,null,null,null,null,null,null,null,null,null,null,null,null,null,null,null,null,null,null,null,null,null,null,null,null,null,null,null,null,null,null,null,null,null,null,null,null,null,null,null,null,null,null,null,null,null,null,null,null,null,null,null,null,null,null,null,null,null,null,null,null,null,null,null,null,null,null,null,null,null,null,null,null,null,null,null,null,null,null,null,null,null,null,"ม.2/1"]
[null,"ค 3.1",null,null,"ม.2/2",null,null,null,null,null,null,null,null,null,null,null,null,null,null,null,null,null,null,null,null,null,null,null,null,null,null,null,null,null,null,null,null,null,null,null,null,null,null,null,null,null,null,null,null,null,null,null,null,null,null,null,null,null,null,null,null,null,null,null,null,null,null,null,null,null,null,null,null,null,null,null,null,null,null,null,null,null,null,null,null,null,null,null,null,null,null,null,null,null,null,null,null,null,null,null,null,null,null,null,null,null,null,null,null,null,null,null,null,null,null,null,null,null,null,null,null,null,"ม.2/2"]
[null,"ค 3.2",null,null,"ม.2/3",null,null,null,null,null,null,null,null,null,null,null,null,null,null,null,null,null,null,null,null,null,null,null,null,null,null,null,null,null,null,null,null,null,null,null,null,null,null,null,null,null,null,null,null,null,null,null,null,null,null,null,null,null,null,null,null,null,null,null,null,null,null,null,null,null,null,null,null,null,null,null,null,null,null,null,null,null,null,null,null,null,null,null,null,null,null,null,null,null,null,null,null,null,null,null,null,null,null,null,null,null,null,null,null,null,null,null,null,null,null,null,null,null,null,null,null,null,"ม.2/3"]
[null,"ค 4.1",null,null,"ม.2/4",null,null,null,null,null,null,null,null,null,null,null,null,null,null,null,null,null,null,null,null,null,null,null,null,null,null,null,null,null,null,null,null,null,null,null,null,null,null,null,null,null,null,null,null,null,null,null,null,null,null,null,null,null,null,null,null,null,null,null,null,null,null,null,null,null,null,null,null,null,null,null,null,null,null,null,null,null,null,null,null,null,null,null,null,null,null,null,null,null,null,null,null,null,null,null,null,null,null,null,null,null,null,null,null,null,null,null,null,null,null,null,null,null,null,null,null,null,"ม.2/4"]
[null,"ค 4.2",null,null,"ม.2/5",null,null,null,null,null,null,null,null,null,null,null,null,null,null,null,null,null,null,null,null,null,null,null,null,null,null,null,null,null,null,null,null,null,null,null,null,null,null,null,null,null,null,null,null,null,null,null,null,null,null,null,null,null,null,null,null,null,null,null,null,null,null,null,null,null,null,null,null,null,null,null,null,null,null,null,null,null,null,null,null,null,null,null,null,null,null,null,null,null,null,null,null,null,null,null,null,null,null,null,null,null,null,null,null,null,null,null,null,null,null,null,null,null,null,null,null,null,"ม.2/5"]
[null,"ค 5.1",null,null,"ม.2/6",null,null,null,null,null,null,null,null,null,null,null,null,null,null,null,null,null,null,null,null,null,null,null,null,null,null,null,null,null,null,null,null,null,null,null,null,null,null,null,null,null,null,null,null,null,null,null,null,null,null,null,null,null,null,null,null,null,null,null,null,null,null,null,null,null,null,null,null,null,null,null,null,null,null,null,null,null,null,null,null,null,null,null,null,null,null,null,null,null,null,null,null,null,null,null,null,null,null,null,null,null,null,null,null,null,null,null,null,null,null,null,null,null,null,null,null,null,"ม.2/6"]
[null,"ค 5.2",null,null,"ม.2/7",null,null,null,null,null,null,null,null,null,null,null,null,null,null,null,null,null,null,null,null,null,null,null,null,null,null,null,null,null,null,null,null,null,null,null,null,null,null,null,null,null,null,null,null,null,null,null,null,null,null,null,null,null,null,null,null,null,null,null,null,null,null,null,null,null,null,null,null,null,null,null,null,null,null,null,null,null,null,null,null,null,null,null,null,null,null,null,null,null,null,null,null,null,null,null,null,null,null,null,null,null,null,null,null,null,null,null,null,null,null,null,null,null,null,null,null,null,"ม.2/7"]
[null,"ค 5.3",null,null,"ม.2/8",null,null,null,null,null,null,null,null,null,null,null,null,null,null,null,null,null,null,null,null,null,null,null,null,null,null,null,null,null,null,null,null,null,null,null,null,null,null,null,null,null,null,null,null,null,null,null,null,null,null,null,null,null,null,null,null,null,null,null,null,null,null,null,null,null,null,null,null,null,null,null,null,null,null,null,null,null,null,null,null,null,null,null,null,null,null,null,null,null,null,null,null,null,null,null,null,null,null,null,null,null,null,null,null,null,null,null,null,null,null,null,null,null,null,null,null,null,"ม.2/8"]
[null,"ค 6.1",null,null,"ม.2/9",null,null,null,null,null,null,null,null,null,null,null,null,null,null,null,null,null,null,null,null,null,null,null,null,null,null,null,null,null,null,null,null,null,null,null,null,null,null,null,null,null,null,null,null,null,null,null,null,null,null,null,null,null,null,null,null,null,null,null,null,null,null,null,null,null,null,null,null,null,null,null,null,null,null,null,null,null,null,null,null,null,null,null,null,null,null,null,null,null,null,null,null,null,null,null,null,null,null,null,null,null,null,null,null,null,null,null,null,null,null,null,null,null,null,null,null,null,"ม.2/9"]
[null,"ว 1.1",null,null,"ม.2/10",null,null,null,null,null,null,null,null,null,null,null,null,null,null,null,null,null,null,null,null,null,null,null,null,null,null,null,null,null,null,null,null,null,null,null,null,null,null,null,null,null,null,null,null,null,null,null,null,null,null,null,null,null,null,null,null,null,null,null,null,null,null,null,null,null,null,null,null,null,null,null,null,null,null,null,null,null,null,null,null,null,null,null,null,null,null,null,null,null,null,null,null,null,null,null,null,null,null,null,null,null,null,null,null,null,null,null,null,null,null,null,null,null,null,null,null,null,"ม.2/10"]
[null,"ว 1.2",null,null,"ม.3/1",null,null,null,null,null,null,null,null,null,null,null,null,null,null,null,null,null,null,null,null,null,null,null,null,null,null,null,null,null,null,null,null,null,null,null,null,null,null,null,null,null,null,null,null,null,null,null,null,null,null,null,null,null,null,null,null,null,null,null,null,null,null,null,null,null,null,null,null,null,null,null,null,null,null,null,null,null,null,null,null,null,null,null,null,null,null,null,null,null,null,null,null,null,null,null,null,null,null,null,null,null,null,null,null,null,null,null,null,null,null,null,null,null,null,null,null,null,"ม.3/1"]
[null,"ว 2.1",null,null,"ม.3/2",null,null,null,null,null,null,null,null,null,null,null,null,null,null,null,null,null,null,null,null,null,null,null,null,null,null,null,null,null,null,null,null,null,null,null,null,null,null,null,null,null,null,null,null,null,null,null,null,null,null,null,null,null,null,null,null,null,null,null,null,null,null,null,null,null,null,null,null,null,null,null,null,null,null,null,null,null,null,null,null,null,null,null,null,null,null,null,null,null,null,null,null,null,null,null,null,null,null,null,null,null,null,null,null,null,null,null,null,null,null,null,null,null,null,null,null,null,"ม.3/2"]
[null,"ว 2.2",null,null,"ม.3/3",null,null,null,null,null,null,null,null,null,null,null,null,null,null,null,null,null,null,null,null,null,null,null,null,null,null,null,null,null,null,null,null,null,null,null,null,null,null,null,null,null,null,null,null,null,null,null,null,null,null,null,null,null,null,null,null,null,null,null,null,null,null,null,null,null,null,null,null,null,null,null,null,null,null,null,null,null,null,null,null,null,null,null,null,null,null,null,null,null,null,null,null,null,null,null,null,null,null,null,null,null,null,null,null,null,null,null,null,null,null,null,null,null,null,null,null,null,"ม.3/3"]
[null,"ว 3.1",null,null,"ม.3/4",null,null,null,null,null,null,null,null,null,null,null,null,null,null,null,null,null,null,null,null,null,null,null,null,null,null,null,null,null,null,null,null,null,null,null,null,null,null,null,null,null,null,null,null,null,null,null,null,null,null,null,null,null,null,null,null,null,null,null,null,null,null,null,null,null,null,null,null,null,null,null,null,null,null,null,null,null,null,null,null,null,null,null,null,null,null,null,null,null,null,null,null,null,null,null,null,null,null,null,null,null,null,null,null,null,null,null,null,null,null,null,null,null,null,null,null,null,"ม.3/4"]
[null,"ว 3.2",null,null,"ม.3/5",null,null,null,null,null,null,null,null,null,null,null,null,null,null,null,null,null,null,null,null,null,null,null,null,null,null,null,null,null,null,null,null,null,null,null,null,null,null,null,null,null,null,null,null,null,null,null,null,null,null,null,null,null,null,null,null,null,null,null,null,null,null,null,null,null,null,null,null,null,null,null,null,null,null,null,null,null,null,null,null,null,null,null,null,null,null,null,null,null,null,null,null,null,null,null,null,null,null,null,null,null,null,null,null,null,null,null,null,null,null,null,null,null,null,null,null,null,"ม.3/5"]
[null,"ว 4.1",null,null,"ม.3/6",null,null,null,null,null,null,null,null,null,null,null,null,null,null,null,null,null,null,null,null,null,null,null,null,null,null,null,null,null,null,null,null,null,null,null,null,null,null,null,null,null,null,null,null,null,null,null,null,null,null,null,null,null,null,null,null,null,null,null,null,null,null,null,null,null,null,null,null,null,null,null,null,null,null,null,null,null,null,null,null,null,null,null,null,null,null,null,null,null,null,null,null,null,null,null,null,null,null,null,null,null,null,null,null,null,null,null,null,null,null,null,null,null,null,null,null,null,"ม.3/6"]
[null,"ว 4.2",null,null,"ม.3/7",null,null,null,null,null,null,null,null,null,null,null,null,null,null,null,null,null,null,null,null,null,null,null,null,null,null,null,null,null,null,null,null,null,null,null,null,null,null,null,null,null,null,null,null,null,null,null,null,null,null,null,null,null,null,null,null,null,null,null,null,null,null,null,null,null,null,null,null,null,null,null,null,null,null,null,null,null,null,null,null,null,null,null,null,null,null,null,null,null,null,null,null,null,null,null,null,null,null,null,null,null,null,null,null,null,null,null,null,null,null,null,null,null,null,null,null,null,"ม.3/7"]
[null,"ว 5.1",null,null,"ม.3/8",null,null,null,null,null,null,null,null,null,null,null,null,null,null,null,null,null,null,null,null,null,null,null,null,null,null,null,null,null,null,null,null,null,null,null,null,null,null,null,null,null,null,null,null,null,null,null,null,null,null,null,null,null,null,null,null,null,null,null,null,null,null,null,null,null,null,null,null,null,null,null,null,null,null,null,null,null,null,null,null,null,null,null,null,null,null,null,null,null,null,null,null,null,null,null,null,null,null,null,null,null,null,null,null,null,null,null,null,null,null,null,null,null,null,null,null,null,"ม.3/8"]
[null,"ว 6.1",null,null,"ม.3/9",null,null,null,null,null,null,null,null,null,null,null,null,null,null,null,null,null,null,null,null,null,null,null,null,null,null,null,null,null,null,null,null,null,null,null,null,null,null,null,null,null,null,null,null,null,null,null,null,null,null,null,null,null,null,null,null,null,null,null,null,null,null,null,null,null,null,null,null,null,null,null,null,null,null,null,null,null,null,null,null,null,null,null,null,null,null,null,null,null,null,null,null,null,null,null,null,null,null,null,null,null,null,null,null,null,null,null,null,null,null,null,null,null,null,null,null,null,"ม.3/9"]
[null,"ว 7.1",null,null,"ม.3/10",null,null,null,null,null,null,null,null,null,null,null,null,null,null,null,null,null,null,null,null,null,null,null,null,null,null,null,null,null,null,null,null,null,null,null,null,null,null,null,null,null,null,null,null,null,null,null,null,null,null,null,null,null,null,null,null,null,null,null,null,null,null,null,null,null,null,null,null,null,null,null,null,null,null,null,null,null,null,null,null,null,null,null,null,null,null,null,null,null,null,null,null,null,null,null,null,null,null,null,null,null,null,null,null,null,null,null,null,null,null,null,null,null,null,null,null,null,"ม.3/10"]
[null,"ว 7.2",null,null,"ม.4-6/1",null,null,null,null,null,null,null,null,null,null,null,null,null,null,null,null,null,null,null,null,null,null,null,null,null,null,null,null,null,null,null,null,null,null,null,null,null,null,null,null,null,null,null,null,null,null,null,null,null,null,null,null,null,null,null,null,null,null,null,null,null,null,null,null,null,null,null,null,null,null,null,null,null,null,null,null,null,null,null,null,null,null,null,null,null,null,null,null,null,null,null,null,null,null,null,null,null,null,null,null,null,null,null,null,null,null,null,null,null,null,null,null,null,null,null,null,null,"ม.4-6/1"]
[null,"ว 8.1",null,null,"ม.4-6/2",null,null,null,null,null,null,null,null,null,null,null,null,null,null,null,null,null,null,null,null,null,null,null,null,null,null,null,null,null,null,null,null,null,null,null,null,null,null,null,null,null,null,null,null,null,null,null,null,null,null,null,null,null,null,null,null,null,null,null,null,null,null,null,null,null,null,null,null,null,null,null,null,null,null,null,null,null,null,null,null,null,null,null,null,null,null,null,null,null,null,null,null,null,null,null,null,null,null,null,null,null,null,null,null,null,null,null,null,null,null,null,null,null,null,null,null,null,"ม.4-6/2"]
[null,"ส 1.1",null,null,"ม.4-6/3",null,null,null,null,null,null,null,null,null,null,null,null,null,null,null,null,null,null,null,null,null,null,null,null,null,null,null,null,null,null,null,null,null,null,null,null,null,null,null,null,null,null,null,null,null,null,null,null,null,null,null,null,null,null,null,null,null,null,null,null,null,null,null,null,null,null,null,null,null,null,null,null,null,null,null,null,null,null,null,null,null,null,null,null,null,null,null,null,null,null,null,null,null,null,null,null,null,null,null,null,null,null,null,null,null,null,null,null,null,null,null,null,null,null,null,null,null,"ม.4-6/3"]
[null,"ส 1.2",null,null,"ม.4-6/4",null,null,null,null,null,null,null,null,null,null,null,null,null,null,null,null,null,null,null,null,null,null,null,null,null,null,null,null,null,null,null,null,null,null,null,null,null,null,null,null,null,null,null,null,null,null,null,null,null,null,null,null,null,null,null,null,null,null,null,null,null,null,null,null,null,null,null,null,null,null,null,null,null,null,null,null,null,null,null,null,null,null,null,null,null,null,null,null,null,null,null,null,null,null,null,null,null,null,null,null,null,null,null,null,null,null,null,null,null,null,null,null,null,null,null,null,null,"ม.4-6/4"]
[null,"ส 2.1",null,null,"ม.4-6/5",null,null,null,null,null,null,null,null,null,null,null,null,null,null,null,null,null,null,null,null,null,null,null,null,null,null,null,null,null,null,null,null,null,null,null,null,null,null,null,null,null,null,null,null,null,null,null,null,null,null,null,null,null,null,null,null,null,null,null,null,null,null,null,null,null,null,null,null,null,null,null,null,null,null,null,null,null,null,null,null,null,null,null,null,null,null,null,null,null,null,null,null,null,null,null,null,null,null,null,null,null,null,null,null,null,null,null,null,null,null,null,null,null,null,null,null,null,"ม.4-6/5"]
[null,"ส 2.2",null,null,"ม.4-6/6",null,null,null,null,null,null,null,null,null,null,null,null,null,null,null,null,null,null,null,null,null,null,null,null,null,null,null,null,null,null,null,null,null,null,null,null,null,null,null,null,null,null,null,null,null,null,null,null,null,null,null,null,null,null,null,null,null,null,null,null,null,null,null,null,null,null,null,null,null,null,null,null,null,null,null,null,null,null,null,null,null,null,null,null,null,null,null,null,null,null,null,null,null,null,null,null,null,null,null,null,null,null,null,null,null,null,null,null,null,null,null,null,null,null,null,null,null,"ม.4-6/6"]
[null,"ส 3.1",null,null,"ม.4-6/7",null,null,null,null,null,null,null,null,null,null,null,null,null,null,null,null,null,null,null,null,null,null,null,null,null,null,null,null,null,null,null,null,null,null,null,null,null,null,null,null,null,null,null,null,null,null,null,null,null,null,null,null,null,null,null,null,null,null,null,null,null,null,null,null,null,null,null,null,null,null,null,null,null,null,null,null,null,null,null,null,null,null,null,null,null,null,null,null,null,null,null,null,null,null,null,null,null,null,null,null,null,null,null,null,null,null,null,null,null,null,null,null,null,null,null,null,null,"ม.4-6/7"]
[null,"ส 3.2",null,null,"ม.4-6/8",null,null,null,null,null,null,null,null,null,null,null,null,null,null,null,null,null,null,null,null,null,null,null,null,null,null,null,null,null,null,null,null,null,null,null,null,null,null,null,null,null,null,null,null,null,null,null,null,null,null,null,null,null,null,null,null,null,null,null,null,null,null,null,null,null,null,null,null,null,null,null,null,null,null,null,null,null,null,null,null,null,null,null,null,null,null,null,null,null,null,null,null,null,null,null,null,null,null,null,null,null,null,null,null,null,null,null,null,null,null,null,null,null,null,null,null,null,"ม.4-6/8"]
[null,"ส 4.1",null,null,"ม.4-6/9",null,null,null,null,null,null,null,null,null,null,null,null,null,null,null,null,null,null,null,null,null,null,null,null,null,null,null,null,null,null,null,null,null,null,null,null,null,null,null,null,null,null,null,null,null,null,null,null,null,null,null,null,null,null,null,null,null,null,null,null,null,null,null,null,null,null,null,null,null,null,null,null,null,null,null,null,null,null,null,null,null,null,null,null,null,null,null,null,null,null,null,null,null,null,null,null,null,null,null,null,null,null,null,null,null,null,null,null,null,null,null,null,null,null,null,null,null,"ม.4-6/9"]
[null,"ส 4.2",null,null,"ม.4-6/10",null,null,null,null,null,null,null,null,null,null,null,null,null,null,null,null,null,null,null,null,null,null,null,null,null,null,null,null,null,null,null,null,null,null,null,null,null,null,null,null,null,null,null,null,null,null,null,null,null,null,null,null,null,null,null,null,null,null,null,null,null,null,null,null,null,null,null,null,null,null,null,null,null,null,null,null,null,null,null,null,null,null,null,null,null,null,null,null,null,null,null,null,null,null,null,null,null,null,null,null,null,null,null,null,null,null,null,null,null,null,null,null,null,null,null,null,null,"ม.4-6/10"]
[null,"ส 4.2",null,null,"ม.4-6/11",null,null,null,null,null,null,null,null,null,null,null,null,null,null,null,null,null,null,null,null,null,null,null,null,null,null,null,null,null,null,null,null,null,null,null,null,null,null,null,null,null,null,null,null,null,null,null,null,null,null,null,null,null,null,null,null,null,null,null,null,null,null,null,null,null,null,null,null,null,null,null,null,null,null,null,null,null,null,null,null,null,null,null,null,null,null,null,null,null,null,null,null,null,null,null,null,null,null,null,null,null,null,null,null,null,null,null,null,null,null,null,null,null,null,null,null,null,"ม.4-6/11"]
[null,"ส 5.1",null,null,"ม.4-6/12",null,null,null,null,null,null,null,null,null,null,null,null,null,null,null,null,null,null,null,null,null,null,null,null,null,null,null,null,null,null,null,null,null,null,null,null,null,null,null,null,null,null,null,null,null,null,null,null,null,null,null,null,null,null,null,null,null,null,null,null,null,null,null,null,null,null,null,null,null,null,null,null,null,null,null,null,null,null,null,null,null,null,null,null,null,null,null,null,null,null,null,null,null,null,null,null,null,null,null,null,null,null,null,null,null,null,null,null,null,null,null,null,null,null,null,null,null,"ม.4-6/12"]
[null,"ส 5.2",null,null,"ม.4-6/13",null,null,null,null,null,null,null,null,null,null,null,null,null,null,null,null,null,null,null,null,null,null,null,null,null,null,null,null,null,null,null,null,null,null,null,null,null,null,null,null,null,null,null,null,null,null,null,null,null,null,null,null,null,null,null,null,null,null,null,null,null,null,null,null,null,null,null,null,null,null,null,null,null,null,null,null,null,null,null,null,null,null,null,null,null,null,null,null,null,null,null,null,null,null,null,null,null,null,null,null,null,null,null,null,null,null,null,null,null,null,null,null,null,null,null,null,null,"ม.4-6/13"]
[null,"พ 1.1",null,null,"ม.4-6/14",null,null,null,null,null,null,null,null,null,null,null,null,null,null,null,null,null,null,null,null,null,null,null,null,null,null,null,null,null,null,null,null,null,null,null,null,null,null,null,null,null,null,null,null,null,null,null,null,null,null,null,null,null,null,null,null,null,null,null,null,null,null,null,null,null,null,null,null,null,null,null,null,null,null,null,null,null,null,null,null,null,null,null,null,null,null,null,null,null,null,null,null,null,null,null,null,null,null,null,null,null,null,null,null,null,null,null,null,null,null,null,null,null,null,null,null,null,"ม.4-6/14"]
[null,"พ 2.1",null,null,"ม.4-6/15",null,null,null,null,null,null,null,null,null,null,null,null,null,null,null,null,null,null,null,null,null,null,null,null,null,null,null,null,null,null,null,null,null,null,null,null,null,null,null,null,null,null,null,null,null,null,null,null,null,null,null,null,null,null,null,null,null,null,null,null,null,null,null,null,null,null,null,null,null,null,null,null,null,null,null,null,null,null,null,null,null,null,null,null,null,null,null,null,null,null,null,null,null,null,null,null,null,null,null,null,null,null,null,null,null,null,null,null,null,null,null,null,null,null,null,null,null,"ม.4-6/15"]
[null,"พ 3.1",null,null,"ม.4-6/16",null,null,null,null,null,null,null,null,null,null,null,null,null,null,null,null,null,null,null,null,null,null,null,null,null,null,null,null,null,null,null,null,null,null,null,null,null,null,null,null,null,null,null,null,null,null,null,null,null,null,null,null,null,null,null,null,null,null,null,null,null,null,null,null,null,null,null,null,null,null,null,null,null,null,null,null,null,null,null,null,null,null,null,null,null,null,null,null,null,null,null,null,null,null,null,null,null,null,null,null,null,null,null,null,null,null,null,null,null,null,null,null,null,null,null,null,null,"ม.4-6/16"]
[null,"พ 3.2",null,null,"ม.4-6/17",null,null,null,null,null,null,null,null,null,null,null,null,null,null,null,null,null,null,null,null,null,null,null,null,null,null,null,null,null,null,null,null,null,null,null,null,null,null,null,null,null,null,null,null,null,null,null,null,null,null,null,null,null,null,null,null,null,null,null,null,null,null,null,null,null,null,null,null,null,null,null,null,null,null,null,null,null,null,null,null,null,null,null,null,null,null,null,null,null,null,null,null,null,null,null,null,null,null,null,null,null,null,null,null,null,null,null,null,null,null,null,null,null,null,null,null,null,"ม.4-6/17"]
[null,"พ 4.1",null,null,"ม.4-6/18",null,null,null,null,null,null,null,null,null,null,null,null,null,null,null,null,null,null,null,null,null,null,null,null,null,null,null,null,null,null,null,null,null,null,null,null,null,null,null,null,null,null,null,null,null,null,null,null,null,null,null,null,null,null,null,null,null,null,null,null,null,null,null,null,null,null,null,null,null,null,null,null,null,null,null,null,null,null,null,null,null,null,null,null,null,null,null,null,null,null,null,null,null,null,null,null,null,null,null,null,null,null,null,null,null,null,null,null,null,null,null,null,null,null,null,null,null,"ม.4-6/18"]
[null,"พ 5.1",null,null,"ม.4-6/19",null,null,null,null,null,null,null,null,null,null,null,null,null,null,null,null,null,null,null,null,null,null,null,null,null,null,null,null,null,null,null,null,null,null,null,null,null,null,null,null,null,null,null,null,null,null,null,null,null,null,null,null,null,null,null,null,null,null,null,null,null,null,null,null,null,null,null,null,null,null,null,null,null,null,null,null,null,null,null,null,null,null,null,null,null,null,null,null,null,null,null,null,null,null,null,null,null,null,null,null,null,null,null,null,null,null,null,null,null,null,null,null,null,null,null,null,null,"ม.4-6/19"]
[null,"ศ. 1.1",null,null,"ม.4-6/20",null,null,null,null,null,null,null,null,null,null,null,null,null,null,null,null,null,null,null,null,null,null,null,null,null,null,null,null,null,null,null,null,null,null,null,null,null,null,null,null,null,null,null,null,null,null,null,null,null,null,null,null,null,null,null,null,null,null,null,null,null,null,null,null,null,null,null,null,null,null,null,null,null,null,null,null,null,null,null,null,null,null,null,null,null,null,null,null,null,null,null,null,null,null,null,null,null,null,null,null,null,null,null,null,null,null,null,null,null,null,null,null,null,null,null,null,null,"ม.4-6/20"]
[null,"ศ 1.2",null,null,"ม.4-6/21",null,null,null,null,null,null,null,null,null,null,null,null,null,null,null,null,null,null,null,null,null,null,null,null,null,null,null,null,null,null,null,null,null,null,null,null,null,null,null,null,null,null,null,null,null,null,null,null,null,null,null,null,null,null,null,null,null,null,null,null,null,null,null,null,null,null,null,null,null,null,null,null,null,null,null,null,null,null,null,null,null,null,null,null,null,null,null,null,null,null,null,null,null,null,null,null,null,null,null,null,null,null,null,null,null,null,null,null,null,null,null,null,null,null,null,null,null,"ม.4-6/21"]
[null,"ศ 2.1",null,null,"ม.4-6/22",null,null,null,null,null,null,null,null,null,null,null,null,null,null,null,null,null,null,null,null,null,null,null,null,null,null,null,null,null,null,null,null,null,null,null,null,null,null,null,null,null,null,null,null,null,null,null,null,null,null,null,null,null,null,null,null,null,null,null,null,null,null,null,null,null,null,null,null,null,null,null,null,null,null,null,null,null,null,null,null,null,null,null,null,null,null,null,null,null,null,null,null,null,null,null,null,null,null,null,null,null,null,null,null,null,null,null,null,null,null,null,null,null,null,null,null,null,"ม.4-6/22"]
[null,"ศ 2.2",null,null,"ม.4-6/23",null,null,null,null,null,null,null,null,null,null,null,null,null,null,null,null,null,null,null,null,null,null,null,null,null,null,null,null,null,null,null,null,null,null,null,null,null,null,null,null,null,null,null,null,null,null,null,null,null,null,null,null,null,null,null,null,null,null,null,null,null,null,null,null,null,null,null,null,null,null,null,null,null,null,null,null,null,null,null,null,null,null,null,null,null,null,null,null,null,null,null,null,null,null,null,null,null,null,null,null,null,null,null,null,null,null,null,null,null,null,null,null,null,null,null,null,null,"ม.4-6/23"]
[null,"ศ 3.1",null,null,"ม.4-6/24",null,null,null,null,null,null,null,null,null,null,null,null,null,null,null,null,null,null,null,null,null,null,null,null,null,null,null,null,null,null,null,null,null,null,null,null,null,null,null,null,null,null,null,null,null,null,null,null,null,null,null,null,null,null,null,null,null,null,null,null,null,null,null,null,null,null,null,null,null,null,null,null,null,null,null,null,null,null,null,null,null,null,null,null,null,null,null,null,null,null,null,null,null,null,null,null,null,null,null,null,null,null,null,null,null,null,null,null,null,null,null,null,null,null,null,null,null,"ม.4-6/24"]
[null,"ศ 3.2",null,null,"ม.4-6/25",null,null,null,null,null,null,null,null,null,null,null,null,null,null,null,null,null,null,null,null,null,null,null,null,null,null,null,null,null,null,null,null,null,null,null,null,null,null,null,null,null,null,null,null,null,null,null,null,null,null,null,null,null,null,null,null,null,null,null,null,null,null,null,null,null,null,null,null,null,null,null,null,null,null,null,null,null,null,null,null,null,null,null,null,null,null,null,null,null,null,null,null,null,null,null,null,null,null,null,null,null,null,null,null,null,null,null,null,null,null,null,null,null,null,null,null,null,"ม.4-6/25"]
[null,"ง 1.1",null,null,"ม.4-6/26",null,null,null,null,null,null,null,null,null,null,null,null,null,null,null,null,null,null,null,null,null,null,null,null,null,null,null,null,null,null,null,null,null,null,null,null,null,null,null,null,null,null,null,null,null,null,null,null,null,null,null,null,null,null,null,null,null,null,null,null,null,null,null,null,null,null,null,null,null,null,null,null,null,null,null,null,null,null,null,null,null,null,null,null,null,null,null,null,null,null,null,null,null,null,null,null,null,null,null,null,null,null,null,null,null,null,null,null,null,null,null,null,null,null,null,null,null,"ม.4-6/26"]
[null,"ง 2.1",null,null,"ม.4-6/27",null,null,null,null,null,null,null,null,null,null,null,null,null,null,null,null,null,null,null,null,null,null,null,null,null,null,null,null,null,null,null,null,null,null,null,null,null,null,null,null,null,null,null,null,null,null,null,null,null,null,null,null,null,null,null,null,null,null,null,null,null,null,null,null,null,null,null,null,null,null,null,null,null,null,null,null,null,null,null,null,null,null,null,null,null,null,null,null,null,null,null,null,null,null,null,null,null,null,null,null,null,null,null,null,null,null,null,null,null,null,null,null,null,null,null,null,null,"ม.4-6/27"]
[null,"ง 3.1",null,null,"ม.4-6/28",null,null,null,null,null,null,null,null,null,null,null,null,null,null,null,null,null,null,null,null,null,null,null,null,null,null,null,null,null,null,null,null,null,null,null,null,null,null,null,null,null,null,null,null,null,null,null,null,null,null,null,null,null,null,null,null,null,null,null,null,null,null,null,null,null,null,null,null,null,null,null,null,null,null,null,null,null,null,null,null,null,null,null,null,null,null,null,null,null,null,null,null,null,null,null,null,null,null,null,null,null,null,null,null,null,null,null,null,null,null,null,null,null,null,null,null,null,"ม.4-6/28"]
[null,"ง 4.1",null,null,"ม.4-6/29",null,null,null,null,null,null,null,null,null,null,null,null,null,null,null,null,null,null,null,null,null,null,null,null,null,null,null,null,null,null,null,null,null,null,null,null,null,null,null,null,null,null,null,null,null,null,null,null,null,null,null,null,null,null,null,null,null,null,null,null,null,null,null,null,null,null,null,null,null,null,null,null,null,null,null,null,null,null,null,null,null,null,null,null,null,null,null,null,null,null,null,null,null,null,null,null,null,null,null,null,null,null,null,null,null,null,null,null,null,null,null,null,null,null,null,null,null,"ม.4-6/29"]
[null,"ต 1.1",null,null,"ม.4-6/30",null,null,null,null,null,null,null,null,null,null,null,null,null,null,null,null,null,null,null,null,null,null,null,null,null,null,null,null,null,null,null,null,null,null,null,null,null,null,null,null,null,null,null,null,null,null,null,null,null,null,null,null,null,null,null,null,null,null,null,null,null,null,null,null,null,null,null,null,null,null,null,null,null,null,null,null,null,null,null,null,null,null,null,null,null,null,null,null,null,null,null,null,null,null,null,null,null,null,null,null,null,null,null,null,null,null,null,null,null,null,null,null,null,null,null,null,null,"ม.4-6/30"]
[null,"ต 1.2"]
[null,"ต 1.3"]
[null,"ต 2.1"]
[null,"ต 2.2"]
[null,"ต 3.1"]
[null,"ต 4.1"]
[null,"ต 4.2"]

{"sheet":"คุณลักษณะอันพึงประสงค์","index":7,"n_rows":54,"n_cols":31,"rows_kept":54,"cut":false,"hidden":true,"merged":[[4,29,4,30],[2,0,3,0],[2,1,3,1],[5,28,6,28],[2,25,3,25],[1,0,1,2],[7,28,11,28],[12,28,14,28],[2,4,2,11],[2,13,3,13],[2,2,3,2],[2,3,3,3],[2,16,3,16],[2,17,2,24],[2,12,3,12],[2,26,3,26]]}
[null,null,"การประเมิน","คุณลักษณะอันพึงประสงค์ ภาคเรียนที่ 1",null,null,null,null,null,null,null,null,null,null,null,null,"คุณลักษณะอันพึงประสงค์"]
[{"$f":"\"นักเรียน\"&ปก!AF11&ปก!AL11","v":"นักเรียนชั้นประถมศึกษาปีที่ 4/4"},null,null,{"$f":"ใบรายชื่อ!$A$4","v":"กิจกรรม{{โปรดกรอกข้อมูลรายวิชา}}        ปีการศึกษา 2567"},null,null,null,null,null,null,null,null,null,null,null,null,{"$f":"ใบรายชื่อ!$A$4","v":"กิจกรรม{{โปรดกรอกข้อมูลรายวิชา}}        ปีการศึกษา 2567"}]
["เลขที่","เลขประจำตัว","ชื่อ - ชื่อสกุล","เลขที่","คุณลักษณะอันพึงประสงค์ข้อที่",null,null,null,null,null,null,null,"ระดับผลการประเมิน","ผลการประเมิน\nภาคเรียนที่ 1",null,null,"เลขที่","คุณลักษณะอันพึงประสงค์ข้อที่",null,null,null,null,null,null,null,"ระดับผลการประเมิน","ผลการประเมิน"]
[null,null,null,null,1,2,3,4,5,6,7,8,null,null,null,null,null,1,2,3,4,5,6,7,8,null,null,null,"เกณฑ์การประเมินคุณลักษณะอันพึงประสงค์"]
[1,{"$f":"Sheet1!B2","v":15329},{"$f":"Sheet1!C2&Sheet1!#REF!&\"    \"&Sheet1!#REF!","v":{"$error":"#REF!"}},1,null,null,null,null,null,null,null,null,{"$f":"IF(N5=\"\",\"\",IF(N5=\"ดีเยี่ยม\",3,IF(N5=\"ดี\",2,IF(N5=\"ผ่าน\",1,IF(N5=\"ไม่ผ่าน\",0)))))","v":""},{"$f":"IF(E5=\"\",\"\",(IF(F5=\"\",\"\",(IF(G5=\"\",\"\",(IF(H5=\"\",\"\",(IF(I5=\"\",\"\",(IF(J5=\"\",\"\",IF(K5=\"\",\"\",(IF(L5=\"\",\"\",(IF(COUNTIF(E5:L5,0)>0,\"ไม่ผ่าน\",IF(AND(COUNTIF(E5:L5,3)>=5,COUNTIF(E5:L5,\"<2\")=0),\"ดีเยี่ยม\",IF(OR(AND(AND(COUNTIF(E5:L5,3)>=1,COUNTIF(E5:L5,3)<=4),COUNTIF(E5:L5,\"<2\")=0),COUNTIF(E5:L5,2)=8,AND(COUNTIF(E5:L5,\">=2\")>=5,COUNTIF(E5:L5,1)>0)),\"ดี\",IF(OR(COUNTIF(E5:L5,1)=8,AND(COUNTIF(E5:L5,\">=2\")>=1,COUNTIF(E5:L5,\">=2\")<=4)),\"ผ่าน\",\"ไม่ผ่าน\")))))))))))))))))))","v":""},"เก็บ+กลาง",{"$f":"SUM(#REF!,#REF!)","v":{"$error":"#REF!"}},1,null,null,null,null,null,null,null,null,{"$f":"IF(AA5=\"\",\"\",IF(AA5=\"ดีเยี่ยม\",3,IF(AA5=\"ดี\",2,IF(AA5=\"ผ่าน\",1,IF(AA5=\"ไม่ผ่าน\",0)))))","v":""},{"$f":"IF(R5=\"\",\"\",(IF(S5=\"\",\"\",(IF(T5=\"\",\"\",(IF(U5=\"\",\"\",(IF(V5=\"\",\"\",(IF(W5=\"\",\"\",IF(X5=\"\",\"\",(IF(Y5=\"\",\"\",(IF(COUNTIF(R5:Y5,0)>0,\"ไม่ผ่าน\",IF(AND(COUNTIF(R5:Y5,3)>=5,COUNTIF(R5:Y5,\"<2\")=0),\"ดีเยี่ยม\",IF(OR(AND(AND(COUNTIF(R5:Y5,3)>=1,COUNTIF(R5:Y5,3)<=4),COUNTIF(R5:Y5,\"<2\")=0),COUNTIF(R5:Y5,2)=8,AND(COUNTIF(R5:Y5,\">=2\")>=5,COUNTIF(R5:Y5,1)>0)),\"ดี\",IF(OR(COUNTIF(R5:Y5,1)=8,AND(COUNTIF(R5:Y5,\">=2\")>=1,COUNTIF(R5:Y5,\">=2\")<=4)),\"ผ่าน\",\"ไม่ผ่าน\")))))))))))))))))))","v":""},null,"ระดับ","เกณฑ์การพิจรณา"]
[2,{"$f":"Sheet1!B3","v":15330},{"$f":"Sheet1!C3&Sheet1!#REF!&\"    \"&Sheet1!#REF!","v":{"$error":"#REF!"}},2,null,null,null,null,null,null,null,null,{"$f":"IF(N6=\"\",\"\",IF(N6=\"ดีเยี่ยม\",3,IF(N6=\"ดี\",2,IF(N6=\"ผ่าน\",1,IF(N6=\"ไม่ผ่าน\",0)))))","v":""},{"$f":"IF(E6=\"\",\"\",(IF(F6=\"\",\"\",(IF(G6=\"\",\"\",(IF(H6=\"\",\"\",(IF(I6=\"\",\"\",(IF(J6=\"\",\"\",IF(K6=\"\",\"\",(IF(L6=\"\",\"\",(IF(COUNTIF(E6:L6,0)>0,\"ไม่ผ่าน\",IF(AND(COUNTIF(E6:L6,3)>=5,COUNTIF(E6:L6,\"<2\")=0),\"ดีเยี่ยม\",IF(OR(AND(AND(COUNTIF(E6:L6,3)>=1,COUNTIF(E6:L6,3)<=4),COUNTIF(E6:L6,\"<2\")=0),COUNTIF(E6:L6,2)=8,AND(COUNTIF(E6:L6,\">=2\")>=5,COUNTIF(E6:L6,1)>0)),\"ดี\",IF(OR(COUNTIF(E6:L6,1)=8,AND(COUNTIF(E6:L6,\">=2\")>=1,COUNTIF(E6:L6,\">=2\")<=4)),\"ผ่าน\",\"ไม่ผ่าน\")))))))))))))))))))","v":""},"ปลาย",{"$f":"#REF!","v":{"$error":"#REF!"}},2,null,null,null,null,null,null,null,null,{"$f":"IF(AA6=\"\",\"\",IF(AA6=\"ดีเยี่ยม\",3,IF(AA6=\"ดี\",2,IF(AA6=\"ผ่าน\",1,IF(AA6=\"ไม่ผ่าน\",0)))))","v":""},{"$f":"IF(R6=\"\",\"\",(IF(S6=\"\",\"\",(IF(T6=\"\",\"\",(IF(U6=\"\",\"\",(IF(V6=\"\",\"\",(IF(W6=\"\",\"\",IF(X6=\"\",\"\",(IF(Y6=\"\",\"\",(IF(COUNTIF(R6:Y6,0)>0,\"ไม่ผ่าน\",IF(AND(COUNTIF(R6:Y6,3)>=5,COUNTIF(R6:Y6,\"<2\")=0),\"ดีเยี่ยม\",IF(OR(AND(AND(COUNTIF(R6:Y6,3)>=1,COUNTIF(R6:Y6,3)<=4),COUNTIF(R6:Y6,\"<2\")=0),COUNTIF(R6:Y6,2)=8,AND(COUNTIF(R6:Y6,\">=2\")>=5,COUNTIF(R6:Y6,1)>0)),\"ดี\",IF(OR(COUNTIF(R6:Y6,1)=8,AND(COUNTIF(R6:Y6,\">=2\")>=1,COUNTIF(R6:Y6,\">=2\")<=4)),\"ผ่าน\",\"ไม่ผ่าน\")))))))))))))))))))","v":""},null,"ดีเยี่ยม(3)",1,"ได้ผลการประเมินระดับดีเยี่ยม จำนวน 5-8 คุณลักษณะ และไม่มีคุณลักษณะใด"]
[3,{"$f":"Sheet1!B4","v":15335},{"$f":"Sheet1!C4&Sheet1!#REF!&\"    \"&Sheet1!#REF!","v":{"$error":"#REF!"}},3,null,null,null,null,null,null,null,null,"",{"$f":"IF(E7=\"\",\"\",(IF(F7=\"\",\"\",(IF(G7=\"\",\"\",(IF(H7=\"\",\"\",(IF(I7=\"\",\"\",(IF(J7=\"\",\"\",IF(K7=\"\",\"\",(IF(L7=\"\",\"\",(IF(COUNTIF(E7:L7,0)>0,\"ไม่ผ่าน\",IF(AND(COUNTIF(E7:L7,3)>=5,COUNTIF(E7:L7,\"<2\")=0),\"ดีเยี่ยม\",IF(OR(AND(AND(COUNTIF(E7:L7,3)>=1,COUNTIF(E7:L7,3)<=4),COUNTIF(E7:L7,\"<2\")=0),COUNTIF(E7:L7,2)=8,AND(COUNTIF(E7:L7,\">=2\")>=5,COUNTIF(E7:L7,1)>0)),\"ดี\",IF(OR(COUNTIF(E7:L7,1)=8,AND(COUNTIF(E7:L7,\">=2\")>=1,COUNTIF(E7:L7,\">=2\")<=4)),\"ผ่าน\",\"ไม่ผ่าน\")))))))))))))))))))","v":""},"รวม",{"$f":"SUM(P5+P6)","v":{"$error":"#REF!"}},3,null,null,null,null,null,null,null,null,"",{"$f":"IF(R7=\"\",\"\",(IF(S7=\"\",\"\",(IF(T7=\"\",\"\",(IF(U7=\"\",\"\",(IF(V7=\"\",\"\",(IF(W7=\"\",\"\",IF(X7=\"\",\"\",(IF(Y7=\"\",\"\",(IF(COUNTIF(R7:Y7,0)>0,\"ไม่ผ่าน\",IF(AND(COUNTIF(R7:Y7,3)>=5,COUNTIF(R7:Y7,\"<2\")=0),\"ดีเยี่ยม\",IF(OR(AND(AND(COUNTIF(R7:Y7,3)>=1,COUNTIF(R7:Y7,3)<=4),COUNTIF(R7:Y7,\"<2\")=0),COUNTIF(R7:Y7,2)=8,AND(COUNTIF(R7:Y7,\">=2\")>=5,COUNTIF(R7:Y7,1)>0)),\"ดี\",IF(OR(COUNTIF(R7:Y7,1)=8,AND(COUNTIF(R7:Y7,\">=2\")>=1,COUNTIF(R7:Y7,\">=2\")<=4)),\"ผ่าน\",\"ไม่ผ่าน\")))))))))))))))))))","v":""},null,null,null,"ได้ผลการประเมินต่ำกว่าระดับดี"]
[4,{"$f":"Sheet1!B5","v":15346},{"$f":"Sheet1!C5&Sheet1!#REF!&\"    \"&Sheet1!#REF!","v":{"$error":"#REF!"}},4,null,null,null,null,null,null,null,null,"","",null,null,4,null,null,null,null,null,null,null,null,"","",null,"ดี(2)",1,"ได้ผลการประเมินระดับดีเยี่ยม จำนวน 1-4 คุณลักษณะ และไม่มีคุณลักษณะใด"]
[5,{"$f":"Sheet1!B6","v":15354},{"$f":"Sheet1!C6&Sheet1!#REF!&\"    \"&Sheet1!#REF!","v":{"$error":"#REF!"}},5,null,null,null,null,null,null,null,null,"","",null,null,5,null,null,null,null,null,null,null,null,"","",null,null,null,"ได้ผลการประเมินต่ำกว่าระดับดี หรือ"]
[6,{"$f":"Sheet1!B7","v":15357},{"$f":"Sheet1!C7&Sheet1!#REF!&\"    \"&Sheet1!#REF!","v":{"$error":"#REF!"}},6,null,null,null,null,null,null,null,null,"","",null,null,6,null,null,null,null,null,null,null,null,"","",null,null,2,"ได้ผลการประเมินระดับดี ทั้ง 8 คุณลักษณะ หรือ"]
[7,{"$f":"Sheet1!B8","v":15366},{"$f":"Sheet1!C8&Sheet1!#REF!&\"    \"&Sheet1!#REF!","v":{"$error":"#REF!"}},7,null,null,null,null,null,null,null,null,"","",null,null,7,null,null,null,null,null,null,null,null,"","",null,null,3,"ได้ผลการประเมินตั้งแต่ระดับดีขึ้นไป จำนวน 5-7 คุณลักษณะ และมีบางคุณลักษณะ"]
[8,{"$f":"Sheet1!B9","v":15370},{"$f":"Sheet1!C9&Sheet1!#REF!&\"    \"&Sheet1!#REF!","v":{"$error":"#REF!"}},8,null,null,null,null,null,null,null,null,"","",null,null,8,null,null,null,null,null,null,null,null,"","",null,null,null,"ได้ผลการประเมินระดับผ่าน"]
[9,{"$f":"Sheet1!B10","v":15378},{"$f":"Sheet1!C10&Sheet1!#REF!&\"    \"&Sheet1!#REF!","v":{"$error":"#REF!"}},9,null,null,null,null,null,null,null,null,"","",null,null,9,null,null,null,null,null,null,null,null,"","",null,"ผ่าน(1)",1,"ได้ผลการประเมินระดับผ่าน ทั้ง 8 คุณลักษณะ หรือ"]
[10,{"$f":"Sheet1!B11","v":15380},{"$f":"Sheet1!C11&Sheet1!#REF!&\"    \"&Sheet1!#REF!","v":{"$error":"#REF!"}},10,null,null,null,null,null,null,null,null,"","",null,null,10,null,null,null,null,null,null,null,null,"","",null,null,2,"ได้ผลการประเมินระดับดีขึ้นไป จำนวน 1-4 คุณลักษณะ และคุณลักษณะที่เหลือ"]
[11,{"$f":"Sheet1!B12","v":15388},{"$f":"Sheet1!C12&Sheet1!#REF!&\"    \"&Sheet1!#REF!","v":{"$error":"#REF!"}},11,null,null,null,null,null,null,null,null,"","",null,null,11,null,null,null,null,null,null,null,null,"","",null,null,null,"ได้ผลการประเมินระดับผ่าน"]
[12,{"$f":"Sheet1!B13","v":15389},{"$f":"Sheet1!C13&Sheet1!#REF!&\"    \"&Sheet1!#REF!","v":{"$error":"#REF!"}},12,null,null,null,null,null,null,null,null,"","",null,null,12,null,null,null,null,null,null,null,null,"","",null,"ไม่ผ่าน(0)",1,"ได้ผลการประเมินระดับไม่ผ่าน ตั้งแต่ 1 คุณลักษณะขึ้นไป"]
[13,{"$f":"Sheet1!B14","v":15396},{"$f":"Sheet1!C14&Sheet1!#REF!&\"    \"&Sheet1!#REF!","v":{"$error":"#REF!"}},13,null,null,null,null,null,null,null,null,"","",null,null,13,null,null,null,null,null,null,null,null,"",""]
[14,{"$f":"Sheet1!B15","v":15403},{"$f":"Sheet1!C15&Sheet1!#REF!&\"    \"&Sheet1!#REF!","v":{"$error":"#REF!"}},14,null,null,null,null,null,null,null,null,"","",null,null,14,null,null,null,null,null,null,null,null,"",""]
[15,{"$f":"Sheet1!B16","v":15406},{"$f":"Sheet1!C16&Sheet1!#REF!&\"    \"&Sheet1!#REF!","v":{"$error":"#REF!"}},15,null,null,null,null,null,null,null,null,"","",null,null,15,null,null,null,null,null,null,null,null,"",""]
[16,{"$f":"Sheet1!B17","v":15407},{"$f":"Sheet1!C17&Sheet1!#REF!&\"    \"&Sheet1!#REF!","v":{"$error":"#REF!"}},16,null,null,null,null,null,null,null,null,"","",null,null,16,null,null,null,null,null,null,null,null,"","",null,null,{"$f":"COUNTIF($AA$5:$AA$54,\"ไม่ผ่าน\")","v":0}]
[17,{"$f":"Sheet1!B18","v":17084},{"$f":"Sheet1!C18&Sheet1!#REF!&\"    \"&Sheet1!#REF!","v":{"$error":"#REF!"}},17,null,null,null,null,null,null,null,null,"","",null,null,17,null,null,null,null,null,null,null,null,"","",null,null,{"$f":"COUNTIF($AA$5:$AA$54,\"ผ่าน\")","v":0}]
[18,{"$f":"Sheet1!B19","v":17085},{"$f":"Sheet1!C19&Sheet1!#REF!&\"    \"&Sheet1!#REF!","v":{"$error":"#REF!"}},18,null,null,null,null,null,null,null,null,"","",null,null,18,null,null,null,null,null,null,null,null,"","",null,null,{"$f":"COUNTIF($AA$5:$AA$54,\"ดี\")","v":0}]
[19,{"$f":"Sheet1!B20","v":17086},{"$f":"Sheet1!C20&Sheet1!#REF!&\"    \"&Sheet1!#REF!","v":{"$error":"#REF!"}},19,null,null,null,null,null,null,null,null,"","",null,null,19,null,null,null,null,null,null,null,null,"","",null,null,{"$f":"COUNTIF($AA$5:$AA$54,\"ดีเยี่ยม\")","v":0}]
[20,{"$f":"Sheet1!B21","v":17087},{"$f":"Sheet1!C21&Sheet1!#REF!&\"    \"&Sheet1!#REF!","v":{"$error":"#REF!"}},20,null,null,null,null,null,null,null,null,"","",null,null,20,null,null,null,null,null,null,null,null,"",""]
[21,{"$f":"Sheet1!B22","v":17088},{"$f":"Sheet1!C22&Sheet1!#REF!&\"    \"&Sheet1!#REF!","v":{"$error":"#REF!"}},21,null,null,null,null,null,null,null,null,"","",null,null,21,null,null,null,null,null,null,null,null,"",""]
[22,{"$f":"Sheet1!B23","v":17089},{"$f":"Sheet1!C23&Sheet1!#REF!&\"    \"&Sheet1!#REF!","v":{"$error":"#REF!"}},22,null,null,null,null,null,null,null,null,"","",null,null,22,null,null,null,null,null,null,null,null,"",""]
[23,{"$f":"Sheet1!B24","v":17090},{"$f":"Sheet1!C24&Sheet1!#REF!&\"    \"&Sheet1!#REF!","v":{"$error":"#REF!"}},23,null,null,null,null,null,null,null,null,"","",null,null,23,null,null,null,null,null,null,null,null,"",""]
[24,{"$f":"Sheet1!B25","v":17091},{"$f":"Sheet1!C25&Sheet1!#REF!&\"    \"&Sheet1!#REF!","v":{"$error":"#REF!"}},24,null,null,null,null,null,null,null,null,"","",null,null,24,null,null,null,null,null,null,null,null,"",""]
[25,{"$f":"Sheet1!B26","v":17092},{"$f":"Sheet1!C26&Sheet1!#REF!&\"    \"&Sheet1!#REF!","v":{"$error":"#REF!"}},25,null,null,null,null,null,null,null,null,"","",null,null,25,null,null,null,null,null,null,null,null,"",""]
[26,{"$f":"Sheet1!B27","v":17093},{"$f":"Sheet1!C27&Sheet1!#REF!&\"    \"&Sheet1!#REF!","v":{"$error":"#REF!"}},26,null,null,null,null,null,null,null,null,"","",null,null,26,null,null,null,null,null,null,null,null,"",""]
[27,{"$f":"Sheet1!B28","v":17095},{"$f":"Sheet1!C28&Sheet1!#REF!&\"    \"&Sheet1!#REF!","v":{"$error":"#REF!"}},27,null,null,null,null,null,null,null,null,"","",null,null,27,null,null,null,null,null,null,null,null,"",""]
[28,{"$f":"Sheet1!B29","v":18483},{"$f":"Sheet1!C29&Sheet1!#REF!&\"    \"&Sheet1!#REF!","v":{"$error":"#REF!"}},28,null,null,null,null,null,null,null,null,"","",null,null,28,null,null,null,null,null,null,null,null,"",""]
[29,{"$f":"Sheet1!B30","v":18484},{"$f":"Sheet1!C30&Sheet1!#REF!&\"    \"&Sheet1!#REF!","v":{"$error":"#REF!"}},29,null,null,null,null,null,null,null,null,"","",null,null,29,null,null,null,null,null,null,null,null,"",""]
[30,{"$f":"Sheet1!B31","v":18485},{"$f":"Sheet1!C31&Sheet1!#REF!&\"    \"&Sheet1!#REF!","v":{"$error":"#REF!"}},30,null,null,null,null,null,null,null,null,"","",null,null,30,null,null,null,null,null,null,null,null,"",""]
[31,{"$f":"Sheet1!B32","v":18506},{"$f":"Sheet1!C32&Sheet1!#REF!&\"    \"&Sheet1!#REF!","v":{"$error":"#REF!"}},31,null,null,null,null,null,null,null,null,"","",null,null,31,null,null,null,null,null,null,null,null,"",""]
[32,{"$f":"Sheet1!B33","v":18910},{"$f":"Sheet1!C33&Sheet1!#REF!&\"    \"&Sheet1!#REF!","v":{"$error":"#REF!"}},32,null,null,null,null,null,null,null,null,"","",null,null,32,null,null,null,null,null,null,null,null,"",""]
[33,{"$f":"Sheet1!B34","v":18913},{"$f":"Sheet1!C34&Sheet1!#REF!&\"    \"&Sheet1!#REF!","v":{"$error":"#REF!"}},33,null,null,null,null,null,null,null,null,"","",null,null,33,null,null,null,null,null,null,null,null,"",""]
[34,{"$f":"Sheet1!B35","v":18935},{"$f":"Sheet1!C35&Sheet1!#REF!&\"    \"&Sheet1!#REF!","v":{"$error":"#REF!"}},34,null,null,null,null,null,null,null,null,"","",null,null,34,null,null,null,null,null,null,null,null,"",""]
[35,{"$f":"Sheet1!B36","v":19037},{"$f":"Sheet1!C36&Sheet1!#REF!&\"    \"&Sheet1!#REF!","v":{"$error":"#REF!"}},35,null,null,null,null,null,null,null,null,"","",null,null,35,null,null,null,null,null,null,null,null,"",""]
[36,{"$f":"Sheet1!B37","v":19038},{"$f":"Sheet1!C37&Sheet1!#REF!&\"    \"&Sheet1!#REF!","v":{"$error":"#REF!"}},36,null,null,null,null,null,null,null,null,"","",null,null,36,null,null,null,null,null,null,null,null,"",""]
[37,{"$f":"Sheet1!B38","v":19039},{"$f":"Sheet1!C38&Sheet1!#REF!&\"    \"&Sheet1!#REF!","v":{"$error":"#REF!"}},37,null,null,null,null,null,null,null,null,"","",null,null,37,null,null,null,null,null,null,null,null,"",""]
[38,{"$f":"Sheet1!B39","v":0},{"$f":"Sheet1!C39&Sheet1!#REF!&\"    \"&Sheet1!#REF!","v":{"$error":"#REF!"}},38,null,null,null,null,null,null,null,null,"","",null,null,38,null,null,null,null,null,null,null,null,"",""]
[39,{"$f":"Sheet1!#REF!","v":{"$error":"#REF!"}},{"$f":"Sheet1!#REF!&Sheet1!#REF!&\"    \"&Sheet1!#REF!","v":{"$error":"#REF!"}},39,null,null,null,null,null,null,null,null,"","",null,null,39,null,null,null,null,null,null,null,null,"",""]
[40,{"$f":"Sheet1!#REF!","v":{"$error":"#REF!"}},{"$f":"Sheet1!#REF!&Sheet1!#REF!&\"    \"&Sheet1!#REF!","v":{"$error":"#REF!"}},40,null,null,null,null,null,null,null,null,"","",null,null,40,null,null,null,null,null,null,null,null,"",""]
[41,{"$f":"Sheet1!#REF!","v":{"$error":"#REF!"}},{"$f":"Sheet1!#REF!&Sheet1!#REF!&\"    \"&Sheet1!#REF!","v":{"$error":"#REF!"}},41,null,null,null,null,null,null,null,null,"","",null,null,41,null,null,null,null,null,null,null,null,"",""]
[42,{"$f":"Sheet1!#REF!","v":{"$error":"#REF!"}},{"$f":"Sheet1!#REF!&Sheet1!#REF!&\"    \"&Sheet1!#REF!","v":{"$error":"#REF!"}},42,null,null,null,null,null,null,null,null,"","",null,null,42,null,null,null,null,null,null,null,null,"",""]
[43,{"$f":"Sheet1!#REF!","v":{"$error":"#REF!"}},{"$f":"Sheet1!#REF!&Sheet1!#REF!&\"    \"&Sheet1!#REF!","v":{"$error":"#REF!"}},43,null,null,null,null,null,null,null,null,"","",null,null,43,null,null,null,null,null,null,null,null,"",""]
[44,{"$f":"Sheet1!#REF!","v":{"$error":"#REF!"}},{"$f":"Sheet1!#REF!&Sheet1!#REF!&\"    \"&Sheet1!#REF!","v":{"$error":"#REF!"}},44,null,null,null,null,null,null,null,null,"","",null,null,44,null,null,null,null,null,null,null,null,"",""]
[45,{"$f":"Sheet1!#REF!","v":{"$error":"#REF!"}},{"$f":"Sheet1!#REF!&Sheet1!#REF!&\"    \"&Sheet1!#REF!","v":{"$error":"#REF!"}},45,null,null,null,null,null,null,null,null,"","",null,null,45,null,null,null,null,null,null,null,null,"",""]
[46,{"$f":"Sheet1!#REF!","v":{"$error":"#REF!"}},{"$f":"Sheet1!#REF!&Sheet1!#REF!&\"    \"&Sheet1!#REF!","v":{"$error":"#REF!"}},46,null,null,null,null,null,null,null,null,"","",null,null,46,null,null,null,null,null,null,null,null,"",""]
[47,{"$f":"Sheet1!#REF!","v":{"$error":"#REF!"}},{"$f":"Sheet1!#REF!&Sheet1!#REF!&\"    \"&Sheet1!#REF!","v":{"$error":"#REF!"}},47,null,null,null,null,null,null,null,null,"","",null,null,47,null,null,null,null,null,null,null,null,"",""]
[48,{"$f":"Sheet1!#REF!","v":{"$error":"#REF!"}},{"$f":"Sheet1!#REF!&Sheet1!#REF!&\"    \"&Sheet1!#REF!","v":{"$error":"#REF!"}},48,null,null,null,null,null,null,null,null,"","",null,null,48,null,null,null,null,null,null,null,null,"",""]
[49,{"$f":"Sheet1!#REF!","v":{"$error":"#REF!"}},{"$f":"Sheet1!#REF!&Sheet1!#REF!&\"    \"&Sheet1!#REF!","v":{"$error":"#REF!"}},49,null,null,null,null,null,null,null,null,"","",null,null,49,null,null,null,null,null,null,null,null,"",""]
[50,{"$f":"Sheet1!#REF!","v":{"$error":"#REF!"}},{"$f":"Sheet1!#REF!&Sheet1!#REF!&\"    \"&Sheet1!#REF!","v":{"$error":"#REF!"}},50,null,null,null,null,null,null,null,null,"","",null,null,50,null,null,null,null,null,null,null,null,"",""]

{"sheet":"อ่าน คิด วิเคราะห์","index":8,"n_rows":54,"n_cols":26,"rows_kept":54,"cut":false,"hidden":true,"merged":[[3,22,3,25],[4,24,4,25],[5,23,6,23],[2,0,3,0],[2,1,3,1],[2,2,3,2],[2,4,2,8],[2,9,3,10],[2,13,3,13],[2,3,3,3],[2,14,2,18],[2,19,3,20],[5,25,6,25],[7,23,8,23],[9,23,10,23],[11,23,13,23],[7,25,8,25],[9,25,10,25],[11,25,13,25],[15,22,16,25],[21,23,22,25],[23,23,24,25],[25,23,26,25],[17,22,18,22],[19,22,20,22],[21,22,22,22],[23,22,24,22],[25,22,26,22],[19,23,20,25],[17,23,18,25]]}
[null,null,"การประเมินความสามารถ","ในการอ่าน คิดวิเคราะห์ และเขียน ภาคเรียนที่ 1",null,null,null,null,null,null,null,null,null,"ในการอ่าน คิดวิเคราะห์ และเขียน"]
[null,null,{"$f":"\"นักเรียน\"&ปก!AF11&ปก!AL11&\" \"","v":"นักเรียนชั้นประถมศึกษาปีที่ 4/4 "},{"$f":"ใบรายชื่อ!$A$4","v":"กิจกรรม{{โปรดกรอกข้อมูลรายวิชา}}        ปีการศึกษา 2567"},null,null,null,null,null,null,null,null,null,{"$f":"ใบรายชื่อ!$A$4","v":"กิจกรรม{{โปรดกรอกข้อมูลรายวิชา}}        ปีการศึกษา 2567"}]
["เลขที่","เลขประจำตัว","ชื่อ - ชื่อสกุล","เลขที่","ตัวชี้วัดความสามารถในการอ่าน คิดวิเคราะห์ และเขียน",null,null,null,null,"ผลการประเมิน\nภาคเรียนที่ 1",null,null,null,"เลขที่","ตัวชี้วัดความสามารถในการอ่าน คิดวิเคราะห์ และเขียน",null,null,null,null,"ผลการประเมิน"]
[null,null,null,null,1,2,3,4,5,null,null,null,null,null,1,2,3,4,5,null,null,null,"เกณฑ์การประเมินความสามารถในการอ่าน คิดวิเคราะห์ และเขียน"]
[1,{"$f":"Sheet1!B2","v":15329},{"$f":"Sheet1!C2&Sheet1!#REF!&\"   \"&Sheet1!#REF!","v":{"$error":"#REF!"}},1,null,null,null,null,null,{"$f":"IF(E5=\"\",\"\",(IF(F5=\"\",\"\",(IF(G5=\"\",\"\",(IF(H5=\"\",\"\",(IF(I5=\"\",\"\",(SUM(E5:I5)/5))))))))))","v":""},{"$f":"IF(J5=\"\",\"\",(IF(J5>=2.5,\"ดีเยี่ยม\",(IF(J5>=1.5,\"ดี\",(IF(J5>=0.6,\"ผ่าน\",(IF(J5<=0.4,\"ไม่ผ่าน\")))))))))","v":""},"เก็บ+กลาง",{"$f":"SUM(#REF!,#REF!)","v":{"$error":"#REF!"}},1,null,null,null,null,null,{"$f":"IF(O5=\"\",\"\",(IF(P5=\"\",\"\",(IF(Q5=\"\",\"\",(IF(R5=\"\",\"\",(IF(S5=\"\",\"\",(SUM(O5:S5)/5))))))))))","v":""},{"$f":"IF(T5=\"\",\"\",(IF(T5>=2.5,\"ดีเยี่ยม\",(IF(T5>=1.5,\"ดี\",(IF(T5>=0.6,\"ผ่าน\",(IF(T5<=0.4,\"ไม่ผ่าน\")))))))))","v":""},null,null,"ระดับ","เกณฑ์การพิจรณา"]
[2,{"$f":"Sheet1!B3","v":15330},{"$f":"Sheet1!C3&Sheet1!#REF!&\"   \"&Sheet1!#REF!","v":{"$error":"#REF!"}},2,null,null,null,null,null,{"$f":"IF(E6=\"\",\"\",(IF(F6=\"\",\"\",(IF(G6=\"\",\"\",(IF(H6=\"\",\"\",(IF(I6=\"\",\"\",(SUM(E6:I6)/5))))))))))","v":""},{"$f":"IF(J6=\"\",\"\",(IF(J6>=2.5,\"ดีเยี่ยม\",(IF(J6>=1.5,\"ดี\",(IF(J6>=0.6,\"ผ่าน\",(IF(J6<=0.4,\"ไม่ผ่าน\")))))))))","v":""},"ปลาย",{"$f":"#REF!","v":{"$error":"#REF!"}},2,null,null,null,null,null,{"$f":"IF(O6=\"\",\"\",(IF(P6=\"\",\"\",(IF(Q6=\"\",\"\",(IF(R6=\"\",\"\",(IF(S6=\"\",\"\",(SUM(O6:S6)/5))))))))))","v":""},{"$f":"IF(T6=\"\",\"\",(IF(T6>=2.5,\"ดีเยี่ยม\",(IF(T6>=1.5,\"ดี\",(IF(T6>=0.6,\"ผ่าน\",(IF(T6<=0.4,\"ไม่ผ่าน\")))))))))","v":""},null,null,"ดีเยี่ยม(3)",null,"มีผลงานที่แสดงถึงความสามารถในการอ่าน คิดวิเคราะห์ และเขียน ที่มีคุณภาพดีเลิศอยู่เสมอ"]
[3,{"$f":"Sheet1!B4","v":15335},{"$f":"Sheet1!C4&Sheet1!#REF!&\"   \"&Sheet1!#REF!","v":{"$error":"#REF!"}},3,null,null,null,null,null,{"$f":"IF(E7=\"\",\"\",(IF(F7=\"\",\"\",(IF(G7=\"\",\"\",(IF(H7=\"\",\"\",(IF(I7=\"\",\"\",(SUM(E7:I7)/5))))))))))","v":""},"","รวม",{"$f":"SUM(M5+M6)","v":{"$error":"#REF!"}},3,null,null,null,null,null,{"$f":"IF(O7=\"\",\"\",(IF(P7=\"\",\"\",(IF(Q7=\"\",\"\",(IF(R7=\"\",\"\",(IF(S7=\"\",\"\",(SUM(O7:S7)/5))))))))))","v":""},""]
[4,{"$f":"Sheet1!B5","v":15346},{"$f":"Sheet1!C5&Sheet1!#REF!&\"   \"&Sheet1!#REF!","v":{"$error":"#REF!"}},4,null,null,null,null,null,"","",null,null,4,null,null,null,null,null,"","",null,null,"ดี(2)",null,"มีผลงานที่แสดงถึงความสามารถในการอ่าน คิดวิเคราะห์ และเขียน เป็นที่ยอมรับ"]
[5,{"$f":"Sheet1!B6","v":15354},{"$f":"Sheet1!C6&Sheet1!#REF!&\"   \"&Sheet1!#REF!","v":{"$error":"#REF!"}},5,null,null,null,null,null,"","",null,null,5,null,null,null,null,null,"",""]
[6,{"$f":"Sheet1!B7","v":15357},{"$f":"Sheet1!C7&Sheet1!#REF!&\"   \"&Sheet1!#REF!","v":{"$error":"#REF!"}},6,null,null,null,null,null,"","",null,null,6,null,null,null,null,null,"","",null,null,"ผ่าน(1)",null,"มีผลงานที่แสดงถึงความสามารถในการอ่าน คิดวิเคราะห์ และเขียน ทีมีข้อบกพร่องบางประการ"]
[7,{"$f":"Sheet1!B8","v":15366},{"$f":"Sheet1!C8&Sheet1!#REF!&\"   \"&Sheet1!#REF!","v":{"$error":"#REF!"}},7,null,null,null,null,null,"","",null,null,7,null,null,null,null,null,"",""]
[8,{"$f":"Sheet1!B9","v":15370},{"$f":"Sheet1!C9&Sheet1!#REF!&\"   \"&Sheet1!#REF!","v":{"$error":"#REF!"}},8,null,null,null,null,null,"","",null,null,8,null,null,null,null,null,"","",null,null,"ไม่ผ่าน(0)",null,"ไม่มีผลงานที่แสดงถึงความสามารถในการอ่าน คิดวิเคราะห์ และเขียนหรือถ้ามีผลงาน\nผลงานนั้นยังมีข้อบกพร่องที่ต้องได้รับการปรับปรุงแก้ไขหลายประการ"]
[9,{"$f":"Sheet1!B10","v":15378},{"$f":"Sheet1!C10&Sheet1!#REF!&\"   \"&Sheet1!#REF!","v":{"$error":"#REF!"}},9,null,null,null,null,null,"","",null,null,9,null,null,null,null,null,"",""]
[10,{"$f":"Sheet1!B11","v":15380},{"$f":"Sheet1!C11&Sheet1!#REF!&\"   \"&Sheet1!#REF!","v":{"$error":"#REF!"}},10,null,null,null,null,null,"","",null,null,10,null,null,null,null,null,"",""]
[11,{"$f":"Sheet1!B12","v":15388},{"$f":"Sheet1!C12&Sheet1!#REF!&\"   \"&Sheet1!#REF!","v":{"$error":"#REF!"}},11,null,null,null,null,null,"","",null,null,11,null,null,null,null,null,"",""]
[12,{"$f":"Sheet1!B13","v":15389},{"$f":"Sheet1!C13&Sheet1!#REF!&\"   \"&Sheet1!#REF!","v":{"$error":"#REF!"}},12,null,null,null,null,null,"","",null,null,12,null,null,null,null,null,"","",null,{"$f":"\" \"&\"ตัวชี้วัดความสามารถในการอ่าน คิดวิคราะห์ และเขียน \"&\"ระดับชั้น\"&ปก!AN11&\" \"&IF(ปก!C19=3,\"(ม.1-3)\",IF(ปก!C19=4,\"(ม.4-6)\"))","v":" ตัวชี้วัดความสามารถในการอ่าน คิดวิคราะห์ และเขียน ระดับชั้นระดับประถมศึกษาตอนปลาย(ป.4-6) FALSE"}]
[13,{"$f":"Sheet1!B14","v":15396},{"$f":"Sheet1!C14&Sheet1!#REF!&\"   \"&Sheet1!#REF!","v":{"$error":"#REF!"}},13,null,null,null,null,null,"","",null,null,13,null,null,null,null,null,"",""]
[14,{"$f":"Sheet1!B15","v":15403},{"$f":"Sheet1!C15&Sheet1!#REF!&\"   \"&Sheet1!#REF!","v":{"$error":"#REF!"}},14,null,null,null,null,null,"","",null,null,14,null,null,null,null,null,"","",null,"1.",{"$f":"IF(ปก!BA2=\"บ\",\"สามารถคัดสรรสื่อที่ต้องการอ่านเพื่อหาข้อมูลสารสนเทศได้ตามวัตถุประสงค์ สามารถสร้างความเข้าใจและประยุกต์ใช้ความรู้จากการอ่าน \",IF(ปก!BA2=\"พ\",\"สามารถอ่านเพื่อการศึกษาค้นคว้า เพิ่มพูนความรู้ ประสบการณ์ และการประยุกต์ใช้ในชีวิตประจำวัน\"))","v":false}]
[15,{"$f":"Sheet1!B16","v":15406},{"$f":"Sheet1!C16&Sheet1!#REF!&\"   \"&Sheet1!#REF!","v":{"$error":"#REF!"}},15,null,null,null,null,null,"","",null,null,15,null,null,null,null,null,"",""]
[16,{"$f":"Sheet1!B17","v":15407},{"$f":"Sheet1!C17&Sheet1!#REF!&\"   \"&Sheet1!#REF!","v":{"$error":"#REF!"}},16,null,null,null,null,null,"","",null,null,16,null,null,null,null,null,"","",null,"2.",{"$f":"IF(ปก!BA2=\"บ\",\"สามารถจับประเด็นสำคัญและประเด็นสนับสนุน โต้แย้ง\",IF(ปก!BA2=\"พ\",\"สามารถจับประเด็นสำคัญ ลำดับเหตุการณ์จากการอ่านสื่อที่มีความซับซ้อน\"))","v":false}]
[17,{"$f":"Sheet1!B18","v":17084},{"$f":"Sheet1!C18&Sheet1!#REF!&\"   \"&Sheet1!#REF!","v":{"$error":"#REF!"}},17,null,null,null,null,null,"","",null,null,17,null,null,null,null,null,"",""]
[18,{"$f":"Sheet1!B19","v":17085},{"$f":"Sheet1!C19&Sheet1!#REF!&\"   \"&Sheet1!#REF!","v":{"$error":"#REF!"}},18,null,null,null,null,null,"","",null,null,18,null,null,null,null,null,"","",null,"3.",{"$f":"IF(ปก!BA2=\"บ\",\"สามารถวิเคราะห์ วิจารณ์ ความสมเหตุสมผล ความน่าเชื่อถือ ลำดับความเป็นไปได้ของเรื่องที่อ่าน\",IF(ปก!BA2=\"พ\",\"สามารถวิเคราะห์สิ่งที่ผู้เขียนต้องการสื่อสารกับผู้อ่าน และสามารถวิพากษ์ ให้ข้อเสนอแนะในแง่มุมต่างๆ\"))","v":false}]
[19,{"$f":"Sheet1!B20","v":17086},{"$f":"Sheet1!C20&Sheet1!#REF!&\"   \"&Sheet1!#REF!","v":{"$error":"#REF!"}},19,null,null,null,null,null,"","",null,null,19,null,null,null,null,null,"",""]
[20,{"$f":"Sheet1!B21","v":17087},{"$f":"Sheet1!C21&Sheet1!#REF!&\"   \"&Sheet1!#REF!","v":{"$error":"#REF!"}},20,null,null,null,null,null,"","",null,null,20,null,null,null,null,null,"","",null,"4.",{"$f":"IF(ปก!BA2=\"บ\",\"สามารถสรุปคุณค่า แนวคิด แง่คิดที่ได้จากการอ่าน\",IF(ปก!BA2=\"พ\",\"สามารถประเมินความน่าเชื่อถือ คุณค่า แนวคิดที่ได้จากสิ่งที่อ่านอย่างหลากหลาย\"))","v":false}]
[21,{"$f":"Sheet1!B22","v":17088},{"$f":"Sheet1!C22&Sheet1!#REF!&\"   \"&Sheet1!#REF!","v":{"$error":"#REF!"}},21,null,null,null,null,null,"","",null,null,21,null,null,null,null,null,"",""]
[22,{"$f":"Sheet1!B23","v":17089},{"$f":"Sheet1!C23&Sheet1!#REF!&\"   \"&Sheet1!#REF!","v":{"$error":"#REF!"}},22,null,null,null,null,null,"","",null,null,22,null,null,null,null,null,"","",null,"5.",{"$f":"IF(ปก!BA2=\"บ\",\"สามารถสรุป อภิปราย ขยายความ แสดงความคิดเห็น โต้แย้ง สนันสนุน โน้มน้าว โดยการเขียนสื่อสารในรูปแบบต่างๆ เช่น ผังความคิด เป็นต้น\",IF(ปก!BA2=\"พ\",\"สามารถเขียนแสดงความคิดเห็น โต้แย้ง สรุป โดยมีข้อมูลอธิบายสนับสนุนอย่างเพียงพอ และสมเหตุสมผล\"))","v":false}]
[23,{"$f":"Sheet1!B24","v":17090},{"$f":"Sheet1!C24&Sheet1!#REF!&\"   \"&Sheet1!#REF!","v":{"$error":"#REF!"}},23,null,null,null,null,null,"","",null,null,23,null,null,null,null,null,"",""]
[24,{"$f":"Sheet1!B25","v":17091},{"$f":"Sheet1!C25&Sheet1!#REF!&\"   \"&Sheet1!#REF!","v":{"$error":"#REF!"}},24,null,null,null,null,null,"","",null,null,24,null,null,null,null,null,"",""]
[25,{"$f":"Sheet1!B26","v":17092},{"$f":"Sheet1!C26&Sheet1!#REF!&\"   \"&Sheet1!#REF!","v":{"$error":"#REF!"}},25,null,null,null,null,null,"","",null,null,25,null,null,null,null,null,"",""]
[26,{"$f":"Sheet1!B27","v":17093},{"$f":"Sheet1!C27&Sheet1!#REF!&\"   \"&Sheet1!#REF!","v":{"$error":"#REF!"}},26,null,null,null,null,null,"","",null,null,26,null,null,null,null,null,"","",null,null,{"$f":"COUNTIF($U$5:$U$54,\"ไม่ผ่าน\")","v":0}]
[27,{"$f":"Sheet1!B28","v":17095},{"$f":"Sheet1!C28&Sheet1!#REF!&\"   \"&Sheet1!#REF!","v":{"$error":"#REF!"}},27,null,null,null,null,null,"","",null,null,27,null,null,null,null,null,"","",null,null,{"$f":"COUNTIF($U$5:$U$54,\"ผ่าน\")","v":0}]
[28,{"$f":"Sheet1!B29","v":18483},{"$f":"Sheet1!C29&Sheet1!#REF!&\"   \"&Sheet1!#REF!","v":{"$error":"#REF!"}},28,null,null,null,null,null,"","",null,null,28,null,null,null,null,null,"","",null,null,{"$f":"COUNTIF($U$5:$U$54,\"ดี\")","v":0}]
[29,{"$f":"Sheet1!B30","v":18484},{"$f":"Sheet1!C30&Sheet1!#REF!&\"   \"&Sheet1!#REF!","v":{"$error":"#REF!"}},29,null,null,null,null,null,"","",null,null,29,null,null,null,null,null,"","",null,null,{"$f":"COUNTIF($U$5:$U$54,\"ดีเยี่ยม\")","v":0}]
[30,{"$f":"Sheet1!B31","v":18485},{"$f":"Sheet1!C31&Sheet1!#REF!&\"   \"&Sheet1!#REF!","v":{"$error":"#REF!"}},30,null,null,null,null,null,"","",null,null,30,null,null,null,null,null,"",""]
[31,{"$f":"Sheet1!B32","v":18506},{"$f":"Sheet1!C32&Sheet1!#REF!&\"   \"&Sheet1!#REF!","v":{"$error":"#REF!"}},31,null,null,null,null,null,"","",null,null,31,null,null,null,null,null,"",""]
[32,{"$f":"Sheet1!B33","v":18910},{"$f":"Sheet1!C33&Sheet1!#REF!&\"   \"&Sheet1!#REF!","v":{"$error":"#REF!"}},32,null,null,null,null,null,"","",null,null,32,null,null,null,null,null,"",""]
[33,{"$f":"Sheet1!B34","v":18913},{"$f":"Sheet1!C34&Sheet1!#REF!&\"   \"&Sheet1!#REF!","v":{"$error":"#REF!"}},33,null,null,null,null,null,"",{"$f":"IF(J37=\"\",\"\",(IF(J37>=2.5,\"ดีเยี่ยม\",(IF(J37>=1.5,\"ดี\",(IF(J37>=0.6,\"ผ่าน\",(IF(J37<=0.4,\"ไม่ผ่าน\")))))))))","v":""},null,null,33,null,null,null,null,null,"",{"$f":"IF(T37=\"\",\"\",(IF(T37>=2.5,\"ดีเยี่ยม\",(IF(T37>=1.5,\"ดี\",(IF(T37>=0.6,\"ผ่าน\",(IF(T37<=0.4,\"ไม่ผ่าน\")))))))))","v":""}]
[34,{"$f":"Sheet1!B35","v":18935},{"$f":"Sheet1!C35&Sheet1!#REF!&\"   \"&Sheet1!#REF!","v":{"$error":"#REF!"}},34,null,null,null,null,null,"","",null,null,34,null,null,null,null,null,"",{"$f":"IF(T38=\"\",\"\",(IF(T38>=2.5,\"ดีเยี่ยม\",(IF(T38>=1.5,\"ดี\",(IF(T38>=0.6,\"ผ่าน\",(IF(T38<=0.4,\"ไม่ผ่าน\")))))))))","v":""}]
[35,{"$f":"Sheet1!B36","v":19037},{"$f":"Sheet1!C36&Sheet1!#REF!&\"   \"&Sheet1!#REF!","v":{"$error":"#REF!"}},35,null,null,null,null,null,"","",null,null,35,null,null,null,null,null,"",""]
[36,{"$f":"Sheet1!B37","v":19038},{"$f":"Sheet1!C37&Sheet1!#REF!&\"   \"&Sheet1!#REF!","v":{"$error":"#REF!"}},36,null,null,null,null,null,"","",null,null,36,null,null,null,null,null,"",""]
[37,{"$f":"Sheet1!B38","v":19039},{"$f":"Sheet1!C38&Sheet1!#REF!&\"   \"&Sheet1!#REF!","v":{"$error":"#REF!"}},37,null,null,null,null,null,"","",null,null,37,null,null,null,null,null,"",""]
[38,{"$f":"Sheet1!B39","v":0},{"$f":"Sheet1!C39&Sheet1!#REF!&\"   \"&Sheet1!#REF!","v":{"$error":"#REF!"}},38,null,null,null,null,null,"","",null,null,38,null,null,null,null,null,"",""]
[39,{"$f":"Sheet1!#REF!","v":{"$error":"#REF!"}},{"$f":"Sheet1!#REF!&Sheet1!#REF!&\"   \"&Sheet1!#REF!","v":{"$error":"#REF!"}},39,null,null,null,null,null,"","",null,null,39,null,null,null,null,null,"",""]
[40,{"$f":"Sheet1!#REF!","v":{"$error":"#REF!"}},{"$f":"Sheet1!#REF!&Sheet1!#REF!&\"   \"&Sheet1!#REF!","v":{"$error":"#REF!"}},40,null,null,null,null,null,"","",null,null,40,null,null,null,null,null,"",""]
[41,{"$f":"Sheet1!#REF!","v":{"$error":"#REF!"}},{"$f":"Sheet1!#REF!&Sheet1!#REF!&\"   \"&Sheet1!#REF!","v":{"$error":"#REF!"}},41,null,null,null,null,null,{"$f":"IF(E45=\"\",\"\",(IF(F45=\"\",\"\",(IF(G45=\"\",\"\",(IF(H45=\"\",\"\",(IF(I45=\"\",\"\",(SUM(E45:I45)/5))))))))))","v":""},{"$f":"IF(J45=\"\",\"\",(IF(J45>=2.5,\"ดีเยี่ยม\",(IF(J45>=1.5,\"ดี\",(IF(J45>=0.6,\"ผ่าน\",(IF(J45<=0.4,\"ไม่ผ่าน\")))))))))","v":""},null,null,41,null,null,null,null,null,{"$f":"IF(O45=\"\",\"\",(IF(P45=\"\",\"\",(IF(Q45=\"\",\"\",(IF(R45=\"\",\"\",(IF(S45=\"\",\"\",(SUM(O45:S45)/5))))))))))","v":""},{"$f":"IF(T45=\"\",\"\",(IF(T45>=2.5,\"ดีเยี่ยม\",(IF(T45>=1.5,\"ดี\",(IF(T45>=0.6,\"ผ่าน\",(IF(T45<=0.4,\"ไม่ผ่าน\")))))))))","v":""}]
[42,{"$f":"Sheet1!#REF!","v":{"$error":"#REF!"}},{"$f":"Sheet1!#REF!&Sheet1!#REF!&\"   \"&Sheet1!#REF!","v":{"$error":"#REF!"}},42,null,null,null,null,null,"","",null,null,42,null,null,null,null,null,"",""]
[43,{"$f":"Sheet1!#REF!","v":{"$error":"#REF!"}},{"$f":"Sheet1!#REF!&Sheet1!#REF!&\"   \"&Sheet1!#REF!","v":{"$error":"#REF!"}},43,null,null,null,null,null,"","",null,null,43,null,null,null,null,null,"",""]
[44,{"$f":"Sheet1!#REF!","v":{"$error":"#REF!"}},{"$f":"Sheet1!#REF!&Sheet1!#REF!&\"   \"&Sheet1!#REF!","v":{"$error":"#REF!"}},44,null,null,null,null,null,"","",null,null,44,null,null,null,null,null,"",""]
[45,{"$f":"Sheet1!#REF!","v":{"$error":"#REF!"}},{"$f":"Sheet1!#REF!&Sheet1!#REF!&\"   \"&Sheet1!#REF!","v":{"$error":"#REF!"}},45,null,null,null,null,null,"","",null,null,45,null,null,null,null,null,"",""]
[46,{"$f":"Sheet1!#REF!","v":{"$error":"#REF!"}},{"$f":"Sheet1!#REF!&Sheet1!#REF!&\"   \"&Sheet1!#REF!","v":{"$error":"#REF!"}},46,null,null,null,null,null,"","",null,null,46,null,null,null,null,null,"",""]
[47,{"$f":"Sheet1!#REF!","v":{"$error":"#REF!"}},{"$f":"Sheet1!#REF!&Sheet1!#REF!&\"   \"&Sheet1!#REF!","v":{"$error":"#REF!"}},47,null,null,null,null,null,"","",null,null,47,null,null,null,null,null,"",""]
[48,{"$f":"Sheet1!#REF!","v":{"$error":"#REF!"}},{"$f":"Sheet1!#REF!&Sheet1!#REF!&\"   \"&Sheet1!#REF!","v":{"$error":"#REF!"}},48,null,null,null,null,null,"","",null,null,48,null,null,null,null,null,"",""]
[49,{"$f":"Sheet1!#REF!","v":{"$error":"#REF!"}},{"$f":"Sheet1!#REF!&Sheet1!#REF!&\"   \"&Sheet1!#REF!","v":{"$error":"#REF!"}},49,null,null,null,null,null,"","",null,null,49,null,null,null,null,null,"",""]
[50,{"$f":"Sheet1!#REF!","v":{"$error":"#REF!"}},{"$f":"Sheet1!#REF!&Sheet1!#REF!&\"   \"&Sheet1!#REF!","v":{"$error":"#REF!"}},50,null,null,null,null,null,"","",null,null,50,null,null,null,null,null,"",""]

{"sheet":"โครงสร้างรายวิชา","index":9,"n_rows":196,"n_cols":31,"rows_kept":196,"cut":false,"hidden":false,"merged":[[79,6,79,7],[80,6,80,7],[83,4,83,5],[0,0,0,5],[0,6,0,7],[1,6,2,6],[1,7,2,7],[79,0,79,1],[1,2,1,5],[48,0,48,5],[48,6,48,7],[1,0,2,0],[1,1,2,1],[50,0,50,5],[51,0,52,0],[51,1,52,1],[51,2,51,5],[0,26,0,31],[1,26,2,26],[1,27,2,27],[1,28,1,31],[48,26,48,31],[50,26,50,31],[51,26,52,26],[51,27,52,27],[51,28,51,31],[51,6,52,6],[51,7,52,7],[50,6,50,7],[80,26,80,27],[79,26,79,27],[96,26,96,31],[91,4,91,5],[91,30,91,31],[96,0,96,7],[85,4,85,5],[87,4,87,5],[86,4,86,5],[87,30,87,31],[85,30,85,31],[86,30,86,31],[80,0,80,1],[83,30,83,31],[84,30,84,31],[84,4,84,5]]}
[{"$f":"\"โครงสร้างกิจกรรม\"&ปก!AC15&\"\"","v":"โครงสร้างกิจกรรม{{โปรดกรอกข้อมูลรายวิชา}}"}]
["ข้อที่",{"$f":"IF(ปก!C25=\"\",\"\",IF(ปก!C25=\"พื้นฐาน\",\"ตัวชี้วัด\",IF(ปก!C25=\"เพิ่มเติม\",\"ผลการเรียนรู้\")))","v":""},"คะแนนประเมินผลรายภาค",null,null,null,"P","A"]
[null,null,"ก่อน\nกลาง\nภาค","หลัง\nกลาง\nภาค","สอบ\nกลาง\nภาค","สอบ\nปลาย\nภาค"]
[null,null,null,null,null,null,5,5]
[]
[]
[]
[]
[]
[]
[]
[]
[]
[]
[]
[]
[]
[]
[]
[]
[]
[]
[]
[]
[]
[]
[]
[]
[]
[]
[]
[]
[]
[]
[]
[]
[]
[]
[]
[]
[]
[]
[]
[]
[]
[]
[null,null,null,null,null,null,{"$f":"SUM(G3:G46)","v":5},{"$f":"SUM(H3:H46)","v":5}]
[]
[{"$f":"\"เวลาเรียน  \"&ปก!AC16&\"  \"&ปก!AE16","v":"เวลาเรียน  40  ชั่วโมงต่อปี"}]
[]
[{"$f":"\"โครงสร้างรายวิชา \"&ปก!AC15&\"  \"&\"รหัสวิชา\"&\" \"&ปก!AS15&\"  (หน้า 2)\"","v":"โครงสร้างรายวิชา {{โปรดกรอกข้อมูลรายวิชา}}  รหัสวิชา   (หน้า 2)"}]
["ข้อที่",{"$f":"IF(ปก!C25=\"\",\"\",IF(ปก!C25=\"พื้นฐาน\",\"ตัวชี้วัด\",IF(ปก!C25=\"เพิ่มเติม\",\"ผลการเรียนรู้\")))","v":""},"คะแนนประเมินผลรายภาค",null,null,null,"P","A"]
[null,null,"ก่อน\nกลาง\nภาค","หลัง\nกลาง\nภาค","สอบ\nกลาง\nภาค","สอบ\nปลาย\nภาค"]
[]
[]
[]
[]
[]
[]
[]
[]
[]
[]
[]
[]
[]
[]
[]
[]
[]
[]
[]
[]
[]
[]
[]
[]
[]
[]
["คะแนนรวม",null,{"$f":"SUM(C4:C48,C54:C79)","v":0},{"$f":"SUM(D4:D48,D54:D79)","v":0},{"$f":"SUM(E4:E48,E54:E79)","v":0},{"$f":"SUM(F4:F48,F54:F79)","v":0}]
["คะแนนจริง (100 คะแนน)",null,{"$f":"คะแนนเทอม1!CJ6","v":25},{"$f":"คะแนนเทอม1!CK6","v":25},{"$f":"คะแนนเทอม1!CL6","v":30},{"$f":"คะแนนเทอม1!CO6","v":20}]
["ข้อที่","การอ่าน คิด วิเคราะห์ และเขียน","คะแนน"]
[1,{"$f":"IF([3]ปก!C25=\"\",\"\",IF([3]ปก!C18=\"ประถมศึกษาตอนต้น(ป.1-3)\",\"สามารถอ่านและหาประสบการณ์จากสื่อที่หลากหลาย\",IF([3]ปก!C18=\"ประถมศึกษาตอนปลาย(ป.4-6)\",\"สามารถอ่านเพื่อหาข้อมูลสารสนเทศเสริมประสบการณ์จากสื่อประเภทต่างๆ\")))","v":"สามารถอ่านเพื่อหาข้อมูลสารสนเทศเสริมประสบการณ์จากสื่อประเภทต่างๆ"},"0-3"]
[2,{"$f":"IF([3]ปก!C25=\"\",\"\",IF([3]ปก!C18=\"ประถมศึกษาตอนต้น(ป.1-3)\",\"สามารถจับประเด็นสำคัญ ข้อเท็จจริง ความคิดเห็นเรื่องที่อ่าน\",IF([3]ปก!C18=\"ประถมศึกษาตอนปลาย(ป.4-6)\",\"สามารถจับประเด็นสำคัญ เปรียบเทียบ เชื่อมโยงความเป็นเหตุเป็นผลจากเรื่องที่อ่าน\")))","v":"สามารถจับประเด็นสำคัญ เปรียบเทียบ เชื่อมโยงความเป็นเหตุเป็นผลจากเรื่องที่อ่าน"},"0-3",3," = ดีเยี่ยม (ดย)"]
[3,{"$f":"IF([3]ปก!C25=\"\",\"\",IF([3]ปก!C18=\"ประถมศึกษาตอนต้น(ป.1-3)\",\"สามารถเปรียบเทียบแง่มุมต่างๆ เช่น ข้อดี ข้อเสีย ประโยชน์ โทษ ความเหมาะสม ไม่เหมาะสม\",IF([3]ปก!C18=\"ประถมศึกษาตอนปลาย(ป.4-6)\",\"สามารถเชื่อมโยงความสัมพันธ์ของเรื่องราว เหตุการณ์ของเรื่องที่อ่าน\")))","v":"สามารถเชื่อมโยงความสัมพันธ์ของเรื่องราว เหตุการณ์ของเรื่องที่อ่าน"},"0-3",2," = ดี (ด)"]
[4,{"$f":"IF([3]ปก!C25=\"\",\"\",IF([3]ปก!C18=\"ประถมศึกษาตอนต้น(ป.1-3)\",\"สามารถแสดงความคิดเห็นต่อเรื่องที่อ่าน โดยมีเหตุผลประกอบ\",IF([3]ปก!C18=\"ประถมศึกษาตอนปลาย(ป.4-6)\",\"สามารถแสดงความคิดเห็นต่อเรื่องที่อ่าน โดยมีเหตุผลสนับสนุน\")))","v":"สามารถแสดงความคิดเห็นต่อเรื่องที่อ่าน โดยมีเหตุผลสนับสนุน"},"0-3",1," = ผ่าน (ผ)"]
[5,{"$f":"IF([3]ปก!C25=\"\",\"\",IF([3]ปก!C18=\"ประถมศึกษาตอนต้น(ป.1-3)\",\"สามารถถ่ายทอดความคิดเห็น ความรู้สึกจากเรื่องที่อ่านโดยการเขียน\",IF([3]ปก!C18=\"ประถมศึกษาตอนปลาย(ป.4-6)\",\"สามารถถ่ายทอดความเข้าใจ ความคิดเห็น คุณค่าจากเรื่องที่อ่านโดยการเขียน\")))","v":"สามารถถ่ายทอดความเข้าใจ ความคิดเห็น คุณค่าจากเรื่องที่อ่านโดยการเขียน"},"0-3",0," = ไม่ผ่าน"]
["ข้อที่","คุณลักษณะอันพึงประสงค์","คะแนน"]
[1,"รักชาติ ศาสตร์ กษัตริย์","0-3"]
[2,"ชื่อสัตย์สุจริต","0-3"]
[3,"มีวินัย","0-3"]
[4,"ใฝ่เรียนรู้","0-3"]
[5,"อยู่อย่างพอเพียง","0-3"]
[6,"มุ่งมันในการทำงาน","0-3"]
[7,"รักความเป็นไทย","0-3"]
[8,"มีจิตสาธารณะ","0-3",null,null,null,{"$f":"SUM(G53:G95)","v":0},{"$f":"SUM(H53:H95)","v":0}]
[]
[]
[]
[]
[]
[]
[]
[]
[]
[]
[null,null,null,null,"ม.1/1",null,null,null,null,null,null,null,null,null,null,null,null,null,null,null,null,null,null,null,null,null,null,null,null,null,"ม.1/1"]
[null,null,null,null,"ม.1/2",null,null,null,null,null,null,null,null,null,null,null,null,null,null,null,null,null,null,null,null,null,null,null,null,null,"ม.1/2"]
[null,null,null,null,"ม.1/3",null,null,null,null,null,null,null,null,null,null,null,null,null,null,null,null,null,null,null,null,null,null,null,null,null,"ม.1/3"]
[null,null,null,null,"ม.1/4",null,null,null,null,null,null,null,null,null,null,null,null,null,null,null,null,null,null,null,null,null,null,null,null,null,"ม.1/4"]
[null,null,null,null,"ม.1/5",null,null,null,null,null,null,null,null,null,null,null,null,null,null,null,null,null,null,null,null,null,null,null,null,null,"ม.1/5"]
[null,null,null,null,"ม.1/6",null,null,null,null,null,null,null,null,null,null,null,null,null,null,null,null,null,null,null,null,null,null,null,null,null,"ม.1/6"]
[null,null,null,null,"ม.1/7",null,null,null,null,null,null,null,null,null,null,null,null,null,null,null,null,null,null,null,null,null,null,null,null,null,"ม.1/7"]
[null,null,null,null,"ม.1/8",null,null,null,null,null,null,null,null,null,null,null,null,null,null,null,null,null,null,null,null,null,null,null,null,null,"ม.1/8"]
[null,null,null,null,"ม.1/9",null,null,null,null,null,null,null,null,null,null,null,null,null,null,null,null,null,null,null,null,null,null,null,null,null,"ม.1/9"]
[null,null,null,null,"ม.1/10",null,null,null,null,null,null,null,null,null,null,null,null,null,null,null,null,null,null,null,null,null,null,null,null,null,"ม.1/10"]
[null,null,null,null,"ม.2/1",null,null,null,null,null,null,null,null,null,null,null,null,null,null,null,null,null,null,null,null,null,null,null,null,null,"ม.2/1"]
[null,null,null,null,"ม.2/2",null,null,null,null,null,null,null,null,null,null,null,null,null,null,null,null,null,null,null,null,null,null,null,null,null,"ม.2/2"]
[null,null,null,null,"ม.2/3",null,null,null,null,null,null,null,null,null,null,null,null,null,null,null,null,null,null,null,null,null,null,null,null,null,"ม.2/3"]
[null,null,null,null,"ม.2/4",null,null,null,null,null,null,null,null,null,null,null,null,null,null,null,null,null,null,null,null,null,null,null,null,null,"ม.2/4"]
[null,null,null,null,"ม.2/5",null,null,null,null,null,null,null,null,null,null,null,null,null,null,null,null,null,null,null,null,null,null,null,null,null,"ม.2/5"]
[null,null,null,null,"ม.2/6",null,null,null,null,null,null,null,null,null,null,null,null,null,null,null,null,null,null,null,null,null,null,null,null,null,"ม.2/6"]
[null,null,null,null,"ม.2/7",null,null,null,null,null,null,null,null,null,null,null,null,null,null,null,null,null,null,null,null,null,null,null,null,null,"ม.2/7"]
[null,null,null,null,"ม.2/8",null,null,null,null,null,null,null,null,null,null,null,null,null,null,null,null,null,null,null,null,null,null,null,null,null,"ม.2/8"]
[null,null,null,null,"ม.2/9",null,null,null,null,null,null,null,null,null,null,null,null,null,null,null,null,null,null,null,null,null,null,null,null,null,"ม.2/9"]
[null,null,null,null,"ม.2/10",null,null,null,null,null,null,null,null,null,null,null,null,null,null,null,null,null,null,null,null,null,null,null,null,null,"ม.2/10"]
[null,null,null,null,"ม.3/1",null,null,null,null,null,null,null,null,null,null,null,null,null,null,null,null,null,null,null,null,null,null,null,null,null,"ม.3/1"]
[null,null,null,null,"ม.3/2",null,null,null,null,null,null,null,null,null,null,null,null,null,null,null,null,null,null,null,null,null,null,null,null,null,"ม.3/2"]
[null,null,null,null,"ม.3/3",null,null,null,null,null,null,null,null,null,null,null,null,null,null,null,null,null,null,null,null,null,null,null,null,null,"ม.3/3"]
[null,null,null,null,"ม.3/4",null,null,null,null,null,null,null,null,null,null,null,null,null,null,null,null,null,null,null,null,null,null,null,null,null,"ม.3/4"]
[null,null,null,null,"ม.3/5",null,null,null,null,null,null,null,null,null,null,null,null,null,null,null,null,null,null,null,null,null,null,null,null,null,"ม.3/5"]
[null,null,null,null,"ม.3/6",null,null,null,null,null,null,null,null,null,null,null,null,null,null,null,null,null,null,null,null,null,null,null,null,null,"ม.3/6"]
[null,null,null,null,"ม.3/7",null,null,null,null,null,null,null,null,null,null,null,null,null,null,null,null,null,null,null,null,null,null,null,null,null,"ม.3/7"]
[null,null,null,null,"ม.3/8",null,null,null,null,null,null,null,null,null,null,null,null,null,null,null,null,null,null,null,null,null,null,null,null,null,"ม.3/8"]
[null,null,null,null,"ม.3/9",null,null,null,null,null,null,null,null,null,null,null,null,null,null,null,null,null,null,null,null,null,null,null,null,null,"ม.3/9"]
[null,null,null,null,"ม.3/10",null,null,null,null,null,null,null,null,null,null,null,null,null,null,null,null,null,null,null,null,null,null,null,null,null,"ม.3/10"]
[null,null,null,null,"ม.4-6/1",null,null,null,null,null,null,null,null,null,null,null,null,null,null,null,null,null,null,null,null,null,null,null,null,null,"ม.4-6/1"]
[null,null,null,null,"ม.4-6/2",null,null,null,null,null,null,null,null,null,null,null,null,null,null,null,null,null,null,null,null,null,null,null,null,null,"ม.4-6/2"]
[null,null,null,null,"ม.4-6/3",null,null,null,null,null,null,null,null,null,null,null,null,null,null,null,null,null,null,null,null,null,null,null,null,null,"ม.4-6/3"]
[null,null,null,null,"ม.4-6/4",null,null,null,null,null,null,null,null,null,null,null,null,null,null,null,null,null,null,null,null,null,null,null,null,null,"ม.4-6/4"]
[null,null,null,null,"ม.4-6/5",null,null,null,null,null,null,null,null,null,null,null,null,null,null,null,null,null,null,null,null,null,null,null,null,null,"ม.4-6/5"]
[null,null,null,null,"ม.4-6/6",null,null,null,null,null,null,null,null,null,null,null,null,null,null,null,null,null,null,null,null,null,null,null,null,null,"ม.4-6/6"]
[null,null,null,null,"ม.4-6/7",null,null,null,null,null,null,null,null,null,null,null,null,null,null,null,null,null,null,null,null,null,null,null,null,null,"ม.4-6/7"]
[null,null,null,null,"ม.4-6/8",null,null,null,null,null,null,null,null,null,null,null,null,null,null,null,null,null,null,null,null,null,null,null,null,null,"ม.4-6/8"]
[null,null,null,null,"ม.4-6/9",null,null,null,null,null,null,null,null,null,null,null,null,null,null,null,null,null,null,null,null,null,null,null,null,null,"ม.4-6/9"]
[null,null,null,null,"ม.4-6/10",null,null,null,null,null,null,null,null,null,null,null,null,null,null,null,null,null,null,null,null,null,null,null,null,null,"ม.4-6/10"]
[null,null,null,null,"ม.4-6/11",null,null,null,null,null,null,null,null,null,null,null,null,null,null,null,null,null,null,null,null,null,null,null,null,null,"ม.4-6/11"]
[null,null,null,null,"ม.4-6/12",null,null,null,null,null,null,null,null,null,null,null,null,null,null,null,null,null,null,null,null,null,null,null,null,null,"ม.4-6/12"]
[null,null,null,null,"ม.4-6/13",null,null,null,null,null,null,null,null,null,null,null,null,null,null,null,null,null,null,null,null,null,null,null,null,null,"ม.4-6/13"]
[null,null,null,null,"ม.4-6/14",null,null,null,null,null,null,null,null,null,null,null,null,null,null,null,null,null,null,null,null,null,null,null,null,null,"ม.4-6/14"]
[null,null,null,null,"ม.4-6/15",null,null,null,null,null,null,null,null,null,null,null,null,null,null,null,null,null,null,null,null,null,null,null,null,null,"ม.4-6/15"]
[null,null,null,null,"ม.4-6/16",null,null,null,null,null,null,null,null,null,null,null,null,null,null,null,null,null,null,null,null,null,null,null,null,null,"ม.4-6/16"]
[null,null,null,null,"ม.4-6/17",null,null,null,null,null,null,null,null,null,null,null,null,null,null,null,null,null,null,null,null,null,null,null,null,null,"ม.4-6/17"]
[null,null,null,null,"ม.4-6/18",null,null,null,null,null,null,null,null,null,null,null,null,null,null,null,null,null,null,null,null,null,null,null,null,null,"ม.4-6/18"]
[null,null,null,null,"ม.4-6/19",null,null,null,null,null,null,null,null,null,null,null,null,null,null,null,null,null,null,null,null,null,null,null,null,null,"ม.4-6/19"]
[null,null,null,null,"ม.4-6/20",null,null,null,null,null,null,null,null,null,null,null,null,null,null,null,null,null,null,null,null,null,null,null,null,null,"ม.4-6/20"]
[null,null,null,null,"ม.4-6/21",null,null,null,null,null,null,null,null,null,null,null,null,null,null,null,null,null,null,null,null,null,null,null,null,null,"ม.4-6/21"]
[null,null,null,null,"ม.4-6/22",null,null,null,null,null,null,null,null,null,null,null,null,null,null,null,null,null,null,null,null,null,null,null,null,null,"ม.4-6/22"]
[null,null,null,null,"ม.4-6/23",null,null,null,null,null,null,null,null,null,null,null,null,null,null,null,null,null,null,null,null,null,null,null,null,null,"ม.4-6/23"]
[null,null,null,null,"ม.4-6/24",null,null,null,null,null,null,null,null,null,null,null,null,null,null,null,null,null,null,null,null,null,null,null,null,null,"ม.4-6/24"]
[null,null,null,null,"ม.4-6/25",null,null,null,null,null,null,null,null,null,null,null,null,null,null,null,null,null,null,null,null,null,null,null,null,null,"ม.4-6/25"]
[null,null,null,null,"ม.4-6/26",null,null,null,null,null,null,null,null,null,null,null,null,null,null,null,null,null,null,null,null,null,null,null,null,null,"ม.4-6/26"]
[null,null,null,null,"ม.4-6/27",null,null,null,null,null,null,null,null,null,null,null,null,null,null,null,null,null,null,null,null,null,null,null,null,null,"ม.4-6/27"]
[null,null,null,null,"ม.4-6/28",null,null,null,null,null,null,null,null,null,null,null,null,null,null,null,null,null,null,null,null,null,null,null,null,null,"ม.4-6/28"]
[null,null,null,null,"ม.4-6/29",null,null,null,null,null,null,null,null,null,null,null,null,null,null,null,null,null,null,null,null,null,null,null,null,null,"ม.4-6/29"]
[null,null,null,null,"ม.4-6/30",null,null,null,null,null,null,null,null,null,null,null,null,null,null,null,null,null,null,null,null,null,null,null,null,null,"ม.4-6/30"]
[null,null,null,null,"ข้อ 1",null,null,null,null,null,null,null,null,null,null,null,null,null,null,null,null,null,null,null,null,null,null,null,null,null,"ข้อ 1"]
[null,null,null,null,"ข้อ 2",null,null,null,null,null,null,null,null,null,null,null,null,null,null,null,null,null,null,null,null,null,null,null,null,null,"ข้อ 2"]
[null,null,null,null,"ข้อ 3",null,null,null,null,null,null,null,null,null,null,null,null,null,null,null,null,null,null,null,null,null,null,null,null,null,"ข้อ 3"]
[null,null,null,null,"ข้อ 4",null,null,null,null,null,null,null,null,null,null,null,null,null,null,null,null,null,null,null,null,null,null,null,null,null,"ข้อ 4"]
[null,null,null,null,"ข้อ 5",null,null,null,null,null,null,null,null,null,null,null,null,null,null,null,null,null,null,null,null,null,null,null,null,null,"ข้อ 5"]
[null,null,null,null,"ข้อ 6",null,null,null,null,null,null,null,null,null,null,null,null,null,null,null,null,null,null,null,null,null,null,null,null,null,"ข้อ 6"]
[null,null,null,null,"ข้อ 7",null,null,null,null,null,null,null,null,null,null,null,null,null,null,null,null,null,null,null,null,null,null,null,null,null,"ข้อ 7"]
[null,null,null,null,"ข้อ 8",null,null,null,null,null,null,null,null,null,null,null,null,null,null,null,null,null,null,null,null,null,null,null,null,null,"ข้อ 8"]
[null,null,null,null,"ข้อ 9",null,null,null,null,null,null,null,null,null,null,null,null,null,null,null,null,null,null,null,null,null,null,null,null,null,"ข้อ 9"]
[null,null,null,null,"ข้อ 10",null,null,null,null,null,null,null,null,null,null,null,null,null,null,null,null,null,null,null,null,null,null,null,null,null,"ข้อ 10"]
[null,null,null,null,"ข้อ 11",null,null,null,null,null,null,null,null,null,null,null,null,null,null,null,null,null,null,null,null,null,null,null,null,null,"ข้อ 11"]
[null,null,null,null,"ข้อ 12",null,null,null,null,null,null,null,null,null,null,null,null,null,null,null,null,null,null,null,null,null,null,null,null,null,"ข้อ 12"]
[null,null,null,null,"ข้อ 13",null,null,null,null,null,null,null,null,null,null,null,null,null,null,null,null,null,null,null,null,null,null,null,null,null,"ข้อ 13"]
[null,null,null,null,"ข้อ 14",null,null,null,null,null,null,null,null,null,null,null,null,null,null,null,null,null,null,null,null,null,null,null,null,null,"ข้อ 14"]
[null,null,null,null,"ข้อ 15",null,null,null,null,null,null,null,null,null,null,null,null,null,null,null,null,null,null,null,null,null,null,null,null,null,"ข้อ 15"]
[null,null,null,null,"ข้อ 16",null,null,null,null,null,null,null,null,null,null,null,null,null,null,null,null,null,null,null,null,null,null,null,null,null,"ข้อ 16"]
[null,null,null,null,"ข้อ 17",null,null,null,null,null,null,null,null,null,null,null,null,null,null,null,null,null,null,null,null,null,null,null,null,null,"ข้อ 17"]
[null,null,null,null,"ข้อ 18",null,null,null,null,null,null,null,null,null,null,null,null,null,null,null,null,null,null,null,null,null,null,null,null,null,"ข้อ 18"]
[null,null,null,null,"ข้อ 19",null,null,null,null,null,null,null,null,null,null,null,null,null,null,null,null,null,null,null,null,null,null,null,null,null,"ข้อ 19"]
[null,null,null,null,"ข้อ 20",null,null,null,null,null,null,null,null,null,null,null,null,null,null,null,null,null,null,null,null,null,null,null,null,null,"ข้อ 20"]
[null,null,null,null,"ข้อ 21",null,null,null,null,null,null,null,null,null,null,null,null,null,null,null,null,null,null,null,null,null,null,null,null,null,"ข้อ 21"]
[null,null,null,null,"ข้อ 22",null,null,null,null,null,null,null,null,null,null,null,null,null,null,null,null,null,null,null,null,null,null,null,null,null,"ข้อ 22"]
[null,null,null,null,"ข้อ 23",null,null,null,null,null,null,null,null,null,null,null,null,null,null,null,null,null,null,null,null,null,null,null,null,null,"ข้อ 23"]
[null,null,null,null,"ข้อ 24",null,null,null,null,null,null,null,null,null,null,null,null,null,null,null,null,null,null,null,null,null,null,null,null,null,"ข้อ 24"]
[null,null,null,null,"ข้อ 25",null,null,null,null,null,null,null,null,null,null,null,null,null,null,null,null,null,null,null,null,null,null,null,null,null,"ข้อ 25"]
[null,null,null,null,"ข้อ 26",null,null,null,null,null,null,null,null,null,null,null,null,null,null,null,null,null,null,null,null,null,null,null,null,null,"ข้อ 26"]
[null,null,null,null,"ข้อ 27",null,null,null,null,null,null,null,null,null,null,null,null,null,null,null,null,null,null,null,null,null,null,null,null,null,"ข้อ 27"]
[null,null,null,null,"ข้อ 28",null,null,null,null,null,null,null,null,null,null,null,null,null,null,null,null,null,null,null,null,null,null,null,null,null,"ข้อ 28"]
[null,null,null,null,"ข้อ 29",null,null,null,null,null,null,null,null,null,null,null,null,null,null,null,null,null,null,null,null,null,null,null,null,null,"ข้อ 29"]
[null,null,null,null,"ข้อ 30",null,null,null,null,null,null,null,null,null,null,null,null,null,null,null,null,null,null,null,null,null,null,null,null,null,"ข้อ 30"]

{"sheet":"แผนภูมิสรุป","index":10,"n_rows":39,"n_cols":13,"rows_kept":39,"cut":false,"hidden":false,"merged":[[1,0,1,9],[13,0,13,9],[25,0,25,9]]}
[]
[{"$f":"\"แผนภูมิแสดงจำนวนนักเรียนที่ได้รับผลการประเมินกิจกรรม\"&ปก!C26","v":"แผนภูมิแสดงจำนวนนักเรียนที่ได้รับผลการประเมินกิจกรรม"}]
[]
[]
[]
[]
[]
[]
[]
[]
[]
[]
[]
["แผนภูมิแสดงร้อยละของนักเรียนที่ได้ระดับผลการประเมินแต่ละระดับ"]
[]
[]
[]
[]
[]
[]
[]
[]
[]
[]
[]
[]
[]
[]
[]
[]
[]
[]
[]
[]
[]
[]
[null,null,null,null,null,null,null,null,null,null,null,null,{"$f":"SUM(ปก!AD25:AI25)","v":0}]
[null,null,null,null,null,null,null,null,null,null,null,null,{"$f":"SUM(ปก!AJ25:AQ25)","v":0}]
[null,null,null,null,null,null,null,null,null,null,null,null,{"$f":"SUM(ปก!AR25:AW25)","v":0}]

{"sheet":"ประเมินกิจกรรม","index":11,"n_rows":57,"n_cols":16,"rows_kept":57,"cut":false,"hidden":false,"merged":[[55,11,55,13],[56,11,56,13],[38,11,38,13],[44,11,44,13],[47,11,47,13],[52,11,52,13],[53,11,53,13],[54,11,54,13],[32,11,32,13],[4,10,6,10],[4,11,6,13],[7,11,7,13],[8,11,8,13],[9,11,9,13],[10,11,10,13],[11,11,11,13],[12,11,12,13],[19,11,19,13],[0,0,0,12],[1,0,1,12],[2,0,2,12],[4,0,6,0],[4,1,6,1],[4,2,6,2],[4,3,4,5],[4,6,4,8],[4,9,5,9]]}
[{"$f":"\"แบบประเมินผลการพัฒนากิจกรรม\"&ปก!C26&\"  \"","v":"แบบประเมินผลการพัฒนากิจกรรม  "}]
[{"$f":"\"ชั้นประถมศึกษาปีที่ \"&ปก!C21&\"/\"&ปก!C22&\"    ปีการศึกษา \"&ปก!C16","v":"ชั้นประถมศึกษาปีที่ 4/4    ปีการศึกษา 2567"}]
[{"$f":"ปก!C5&\"  สังกัด\"&ปก!C8&\"  อำเภอ\"&ปก!C6&\"  จังหวัด\"&ปก!C7","v":"โรงเรียนเทศบาล ๕  สังกัดเทศบาลนครสุราษฎร์ธานี  อำเภอเมือง  จังหวัดสุราษฎร์ธานี"}]
[]
["ที่","ชื่อ - สกุล","เวลา\nเรียน\nร้อยละ","ภาคเรียนที่ 1",null,null,"ภาคเรียนที่ 2",null,null,"รวมเฉลี่ย","ผลการประเมินกิจกรรม","หมายเหตุ"]
[null,null,null,"ปฏิบัติ","ทดสอบ","รวม","ปฏิบัติ","ทดสอบ","รวม"]
[null,null,null,{"$f":"คะแนนเทอม1!CM6","v":80},{"$f":"คะแนนเทอม1!CO6","v":20},{"$f":"SUM(D7:E7)","v":100},{"$f":"คะแนนเทอม2!CM6","v":80},{"$f":"คะแนนเทอม2!CO6","v":20},{"$f":"SUM(G7:H7)","v":100},100]
[1,{"$f":"เวลาเรียน!C9","v":"เด็กชายทศพล  เต๊ะปู่       "},{"$f":"IF(เวลาเรียน!IO9=0,\"\",เวลาเรียน!IO9)","v":""},{"$f":"IF(คะแนนเทอม1!CM7=\"\",\"\",คะแนนเทอม1!CM7)","v":0},{"$f":"คะแนนเทอม1!CO7","v":""},{"$f":"คะแนนเทอม1!CQ7","v":{"$error":"#VALUE!"}},{"$f":"คะแนนเทอม2!CM7","v":0},{"$f":"คะแนนเทอม2!CO7","v":""},{"$f":"คะแนนเทอม2!CQ7","v":{"$error":"#VALUE!"}},{"$f":"ROUND((F8+I8)/2,0)","v":{"$error":"#VALUE!"}},{"$f":"IF(J8>=50,\"ผ\",\"มผ\")","v":{"$error":"#VALUE!"}},"เกณฑ์การประเมิน"]
[2,{"$f":"เวลาเรียน!C10","v":"เด็กชายณัฐกานต์  เพชรลาย       "},{"$f":"IF(เวลาเรียน!IO10=0,\"\",เวลาเรียน!IO10)","v":""},{"$f":"IF(คะแนนเทอม1!CM8=\"\",\"\",คะแนนเทอม1!CM8)","v":0},{"$f":"คะแนนเทอม1!CO8","v":""},{"$f":"คะแนนเทอม1!CQ8","v":{"$error":"#VALUE!"}},{"$f":"คะแนนเทอม2!CM8","v":0},{"$f":"คะแนนเทอม2!CO8","v":""},{"$f":"คะแนนเทอม2!CQ8","v":{"$error":"#VALUE!"}},{"$f":"ROUND((F9+I9)/2,0)","v":{"$error":"#VALUE!"}},{"$f":"IF(J9>=50,\"ผ\",\"มผ\")","v":{"$error":"#VALUE!"}},"ร้อยละ  50 - 100  =  ผ่าน"]
[3,{"$f":"เวลาเรียน!C11","v":"เด็กชายอรรถกร  สุนทรา       "},{"$f":"IF(เวลาเรียน!IO11=0,\"\",เวลาเรียน!IO11)","v":""},{"$f":"IF(คะแนนเทอม1!CM9=\"\",\"\",คะแนนเทอม1!CM9)","v":0},{"$f":"คะแนนเทอม1!CO9","v":""},{"$f":"คะแนนเทอม1!CQ9","v":{"$error":"#VALUE!"}},{"$f":"คะแนนเทอม2!CM9","v":0},{"$f":"คะแนนเทอม2!CO9","v":""},{"$f":"คะแนนเทอม2!CQ9","v":{"$error":"#VALUE!"}},{"$f":"ROUND((F10+I10)/2,0)","v":{"$error":"#VALUE!"}},{"$f":"IF(J10>=50,\"ผ\",\"มผ\")","v":{"$error":"#VALUE!"}},"ร้อยละ  0 - 49    =  ไม่ผ่าน"]
[4,{"$f":"เวลาเรียน!C12","v":"เด็กหญิงภิญญาพัชญ์  สุทธิช่วย       "},{"$f":"IF(เวลาเรียน!IO12=0,\"\",เวลาเรียน!IO12)","v":""},{"$f":"IF(คะแนนเทอม1!CM10=\"\",\"\",คะแนนเทอม1!CM10)","v":0},{"$f":"คะแนนเทอม1!CO10","v":""},{"$f":"คะแนนเทอม1!CQ10","v":{"$error":"#VALUE!"}},{"$f":"คะแนนเทอม2!CM10","v":0},{"$f":"คะแนนเทอม2!CO10","v":""},{"$f":"คะแนนเทอม2!CQ10","v":{"$error":"#VALUE!"}},{"$error":"#VALUE!"},{"$error":"#VALUE!"}]
[5,{"$f":"เวลาเรียน!C13","v":"เด็กหญิงญานิศา  คชนาค       "},{"$f":"IF(เวลาเรียน!IO13=0,\"\",เวลาเรียน!IO13)","v":""},{"$f":"IF(คะแนนเทอม1!CM11=\"\",\"\",คะแนนเทอม1!CM11)","v":0},{"$f":"คะแนนเทอม1!CO11","v":""},{"$f":"คะแนนเทอม1!CQ11","v":{"$error":"#VALUE!"}},{"$f":"คะแนนเทอม2!CM11","v":0},{"$f":"คะแนนเทอม2!CO11","v":""},{"$f":"คะแนนเทอม2!CQ11","v":{"$error":"#VALUE!"}},{"$error":"#VALUE!"},{"$error":"#VALUE!"}]
[6,{"$f":"เวลาเรียน!C14","v":"เด็กชายชยพล  ชลสงคราม       "},{"$f":"IF(เวลาเรียน!IO14=0,\"\",เวลาเรียน!IO14)","v":""},{"$f":"IF(คะแนนเทอม1!CM12=\"\",\"\",คะแนนเทอม1!CM12)","v":0},{"$f":"คะแนนเทอม1!CO12","v":""},{"$f":"คะแนนเทอม1!CQ12","v":{"$error":"#VALUE!"}},{"$f":"คะแนนเทอม2!CM12","v":0},{"$f":"คะแนนเทอม2!CO12","v":""},{"$f":"คะแนนเทอม2!CQ12","v":{"$error":"#VALUE!"}},{"$error":"#VALUE!"},{"$error":"#VALUE!"}]
[7,{"$f":"เวลาเรียน!C15","v":"เด็กชายณัฏฐากร  เติมชัย       "},{"$f":"IF(เวลาเรียน!IO15=0,\"\",เวลาเรียน!IO15)","v":""},{"$f":"IF(คะแนนเทอม1!CM13=\"\",\"\",คะแนนเทอม1!CM13)","v":0},{"$f":"คะแนนเทอม1!CO13","v":""},{"$f":"คะแนนเทอม1!CQ13","v":{"$error":"#VALUE!"}},{"$f":"คะแนนเทอม2!CM13","v":0},{"$f":"คะแนนเทอม2!CO13","v":""},{"$f":"คะแนนเทอม2!CQ13","v":{"$error":"#VALUE!"}},{"$error":"#VALUE!"},{"$error":"#VALUE!"}]
[8,{"$f":"เวลาเรียน!C16","v":"เด็กหญิงอรนภา  จูละพันธ์       "},{"$f":"IF(เวลาเรียน!IO16=0,\"\",เวลาเรียน!IO16)","v":""},{"$f":"IF(คะแนนเทอม1!CM14=\"\",\"\",คะแนนเทอม1!CM14)","v":0},{"$f":"คะแนนเทอม1!CO14","v":""},{"$f":"คะแนนเทอม1!CQ14","v":{"$error":"#VALUE!"}},{"$f":"คะแนนเทอม2!CM14","v":0},{"$f":"คะแนนเทอม2!CO14","v":""},{"$f":"คะแนนเทอม2!CQ14","v":{"$error":"#VALUE!"}},{"$f":"ROUND((F15+I15)/2,0)","v":{"$error":"#VALUE!"}},{"$f":"IF(J15>=50,\"ผ\",\"มผ\")","v":{"$error":"#VALUE!"}}]
[9,{"$f":"เวลาเรียน!C17","v":"เด็กหญิงปนัดดา  ขุนทอง       "},{"$f":"IF(เวลาเรียน!IO17=0,\"\",เวลาเรียน!IO17)","v":""},{"$f":"IF(คะแนนเทอม1!CM15=\"\",\"\",คะแนนเทอม1!CM15)","v":0},{"$f":"คะแนนเทอม1!CO15","v":""},{"$f":"คะแนนเทอม1!CQ15","v":{"$error":"#VALUE!"}},{"$f":"คะแนนเทอม2!CM15","v":0},{"$f":"คะแนนเทอม2!CO15","v":""},{"$f":"คะแนนเทอม2!CQ15","v":{"$error":"#VALUE!"}},{"$error":"#VALUE!"},{"$error":"#VALUE!"}]
[10,{"$f":"เวลาเรียน!C18","v":"เด็กหญิงนันท์นภัส  จันทร์ร้อย       "},{"$f":"IF(เวลาเรียน!IO18=0,\"\",เวลาเรียน!IO18)","v":""},{"$f":"IF(คะแนนเทอม1!CM16=\"\",\"\",คะแนนเทอม1!CM16)","v":0},{"$f":"คะแนนเทอม1!CO16","v":""},{"$f":"คะแนนเทอม1!CQ16","v":{"$error":"#VALUE!"}},{"$f":"คะแนนเทอม2!CM16","v":0},{"$f":"คะแนนเทอม2!CO16","v":""},{"$f":"คะแนนเทอม2!CQ16","v":{"$error":"#VALUE!"}},{"$error":"#VALUE!"},{"$error":"#VALUE!"}]
[11,{"$f":"เวลาเรียน!C19","v":"เด็กชายณัฏฐะชัย  แซ่อั้ง       "},{"$f":"IF(เวลาเรียน!IO19=0,\"\",เวลาเรียน!IO19)","v":""},{"$f":"IF(คะแนนเทอม1!CM17=\"\",\"\",คะแนนเทอม1!CM17)","v":0},{"$f":"คะแนนเทอม1!CO17","v":""},{"$f":"คะแนนเทอม1!CQ17","v":{"$error":"#VALUE!"}},{"$f":"คะแนนเทอม2!CM17","v":0},{"$f":"คะแนนเทอม2!CO17","v":""},{"$f":"คะแนนเทอม2!CQ17","v":{"$error":"#VALUE!"}},{"$error":"#VALUE!"},{"$error":"#VALUE!"}]
[12,{"$f":"เวลาเรียน!C20","v":"เด็กชายนวกร  อ่อนเกตุพล       "},{"$f":"IF(เวลาเรียน!IO20=0,\"\",เวลาเรียน!IO20)","v":""},{"$f":"IF(คะแนนเทอม1!CM18=\"\",\"\",คะแนนเทอม1!CM18)","v":0},{"$f":"คะแนนเทอม1!CO18","v":""},{"$f":"คะแนนเทอม1!CQ18","v":{"$error":"#VALUE!"}},{"$f":"คะแนนเทอม2!CM18","v":0},{"$f":"คะแนนเทอม2!CO18","v":""},{"$f":"คะแนนเทอม2!CQ18","v":{"$error":"#VALUE!"}},{"$error":"#VALUE!"},{"$error":"#VALUE!"},null,null,null,{"$f":"SUM(M15:M18)","v":0}]
[13,{"$f":"เวลาเรียน!C21","v":"เด็กชายธัญเทพ  นิยะกิจ       "},{"$f":"IF(เวลาเรียน!IO21=0,\"\",เวลาเรียน!IO21)","v":""},{"$f":"IF(คะแนนเทอม1!CM19=\"\",\"\",คะแนนเทอม1!CM19)","v":0},{"$f":"คะแนนเทอม1!CO19","v":""},{"$f":"คะแนนเทอม1!CQ19","v":{"$error":"#VALUE!"}},{"$f":"คะแนนเทอม2!CM19","v":0},{"$f":"คะแนนเทอม2!CO19","v":""},{"$f":"คะแนนเทอม2!CQ19","v":{"$error":"#VALUE!"}},{"$error":"#VALUE!"},{"$error":"#VALUE!"},"สรุปผลการประเมิน"]
[14,{"$f":"เวลาเรียน!C22","v":"เด็กหญิงฐิติกาญจน์  กองวารี       "},{"$f":"IF(เวลาเรียน!IO22=0,\"\",เวลาเรียน!IO22)","v":""},{"$f":"IF(คะแนนเทอม1!CM20=\"\",\"\",คะแนนเทอม1!CM20)","v":0},{"$f":"คะแนนเทอม1!CO20","v":""},{"$f":"คะแนนเทอม1!CQ20","v":{"$error":"#VALUE!"}},{"$f":"คะแนนเทอม2!CM20","v":0},{"$f":"คะแนนเทอม2!CO20","v":""},{"$f":"คะแนนเทอม2!CQ20","v":{"$error":"#VALUE!"}},{"$error":"#VALUE!"},{"$error":"#VALUE!"},"ผลประเมิน","จำนวน","ร้อยละ"]
[15,{"$f":"เวลาเรียน!C23","v":"เด็กหญิงสุวิชญา  พิชัย       "},{"$f":"IF(เวลาเรียน!IO23=0,\"\",เวลาเรียน!IO23)","v":""},{"$f":"IF(คะแนนเทอม1!CM21=\"\",\"\",คะแนนเทอม1!CM21)","v":0},{"$f":"คะแนนเทอม1!CO21","v":""},{"$f":"คะแนนเทอม1!CQ21","v":{"$error":"#VALUE!"}},{"$f":"คะแนนเทอม2!CM21","v":0},{"$f":"คะแนนเทอม2!CO21","v":""},{"$f":"คะแนนเทอม2!CQ21","v":{"$error":"#VALUE!"}},{"$error":"#VALUE!"},{"$error":"#VALUE!"},"ผ",{"$f":"COUNTIF(K8:K57,\"ผ\")","v":0},{"$f":"M22*100/$P$24","v":{"$error":"#DIV/0!"}}]
[16,{"$f":"เวลาเรียน!C24","v":"เด็กหญิงนันท์นภัส  เต็มสงสัย       "},{"$f":"IF(เวลาเรียน!IO24=0,\"\",เวลาเรียน!IO24)","v":""},{"$f":"IF(คะแนนเทอม1!CM22=\"\",\"\",คะแนนเทอม1!CM22)","v":0},{"$f":"คะแนนเทอม1!CO22","v":""},{"$f":"คะแนนเทอม1!CQ22","v":{"$error":"#VALUE!"}},{"$f":"คะแนนเทอม2!CM22","v":0},{"$f":"คะแนนเทอม2!CO22","v":""},{"$f":"คะแนนเทอม2!CQ22","v":{"$error":"#VALUE!"}},{"$error":"#VALUE!"},{"$error":"#VALUE!"},"มผ",{"$f":"COUNTIF(K8:K57,\"มผ\")","v":0},{"$f":"M23*100/$P$24","v":{"$error":"#DIV/0!"}}]
[17,{"$f":"เวลาเรียน!C25","v":"เด็กชายธนิสร  ทิพย์เกิด       "},{"$f":"IF(เวลาเรียน!IO25=0,\"\",เวลาเรียน!IO25)","v":""},{"$f":"IF(คะแนนเทอม1!CM23=\"\",\"\",คะแนนเทอม1!CM23)","v":0},{"$f":"คะแนนเทอม1!CO23","v":""},{"$f":"คะแนนเทอม1!CQ23","v":{"$error":"#VALUE!"}},{"$f":"คะแนนเทอม2!CM23","v":0},{"$f":"คะแนนเทอม2!CO23","v":""},{"$f":"คะแนนเทอม2!CQ23","v":{"$error":"#VALUE!"}},{"$error":"#VALUE!"},{"$error":"#VALUE!"},null,null,null,null,{"$f":"M22+M23","v":0}]
[18,{"$f":"เวลาเรียน!C26","v":"เด็กชายนันทิพัฒน์  วงศ์คำลือ       "},{"$f":"IF(เวลาเรียน!IO26=0,\"\",เวลาเรียน!IO26)","v":""},{"$f":"IF(คะแนนเทอม1!CM24=\"\",\"\",คะแนนเทอม1!CM24)","v":0},{"$f":"คะแนนเทอม1!CO24","v":""},{"$f":"คะแนนเทอม1!CQ24","v":{"$error":"#VALUE!"}},{"$f":"คะแนนเทอม2!CM24","v":0},{"$f":"คะแนนเทอม2!CO24","v":""},{"$f":"คะแนนเทอม2!CQ24","v":{"$error":"#VALUE!"}},{"$error":"#VALUE!"},{"$error":"#VALUE!"}]
[19,{"$f":"เวลาเรียน!C27","v":"เด็กชายธนโชติ  โภคา       "},{"$f":"IF(เวลาเรียน!IO27=0,\"\",เวลาเรียน!IO27)","v":""},{"$f":"IF(คะแนนเทอม1!CM25=\"\",\"\",คะแนนเทอม1!CM25)","v":0},{"$f":"คะแนนเทอม1!CO25","v":""},{"$f":"คะแนนเทอม1!CQ25","v":{"$error":"#VALUE!"}},{"$f":"คะแนนเทอม2!CM25","v":0},{"$f":"คะแนนเทอม2!CO25","v":""},{"$f":"คะแนนเทอม2!CQ25","v":{"$error":"#VALUE!"}},{"$error":"#VALUE!"},{"$error":"#VALUE!"}]
[20,{"$f":"เวลาเรียน!C28","v":"เด็กชายจิรภัทร  หีตพรหม       "},{"$f":"IF(เวลาเรียน!IO28=0,\"\",เวลาเรียน!IO28)","v":""},{"$f":"IF(คะแนนเทอม1!CM26=\"\",\"\",คะแนนเทอม1!CM26)","v":0},{"$f":"คะแนนเทอม1!CO26","v":""},{"$f":"คะแนนเทอม1!CQ26","v":{"$error":"#VALUE!"}},{"$f":"คะแนนเทอม2!CM26","v":0},{"$f":"คะแนนเทอม2!CO26","v":""},{"$f":"คะแนนเทอม2!CQ26","v":{"$error":"#VALUE!"}},{"$error":"#VALUE!"},{"$error":"#VALUE!"}]
[21,{"$f":"เวลาเรียน!C29","v":"เด็กชายพงศพัศ  พิชิตพงศาภรณ์       "},{"$f":"IF(เวลาเรียน!IO29=0,\"\",เวลาเรียน!IO29)","v":""},{"$f":"IF(คะแนนเทอม1!CM27=\"\",\"\",คะแนนเทอม1!CM27)","v":0},{"$f":"คะแนนเทอม1!CO27","v":""},{"$f":"คะแนนเทอม1!CQ27","v":{"$error":"#VALUE!"}},{"$f":"คะแนนเทอม2!CM27","v":0},{"$f":"คะแนนเทอม2!CO27","v":""},{"$f":"คะแนนเทอม2!CQ27","v":{"$error":"#VALUE!"}},{"$error":"#VALUE!"},{"$error":"#VALUE!"}]
[22,{"$f":"เวลาเรียน!C30","v":"เด็กหญิงชนัดดา  บุญวิก       "},{"$f":"IF(เวลาเรียน!IO30=0,\"\",เวลาเรียน!IO30)","v":""},{"$f":"IF(คะแนนเทอม1!CM28=\"\",\"\",คะแนนเทอม1!CM28)","v":0},{"$f":"คะแนนเทอม1!CO28","v":""},{"$f":"คะแนนเทอม1!CQ28","v":{"$error":"#VALUE!"}},{"$f":"คะแนนเทอม2!CM28","v":0},{"$f":"คะแนนเทอม2!CO28","v":""},{"$f":"คะแนนเทอม2!CQ28","v":{"$error":"#VALUE!"}},{"$error":"#VALUE!"},{"$error":"#VALUE!"}]
[23,{"$f":"เวลาเรียน!C31","v":"เด็กหญิงชัชชญา  บุญวิก       "},{"$f":"IF(เวลาเรียน!IO31=0,\"\",เวลาเรียน!IO31)","v":""},{"$f":"IF(คะแนนเทอม1!CM29=\"\",\"\",คะแนนเทอม1!CM29)","v":0},{"$f":"คะแนนเทอม1!CO29","v":""},{"$f":"คะแนนเทอม1!CQ29","v":{"$error":"#VALUE!"}},{"$f":"คะแนนเทอม2!CM29","v":0},{"$f":"คะแนนเทอม2!CO29","v":""},{"$f":"คะแนนเทอม2!CQ29","v":{"$error":"#VALUE!"}},{"$error":"#VALUE!"},{"$error":"#VALUE!"}]
[24,{"$f":"เวลาเรียน!C32","v":"เด็กหญิงญาณิศา  วรรณพัฒน์       "},{"$f":"IF(เวลาเรียน!IO32=0,\"\",เวลาเรียน!IO32)","v":""},{"$f":"IF(คะแนนเทอม1!CM30=\"\",\"\",คะแนนเทอม1!CM30)","v":0},{"$f":"คะแนนเทอม1!CO30","v":""},{"$f":"คะแนนเทอม1!CQ30","v":{"$error":"#VALUE!"}},{"$f":"คะแนนเทอม2!CM30","v":0},{"$f":"คะแนนเทอม2!CO30","v":""},{"$f":"คะแนนเทอม2!CQ30","v":{"$error":"#VALUE!"}},{"$error":"#VALUE!"},{"$error":"#VALUE!"},null,null,null,{"$f":"SUM(M22:M31)","v":0},{"$f":"SUM(N22:N31)","v":{"$error":"#DIV/0!"}}]
[25,{"$f":"เวลาเรียน!C33","v":"เด็กหญิงกรชนก  คงจันทร์       "},{"$f":"IF(เวลาเรียน!IO33=0,\"\",เวลาเรียน!IO33)","v":""},{"$f":"IF(คะแนนเทอม1!CM31=\"\",\"\",คะแนนเทอม1!CM31)","v":0},{"$f":"คะแนนเทอม1!CO31","v":""},{"$f":"คะแนนเทอม1!CQ31","v":{"$error":"#VALUE!"}},{"$f":"คะแนนเทอม2!CM31","v":0},{"$f":"คะแนนเทอม2!CO31","v":""},{"$f":"คะแนนเทอม2!CQ31","v":{"$error":"#VALUE!"}},{"$error":"#VALUE!"},{"$error":"#VALUE!"}]
[26,{"$f":"เวลาเรียน!C34","v":"เด็กหญิงอาทิตยา  อ่วมทองดี       "},{"$f":"IF(เวลาเรียน!IO34=0,\"\",เวลาเรียน!IO34)","v":""},{"$f":"IF(คะแนนเทอม1!CM32=\"\",\"\",คะแนนเทอม1!CM32)","v":0},{"$f":"คะแนนเทอม1!CO32","v":""},{"$f":"คะแนนเทอม1!CQ32","v":{"$error":"#VALUE!"}},{"$f":"คะแนนเทอม2!CM32","v":0},{"$f":"คะแนนเทอม2!CO32","v":""},{"$f":"คะแนนเทอม2!CQ32","v":{"$error":"#VALUE!"}},{"$error":"#VALUE!"},{"$error":"#VALUE!"}]
[27,{"$f":"เวลาเรียน!C35","v":"เด็กหญิงณัฏฐนันท์  เหมือนทอง       "},{"$f":"IF(เวลาเรียน!IO35=0,\"\",เวลาเรียน!IO35)","v":""},{"$f":"IF(คะแนนเทอม1!CM33=\"\",\"\",คะแนนเทอม1!CM33)","v":0},{"$f":"คะแนนเทอม1!CO33","v":""},{"$f":"คะแนนเทอม1!CQ33","v":{"$error":"#VALUE!"}},{"$f":"คะแนนเทอม2!CM33","v":0},{"$f":"คะแนนเทอม2!CO33","v":""},{"$f":"คะแนนเทอม2!CQ33","v":{"$error":"#VALUE!"}},{"$error":"#VALUE!"},{"$error":"#VALUE!"}]
[28,{"$f":"เวลาเรียน!C36","v":"เด็กชายศรันย์  นาคสวัสดิ์       "},{"$f":"IF(เวลาเรียน!IO36=0,\"\",เวลาเรียน!IO36)","v":""},{"$f":"IF(คะแนนเทอม1!CM34=\"\",\"\",คะแนนเทอม1!CM34)","v":0},{"$f":"คะแนนเทอม1!CO34","v":""},{"$f":"คะแนนเทอม1!CQ34","v":{"$error":"#VALUE!"}},{"$f":"คะแนนเทอม2!CM34","v":0},{"$f":"คะแนนเทอม2!CO34","v":""},{"$f":"คะแนนเทอม2!CQ34","v":{"$error":"#VALUE!"}},{"$error":"#VALUE!"},{"$error":"#VALUE!"}]
[29,{"$f":"เวลาเรียน!C37","v":"เด็กหญิงณธิดา  บุญฤทธิ์       "},{"$f":"IF(เวลาเรียน!IO37=0,\"\",เวลาเรียน!IO37)","v":""},{"$f":"IF(คะแนนเทอม1!CM35=\"\",\"\",คะแนนเทอม1!CM35)","v":0},{"$f":"คะแนนเทอม1!CO35","v":""},{"$f":"คะแนนเทอม1!CQ35","v":{"$error":"#VALUE!"}},{"$f":"คะแนนเทอม2!CM35","v":0},{"$f":"คะแนนเทอม2!CO35","v":""},{"$f":"คะแนนเทอม2!CQ35","v":{"$error":"#VALUE!"}},{"$error":"#VALUE!"},{"$error":"#VALUE!"}]
[30,{"$f":"เวลาเรียน!C38","v":"เด็กหญิงปวันพัสตร์  ตั้งสันทัศน์กุล       "},{"$f":"IF(เวลาเรียน!IO38=0,\"\",เวลาเรียน!IO38)","v":""},{"$f":"IF(คะแนนเทอม1!CM36=\"\",\"\",คะแนนเทอม1!CM36)","v":0},{"$f":"คะแนนเทอม1!CO36","v":""},{"$f":"คะแนนเทอม1!CQ36","v":{"$error":"#VALUE!"}},{"$f":"คะแนนเทอม2!CM36","v":0},{"$f":"คะแนนเทอม2!CO36","v":""},{"$f":"คะแนนเทอม2!CQ36","v":{"$error":"#VALUE!"}},{"$error":"#VALUE!"},{"$error":"#VALUE!"},null,null,null,{"$f":"SUM(M35:M38)","v":0},{"$f":"SUM(N35:N38)","v":0}]
[31,{"$f":"เวลาเรียน!C39","v":"เด็กชายกันต์กมล  วิชัยดิษฐ       "},{"$f":"IF(เวลาเรียน!IO39=0,\"\",เวลาเรียน!IO39)","v":""},{"$f":"IF(คะแนนเทอม1!CM37=\"\",\"\",คะแนนเทอม1!CM37)","v":0},{"$f":"คะแนนเทอม1!CO37","v":""},{"$f":"คะแนนเทอม1!CQ37","v":{"$error":"#VALUE!"}},{"$f":"คะแนนเทอม2!CM37","v":0},{"$f":"คะแนนเทอม2!CO37","v":""},{"$f":"คะแนนเทอม2!CQ37","v":{"$error":"#VALUE!"}},{"$error":"#VALUE!"},{"$error":"#VALUE!"}]
[32,{"$f":"เวลาเรียน!C40","v":"เด็กชายทินภัทร  ทัดดอกไม้       "},{"$f":"IF(เวลาเรียน!IO40=0,\"\",เวลาเรียน!IO40)","v":""},{"$f":"IF(คะแนนเทอม1!CM38=\"\",\"\",คะแนนเทอม1!CM38)","v":0},{"$f":"คะแนนเทอม1!CO38","v":""},{"$f":"คะแนนเทอม1!CQ38","v":{"$error":"#VALUE!"}},{"$f":"คะแนนเทอม2!CM38","v":0},{"$f":"คะแนนเทอม2!CO38","v":""},{"$f":"คะแนนเทอม2!CQ38","v":{"$error":"#VALUE!"}},{"$error":"#VALUE!"},{"$error":"#VALUE!"}]
[33,{"$f":"เวลาเรียน!C41","v":"เด็กชายปิยะวัฒน์  วิโรจน์       "},{"$f":"IF(เวลาเรียน!IO41=0,\"\",เวลาเรียน!IO41)","v":""},{"$f":"IF(คะแนนเทอม1!CM39=\"\",\"\",คะแนนเทอม1!CM39)","v":0},{"$f":"คะแนนเทอม1!CO39","v":""},{"$f":"คะแนนเทอม1!CQ39","v":{"$error":"#VALUE!"}},{"$f":"คะแนนเทอม2!CM39","v":0},{"$f":"คะแนนเทอม2!CO39","v":""},{"$f":"คะแนนเทอม2!CQ39","v":{"$error":"#VALUE!"}},{"$error":"#VALUE!"},{"$error":"#VALUE!"}]
[{"$f":"Sheet1!H35","v":34},{"$f":"เวลาเรียน!C42","v":"เด็กหญิงศกลภัทร  ชาวน้ำ       "},{"$f":"IF(เวลาเรียน!IO42=0,\"\",เวลาเรียน!IO42)","v":""},{"$f":"IF(คะแนนเทอม1!CM40=\"\",\"\",คะแนนเทอม1!CM40)","v":0},{"$f":"คะแนนเทอม1!CO40","v":""},{"$f":"คะแนนเทอม1!CQ40","v":{"$error":"#VALUE!"}},{"$f":"คะแนนเทอม2!CM40","v":0},{"$f":"คะแนนเทอม2!CO40","v":""},{"$f":"คะแนนเทอม2!CQ40","v":{"$error":"#VALUE!"}},{"$f":"ROUND((F41+I41)/2,0)","v":{"$error":"#VALUE!"}},{"$f":"IF(J41>=50,\"ผ\",\"มผ\")","v":{"$error":"#VALUE!"}}]
[{"$f":"Sheet1!H36","v":35},{"$f":"เวลาเรียน!C43","v":"เด็กชายอริญชัย  นครจินดา       "},{"$f":"IF(เวลาเรียน!IO43=0,\"\",เวลาเรียน!IO43)","v":""},{"$f":"IF(คะแนนเทอม1!CM41=\"\",\"\",คะแนนเทอม1!CM41)","v":0},{"$f":"คะแนนเทอม1!CO41","v":""},{"$f":"คะแนนเทอม1!CQ41","v":{"$error":"#VALUE!"}},{"$f":"คะแนนเทอม2!CM41","v":0},{"$f":"คะแนนเทอม2!CO41","v":""},{"$f":"คะแนนเทอม2!CQ41","v":{"$error":"#VALUE!"}},{"$error":"#VALUE!"},{"$error":"#VALUE!"}]
[{"$f":"Sheet1!H37","v":36},{"$f":"เวลาเรียน!C44","v":"เด็กชายภูวรินทร์  กลางประพันธ์       "},{"$f":"IF(เวลาเรียน!IO44=0,\"\",เวลาเรียน!IO44)","v":""},{"$f":"IF(คะแนนเทอม1!CM42=\"\",\"\",คะแนนเทอม1!CM42)","v":0},{"$f":"คะแนนเทอม1!CO42","v":""},{"$f":"คะแนนเทอม1!CQ42","v":{"$error":"#VALUE!"}},{"$f":"คะแนนเทอม2!CM42","v":0},{"$f":"คะแนนเทอม2!CO42","v":""},{"$f":"คะแนนเทอม2!CQ42","v":{"$error":"#VALUE!"}},{"$error":"#VALUE!"},{"$error":"#VALUE!"}]
[{"$f":"Sheet1!H38","v":37},{"$f":"เวลาเรียน!C45","v":"เด็กหญิงพรรณวรท  หนูรอด       "},{"$f":"IF(เวลาเรียน!IO45=0,\"\",เวลาเรียน!IO45)","v":""},{"$f":"IF(คะแนนเทอม1!CM43=\"\",\"\",คะแนนเทอม1!CM43)","v":0},{"$f":"คะแนนเทอม1!CO43","v":""},{"$f":"คะแนนเทอม1!CQ43","v":{"$error":"#VALUE!"}},{"$f":"คะแนนเทอม2!CM43","v":0},{"$f":"คะแนนเทอม2!CO43","v":""},{"$f":"คะแนนเทอม2!CQ43","v":{"$error":"#VALUE!"}},{"$error":"#VALUE!"},{"$error":"#VALUE!"}]
[null,null,null,null,null,null,null,null,null,null,null,"คะแนนรวม ภาค 1+2"]
[null,null,null,null,null,null,null,null,null,null,null,"กลางภาค","ปลายภาค","รวม"]
[null,null,null,null,null,null,null,null,null,null,null,{"$f":"SUM(D8:D57,G8:G57)/2","v":0},{"$f":"SUM(E8:E57,H8:H57)/2","v":0},{"$f":"SUM(F8:F57,I8:I57)/2","v":{"$error":"#VALUE!"}}]
[null,null,null,null,null,null,null,null,null,null,null,"ค่าเฉลี่ย ภาค 1+2"]
[null,null,null,null,null,null,null,null,null,null,null,"กลางภาค","ปลายภาค","เฉลี่ย"]
[null,null,null,null,null,null,null,null,null,null,null,{"$f":"AVERAGE(D8:D57,G8:G57)","v":0},{"$f":"AVERAGE(E8:E57,H8:H57)","v":{"$error":"#DIV/0!"}},{"$f":"AVERAGE(F8:F57,I8:I57)","v":{"$error":"#VALUE!"}}]
[]
[]
[null,null,null,null,null,null,null,null,null,null,null,{"$f":"ปก!C29","v":0}]
[null,null,null,null,null,null,null,null,null,null,null,"ครูผู้สอน"]
[null,null,null,null,null,null,null,null,null,null,null,"หัวหน้ากิจกรรมพัฒนาผู้เรียน ......................................."]
[null,null,null,null,null,null,null,null,null,null,null,"หัวหน้างานวัดผล ......................................."]
[null,null,null,null,null,null,null,null,null,null,null,"หัวหน้าวิชาการ .................................."]