{"text_format":"1","workbook":"xlsx","n_sheets":13,"sheets":["Sheet1","ใบรายชื่อ","ปก","กำหนดอัตราส่วนคะแนน","เวลาเรียน","ประเมินตัวชี้วัดเทอม1","ประเมินตัวชี้วัดเทอม2","ตัดสินผลการเรียน","คุณลักษณะอันพึงประสงค์","อ่าน คิด วิเคราะห์","โครงสร้างรายวิชา","แผนภูมิสรุป","ประเมินผลสัมฤทธิ์"],"not_rendered":{"charts":3,"images":51,"macros":1,"external_links":7,"defined_names":17,"comments":2,"pivot_tables":0},"unopened":[],"bounds":{"document_bytes":16777216,"sheet_cells":100000,"rows_first":2000,"rows_last":500,"rows_between":2000,"halvings":0,"cell_chars":16384,"cell_head_chars":4096},"cells_cut":0,"cells_raw":0,"read":"whole","date_system":"1900"}

{"sheet":"Sheet1","index":0,"n_rows":52,"n_cols":17,"rows_kept":52,"cut":false,"hidden":false,"merged":[[50,3,50,4],[45,3,45,4],[46,3,46,4],[47,3,47,4],[48,3,48,4],[49,3,49,4],[40,3,40,4],[41,3,41,4],[42,3,42,4],[43,3,43,4],[44,3,44,4],[35,3,35,4],[36,3,36,4],[37,3,37,4],[38,3,38,4],[39,3,39,4],[30,3,30,4],[31,3,31,4],[32,3,32,4],[33,3,33,4],[34,3,34,4],[25,3,25,4],[26,3,26,4],[27,3,27,4],[28,3,28,4],[29,3,29,4],[20,3,20,4],[21,3,21,4],[22,3,22,4],[23,3,23,4],[24,3,24,4],[15,3,15,4],[16,3,16,4],[17,3,17,4],[18,3,18,4],[19,3,19,4],[51,0,51,4],[0,3,0,4],[1,3,1,4],[2,3,2,4],[3,3,3,4],[4,3,4,4],[5,3,5,4],[6,3,6,4],[7,3,7,4],[8,3,8,4],[9,3,9,4],[10,3,10,4],[11,3,11,4],[12,3,12,4],[13,3,13,4],[14,3,14,4]]}
["StudentID","รหัส","คำนำหน้า","ชื่อ -สกุล",null,"คะแนน","เกรด",null,"คะแนนภาค 1","เกรดภาค 1","คะแนนรวม",{"$f":"SUM(I2:I51)","v":{"$error":"#VALUE!"}},null,"คะแนนภาค 2","เกรดภาค 2","คะแนนรวม",{"$f":"SUM(N2:N51)","v":{"$error":"#VALUE!"}}]
[1,{"$f":"[1]ป.3ห้อง2!$B4","v":17008},{"$f":"[1]ป.3ห้อง2!$C4","v":"เด็กชาย"},{"$f":"[1]ป.3ห้อง2!$D4","v":"วรชิต      ผึ้งบำรุง"},null,{"$f":"ตัดสินผลการเรียน!E8","v":0},{"$f":"ตัดสินผลการเรียน!F8","v":0},null,{"$f":"ตัดสินผลการเรียน!C8*2","v":0},{"$f":"IF(I2>79.5,4,IF(I2>74.5,3.5,IF(I2>69.5,3,IF(I2>64.5,2.5,IF(I2>59.5,2,IF(I2>54.5,1.5,IF(I2>49.5,1,0)))))))","v":0},"นร.ทั้งหมด",{"$f":"L11","v":0},null,{"$f":"ตัดสินผลการเรียน!D8*2","v":0},{"$f":"IF(N2>79.5,4,IF(N2>74.5,3.5,IF(N2>69.5,3,IF(N2>64.5,2.5,IF(N2>59.5,2,IF(N2>54.5,1.5,IF(N2>49.5,1,0)))))))","v":0},"นร.ทั้งหมด",{"$f":"Q11","v":0}]
[2,{"$f":"[1]ป.3ห้อง2!$B5","v":17009},{"$f":"[1]ป.3ห้อง2!$C5","v":"เด็กชาย"},{"$f":"[1]ป.3ห้อง2!$D5","v":"ธนกฤต    ธนัชญาปกรณ์"},null,{"$f":"ตัดสินผลการเรียน!E9","v":0},{"$f":"ตัดสินผลการเรียน!F9","v":0},null,{"$f":"ตัดสินผลการเรียน!C9*2","v":0},{"$f":"IF(I3>79.5,4,IF(I3>74.5,3.5,IF(I3>69.5,3,IF(I3>64.5,2.5,IF(I3>59.5,2,IF(I3>54.5,1.5,IF(I3>49.5,1,0)))))))","v":0},"ค่าเฉลี่ย",{"$f":"L1/L2","v":{"$error":"#VALUE!"}},null,{"$f":"ตัดสินผลการเรียน!D9*2","v":0},{"$f":"IF(N3>79.5,4,IF(N3>74.5,3.5,IF(N3>69.5,3,IF(N3>64.5,2.5,IF(N3>59.5,2,IF(N3>54.5,1.5,IF(N3>49.5,1,0)))))))","v":0},"ค่าเฉลี่ย",{"$f":"Q1/Q2","v":{"$error":"#VALUE!"}}]
[3,{"$f":"[1]ป.3ห้อง2!$B6","v":17012},{"$f":"[1]ป.3ห้อง2!$C6","v":"เด็กชาย"},{"$f":"[1]ป.3ห้อง2!$D6","v":"ณภัทร     กำเหนิดศิลป์"},null,{"$f":"ตัดสินผลการเรียน!E10","v":0},{"$f":"ตัดสินผลการเรียน!F10","v":0},null,{"$f":"ตัดสินผลการเรียน!C10*2","v":0},{"$f":"IF(I4>79.5,4,IF(I4>74.5,3.5,IF(I4>69.5,3,IF(I4>64.5,2.5,IF(I4>59.5,2,IF(I4>54.5,1.5,IF(I4>49.5,1,0)))))))","v":0},"เกรด 4",{"$f":"COUNTIF(J2:J51,4)","v":0},null,{"$f":"ตัดสินผลการเรียน!D10*2","v":0},0,"เกรด 4",{"$f":"COUNTIF(O2:O51,4)","v":0}]
[4,{"$f":"[1]ป.3ห้อง2!$B7","v":17020},{"$f":"[1]ป.3ห้อง2!$C7","v":"เด็กหญิง"},{"$f":"[1]ป.3ห้อง2!$D7","v":"ณัฐพัชร์   เผือกทิม"},null,{"$f":"ตัดสินผลการเรียน!E11","v":0},{"$f":"ตัดสินผลการเรียน!F11","v":0},null,{"$f":"ตัดสินผลการเรียน!C11*2","v":0},0,"เกรด 3.5",{"$f":"COUNTIF(J2:J51,3.5)","v":0},null,{"$f":"ตัดสินผลการเรียน!D11*2","v":0},0,"เกรด 3.5",{"$f":"COUNTIF(O2:O51,3.5)","v":0}]
[5,{"$f":"[1]ป.3ห้อง2!$B8","v":17021},{"$f":"[1]ป.3ห้อง2!$C8","v":"เด็กหญิง"},{"$f":"[1]ป.3ห้อง2!$D8","v":"จิรัชยา    ทัศนสวัสดิ์"},null,{"$f":"ตัดสินผลการเรียน!E12","v":0},{"$f":"ตัดสินผลการเรียน!F12","v":0},null,{"$f":"ตัดสินผลการเรียน!C12*2","v":0},0,"เกรด 3",{"$f":"COUNTIF(J2:J51,3)","v":0},null,{"$f":"ตัดสินผลการเรียน!D12*2","v":0},0,"เกรด 3",{"$f":"COUNTIF(O2:O51,3)","v":0}]
[6,{"$f":"[1]ป.3ห้อง2!$B9","v":17022},{"$f":"[1]ป.3ห้อง2!$C9","v":"เด็กหญิง"},{"$f":"[1]ป.3ห้อง2!$D9","v":"ธันยกานต์  หาญรัตนปิยพร"},null,{"$f":"ตัดสินผลการเรียน!E13","v":0},{"$f":"ตัดสินผลการเรียน!F13","v":0},null,{"$f":"ตัดสินผลการเรียน!C13*2","v":0},0,"เกรด 2.5",{"$f":"COUNTIF(J2:J51,2.5)","v":0},null,{"$f":"ตัดสินผลการเรียน!D13*2","v":0},0,"เกรด 2.5",{"$f":"COUNTIF(O2:O51,2.5)","v":0}]
[7,{"$f":"[1]ป.3ห้อง2!$B10","v":17026},{"$f":"[1]ป.3ห้อง2!$C10","v":"เด็กหญิง"},{"$f":"[1]ป.3ห้อง2!$D10","v":"กสิณา      ชูเมือง"},null,{"$f":"ตัดสินผลการเรียน!E14","v":0},{"$f":"ตัดสินผลการเรียน!F14","v":0},null,{"$f":"ตัดสินผลการเรียน!C14*2","v":0},0,"เกรด 2",{"$f":"COUNTIF(J2:J51,2)","v":0},null,{"$f":"ตัดสินผลการเรียน!D14*2","v":0},0,"เกรด 2",{"$f":"COUNTIF(O2:O51,2)","v":0}]
[8,{"$f":"[1]ป.3ห้อง2!$B11","v":17035},{"$f":"[1]ป.3ห้อง2!$C11","v":"เด็กหญิง"},{"$f":"[1]ป.3ห้อง2!$D11","v":"กานต์สิตา  รัตนโชติ"},null,{"$f":"ตัดสินผลการเรียน!E15","v":0},{"$f":"ตัดสินผลการเรียน!F15","v":0},null,{"$f":"ตัดสินผลการเรียน!C15*2","v":0},0,"เกรด 1.5",{"$f":"COUNTIF(J2:J51,1.5)","v":0},null,{"$f":"ตัดสินผลการเรียน!D15*2","v":0},0,"เกรด 1.5",{"$f":"COUNTIF(O2:O51,1.5)","v":0}]
[9,{"$f":"[1]ป.3ห้อง2!$B12","v":17038},{"$f":"[1]ป.3ห้อง2!$C12","v":"เด็กหญิง"},{"$f":"[1]ป.3ห้อง2!$D12","v":"ธัญพร      แก้วอินทร์"},null,{"$f":"ตัดสินผลการเรียน!E16","v":0},{"$f":"ตัดสินผลการเรียน!F16","v":0},null,{"$f":"ตัดสินผลการเรียน!C16*2","v":0},0,"เกรด 1",{"$f":"COUNTIF(J2:J51,1)","v":0},null,{"$f":"ตัดสินผลการเรียน!D16*2","v":0},0,"เกรด 1",{"$f":"COUNTIF(O2:O51,1)","v":0}]
[10,{"$f":"[1]ป.3ห้อง2!$B13","v":17041},{"$f":"[1]ป.3ห้อง2!$C13","v":"เด็กหญิง"},{"$f":"[1]ป.3ห้อง2!$D13","v":"กชพร       คล้ายอุดม"},null,{"$f":"ตัดสินผลการเรียน!E17","v":0},{"$f":"ตัดสินผลการเรียน!F17","v":0},null,{"$f":"ตัดสินผลการเรียน!C17*2","v":0},0,"รวม เกรด",{"$f":"SUM(L4:L10)","v":0},null,{"$f":"ตัดสินผลการเรียน!D17*2","v":0},0,"รวม เกรด",{"$f":"SUM(Q4:Q10)","v":0}]
[11,{"$f":"[1]ป.3ห้อง2!$B14","v":18181},{"$f":"[1]ป.3ห้อง2!$C14","v":"เด็กชาย"},{"$f":"[1]ป.3ห้อง2!$D14","v":"ธรณ์ธันย์    อิสรา"},null,{"$f":"ตัดสินผลการเรียน!E18","v":0},{"$f":"ตัดสินผลการเรียน!F18","v":0},null,{"$f":"ตัดสินผลการเรียน!C18*2","v":0},0,null,null,null,{"$f":"ตัดสินผลการเรียน!D18*2","v":0},0]
[12,{"$f":"[1]ป.3ห้อง2!$B15","v":18185},{"$f":"[1]ป.3ห้อง2!$C15","v":"เด็กหญิง"},{"$f":"[1]ป.3ห้อง2!$D15","v":"กัลยรัตน์   สารเทพ "},null,{"$f":"ตัดสินผลการเรียน!E19","v":0},{"$f":"ตัดสินผลการเรียน!F19","v":0},null,{"$f":"ตัดสินผลการเรียน!C19*2","v":0},0,null,null,null,{"$f":"ตัดสินผลการเรียน!D19*2","v":0},0]
[13,{"$f":"[1]ป.3ห้อง2!$B16","v":18270},{"$f":"[1]ป.3ห้อง2!$C16","v":"เด็กหญิง"},{"$f":"[1]ป.3ห้อง2!$D16","v":"เขมิกา     ปลื้มใจ "},null,{"$f":"ตัดสินผลการเรียน!E20","v":0},{"$f":"ตัดสินผลการเรียน!F20","v":0},null,{"$f":"ตัดสินผลการเรียน!C20*2","v":0},0,null,null,null,{"$f":"ตัดสินผลการเรียน!D20*2","v":0},0]
[14,{"$f":"[1]ป.3ห้อง2!$B17","v":18475},{"$f":"[1]ป.3ห้อง2!$C17","v":"เด็กชาย"},{"$f":"[1]ป.3ห้อง2!$D17","v":"กวินท์      นาคสวัสดิ์"},null,{"$f":"ตัดสินผลการเรียน!E21","v":0},{"$f":"ตัดสินผลการเรียน!F21","v":0},null,{"$f":"ตัดสินผลการเรียน!C21*2","v":0},0,null,null,null,{"$f":"ตัดสินผลการเรียน!D21*2","v":0},0]
[15,{"$f":"[1]ป.3ห้อง2!$B18","v":18521},{"$f":"[1]ป.3ห้อง2!$C18","v":"เด็กชาย"},{"$f":"[1]ป.3ห้อง2!$D18","v":"อธินันท์    บัวเพชร"},null,{"$f":"ตัดสินผลการเรียน!E22","v":0},{"$f":"ตัดสินผลการเรียน!F22","v":0},null,{"$f":"ตัดสินผลการเรียน!C22*2","v":0},0,null,null,null,{"$f":"ตัดสินผลการเรียน!D22*2","v":0},0]
[16,{"$f":"[1]ป.3ห้อง2!$B19","v":18831},{"$f":"[1]ป.3ห้อง2!$C19","v":"เด็กชาย"},{"$f":"[1]ป.3ห้อง2!$D19","v":"ปวริศร์     สันตะโร"},null,{"$f":"ตัดสินผลการเรียน!E23","v":0},{"$f":"ตัดสินผลการเรียน!F23","v":0},null,{"$f":"ตัดสินผลการเรียน!C23*2","v":0},0,null,null,null,{"$f":"ตัดสินผลการเรียน!D23*2","v":0},0]
[17,{"$f":"[1]ป.3ห้อง2!$B20","v":18832},{"$f":"[1]ป.3ห้อง2!$C20","v":"เด็กชาย"},{"$f":"[1]ป.3ห้อง2!$D20","v":"ปุณณวิช    ทองคลอด"},null,{"$f":"ตัดสินผลการเรียน!E24","v":0},{"$f":"ตัดสินผลการเรียน!F24","v":0},null,{"$f":"ตัดสินผลการเรียน!C24*2","v":0},0,null,null,null,{"$f":"ตัดสินผลการเรียน!D24*2","v":0},0]
[18,{"$f":"[1]ป.3ห้อง2!$B21","v":18833},{"$f":"[1]ป.3ห้อง2!$C21","v":"เด็กชาย"},{"$f":"[1]ป.3ห้อง2!$D21","v":"ภูมิภัทร    เพชรแก้ว"},null,{"$f":"ตัดสินผลการเรียน!E25","v":0},{"$f":"ตัดสินผลการเรียน!F25","v":0},null,{"$f":"ตัดสินผลการเรียน!C25*2","v":0},0,null,null,null,{"$f":"ตัดสินผลการเรียน!D25*2","v":0},0]
[19,{"$f":"[1]ป.3ห้อง2!$B22","v":18834},{"$f":"[1]ป.3ห้อง2!$C22","v":"เด็กชาย"},{"$f":"[1]ป.3ห้อง2!$D22","v":"ชิณณวรรธน์  เพชรอาวุธ"},null,{"$f":"ตัดสินผลการเรียน!E26","v":0},{"$f":"ตัดสินผลการเรียน!F26","v":0},null,{"$f":"ตัดสินผลการเรียน!C26*2","v":0},{"$f":"IF(I20>79.5,4,IF(I20>74.5,3.5,IF(I20>69.5,3,IF(I20>64.5,2.5,IF(I20>59.5,2,IF(I20>54.5,1.5,IF(I20>49.5,1,0)))))))","v":0},null,null,null,{"$f":"ตัดสินผลการเรียน!D26*2","v":0},{"$f":"IF(N20>79.5,4,IF(N20>74.5,3.5,IF(N20>69.5,3,IF(N20>64.5,2.5,IF(N20>59.5,2,IF(N20>54.5,1.5,IF(N20>49.5,1,0)))))))","v":0}]
[20,{"$f":"[1]ป.3ห้อง2!$B23","v":18835},{"$f":"[1]ป.3ห้อง2!$C23","v":"เด็กชาย"},{"$f":"[1]ป.3ห้อง2!$D23","v":"สิทธินนท์   ขนอม "},null,{"$f":"ตัดสินผลการเรียน!E27","v":0},{"$f":"ตัดสินผลการเรียน!F27","v":0},null,{"$f":"ตัดสินผลการเรียน!C27*2","v":0},0,null,null,null,{"$f":"ตัดสินผลการเรียน!D27*2","v":0},0]
[21,{"$f":"[1]ป.3ห้อง2!$B24","v":18836},{"$f":"[1]ป.3ห้อง2!$C24","v":"เด็กชาย"},{"$f":"[1]ป.3ห้อง2!$D24","v":"ธนเดช      ธนวนิชนาม"},null,{"$f":"ตัดสินผลการเรียน!E28","v":0},{"$f":"ตัดสินผลการเรียน!F28","v":0},null,{"$f":"ตัดสินผลการเรียน!C28*2","v":0},0,null,null,null,{"$f":"ตัดสินผลการเรียน!D28*2","v":0},0]
[22,{"$f":"[1]ป.3ห้อง2!$B25","v":18837},{"$f":"[1]ป.3ห้อง2!$C25","v":"เด็กชาย"},{"$f":"[1]ป.3ห้อง2!$D25","v":"นวพล       สิมมาตัน"},null,{"$f":"ตัดสินผลการเรียน!E29","v":0},{"$f":"ตัดสินผลการเรียน!F29","v":0},null,{"$f":"ตัดสินผลการเรียน!C29*2","v":0},0,null,null,null,{"$f":"ตัดสินผลการเรียน!D29*2","v":0},0]
[23,{"$f":"[1]ป.3ห้อง2!$B26","v":18838},{"$f":"[1]ป.3ห้อง2!$C26","v":"เด็กชาย"},{"$f":"[1]ป.3ห้อง2!$D26","v":"ฟารีส       แซ่โกว"},null,{"$f":"ตัดสินผลการเรียน!E30","v":0},{"$f":"ตัดสินผลการเรียน!F30","v":0},null,{"$f":"ตัดสินผลการเรียน!C30*2","v":0},0,null,null,null,{"$f":"ตัดสินผลการเรียน!D30*2","v":0},0]
[24,{"$f":"[1]ป.3ห้อง2!$B27","v":18839},{"$f":"[1]ป.3ห้อง2!$C27","v":"เด็กหญิง"},{"$f":"[1]ป.3ห้อง2!$D27","v":"จิดาภา      ใจห้าว"},null,{"$f":"ตัดสินผลการเรียน!E31","v":0},{"$f":"ตัดสินผลการเรียน!F31","v":0},null,{"$f":"ตัดสินผลการเรียน!C31*2","v":0},0,null,null,null,{"$f":"ตัดสินผลการเรียน!D31*2","v":0},0]
[25,{"$f":"[1]ป.3ห้อง2!$B28","v":18840},{"$f":"[1]ป.3ห้อง2!$C28","v":"เด็กหญิง"},{"$f":"[1]ป.3ห้อง2!$D28","v":"ณัฐนัน      วิโรจน์"},null,{"$f":"ตัดสินผลการเรียน!E32","v":0},{"$f":"ตัดสินผลการเรียน!F32","v":0},null,{"$f":"ตัดสินผลการเรียน!C32*2","v":0},0,null,null,null,{"$f":"ตัดสินผลการเรียน!D32*2","v":0},0]
[26,{"$f":"[1]ป.3ห้อง2!$B29","v":18841},{"$f":"[1]ป.3ห้อง2!$C29","v":"เด็กหญิง"},{"$f":"[1]ป.3ห้อง2!$D29","v":"ชลิดา       กาญจนพานิช"},null,{"$f":"ตัดสินผลการเรียน!E33","v":0},{"$f":"ตัดสินผลการเรียน!F33","v":0},null,{"$f":"ตัดสินผลการเรียน!C33*2","v":0},0,null,null,null,{"$f":"ตัดสินผลการเรียน!D33*2","v":0},0]
[27,{"$f":"[1]ป.3ห้อง2!$B30","v":18842},{"$f":"[1]ป.3ห้อง2!$C30","v":"เด็กหญิง"},{"$f":"[1]ป.3ห้อง2!$D30","v":"ณัฐภัทร     เทือกสุบรรณ  "},null,{"$f":"ตัดสินผลการเรียน!E34","v":0},{"$f":"ตัดสินผลการเรียน!F34","v":0},null,{"$f":"ตัดสินผลการเรียน!C34*2","v":0},0,null,null,null,{"$f":"ตัดสินผลการเรียน!D34*2","v":0},0]
[28,{"$f":"[1]ป.3ห้อง2!$B31","v":18843},{"$f":"[1]ป.3ห้อง2!$C31","v":"เด็กหญิง"},{"$f":"[1]ป.3ห้อง2!$D31","v":"สุกัญญา     สาระทิพย์"},null,{"$f":"ตัดสินผลการเรียน!E35","v":0},{"$f":"ตัดสินผลการเรียน!F35","v":0},null,{"$f":"ตัดสินผลการเรียน!C35*2","v":0},0,null,null,null,{"$f":"ตัดสินผลการเรียน!D35*2","v":0},0]
[29,{"$f":"[1]ป.3ห้อง2!$B32","v":19012},{"$f":"[1]ป.3ห้อง2!$C32","v":"เด็กหญิง"},{"$f":"[1]ป.3ห้อง2!$D32","v":"นันท์นภัส   วัชรกาญจน์"},null,{"$f":"ตัดสินผลการเรียน!E36","v":0},{"$f":"ตัดสินผลการเรียน!F36","v":0},null,{"$f":"ตัดสินผลการเรียน!C36*2","v":0},0,null,null,null,{"$f":"ตัดสินผลการเรียน!D36*2","v":0},0]
[30,{"$f":"[1]ป.3ห้อง2!$B33","v":19013},{"$f":"[1]ป.3ห้อง2!$C33","v":"เด็กชาย"},{"$f":"[1]ป.3ห้อง2!$D33","v":"ธนภูมิ        แซ่ด่าน"},null,{"$f":"ตัดสินผลการเรียน!E37","v":0},{"$f":"ตัดสินผลการเรียน!F37","v":0},null,{"$f":"ตัดสินผลการเรียน!C37*2","v":0},{"$f":"IF(I31>79.5,4,IF(I31>74.5,3.5,IF(I31>69.5,3,IF(I31>64.5,2.5,IF(I31>59.5,2,IF(I31>54.5,1.5,IF(I31>49.5,1,0)))))))","v":0},null,null,null,{"$f":"ตัดสินผลการเรียน!D37*2","v":0},{"$f":"IF(N31>79.5,4,IF(N31>74.5,3.5,IF(N31>69.5,3,IF(N31>64.5,2.5,IF(N31>59.5,2,IF(N31>54.5,1.5,IF(N31>49.5,1,0)))))))","v":0}]
[31,{"$f":"[1]ป.3ห้อง2!$B34","v":19045},{"$f":"[1]ป.3ห้อง2!$C34","v":"เด็กหญิง"},{"$f":"[1]ป.3ห้อง2!$D34","v":"สุชานันท์    เลื่องสุนทร"},null,{"$f":"ตัดสินผลการเรียน!E38","v":0},{"$f":"ตัดสินผลการเรียน!F38","v":0},null,{"$f":"ตัดสินผลการเรียน!C38*2","v":0},0,null,null,null,{"$f":"ตัดสินผลการเรียน!D38*2","v":0},0]
[32,{"$f":"[1]ป.3ห้อง2!$B35","v":19635},{"$f":"[1]ป.3ห้อง2!$C35","v":"เด็กหญิง"},{"$f":"[1]ป.3ห้อง2!$D35","v":"กันยาวีร์    เกตุสุวรรณ"},null,{"$f":"ตัดสินผลการเรียน!E39","v":0},{"$f":"ตัดสินผลการเรียน!F39","v":0},null,{"$f":"ตัดสินผลการเรียน!C39*2","v":0},0,null,null,null,{"$f":"ตัดสินผลการเรียน!D39*2","v":0},0]
[33,{"$f":"[1]ป.3ห้อง2!$B36","v":19636},{"$f":"[1]ป.3ห้อง2!$C36","v":"เด็กหญิง"},{"$f":"[1]ป.3ห้อง2!$D36","v":"สิรินุช       ทองปลอด"},null,{"$f":"ตัดสินผลการเรียน!E40","v":0},{"$f":"ตัดสินผลการเรียน!F40","v":0},null,{"$f":"ตัดสินผลการเรียน!C40*2","v":0},{"$f":"IF(I34>79.5,4,IF(I34>74.5,3.5,IF(I34>69.5,3,IF(I34>64.5,2.5,IF(I34>59.5,2,IF(I34>54.5,1.5,IF(I34>49.5,1,0)))))))","v":0},null,null,null,{"$f":"ตัดสินผลการเรียน!D40*2","v":0},{"$f":"IF(N34>79.5,4,IF(N34>74.5,3.5,IF(N34>69.5,3,IF(N34>64.5,2.5,IF(N34>59.5,2,IF(N34>54.5,1.5,IF(N34>49.5,1,0)))))))","v":0}]
[null,null,null,null,null,{"$f":"ตัดสินผลการเรียน!E41","v":{"$error":"#VALUE!"}},{"$f":"ตัดสินผลการเรียน!F41","v":{"$error":"#VALUE!"}},null,{"$f":"ตัดสินผลการเรียน!C41*2","v":{"$error":"#VALUE!"}},{"$f":"IF(I35>79.5,4,IF(I35>74.5,3.5,IF(I35>69.5,3,IF(I35>64.5,2.5,IF(I35>59.5,2,IF(I35>54.5,1.5,IF(I35>49.5,1,0)))))))","v":{"$error":"#VALUE!"}},null,null,null,{"$f":"ตัดสินผลการเรียน!D41*2","v":{"$error":"#VALUE!"}},{"$f":"IF(N35>79.5,4,IF(N35>74.5,3.5,IF(N35>69.5,3,IF(N35>64.5,2.5,IF(N35>59.5,2,IF(N35>54.5,1.5,IF(N35>49.5,1,0)))))))","v":{"$error":"#VALUE!"}}]
[null,null,null,null,null,{"$f":"ตัดสินผลการเรียน!E42","v":{"$error":"#VALUE!"}},{"$f":"ตัดสินผลการเรียน!F42","v":{"$error":"#VALUE!"}},null,{"$f":"ตัดสินผลการเรียน!C42*2","v":{"$error":"#VALUE!"}},{"$error":"#VALUE!"},null,null,null,{"$f":"ตัดสินผลการเรียน!D42*2","v":{"$error":"#VALUE!"}},{"$error":"#VALUE!"}]
[]
[]
[]
[]
[]
[]
[]
[]
[]
[]
[]
[]
[]
[]
[]
[null,null,null,null,null,{"$f":"COUNTIF(C2:C51,\"เด็กชาย\")","v":15},{"$f":"COUNTIF(C2:C51,\"เด็กหญิง\")","v":18},{"$f":"SUM(F52:G52)","v":33}]

{"sheet":"ใบรายชื่อ","index":1,"n_rows":57,"n_cols":25,"rows_kept":57,"cut":false,"hidden":false,"merged":[[51,2,51,3],[52,2,52,3],[53,2,53,3],[54,2,54,3],[55,2,55,3],[46,2,46,3],[47,2,47,3],[48,2,48,3],[49,2,49,3],[50,2,50,3],[41,2,41,3],[42,2,42,3],[43,2,43,3],[44,2,44,3],[45,2,45,3],[36,2,36,3],[37,2,37,3],[38,2,38,3],[39,2,39,3],[40,2,40,3],[31,2,31,3],[32,2,32,3],[33,2,33,3],[34,2,34,3],[35,2,35,3],[26,2,26,3],[27,2,27,3],[28,2,28,3],[29,2,29,3],[30,2,30,3],[21,2,21,3],[22,2,22,3],[23,2,23,3],[24,2,24,3],[25,2,25,3],[16,2,16,3],[17,2,17,3],[18,2,18,3],[19,2,19,3],[20,2,20,3],[11,2,11,3],[12,2,12,3],[13,2,13,3],[14,2,14,3],[15,2,15,3],[6,2,6,3],[7,2,7,3],[8,2,8,3],[9,2,9,3],[10,2,10,3],[1,0,1,24],[4,0,4,24],[2,0,2,24],[5,39,5,62],[3,0,3,24],[5,2,5,3]]}
[]
[{"$f":"\"รายชื่อนักเรียน\"&ปก!AF11","v":"รายชื่อนักเรียน"}]
[{"$f":"CONCATENATE(ปก!C5&\"  \"&\"สังกัด\",IF(ปก!C8=\"\",\"{{โปรดกรอกข้อมูลต้นสังกัด}}\",ปก!C8))","v":"โรงเรียนเทศบาล ๕  สังกัดเทศบาลนครสุราษฎร์ธานี"}]
[{"$f":"\"รายวิชา\"&ปก!AC15&\"    \"&\"รหัสวิชา\"&\" \"&ปก!AS15&\"  \"&\"  \"&\"ปีการศึกษา\"&\" \"&ปก!C16","v":"รายวิชา{{โปรดกรอกข้อมูลรายวิชา}}    รหัสวิชา {{โปรดกรอกรหัสวิชา}}    ปีการศึกษา 2568"}]
[{"$f":"\"ครูประจำชั้น : \"&ปก!AF19&\"  \"&ปก!AQ19","v":"ครูประจำชั้น : {{โปรดกรอกข้อมลครูประจำชั้น}}  "}]
["เลขที่","เลขประจำตัว","ชื่อ-นามสกุล"]
[1,{"$f":"Sheet1!B2","v":17008},{"$f":"CONCATENATE(Sheet1!C2&Sheet1!D2)","v":"เด็กชายวรชิต      ผึ้งบำรุง"}]
[2,{"$f":"Sheet1!B3","v":17009},{"$f":"CONCATENATE(Sheet1!C3&Sheet1!D3)","v":"เด็กชายธนกฤต    ธนัชญาปกรณ์"}]
[3,{"$f":"Sheet1!B4","v":17012},{"$f":"CONCATENATE(Sheet1!C4&Sheet1!D4)","v":"เด็กชายณภัทร     กำเหนิดศิลป์"}]
[4,{"$f":"Sheet1!B5","v":17020},{"$f":"CONCATENATE(Sheet1!C5&Sheet1!D5)","v":"เด็กหญิงณัฐพัชร์   เผือกทิม"}]
[5,{"$f":"Sheet1!B6","v":17021},{"$f":"CONCATENATE(Sheet1!C6&Sheet1!D6)","v":"เด็กหญิงจิรัชยา    ทัศนสวัสดิ์"}]
[6,{"$f":"Sheet1!B7","v":17022},{"$f":"CONCATENATE(Sheet1!C7&Sheet1!D7)","v":"เด็กหญิงธันยกานต์  หาญรัตนปิยพร"}]
[7,{"$f":"Sheet1!B8","v":17026},{"$f":"CONCATENATE(Sheet1!C8&Sheet1!D8)","v":"เด็กหญิงกสิณา      ชูเมือง"}]
[8,{"$f":"Sheet1!B9","v":17035},{"$f":"CONCATENATE(Sheet1!C9&Sheet1!D9)","v":"เด็กหญิงกานต์สิตา  รัตนโชติ"}]
[9,{"$f":"Sheet1!B10","v":17038},{"$f":"CONCATENATE(Sheet1!C10&Sheet1!D10)","v":"เด็กหญิงธัญพร      แก้วอินทร์"}]
[10,{"$f":"Sheet1!B11","v":17041},{"$f":"CONCATENATE(Sheet1!C11&Sheet1!D11)","v":"เด็กหญิงกชพร       คล้ายอุดม"}]
[11,{"$f":"Sheet1!B12","v":18181},{"$f":"CONCATENATE(Sheet1!C12&Sheet1!D12)","v":"เด็กชายธรณ์ธันย์    อิสรา"}]
[12,{"$f":"Sheet1!B13","v":18185},{"$f":"CONCATENATE(Sheet1!C13&Sheet1!D13)","v":"เด็กหญิงกัลยรัตน์   สารเทพ "}]
[13,{"$f":"Sheet1!B14","v":18270},{"$f":"CONCATENATE(Sheet1!C14&Sheet1!D14)","v":"เด็กหญิงเขมิกา     ปลื้มใจ "}]
[14,{"$f":"Sheet1!B15","v":18475},{"$f":"CONCATENATE(Sheet1!C15&Sheet1!D15)","v":"เด็กชายกวินท์      นาคสวัสดิ์"}]
[15,{"$f":"Sheet1!B16","v":18521},{"$f":"CONCATENATE(Sheet1!C16&Sheet1!D16)","v":"เด็กชายอธินันท์    บัวเพชร"}]
[16,{"$f":"Sheet1!B17","v":18831},{"$f":"CONCATENATE(Sheet1!C17&Sheet1!D17)","v":"เด็กชายปวริศร์     สันตะโร"}]
[17,{"$f":"Sheet1!B18","v":18832},{"$f":"CONCATENATE(Sheet1!C18&Sheet1!D18)","v":"เด็กชายปุณณวิช    ทองคลอด"}]
[18,{"$f":"Sheet1!B19","v":18833},{"$f":"CONCATENATE(Sheet1!C19&Sheet1!D19)","v":"เด็กชายภูมิภัทร    เพชรแก้ว"}]
[19,{"$f":"Sheet1!B20","v":18834},{"$f":"CONCATENATE(Sheet1!C20&Sheet1!D20)","v":"เด็กชายชิณณวรรธน์  เพชรอาวุธ"}]
[20,{"$f":"Sheet1!B21","v":18835},{"$f":"CONCATENATE(Sheet1!C21&Sheet1!D21)","v":"เด็กชายสิทธินนท์   ขนอม "}]
[21,{"$f":"Sheet1!B22","v":18836},{"$f":"CONCATENATE(Sheet1!C22&Sheet1!D22)","v":"เด็กชายธนเดช      ธนวนิชนาม"}]
[22,{"$f":"Sheet1!B23","v":18837},{"$f":"CONCATENATE(Sheet1!C23&Sheet1!D23)","v":"เด็กชายนวพล       สิมมาตัน"}]
[23,{"$f":"Sheet1!B24","v":18838},{"$f":"CONCATENATE(Sheet1!C24&Sheet1!D24)","v":"เด็กชายฟารีส       แซ่โกว"}]
[24,{"$f":"Sheet1!B25","v":18839},{"$f":"CONCATENATE(Sheet1!C25&Sheet1!D25)","v":"เด็กหญิงจิดาภา      ใจห้าว"}]
[25,{"$f":"Sheet1!B26","v":18840},{"$f":"CONCATENATE(Sheet1!C26&Sheet1!D26)","v":"เด็กหญิงณัฐนัน      วิโรจน์"}]
[26,{"$f":"Sheet1!B27","v":18841},{"$f":"CONCATENATE(Sheet1!C27&Sheet1!D27)","v":"เด็กหญิงชลิดา       กาญจนพานิช"}]
[27,{"$f":"Sheet1!B28","v":18842},{"$f":"CONCATENATE(Sheet1!C28&Sheet1!D28)","v":"เด็กหญิงณัฐภัทร     เทือกสุบรรณ  "}]
[28,{"$f":"Sheet1!B29","v":18843},{"$f":"CONCATENATE(Sheet1!C29&Sheet1!D29)","v":"เด็กหญิงสุกัญญา     สาระทิพย์"}]
[29,{"$f":"Sheet1!B30","v":19012},{"$f":"CONCATENATE(Sheet1!C30&Sheet1!D30)","v":"เด็กหญิงนันท์นภัส   วัชรกาญจน์"}]
[30,{"$f":"Sheet1!B31","v":19013},{"$f":"CONCATENATE(Sheet1!C31&Sheet1!D31)","v":"เด็กชายธนภูมิ        แซ่ด่าน"}]
[31,{"$f":"Sheet1!B32","v":19045},{"$f":"CONCATENATE(Sheet1!C32&Sheet1!D32)","v":"เด็กหญิงสุชานันท์    เลื่องสุนทร"}]
[32,{"$f":"Sheet1!B33","v":19635},{"$f":"CONCATENATE(Sheet1!C33&Sheet1!D33)","v":"เด็กหญิงกันยาวีร์    เกตุสุวรรณ"}]
[33,{"$f":"Sheet1!B34","v":19636},{"$f":"CONCATENATE(Sheet1!C34&Sheet1!D34)","v":"เด็กหญิงสิรินุช       ทองปลอด"}]
[34,{"$f":"Sheet1!B35","v":0},{"$f":"CONCATENATE(Sheet1!C35&Sheet1!D35)","v":""}]
[35,{"$f":"Sheet1!B36","v":0},{"$f":"CONCATENATE(Sheet1!C36&Sheet1!D36)","v":""}]
[null,{"$f":"Sheet1!B37","v":0},{"$f":"CONCATENATE(Sheet1!C37&Sheet1!D37)","v":""}]
[null,{"$f":"Sheet1!B38","v":0},{"$f":"CONCATENATE(Sheet1!C38&Sheet1!D38)","v":""}]
[null,{"$f":"Sheet1!B39","v":0},{"$f":"CONCATENATE(Sheet1!C39&Sheet1!D39)","v":""}]
[null,{"$f":"Sheet1!B40","v":0},{"$f":"CONCATENATE(Sheet1!C40&Sheet1!D40)","v":""}]
[null,{"$f":"Sheet1!B41","v":0},{"$f":"CONCATENATE(Sheet1!C41&Sheet1!D41)","v":""}]
[null,{"$f":"Sheet1!B42","v":0},{"$f":"CONCATENATE(Sheet1!C42&Sheet1!D42)","v":""}]
[null,{"$f":"Sheet1!B43","v":0},{"$f":"CONCATENATE(Sheet1!C43&Sheet1!D43)","v":""}]
[null,{"$f":"Sheet1!B44","v":0},{"$f":"CONCATENATE(Sheet1!C44&Sheet1!D44)","v":""}]
[null,{"$f":"Sheet1!B45","v":0},{"$f":"CONCATENATE(Sheet1!C45&Sheet1!D45)","v":""}]
[null,{"$f":"Sheet1!B46","v":0},{"$f":"CONCATENATE(Sheet1!C46&Sheet1!D46)","v":""}]
[null,{"$f":"Sheet1!B47","v":0},{"$f":"CONCATENATE(Sheet1!C47&Sheet1!D47)","v":""}]
[null,{"$f":"Sheet1!B48","v":0},{"$f":"CONCATENATE(Sheet1!C48&Sheet1!D48)","v":""}]
[null,{"$f":"Sheet1!B49","v":0},{"$f":"CONCATENATE(Sheet1!C49&Sheet1!D49)","v":""}]
[null,{"$f":"Sheet1!B50","v":0},{"$f":"CONCATENATE(Sheet1!C50&Sheet1!D50)","v":""}]
[null,{"$f":"Sheet1!B51","v":0},{"$f":"CONCATENATE(Sheet1!C51&Sheet1!D51)","v":""}]
[null,null,null,null,null,null,null,null,null,null,null,null,null,null,null,null,null,null,null,null,null,null,null,null,{"$f":"\"จำนวนนักเรียน\"&\"  \"&\"ชาย\"&\" \"&Sheet1!F52&\" \"&\"คน\"&\",\"&\" \"&\"หญิง\"&\" \"&Sheet1!G52&\" \"&\"คน\"&\" \"&\"รวม\"&\" \"&Sheet1!H52&\" \"&\"คน\"","v":"จำนวนนักเรียน  ชาย 15 คน, หญิง 18 คน รวม 33 คน"}]

{"sheet":"ปก","index":2,"n_rows":42,"n_cols":53,"rows_kept":42,"cut":false,"hidden":false,"merged":[[40,40,40,47],[41,3,41,16],[29,17,29,22],[30,17,30,22],[24,16,24,22],[30,2,30,13],[27,2,27,5],[24,2,24,13],[26,2,26,13],[33,1,36,22],[37,1,37,22],[38,1,39,22],[40,1,40,22],[28,46,28,48],[29,2,29,13],[26,17,26,22],[30,43,30,45],[30,46,30,48],[30,31,30,33],[30,34,30,36],[30,37,30,39],[32,24,32,52],[30,28,30,30],[29,25,29,27],[22,2,22,3],[22,8,22,13],[22,4,22,7],[23,2,23,13],[23,29,23,30],[23,31,23,32],[28,25,28,27],[40,26,40,33],[13,2,13,13],[20,2,20,13],[21,2,21,13],[16,2,16,13],[17,2,17,13],[27,17,27,22],[28,17,28,22],[28,28,28,30],[13,31,13,40],[14,28,14,40],[22,29,22,30],[22,31,22,32],[15,28,15,29],[26,25,26,36],[27,25,27,27],[25,17,25,22],[15,2,15,13],[9,39,9,42],[25,47,25,48],[24,31,24,32],[29,34,29,36],[2,1,3,13],[12,2,12,13],[7,1,8,1],[25,2,25,13],[28,2,28,13],[4,2,4,13],[5,2,5,13],[6,2,6,13],[9,2,9,13],[10,2,10,13],[11,2,11,13],[7,2,8,13],[16,1,17,1],[18,2,19,13],[18,1,19,1],[12,1,13,1],[14,2,14,13],[5,24,5,52],[6,24,6,52],[7,24,7,52],[15,44,15,45],[11,32,11,37],[17,31,17,40],[20,25,22,28],[20,29,20,48],[21,29,21,48],[22,45,22,46],[22,47,22,48],[22,37,22,38],[22,39,22,40],[22,41,22,42],[20,49,22,51],[22,33,22,34],[22,35,22,36],[22,43,22,44],[25,49,25,51],[26,49,26,51],[23,49,23,51],[26,47,26,48],[25,37,25,38],[28,31,28,33],[28,34,28,36],[28,37,28,39],[29,49,29,51],[23,41,23,42],[23,43,23,44],[25,39,25,46],[26,39,26,46],[29,31,29,33],[24,47,24,48],[23,39,23,40],[28,49,28,51],[30,25,30,27],[29,28,29,30],[25,25,25,36],[23,47,23,48],[24,29,24,30],[23,33,23,34],[23,35,23,36],[23,25,23,28],[23,37,23,38],[30,40,30,42],[30,49,30,51],[1,49,1,51],[41,40,41,46],[29,37,29,39],[29,40,29,42],[29,43,29,45],[29,46,29,48],[39,25,39,38],[39,39,39,51],[28,40,28,42],[27,40,27,51],[28,43,28,45],[24,49,24,51],[26,37,26,38],[27,28,27,39],[24,35,24,36],[24,33,24,34],[24,37,24,38],[24,39,24,40],[24,41,24,42],[24,43,24,44],[24,45,24,46],[24,25,24,28],[23,45,23,46]]}
["                           "]
[null,null,null,null,null,null,null,null,null,null,null,null,null,null,null,null,null,null,null,null,null,null,null,null,null,null,null,null,null,null,null,null,null,null,null,null,null,null,null,null,null,null,null,null,null,null,null,null,null,"ปถ.05:",null,null,"ป"]
[null,"ข้อมูลพื้นฐานสถานศึกษา"]
[]
[null,"ชื่อสถานศึกษา :","โรงเรียนเทศบาล ๕"]
[null,"อำเภอ :","เมือง",null,null,null,null,null,null,null,null,null,null,null,null,null,null,null,null,null,null,null,null,null,"แบบบันทึกผลการพัฒนาคุณภาพผู้เรียนรายวิชา"]
[null,"จังหวัด :","สุราษฎร์ธานี",null,null,null,null,null,null,null,null,null,null,null,null,null,null,null,null,null,null,null,null,null,{"$f":"IF(C5=\"\",\"\",C5)","v":"โรงเรียนเทศบาล ๕"}]
[null,"สังกัด (ชื่อ อปท.) :","เทศบาลนครสุราษฎร์ธานี",null,null,null,null,null,null,null,null,null,null,null,null,null,null,null,null,null,null,null,null,null,{"$f":"IF(COUNTIF(C6:C8,\"\"),\"{{โปรดกรอกข้อมูลที่อยู่และต้นสังกัดให้ครบถ้วน}}\",\"อำเภอ\"&C6&\"  \"&\"จังหวัด\"&C7&\"   สังกัด\"&C8)","v":"อำเภอเมือง  จังหวัดสุราษฎร์ธานี   สังกัดเทศบาลนครสุราษฎร์ธานี"}]
[]
[null,"ชื่อผู้อำนวยการฯ :","นางธนัชพร  โอวรารินท์",null,null,null,null,null,null,null,null,null,null,null,null,null,null,null,null,null,null,null,null,null,null,null,null,null,null,null,null,null,null,null,null,null,"ปีการศึกษา",null,null,{"$f":"IF(C16=\"\",\"\",C16)","v":"2568"}]
[null,"ชื่อรองผู้อำนวยการฯ :","นางสาวสิริมา  งามศุภกร",null,null,null,null,null,null,null,null,null,null,null,null,null,null,null,null,null,null,null,null,null,null,null,null,null,null,null,null,null,null,null,null,null,null,{"$f":"IF(C21=\"\",\"ชั้นประถมศึกษาปีที่{{โปรดกรอกข้อมูล}}\",\"ชั้นประถมศึกษาปีที่ \"&C21&\"/\"&C22)","v":"ชั้นประถมศึกษาปีที่{{โปรดกรอกข้อมูล}}"},null,{"$f":"IF(C18=\"\",\"ระดับ{{โปรดเลือกข้อมูล}}\",\"ระดับ\"&ปก!C18)","v":"ระดับประถมศึกษาตอนต้น(ป.1-3)"}]
[null,"ตำแหน่งครูวัดผล :","หัวหน้างานวัดผลและประเมินผล",null,null,null,null,null,null,null,null,null,null,null,null,null,null,null,null,null,null,null,null,null,null,null,null,null,null,null,null,null,{"$f":"IF(I23=\"\",\"\",\"แผนการเรียน\")","v":""},null,null,null,null,null,null,{"$f":"IF(I23=\"\",\"\",I23)","v":""}]
[null,"ตำแหน่งครูฝ่ายวิชาการ :"]
[null,null,"หัวหน้าฝ่ายวิชาการ",null,null,null,null,null,null,null,null,null,null,null,null,null,null,null,null,null,null,null,null,null,null,"กลุ่มสาระการเรียนรู้",null,null,null,null,null,{"$f":"IF(C24=\"\",\"{{โปรดเลือกกลุ่มสาระการเรียนรู้}}\",C24)","v":"{{โปรดเลือกกลุ่มสาระการเรียนรู้}}"},null,null,null,null,null,null,null,null,null,{"$f":"IF(C25=\"\",\"สาระการเรียนรู้{{โปรดเลือกข้อมูล}}\",\"สาระการเรียนรู้\"&C25)","v":"สาระการเรียนรู้{{โปรดเลือกข้อมูล}}"}]
[null,"ภาคเรียนที่","1 - 2",null,null,null,null,null,null,null,null,null,null,null,null,null,null,{"$f":"IF(C31=\"\",\"\",IF(COUNTA(C31),\",\"))","v":""},null,null,null,null,null,null,null,"รายวิชา",null,null,{"$f":"IF(C26=\"\",\"{{โปรดกรอกข้อมูลรายวิชา}}\",C26)","v":"{{โปรดกรอกข้อมูลรายวิชา}}"},null,null,null,null,null,null,null,null,null,null,null,null,"รหัสวิชา",null,null,{"$f":"IF(C27=\"\",\"{{โปรดกรอกรหัสวิชา}}\",C27)","v":"{{โปรดกรอกรหัสวิชา}}"}]
[null,"ปีการศึกษา :","2568",null,null,null,null,null,null,null,null,null,null,null,null,null,null,null,null,null,null,null,null,null,null,"เวลาเรียน",null,null,{"$f":"C28","v":0},null,"ชั่วโมงต่อปี",null,null,null,null,null,null,null,null,null,null,"เวลาเรียน",null,null,{"$f":"IF(AC16=0,\"\",IF(COUNTIF($AC$16,\"40\"),1,IF(COUNTIF($AC$16,\"80\"),2,IF(COUNTIF($AC$16,\"120\"),3,IF(COUNTIF($AC$16,\"160\"),4,IF(COUNTIF($AC$16,\"200\"),5))))))","v":""},null,"ชั่วโมงต่อสัปดาห์"]
[null,"ระดับ :"]
[null,null,"ประถมศึกษาตอนต้น(ป.1-3)",null,null,null,null,null,null,null,null,null,null,null,null,null,null,null,null,null,null,null,null,null,null,null,null,"ครูผู้สอน",null,null,null,{"$f":"IF(C29=\"\",\"{{โปรดกรอกข้อมูลครูผู้สอน}}\",C29)","v":"{{โปรดกรอกข้อมูลครูผู้สอน}}"}]
[null,null,null,null,null,null,null,null,null,null,null,null,null,null,null,null,null,null,null,null,null,null,null,null,null,null,null,"ครูประจำชั้น",null,null,null,{"$f":"IF(C30=\"\",\"{{โปรดกรอกข้อมลครูประจำชั้น}}\",C30&O30&\"    \"&C31)","v":"{{โปรดกรอกข้อมลครูประจำชั้น}}"}]
[]
[null,"ชั้นประถมศึกษาปีที่ :",null,null,null,null,null,null,null,null,null,null,null,null,null,null,null,null,null,null,null,null,null,null,null,"จำนวนนักเรียนทั้งหมด",null,null,null,"สรุปผลการพัฒนาคุณภาพผู้เรียน",null,null,null,null,null,null,null,null,null,null,null,null,null,null,null,null,null,null,null,"หมายเหตุ"]
[null,"ห้อง / ทับ :",null,null,null,null,null,null,null,null,null,null,null,null,null,null,null,null,null,null,null,null,null,null,null,null,null,null,null,"จำนวนนักเรียนที่ได้ระดับผลการเรียน"]
[null,"แผนการเรียน :",null,null,"ชื่อแผนการเรียน",null,null,null,null,null,null,null,null,null,null,null,null,null,null,null,null,null,null,null,null,null,null,null,null,4,null,3.5,null,3,null,2.5,null,2,null,1.5,null,1,null,0,null,"ร",null,"มส"]
[null,"กลุ่มสาระการเรียนรู้ :",null,null,null,null,null,null,null,null,null,null,null,null,null,null,null,null,null,null,null,null,null,null,null,{"$f":"SUM(AD24:AW24)","v":33},null,null,null,{"$f":"ตัดสินผลการเรียน!V10","v":0},null,{"$f":"ตัดสินผลการเรียน!W10","v":0},null,{"$f":"ตัดสินผลการเรียน!X10","v":0},null,{"$f":"ตัดสินผลการเรียน!Y10","v":0},null,{"$f":"ตัดสินผลการเรียน!Z10","v":0},null,{"$f":"ตัดสินผลการเรียน!AA10","v":0},null,{"$f":"ตัดสินผลการเรียน!AB10","v":0},null,{"$f":"ตัดสินผลการเรียน!AC10","v":33},null,{"$f":"ตัดสินผลการเรียน!AD10","v":0},null,{"$f":"ตัดสินผลการเรียน!AE10","v":0}]
[null,"ประเภทวิชา :",null,null,null,null,null,null,null,null,null,null,null,null,null,null,null,null,null,null,null,null,null,null,null,"คิดเป็นร้อยละ",null,null,null,{"$f":"IF(AD24=0,\"\",(AD24*100)/$Z$24)","v":""},null,{"$f":"IF(AF24=0,\"\",(AF24*100)/$Z$24)","v":""},null,{"$f":"IF(AH24=0,\"\",(AH24*100)/$Z$24)","v":""},null,{"$f":"IF(AJ24=0,\"\",(AJ24*100)/$Z$24)","v":""},null,{"$f":"IF(AL24=0,\"\",(AL24*100)/$Z$24)","v":""},null,{"$f":"IF(AN24=0,\"\",(AN24*100)/$Z$24)","v":""},null,{"$f":"IF(AP24=0,\"\",(AP24*100)/$Z$24)","v":""},null,{"$f":"IF(AR24=0,\"\",(AR24*100)/$Z$24)","v":100},null,{"$f":"IF(AT24=0,\"\",(AT24*100)/$Z$24)","v":""},null,{"$f":"IF(AV24=0,\"\",(AV24*100)/$Z$24)","v":""}]
[null,"ชื่อวิชา :",null,null,null,null,null,null,null,null,null,null,null,null,null,null,null,null,null,null,null,null,null,null,null,"ร้อยละของนักเรียนที่ได้ผลการเรียนระดับดี(3) ขึ้นไป",null,null,null,null,null,null,null,null,null,null,null,{"$f":"SUM(AD25:AI25)","v":0},null,"ผลการเรียนเฉลี่ยของรายวิชา",null,null,null,null,null,null,null,null,null,{"$f":"IF(Z24=0,\"\",((AD24*4)+(AF24*3.5)+(AH24*3)+(AJ24*2.5)+(AL24*2)+(AN24*1.5)+(AP24*1)+(AR24*0))/Z24)","v":0}]
[null,"รหัสวิชา :",null,null,null,null,null,null,null,null,null,null,null,null,null,null,null,null,null,null,null,null,null,null,null,"ร้อยละของนักเรียนที่ไม่ผ่านการประเมิน",null,null,null,null,null,null,null,null,null,null,null,{"$f":"SUM(AR25:AW25)","v":100},null,"ส่วนเบี่ยงเบนมาตรฐาน",null,null,null,null,null,null,null,null,null,{"$f":"IF(Z24=0,\"\",STDEV(ตัดสินผลการเรียน!F8:F57))","v":{"$error":"#VALUE!"}}]
[null,"เวลาเรียน",null,null,null,null,"ชั่วโมงต่อปี",null,null,null,null,null,null,null,null,null,null,null,null,null,null,null,null,null,null,null,null,null,"ผลการประเมินการอ่าน คิด วิเคราะห์ และเขียน",null,null,null,null,null,null,null,null,null,null,null,"ผลการประเมินคุณลักษณะอันพึงประสงค์"]
[null,"ชื่อครูผู้สอน :",null,null,null,null,null,null,null,null,null,null,null,null,null,null,null,null,null,null,null,null,null,null,null,"ผลการประเมิน",null,null,"ดีเยี่ยม",null,null,"ดี",null,null,"ผ่าน",null,null,"ไม่ผ่าน",null,null,"ดีเยี่ยม",null,null,"ดี",null,null,"ผ่าน",null,null,"ไม่ผ่าน"]
[null,"ครูประจำชั้นคนที่ 1 :",null,null,null,null,null,null,null,null,null,null,null,null,null,null,null,null,null,null,null,null,null,null,null,"จำนวนที่ได้",null,null,{"$f":"ตัดสินผลการเรียน!W12","v":0},null,null,{"$f":"ตัดสินผลการเรียน!W13","v":0},null,null,{"$f":"ตัดสินผลการเรียน!W14","v":0},null,null,{"$f":"ตัดสินผลการเรียน!W15","v":0},null,null,{"$f":"ตัดสินผลการเรียน!Y12","v":0},null,null,{"$f":"ตัดสินผลการเรียน!Y13","v":0},null,null,{"$f":"ตัดสินผลการเรียน!Y14","v":0},null,null,{"$f":"ตัดสินผลการเรียน!Y15","v":0}]
[null,"ครูประจำชั้นคนที่ 2 :",null,null,null,null,null,null,null,null,null,null,null,null,null,null,null,null,null,null,null,null,null,null,null,"คิดเป็นร้อยละ",null,null,{"$f":"IF(Z24=0,\"\",IF(AC30=0,\"\",(AC30*100)/$Z$24))","v":""},null,null,{"$f":"IF(Z24=0,\"\",IF(AF30=0,\"\",(AF30*100)/$Z$24))","v":""},null,null,{"$f":"IF(Z24=0,\"\",IF(AI30=0,\"\",(AI30*100)/$Z$24))","v":""},null,null,{"$f":"IF(Z24=0,\"\",IF(AL30=0,\"\",(AL30*100)/$Z$24))","v":""},null,null,{"$f":"IF(Z24=0,\"\",IF(AO30=0,\"\",(AO30*100)/$Z$24))","v":""},null,null,{"$f":"IF(Z24=0,\"\",IF(AR30=0,\"\",(AR30*100)/$Z$24))","v":""},null,null,{"$f":"IF(Z24=0,\"\",IF(AU30=0,\"\",(AU30*100)/$Z$24))","v":""},null,null,{"$f":"IF(Z24=0,\"\",IF(AX30=0,\"\",(AX30*100)/$Z$24))","v":""}]
[]
[null,null,null,null,null,null,null,null,null,null,null,null,null,null,null,null,null,null,null,null,null,null,null,null,"การอนุมัติผลการพัฒนาคุณภาพผู้เรียน"]
[null,"โปรแกรมจัดทำแบบบันทึกผลการพัฒนาคุณภาพผู้เรียนรายวิชา (ระดับประถมศึกษา)  YEAR2559\nหลักสูตรแกนกลางการศึกษาขั้นพื้นฐาน 2551  สำหรับนำส่งข้อมูลเข้าโปรแกรม Local School\n(ระดับประถมศึกษา สำหรับนักเรียนไม่เกิน 50 คน ใช้กระดาษA4)",null,null,null,null,null,null,null,null,null,null,null,null,null,null,null,null,null,null,null,null,null,null,null,"ลงชื่อ..............................................ครูผู้สอน",null,null,null,null,null,null,null,null,null,null,null,null,null,null,"ลงชื่อ...........................................หัวหน้ากลุ่มสาระการเรียนรู้"]
[null,null,null,null,null,null,null,null,null,null,null,null,null,null,null,null,null,null,null,null,null,null,null,null,null,{"$f":"IF(C12=\"\",\"ลงชื่อ..............................................{{ใส่ข้อมูลครูวัดผล}}\",\"ลงชื่อ..............................................\"&C12)","v":"ลงชื่อ..............................................หัวหน้างานวัดผลและประเมินผล"},null,null,null,null,null,null,null,null,null,null,null,null,null,null,{"$f":"IF(C14=\"\",\"ลงชื่อ............................................{{กรอกข้อมูลฝ่ายวิชาการ}}\",\"ลงชื่อ............................................\"&C14)","v":"ลงชื่อ............................................หัวหน้าฝ่ายวิชาการ"}]
[]
[null,null,null,null,null,null,null,null,null,null,null,null,null,null,null,null,null,null,null,null,null,null,null,null,null,"เรียนเสนอเพื่อโปรดพิจารณา",null,null,null,null,null,null,null,null,null,null,null,null,null,"การพิจารณา/สั่งการ"]
[null,"โครงการพัฒนาระบบงานะเบียนวัดผลสำหรับสถานศึกษาสังกัดองค์กรปกครองส่วนท้องถิ่น",null,null,null,null,null,null,null,null,null,null,null,null,null,null,null,null,null,null,null,null,null,null,null,"m","เห็นควรควรอนุมัติ",null,null,null,null,"m","เห็นควรนำไปปรับปรุงแก้ไข",null,null,null,null,null,null,"m","อนุมัติ",null,null,"m","ไม่อนุมัติ/ให้นำไปปรับปรุงแก้ไข"]
[null,"จัดทำและพัฒนาโดย : นายพุทธรัตน์ นัยวิกุล ผู้อำนวยการสถานศึกษาโรงเรียนมัธยมนครรังสิต"]
[null,null,null,null,null,null,null,null,null,null,null,null,null,null,null,null,null,null,null,null,null,null,null,null,null,"ลงชื่อ...........................................รองผู้อำนวยการสถานศึกษา",null,null,null,null,null,null,null,null,null,null,null,null,null," ลงชื่อ...........................................ผู้อำนวยการสถานศึกษา"]
[null,"สอบถามและเสนอแนะได้ที่ : WWW.LOCALPT.NET\n\n\n\n\n\n\n\n\n\n\n\n\n\n\n\n\n\n\n\n\n  /  facebook : แบบปถ.05 โรงเรียนสังกัด อปท.",null,null,null,null,null,null,null,null,null,null,null,null,null,null,null,null,null,null,null,null,null,null,null,null,{"$f":"IF(C11=\"\",\"{{กรอกชื่อ-สกุลรองผู้อำนวยการ}}\",\"(\"&C11&\")\")","v":"(นางสาวสิริมา  งามศุภกร)"},null,null,null,null,null,null,null,null,null,null,null,null,null,{"$f":"IF(C10=\"\",\"{{กรอกชื่อ-สกุลผู้อำนวยการ}}\",\"(\"&C10&\")\")","v":"(นางธนัชพร  โอวรารินท์)"}]
[null,{"$f":"\"ม.\"&C21&\"0\"&C22","v":"ม.0"},{"$f":"IF(C23=\"มัธยมศึกษาตอนต้นทั่วไป\",1,IF(C23=\"วิทย์-คณิต\",1,IF(C23=\"ภาษา-สังคม\",2,IF(C23=\"วิชาชีพ(หลักสูตรคู่ขนาน)\",3))))","v":false},"UPDATE : 24 Apr 2016  สงวนลิขสิทธิ์@2016",null,null,null,null,null,null,null,null,null,null,null,null,null,null,null,null,null,null,null,null,null,null,null,null,null,null,null,null,null,null,null,null,null,null,null,null,"   ........../.........../.........."]

{"sheet":"กำหนดอัตราส่วนคะแนน","index":3,"n_rows":257,"n_cols":23,"rows_kept":257,"cut":false,"hidden":true,"merged":[[152,1,152,5],[19,1,19,3],[21,1,21,3],[19,7,21,7],[25,0,25,8],[152,14,152,18],[12,23,17,23],[19,23,21,23],[25,13,25,21],[8,1,8,7],[8,14,8,20],[10,1,10,7],[14,1,14,3],[12,1,12,3],[12,7,14,7],[10,14,10,20],[12,14,12,16],[12,20,14,20],[14,14,14,16],[17,1,17,7],[19,10,21,10],[1,14,1,23],[27,7,28,7],[27,20,28,20],[19,20,21,20],[21,14,21,16],[12,10,17,10],[17,14,17,20],[19,14,19,16],[3,14,3,19]]}
[]
[null,null,null,null,null,null,null,null,null,null,null,null,null,null,{"$f":"IF(ปก!C25=\"พื้นฐาน\",\"กำหนดเกณฑ์การประเมินผ่านตัวชี้วัดของสถานศึกษา\",IF(ปก!C25=\"เพิ่มเติม\",\"กำหนดเกณฑ์การประเมินผ่านผลการเรียนรู้ของสถานศึกษา\"))","v":false}]
[]
[null,null,null,null,null,null,null,null,null,null,null,null,null,null,{"$f":"IF(ปก!C25=\"พื้นฐาน\",\"ผู้เรียนต้องได้คะแนนแต่ละตัวชี้วัดคิดเป็นร้อยละ\",IF(ปก!C25=\"เพิ่มเติม\",\"ผู้เรียนต้องได้คะแนนแต่ละผลการเรียนรู้คิดเป็นร้อยละ\"))","v":false},null,null,null,null,null,50,null,"ของคะแนนเต็ม"]
[]
[]
[]
[]
[null,{"$f":"IF(ปก!C15=1,\"คะแนนภาคเรียนที่ 1\",IF(ปก!C15=2,\"คะแนนภาคเรียนที่ 2\"))","v":false}]
[]
[null,"กำหนดคะแนนระหว่างภาค"]
[]
[null,{"$f":"IF(ปก!C25=\"พื้นฐาน\",\"คะแนนเก็บ(ตัวชี้วัด)\",IF(ปก!C25=\"เพิ่มเติม\",\"คะแนนเก็บ(ผลการเรียนรู้)\"))","v":false},null,null,null,null,null,{"$f":"SUM(F13,F15)","v":0},null,null,"คะแนนรวม\nตลอดภาคเรียน\nต้องได้=100"]
[]
[null,"คะแนนสอบกลางภาค"]
[]
[]
[null,"กำหนดคะแนนสอบปลายภาค"]
[]
[null,"คะแนนสอบปรนัย",null,null,null,null,null,{"$f":"SUM(F20,F22)","v":0},null,null,{"$f":"H13+H20","v":0}]
[]
[null,"คะแนนสอบอัตนัย"]
[]
[]
[]
[{"$f":"IF(ปก!C25=\"พื้นฐาน\",\"กำหนดคะแนนตัวชี้วัด\",IF(ปก!C25=\"เพิ่มเติม\",\"กำหนดคะแนนผลการเรียนรู้\"))","v":false}]
[]
[null,{"$f":"IF(ปก!C25=\"พื้นฐาน\",\"ตัวชี้วัด\",IF(ปก!C25=\"เพิ่มเติม\",\"ผลการเรียนรู้\"))","v":false},null,"สาระ",null,{"$f":"IF(ปก!C25=\"พื้นฐาน\",\"\",IF(ปก!C25=\"เพิ่มเติม\",\"ผลการ\"))","v":false},null,"คะแนนเต็ม"]
[null,"ที่",null,"มาตรฐาน",null,{"$f":"IF(ปก!C25=\"พื้นฐาน\",\"ตัวชี้วัด\",IF(ปก!C25=\"เพิ่มเติม\",\"เรียนรู้\"))","v":false}]
[]
[]
[]
[]
[]
[]
[]
[]
[]
[]
[]
[]
[]
[]
[]
[]
[]
[]
[]
[]
[]
[]
[]
[]
[]
[]
[]
[]
[]
[]
[]
[]
[]
[]
[]
[]
[]
[]
[]
[]
[]
[]
[]
[]
[]
[]
[]
[]
[]
[]
[]
[]
[]
[]
[]
[]
[]
[]
[]
[]
[]
[]
[]
[]
[]
[]
[]
[]
[]
[]
[]
[]
[]
[]
[]
[]
[]
[]
[]
[]
[]
[]
[]
[]
[]
[]
[]
[]
[]
[]
[]
[]
[]
[]
[]
[]
[]
[]
[]
[]
[]
[]
[]
[]
[]
[]
[]
[]
[]
[]
[]
[]
[]
[]
[]
[]
[]
[]
[]
[]
[]
[]
[]
[null,{"$f":"IF(ปก!C25=\"พื้นฐาน\",\"รวมตัวชี้วัด\",IF(ปก!C25=\"เพิ่มเติม\",\"รวมผลการเรียนรู้\"))","v":false},null,null,null,null,null,{"$f":"COUNT(B31,B33,B35,B37,B39,B41,B43,B45,B47,B49,B51,B53,B55,B57,B59,B61,B63,B65,B67,B69,B71,B73,B75,B77,B79,B81,B83,B85,B87,B89,B91,B93,B95,B97,B99,B101,B103,B105,B107,B109,B111,B113,B115,B117,B119,B121,B123,B125,B127,B129,B131,B133,B135,B137,B139,B141,B143,B145,B147,B149)","v":0}]
[]
[]
[]
[]
[null,null,null,"ท 1.1",null,"ป.1/1",null,null,null,null,null,null,null,null,null,null,"ท 1.1",null,"ม.1/1"]
[null,null,null,"ท 2.1",null,"ป.1/2",null,null,null,null,null,null,null,null,null,null,"ท 2.1",null,"ม.1/2"]
[null,null,null,"ท 3.1",null,"ป.1/3",null,null,null,null,null,null,null,null,null,null,"ท 3.1",null,"ม.1/3"]
[null,null,null,"ท 4.1",null,"ป.1/4",null,null,null,null,null,null,null,null,null,null,"ท 4.1",null,"ม.1/4"]
[null,null,null,"ท 5.1",null,"ป.1/5",null,null,null,null,null,null,null,null,null,null,"ท 5.1",null,"ม.1/5"]
[null,null,null,"ค 1.1",null,"ป.1/6",null,null,null,null,null,null,null,null,null,null,"ค 1.1",null,"ม.1/6"]
[null,null,null,"ค 1.2",null,"ป.1/7",null,null,null,null,null,null,null,null,null,null,"ค 1.2",null,"ม.1/7"]
[null,null,null,"ค 1.3",null,"ป.1/8",null,null,null,null,null,null,null,null,null,null,"ค 1.3",null,"ม.1/8"]
[null,null,null,"ค 1.4",null,"ป.1/9",null,null,null,null,null,null,null,null,null,null,"ค 1.4",null,"ม.1/9"]
[null,null,null,"ค 2.1",null,"ป.1/10",null,null,null,null,null,null,null,null,null,null,"ค 2.1",null,"ม.1/10"]
[null,null,null,"ค 2.2",null,"ป.2/1",null,null,null,null,null,null,null,null,null,null,"ค 2.2",null,"ม.2/1"]
[null,null,null,"ค 3.1",null,"ป.2/2",null,null,null,null,null,null,null,null,null,null,"ค 3.1",null,"ม.2/2"]
[null,null,null,"ค 3.2",null,"ป.2/3",null,null,null,null,null,null,null,null,null,null,"ค 3.2",null,"ม.2/3"]
[null,null,null,"ค 4.1",null,"ป.2/4",null,null,null,null,null,null,null,null,null,null,"ค 4.1",null,"ม.2/4"]
[null,null,null,"ค 4.2",null,"ป.2/5",null,null,null,null,null,null,null,null,null,null,"ค 4.2",null,"ม.2/5"]
[null,null,null,"ค 5.1",null,"ป.2/6",null,null,null,null,null,null,null,null,null,null,"ค 5.1",null,"ม.2/6"]
[null,null,null,"ค 5.2",null,"ป.2/7",null,null,null,null,null,null,null,null,null,null,"ค 5.2",null,"ม.2/7"]
[null,null,null,"ค 5.3",null,"ป.2/8",null,null,null,null,null,null,null,null,null,null,"ค 5.3",null,"ม.2/8"]
[null,null,null,"ค 6.1",null,"ป.2/9",null,null,null,null,null,null,null,null,null,null,"ค 6.1",null,"ม.2/9"]
[null,null,null,"ว 1.1",null,"ป.2/10",null,null,null,null,null,null,null,null,null,null,"ว 1.1",null,"ม.2/10"]
[null,null,null,"ว 1.2",null,"ป.3/1",null,null,null,null,null,null,null,null,null,null,"ว 1.2",null,"ม.3/1"]
[null,null,null,"ว 2.1",null,"ป.3/2",null,null,null,null,null,null,null,null,null,null,"ว 2.1",null,"ม.3/2"]
[null,null,null,"ว 2.2",null,"ป.3/3",null,null,null,null,null,null,null,null,null,null,"ว 2.2",null,"ม.3/3"]
[null,null,null,"ว 3.1",null,"ป.3/4",null,null,null,null,null,null,null,null,null,null,"ว 3.1",null,"ม.3/4"]
[null,null,null,"ว 3.2",null,"ป.3/5",null,null,null,null,null,null,null,null,null,null,"ว 3.2",null,"ม.3/5"]
[null,null,null,"ว 4.1",null,"ป.3/6",null,null,null,null,null,null,null,null,null,null,"ว 4.1",null,"ม.3/6"]
[null,null,null,"ว 4.2",null,"ป.3/7",null,null,null,null,null,null,null,null,null,null,"ว 4.2",null,"ม.3/7"]
[null,null,null,"ว 5.1",null,"ป.3/8",null,null,null,null,null,null,null,null,null,null,"ว 5.1",null,"ม.3/8"]
[null,null,null,"ว 6.1",null,"ป.3/9",null,null,null,null,null,null,null,null,null,null,"ว 6.1",null,"ม.3/9"]
[null,null,null,"ว 7.1",null,"ป.3/10",null,null,null,null,null,null,null,null,null,null,"ว 7.1",null,"ม.3/10"]
[null,null,null,"ว 7.2",null,"ป.4/1",null,null,null,null,null,null,null,null,null,null,"ว 7.2",null,"ม.4-6/1"]
[null,null,null,"ว 8.1",null,"ป.4/2",null,null,null,null,null,null,null,null,null,null,"ว 8.1",null,"ม.4-6/2"]
[null,null,null,"ส 1.1",null,"ป.4/3",null,null,null,null,null,null,null,null,null,null,"ส 1.1",null,"ม.4-6/3"]
[null,null,null,"ส 1.2",null,"ป.4/4",null,null,null,null,null,null,null,null,null,null,"ส 1.2",null,"ม.4-6/4"]
[null,null,null,"ส 2.1",null,"ป.4/5",null,null,null,null,null,null,null,null,null,null,"ส 2.1",null,"ม.4-6/5"]
[null,null,null,"ส 2.2",null,"ป.4/6",null,null,null,null,null,null,null,null,null,null,"ส 2.2",null,"ม.4-6/6"]
[null,null,null,"ส 3.1",null,"ป.4/7",null,null,null,null,null,null,null,null,null,null,"ส 3.1",null,"ม.4-6/7"]
[null,null,null,"ส 3.2",null,"ป.4/8",null,null,null,null,null,null,null,null,null,null,"ส 3.2",null,"ม.4-6/8"]
[null,null,null,"ส 4.1",null,"ป.4/9",null,null,null,null,null,null,null,null,null,null,"ส 4.1",null,"ม.4-6/9"]
[null,null,null,"ส 4.2",null,"ป.4/10",null,null,null,null,null,null,null,null,null,null,"ส 4.2",null,"ม.4-6/10"]
[null,null,null,"ส 4.2",null,"ป.5/1",null,null,null,null,null,null,null,null,null,null,"ส 4.2",null,"ม.4-6/11"]
[null,null,null,"ส 5.1",null,"ป.5/2",null,null,null,null,null,null,null,null,null,null,"ส 5.1",null,"ม.4-6/12"]
[null,null,null,"ส 5.2",null,"ป.5/3",null,null,null,null,null,null,null,null,null,null,"ส 5.2",null,"ม.4-6/13"]
[null,null,null,"พ 1.1",null,"ป.5/4",null,null,null,null,null,null,null,null,null,null,"พ 1.1",null,"ม.4-6/14"]
[null,null,null,"พ 2.1",null,"ป.5/5",null,null,null,null,null,null,null,null,null,null,"พ 2.1",null,"ม.4-6/15"]
[null,null,null,"พ 3.1",null,"ป.5/6",null,null,null,null,null,null,null,null,null,null,"พ 3.1",null,"ม.4-6/16"]
[null,null,null,"พ 3.2",null,"ป.5/7",null,null,null,null,null,null,null,null,null,null,"พ 3.2",null,"ม.4-6/17"]
[null,null,null,"พ 4.1",null,"ป.5/8",null,null,null,null,null,null,null,null,null,null,"พ 4.1",null,"ม.4-6/18"]
[null,null,null,"พ 5.1",null,"ป.5/9",null,null,null,null,null,null,null,null,null,null,"พ 5.1",null,"ม.4-6/19"]
[null,null,null,"ศ. 1.1",null,"ป.5/10",null,null,null,null,null,null,null,null,null,null,"ศ. 1.1",null,"ม.4-6/20"]
[null,null,null,"ศ 1.2",null,"ม.6/1",null,null,null,null,null,null,null,null,null,null,"ศ 1.2",null,"ม.4-6/21"]
[null,null,null,"ศ 2.1",null,"ม.6/2",null,null,null,null,null,null,null,null,null,null,"ศ 2.1",null,"ม.4-6/22"]
[null,null,null,"ศ 2.2",null,"ม.6/3",null,null,null,null,null,null,null,null,null,null,"ศ 2.2",null,"ม.4-6/23"]
[null,null,null,"ศ 3.1",null,"ม.6/4",null,null,null,null,null,null,null,null,null,null,"ศ 3.1",null,"ม.4-6/24"]
[null,null,null,"ศ 3.2",null,"ม.6/5",null,null,null,null,null,null,null,null,null,null,"ศ 3.2",null,"ม.4-6/25"]
[null,null,null,"ง 1.1",null,"ม.6/6",null,null,null,null,null,null,null,null,null,null,"ง 1.1",null,"ม.4-6/26"]
[null,null,null,"ง 2.1",null,"ม.6/7",null,null,null,null,null,null,null,null,null,null,"ง 2.1",null,"ม.4-6/27"]
[null,null,null,"ง 3.1",null,"ม.6/8",null,null,null,null,null,null,null,null,null,null,"ง 3.1",null,"ม.4-6/28"]
[null,null,null,"ง 4.1",null,"ม.6/9",null,null,null,null,null,null,null,null,null,null,"ง 4.1",null,"ม.4-6/29"]
[null,null,null,"ต 1.1",null,"ม.6/10",null,null,null,null,null,null,null,null,null,null,"ต 1.1",null,"ม.4-6/30"]
[null,null,null,"ต 1.2",null,"ข้อ 1",null,null,null,null,null,null,null,null,null,null,"ต 1.2",null,"ข้อ 1"]
[null,null,null,"ต 1.3",null,"ข้อ 2",null,null,null,null,null,null,null,null,null,null,"ต 1.3",null,"ข้อ 2"]
[null,null,null,"ต 2.1",null,"ข้อ 3",null,null,null,null,null,null,null,null,null,null,"ต 2.1",null,"ข้อ 3"]
[null,null,null,"ต 2.2",null,"ข้อ 4",null,null,null,null,null,null,null,null,null,null,"ต 2.2",null,"ข้อ 4"]
[null,null,null,"ต 3.1",null,"ข้อ 5",null,null,null,null,null,null,null,null,null,null,"ต 3.1",null,"ข้อ 5"]
[null,null,null,"ต 4.1",null,"ข้อ 6",null,null,null,null,null,null,null,null,null,null,"ต 4.1",null,"ข้อ 6"]
[null,null,null,"ต 4.2",null,"ข้อ 7",null,null,null,null,null,null,null,null,null,null,"ต 4.2",null,"ข้อ 7"]
[null,null,null,null,null,"ข้อ 8",null,null,null,null,null,null,null,null,null,null," -",null,"ข้อ 8"]
[null,null,null,null,null,"ข้อ 9",null,null,null,null,null,null,null,null,null,null,null,null,"ข้อ 9"]
[null,null,null,null,null,"ข้อ 10",null,null,null,null,null,null,null,null,null,null,null,null,"ข้อ 10"]
[null,null,null,null,null,"ข้อ 11",null,null,null,null,null,null,null,null,null,null,null,null,"ข้อ 11"]
[null,null,null,null,null,"ข้อ 12",null,null,null,null,null,null,null,null,null,null,null,null,"ข้อ 12"]
[null,null,null,null,null,"ข้อ 13",null,null,null,null,null,null,null,null,null,null,null,null,"ข้อ 13"]
[null,null,null,null,null,"ข้อ 14",null,null,null,null,null,null,null,null,null,null,null,null,"ข้อ 14"]
[null,null,null,null,null,"ข้อ 15",null,null,null,null,null,null,null,null,null,null,null,null,"ข้อ 15"]
[null,null,null,null,null,"ข้อ 16",null,null,null,null,null,null,null,null,null,null,null,null,"ข้อ 16"]
[null,null,null,null,null,"ข้อ 17",null,null,null,null,null,null,null,null,null,null,null,null,"ข้อ 17"]
[null,null,null,null,null,"ข้อ 18",null,null,null,null,null,null,null,null,null,null,null,null,"ข้อ 18"]
[null,null,null,null,null,"ข้อ 19",null,null,null,null,null,null,null,null,null,null,null,null,"ข้อ 19"]
[null,null,null,null,null,"ข้อ 20",null,null,null,null,null,null,null,null,null,null,null,null,"ข้อ 20"]
[null,null,null,null,null,"ข้อ 21",null,null,null,null,null,null,null,null,null,null,null,null,"ข้อ 21"]
[null,null,null,null,null,"ข้อ 22",null,null,null,null,null,null,null,null,null,null,null,null,"ข้อ 22"]
[null,null,null,null,null,"ข้อ 23",null,null,null,null,null,null,null,null,null,null,null,null,"ข้อ 23"]
[null,null,null,null,null,"ข้อ 24",null,null,null,null,null,null,null,null,null,null,null,null,"ข้อ 24"]
[null,null,null,null,null,"ข้อ 25",null,null,null,null,null,null,null,null,null,null,null,null,"ข้อ 25"]
[null,null,null,null,null,"ข้อ 26",null,null,null,null,null,null,null,null,null,null,null,null,"ข้อ 26"]
[null,null,null,null,null,"ข้อ 27",null,null,null,null,null,null,null,null,null,null,null,null,"ข้อ 27"]
[null,null,null,null,null,"ข้อ 28",null,null,null,null,null,null,null,null,null,null,null,null,"ข้อ 28"]
[null,null,null,null,null,"ข้อ 29",null,null,null,null,null,null,null,null,null,null,null,null,"ข้อ 29"]
[null,null,null,null,null,"ข้อ 30",null,null,null,null,null,null,null,null,null,null,null,null,"ข้อ 30"]
[null,null,null,null,null,null,null,null,null,null,null,null,null,null,null,null,null,null,"ข้อ 31"]
[null,null,null,null,null,null,null,null,null,null,null,null,null,null,null,null,null,null,"ข้อ 32"]
[null,null,null,null,null,null,null,null,null,null,null,null,null,null,null,null,null,null,"ข้อ 33"]
[null,null,null,null,null,null,null,null,null,null,null,null,null,null,null,null,null,null,"ข้อ 34"]
[null,null,null,null,null,null,null,null,null,null,null,null,null,null,null,null,null,null,"ข้อ 35"]
[null,null,null,null,null,null,null,null,null,null,null,null,null,null,null,null,null,null,"ข้อ 36"]
[null,null,null,null,null,null,null,null,null,null,null,null,null,null,null,null,null,null,"ข้อ 37"]
[null,null,null,null,null,null,null,null,null,null,null,null,null,null,null,null,null,null,"ข้อ 38"]
[null,null,null,null,null,null,null,null,null,null,null,null,null,null,null,null,null,null,"ข้อ 39"]
[null,null,null,null,null,null,null,null,null,null,null,null,null,null,null,null,null,null,"ข้อ 40"]

{"sheet":"เวลาเรียน","index":4,"n_rows":59,"n_cols":250,"rows_kept":59,"cut":false,"hidden":false,"merged":[[2,521,4,524],[2,525,6,525],[2,526,6,526],[5,521,6,521],[5,522,6,522],[5,523,6,523],[5,524,6,524],[3,100,3,105],[2,232,2,237],[2,238,2,243],[2,323,2,328],[2,329,2,334],[2,335,2,340],[2,341,2,346],[2,347,2,352],[2,249,6,249],[3,184,3,189],[2,281,2,286],[2,287,2,292],[2,293,2,298],[2,299,2,304],[2,305,2,310],[2,311,2,316],[2,317,2,322],[5,246,6,246],[5,247,6,247],[2,244,4,247],[2,248,6,248],[2,154,2,159],[3,232,3,237],[2,160,2,165],[2,166,2,171],[2,172,2,177],[2,178,2,183],[2,184,2,189],[2,190,2,195],[2,196,2,201],[2,202,2,207],[2,208,2,213],[0,0,0,2],[1,0,1,2],[3,88,3,93],[3,94,3,99],[3,40,3,45],[3,46,3,51],[3,52,3,57],[3,118,3,123],[2,106,2,111],[2,112,2,117],[2,118,2,123],[3,106,3,111],[3,112,3,117],[2,16,2,21],[2,22,2,27],[3,22,3,27],[2,34,2,39],[2,100,2,105],[2,0,7,0],[2,1,7,1],[2,2,7,2],[2,40,2,45],[2,46,2,51],[3,28,3,33],[3,34,3,39],[2,76,2,81],[2,82,2,87],[2,124,2,129],[2,130,2,135],[3,202,3,207],[5,244,6,244],[5,245,6,245],[2,28,2,33],[2,70,2,75],[3,64,3,69],[3,70,3,75],[3,76,3,81],[3,82,3,87],[3,190,3,195],[2,58,2,63],[3,58,3,63],[2,52,2,57],[3,238,3,243],[2,214,2,219],[3,196,3,201],[2,136,2,141],[2,142,2,147],[2,148,2,153],[3,4,3,9],[3,10,3,15],[3,16,3,21],[2,4,2,9],[2,10,2,15],[3,220,3,225],[3,226,3,231],[3,124,3,129],[3,130,3,135],[3,136,3,141],[3,142,3,147],[3,148,3,153],[3,154,3,159],[2,88,2,93],[2,94,2,99],[2,64,2,69],[3,160,3,165],[3,166,3,171],[3,172,3,177],[3,178,3,183],[2,220,2,225],[2,226,2,231],[3,208,3,213],[3,214,3,219],[2,353,2,358],[2,359,2,364],[2,365,2,370],[2,371,2,376],[2,377,2,382],[2,383,2,388],[2,389,2,394],[2,395,2,400],[2,401,2,406],[2,407,2,412],[2,413,2,418],[2,419,2,424],[2,425,2,430],[2,431,2,436],[2,437,2,442],[2,443,2,448],[2,449,2,454],[2,455,2,460],[2,461,2,466],[2,467,2,472],[2,473,2,478],[2,479,2,484],[2,485,2,490],[2,491,2,496],[2,497,2,502],[2,503,2,508],[2,509,2,514],[2,515,2,520],[3,281,3,286],[3,287,3,292],[3,293,3,298],[3,299,3,304],[3,305,3,310],[3,311,3,316],[3,317,3,322],[3,323,3,328],[3,329,3,334],[3,335,3,340],[3,341,3,346],[3,347,3,352],[3,353,3,358],[3,359,3,364],[3,365,3,370],[3,371,3,376],[3,377,3,382],[3,383,3,388],[3,389,3,394],[3,395,3,400],[3,401,3,406],[3,407,3,412],[3,413,3,418],[3,473,3,478],[3,479,3,484],[3,485,3,490],[3,491,3,496],[3,497,3,502],[3,503,3,508],[3,509,3,514],[3,515,3,520],[3,419,3,424],[3,425,3,430],[3,431,3,436],[3,437,3,442],[3,443,3,448],[3,449,3,454],[3,455,3,460],[3,461,3,466],[3,467,3,472]]}
[{"$f":"\"บันทึกเวลาเรียน รายวิชา\"&ปก!AC15","v":"บันทึกเวลาเรียน รายวิชา{{โปรดกรอกข้อมูลรายวิชา}}"},null,null,null,{"$f":"\"รหัสวิชา\"&\"  \"&ปก!C27","v":"รหัสวิชา  "},null,null,null,null,null,null,null,null,null,null,null,null,null,null,null,null,"หน้า 1",{"$f":"\"บันทึกเวลาเรียน   รายวิชา\"&ปก!C26&\"     \"&\"รหัสวิชา\"&\"  \"&ปก!C27","v":"บันทึกเวลาเรียน   รายวิชา     รหัสวิชา  "},null,null,null,null,null,null,null,null,null,null,null,null,null,null,null,null,null,null,null,null,null,null,null,null,null,null,null,null,null,null,null,null,null,null,"หน้า 2",{"$f":"\"บันทึกเวลาเรียน   รายวิชา\"&ปก!C26&\"     \"&\"รหัสวิชา\"&\"  \"&ปก!C27","v":"บันทึกเวลาเรียน   รายวิชา     รหัสวิชา  "},null,null,null,null,null,null,null,null,null,null,null,null,null,null,null,null,null,null,null,null,null,null,null,null,null,null,null,null,null,null,null,null,null,null,"หน้า 3",{"$f":"\"บันทึกเวลาเรียน   รายวิชา\"&ปก!C26&\"     \"&\"รหัสวิชา\"&\"  \"&ปก!C27","v":"บันทึกเวลาเรียน   รายวิชา     รหัสวิชา  "},null,null,null,null,null,null,null,null,null,null,null,null,null,null,null,null,null,null,null,null,null,null,null,null,null,null,null,null,null,null,null,null,null,null,"หน้า 4",{"$f":"\"บันทึกเวลาเรียน   รายวิชา\"&ปก!C26&\"     \"&\"รหัสวิชา\"&\"  \"&ปก!C27","v":"บันทึกเวลาเรียน   รายวิชา     รหัสวิชา  "},null,null,null,null,null,null,null,null,null,null,null,null,null,null,null,null,null,null,null,null,null,null,null,null,null,null,null,null,null,null,null,null,null,null,"หน้า 5",{"$f":"\"บันทึกเวลาเรียน   รายวิชา\"&ปก!C26&\"     \"&\"รหัสวิชา\"&\"  \"&ปก!C27","v":"บันทึกเวลาเรียน   รายวิชา     รหัสวิชา  "},null,null,null,null,null,null,null,null,null,null,null,null,null,null,null,null,null,null,null,null,null,null,null,null,null,null,null,null,null,null,null,null,null,null,"หน้า 6",{"$f":"\"บันทึกเวลาเรียน   รายวิชา\"&ปก!C26&\"     \"&\"รหัสวิชา\"&\"  \"&ปก!C27","v":"บันทึกเวลาเรียน   รายวิชา     รหัสวิชา  "},null,null,null,null,null,null,null,null,null,null,null,null,null,null,null,null,null,null,null,null,null,null,null,null,null,null,null,null,null,null,null,null,null,null,"หน้า 7",{"$f":"\"บันทึกเวลาเรียน   รายวิชา\"&ปก!C26&\"     \"&\"รหัสวิชา\"&\"  \"&ปก!C27","v":"บันทึกเวลาเรียน   รายวิชา     รหัสวิชา  "},null,null,null,null,null,null,null,null,null,null,"หน้า 8"]
[{"$f":"\"นักเรียนระดับ\"&ปก!AF11","v":"นักเรียนระดับ"},null,null,null,{"$f":"\"ปีการศึกษา\"&ปก!C16&\"(เวลาเรียน\"&\"  \"&\"\"&ปก!C28&\" \"&\"ชั่วโมง : ปี)\"","v":"ปีการศึกษา2568(เวลาเรียน   ชั่วโมง : ปี)"},null,null,null,null,null,null,null,null,null,null,null,null,null,null,null,null,null,{"$f":"\"นักเรียนระดับ\"&ปก!AF11&\"    \"&\"ปีการศึกษา\"&ปก!C16","v":"นักเรียนระดับ    ปีการศึกษา2568"},null,null,null,null,null,null,null,null,null,null,null,null,null,null,null,null,null,null,null,null,null,null,null,null,null,null,null,null,null,null,null,null,null,null,null,{"$f":"\"นักเรียนระดับ\"&ปก!AF11&\"    \"&\"ปีการศึกษา\"&ปก!C16","v":"นักเรียนระดับ    ปีการศึกษา2568"},null,null,null,null,null,null,null,null,null,null,null,null,null,null,null,null,null,null,null,null,null,null,null,null,null,null,null,null,null,null,null,null,null,null,null,{"$f":"\"นักเรียนระดับ\"&ปก!AF11&\"    \"&\"ปีการศึกษา\"&ปก!C16","v":"นักเรียนระดับ    ปีการศึกษา2568"},null,null,null,null,null,null,null,null,null,null,null,null,null,null,null,null,null,null,null,null,null,null,null,null,null,null,null,null,null,null,null,null,null,null,null,{"$f":"\"นักเรียนระดับ\"&ปก!AF11&\"    \"&\"ปีการศึกษา\"&ปก!C16","v":"นักเรียนระดับ    ปีการศึกษา2568"},null,null,null,null,null,null,null,null,null,null,null,null,null,null,null,null,null,null,null,null,null,null,null,null,null,null,null,null,null,null,null,null,null,null,null,{"$f":"\"นักเรียนระดับ\"&ปก!AF11&\"    \"&\"ปีการศึกษา\"&ปก!C16","v":"นักเรียนระดับ    ปีการศึกษา2568"},null,null,null,null,null,null,null,null,null,null,null,null,null,null,null,null,null,null,null,null,null,null,null,null,null,null,null,null,null,null,null,null,null,null,null,{"$f":"\"นักเรียนระดับ\"&ปก!AF11&\"    \"&\"ปีการศึกษา\"&ปก!C16","v":"นักเรียนระดับ    ปีการศึกษา2568"},null,null,null,null,null,null,null,null,null,null,null,null,null,null,null,null,null,null,null,null,null,null,null,null,null,null,null,null,null,null,null,null,null,null,null,{"$f":"\"นักเรียนระดับ\"&ปก!AF11&\"    \"&\"ปีการศึกษา\"&ปก!C16","v":"นักเรียนระดับ    ปีการศึกษา2568"}]
["เลขที่","เลขประจำตัว","ชื่อ - ชื่อสกุล","สัปดาห์ที่",1,null,null,null,null,null,2,null,null,null,null,null,3,null,null,null,null,null,4,null,null,null,null,null,5,null,null,null,null,null,6,null,null,null,null,null,7,null,null,null,null,null,8,null,null,null,null,null,9,null,null,null,null,null,10,null,null,null,null,null,11,null,null,null,null,null,12,null,null,null,null,null,13,null,null,null,null,null,14,null,null,null,null,null,15,null,null,null,null,null,16,null,null,null,null,null,17,null,null,null,null,null,18,null,null,null,null,null,19,null,null,null,null,null,20,null,null,null,null,null,21,null,null,null,null,null,22,null,null,null,null,null,23,null,null,null,null,null,24,null,null,null,null,null,25,null,null,null,null,null,26,null,null,null,null,null,27,null,null,null,null,null,28,null,null,null,null,null,29,null,null,null,null,null,30,null,null,null,null,null,31,null,null,null,null,null,32,null,null,null,null,null,33,null,null,null,null,null,34,null,null,null,null,null,35,null,null,null,null,null,36,null,null,null,null,null,37,null,null,null,null,null,38,null,null,null,null,null,39,null,null,null,null,null,40,null,null,null,null,null,"รวมเวลาเรียนตลอดปีการศึกษา(ชั่วโมง)",null,null,null,"มาเรียน\nร้อยละ\n(เวลาเรียน)","สถานะ\nนักเรียน\nปัจจุบัน"]
[null,null,null,"เดือน"]
[null,null,null,"วันที่"]
[null,null,null,"ชั่วโมงที่",null,null,null,null,null,null,null,null,null,null,null,null,null,null,null,null,null,null,null,null,null,null,null,null,null,null,null,null,null,null,null,null,null,null,null,null,null,null,null,null,null,null,null,null,null,null,null,null,null,null,null,null,null,null,null,null,null,null,null,null,null,null,null,null,null,null,null,null,null,null,null,null,null,null,null,null,null,null,null,null,null,null,null,null,null,null,null,null,null,null,null,null,null,null,null,null,null,null,null,null,null,null,null,null,null,null,null,null,null,null,null,null,null,null,null,null,null,null,null,null,null,null,null,null,null,null,null,null,null,null,null,null,null,null,null,null,null,null,null,null,null,null,null,null,null,null,null,null,null,null,null,null,null,null,null,null,null,null,null,null,null,null,null,null,null,null,null,null,null,null,null,null,null,null,null,null,null,null,null,null,null,null,null,null,null,null,null,null,null,null,null,null,null,null,null,null,null,null,null,null,null,null,null,null,null,null,null,null,null,null,null,null,null,null,null,null,null,null,null,null,null,null,null,null,null,null,null,null,null,null,null,null,null,null,null,null,null,null,null,null,"มา","ขาด","ลา","ป่วย"]
[null,null,null,"เลขที่"]
[null,null,null,"จำนวนชั่วโมง/ครั้ง"]
[1,{"$f":"Sheet1!B2","v":17008},{"$f":"CONCATENATE(Sheet1!C2&Sheet1!D2&\"       \"&Sheet1!E2)","v":"เด็กชายวรชิต      ผึ้งบำรุง       "},1,null,null,null,null,null,null,null,null,null,null,null,null,null,null,null,null,null,null,null,null,null,null,null,null,null,null,null,null,null,null,null,null,null,null,null,null,null,null,null,null,null,null,null,null,null,null,null,null,null,null,null,null,null,null,null,null,null,null,null,null,null,null,null,null,null,null,null,null,null,null,null,null,null,null,null,null,null,null,null,null,null,null,null,null,null,null,null,null,null,null,null,null,null,null,null,null,null,null,null,null,null,null,null,null,null,null,null,null,null,null,null,null,null,null,null,null,null,null,null,null,null,null,null,null,null,null,null,null,null,null,null,null,null,null,null,null,null,null,null,null,null,null,null,null,null,null,null,null,null,null,null,null,null,null,null,null,null,null,null,null,null,null,null,null,null,null,null,null,null,null,null,null,null,null,null,null,null,null,null,null,null,null,null,null,null,null,null,null,null,null,null,null,null,null,null,null,null,null,null,null,null,null,null,null,null,null,null,null,null,null,null,null,null,null,null,null,null,null,null,null,null,null,null,null,null,null,null,null,null,null,null,null,null,null,null,null,null,null,null,null,{"$f":"ปก!$C$28-(IL9+IM9+IN9)","v":0},{"$f":"COUNTIF(E9:IJ9,\"ข\")","v":0},{"$f":"COUNTIF(E9:IJ9,\"ล\")","v":0},{"$f":"COUNTIF(E9:IJ9,\"ป\")","v":0},{"$f":"IK9/ปก!C$28*100","v":{"$error":"#DIV/0!"}},"ปกติ"]
[2,{"$f":"Sheet1!B3","v":17009},{"$f":"CONCATENATE(Sheet1!C3&Sheet1!D3&\"       \"&Sheet1!E3)","v":"เด็กชายธนกฤต    ธนัชญาปกรณ์       "},2,null,null,null,null,null,null,null,null,null,null,null,null,null,null,null,null,null,null,null,null,null,null,null,null,null,null,null,null,null,null,null,null,null,null,null,null,null,null,null,null,null,null,null,null,null,null,null,null,null,null,null,null,null,null,null,null,null,null,null,null,null,null,null,null,null,null,null,null,null,null,null,null,null,null,null,null,null,null,null,null,null,null,null,null,null,null,null,null,null,null,null,null,null,null,null,null,null,null,null,null,null,null,null,null,null,null,null,null,null,null,null,null,null,null,null,null,null,null,null,null,null,null,null,null,null,null,null,null,null,null,null,null,null,null,null,null,null,null,null,null,null,null,null,null,null,null,null,null,null,null,null,null,null,null,null,null,null,null,null,null,null,null,null,null,null,null,null,null,null,null,null,null,null,null,null,null,null,null,null,null,null,null,null,null,null,null,null,null,null,null,null,null,null,null,null,null,null,null,null,null,null,null,null,null,null,null,null,null,null,null,null,null,null,null,null,null,null,null,null,null,null,null,null,null,null,null,null,null,null,null,null,null,null,null,null,null,null,null,null,null,{"$f":"ปก!$C$28-(IL10+IM10+IN10)","v":0},{"$f":"COUNTIF(E10:IJ10,\"ข\")","v":0},{"$f":"COUNTIF(E10:IJ10,\"ล\")","v":0},{"$f":"COUNTIF(E10:IJ10,\"ป\")","v":0},{"$f":"IK10/ปก!C$28*100","v":{"$error":"#DIV/0!"}},"ปกติ"]
[3,{"$f":"Sheet1!B4","v":17012},{"$f":"CONCATENATE(Sheet1!C4&Sheet1!D4&\"       \"&Sheet1!E4)","v":"เด็กชายณภัทร     กำเหนิดศิลป์       "},3,null,null,null,null,null,null,null,null,null,null,null,null,null,null,null,null,null,null,null,null,null,null,null,null,null,null,null,null,null,null,null,null,null,null,null,null,null,null,null,null,null,null,null,null,null,null,null,null,null,null,null,null,null,null,null,null,null,null,null,null,null,null,null,null,null,null,null,null,null,null,null,null,null,null,null,null,null,null,null,null,null,null,null,null,null,null,null,null,null,null,null,null,null,null,null,null,null,null,null,null,null,null,null,null,null,null,null,null,null,null,null,null,null,null,null,null,null,null,null,null,null,null,null,null,null,null,null,null,null,null,null,null,null,null,null,null,null,null,null,null,null,null,null,null,null,null,null,null,null,null,null,null,null,null,null,null,null,null,null,null,null,null,null,null,null,null,null,null,null,null,null,null,null,null,null,null,null,null,null,null,null,null,null,null,null,null,null,null,null,null,null,null,null,null,null,null,null,null,null,null,null,null,null,null,null,null,null,null,null,null,null,null,null,null,null,null,null,null,null,null,null,null,null,null,null,null,null,null,null,null,null,null,null,null,null,null,null,null,null,null,{"$f":"ปก!$C$28-(IL11+IM11+IN11)","v":0},0,0,0,{"$f":"IK11/ปก!C$28*100","v":{"$error":"#DIV/0!"}},"ปกติ"]
[4,{"$f":"Sheet1!B5","v":17020},{"$f":"CONCATENATE(Sheet1!C5&Sheet1!D5&\"       \"&Sheet1!E5)","v":"เด็กหญิงณัฐพัชร์   เผือกทิม       "},4,null,null,null,null,null,null,null,null,null,null,null,null,null,null,null,null,null,null,null,null,null,null,null,null,null,null,null,null,null,null,null,null,null,null,null,null,null,null,null,null,null,null,null,null,null,null,null,null,null,null,null,null,null,null,null,null,null,null,null,null,null,null,null,null,null,null,null,null,null,null,null,null,null,null,null,null,null,null,null,null,null,null,null,null,null,null,null,null,null,null,null,null,null,null,null,null,null,null,null,null,null,null,null,null,null,null,null,null,null,null,null,null,null,null,null,null,null,null,null,null,null,null,null,null,null,null,null,null,null,null,null,null,null,null,null,null,null,null,null,null,null,null,null,null,null,null,null,null,null,null,null,null,null,null,null,null,null,null,null,null,null,null,null,null,null,null,null,null,null,null,null,null,null,null,null,null,null,null,null,null,null,null,null,null,null,null,null,null,null,null,null,null,null,null,null,null,null,null,null,null,null,null,null,null,null,null,null,null,null,null,null,null,null,null,null,null,null,null,null,null,null,null,null,null,null,null,null,null,null,null,null,null,null,null,null,null,null,null,null,null,{"$f":"ปก!$C$28-(IL12+IM12+IN12)","v":0},0,0,0,{"$f":"IK12/ปก!C$28*100","v":{"$error":"#DIV/0!"}},"ปกติ"]
[5,{"$f":"Sheet1!B6","v":17021},{"$f":"CONCATENATE(Sheet1!C6&Sheet1!D6&\"       \"&Sheet1!E6)","v":"เด็กหญิงจิรัชยา    ทัศนสวัสดิ์       "},5,null,null,null,null,null,null,null,null,null,null,null,null,null,null,null,null,null,null,null,null,null,null,null,null,null,null,null,null,null,null,null,null,null,null,null,null,null,null,null,null,null,null,null,null,null,null,null,null,null,null,null,null,null,null,null,null,null,null,null,null,null,null,null,null,null,null,null,null,null,null,null,null,null,null,null,null,null,null,null,null,null,null,null,null,null,null,null,null,null,null,null,null,null,null,null,null,null,null,null,null,null,null,null,null,null,null,null,null,null,null,null,null,null,null,null,null,null,null,null,null,null,null,null,null,null,null,null,null,null,null,null,null,null,null,null,null,null,null,null,null,null,null,null,null,null,null,null,null,null,null,null,null,null,null,null,null,null,null,null,null,null,null,null,null,null,null,null,null,null,null,null,null,null,null,null,null,null,null,null,null,null,null,null,null,null,null,null,null,null,null,null,null,null,null,null,null,null,null,null,null,null,null,null,null,null,null,null,null,null,null,null,null,null,null,null,null,null,null,null,null,null,null,null,null,null,null,null,null,null,null,null,null,null,null,null,null,null,null,null,null,{"$f":"ปก!$C$28-(IL13+IM13+IN13)","v":0},0,0,0,{"$f":"IK13/ปก!C$28*100","v":{"$error":"#DIV/0!"}},"ปกติ"]
[6,{"$f":"Sheet1!B7","v":17022},{"$f":"CONCATENATE(Sheet1!C7&Sheet1!D7&\"       \"&Sheet1!E7)","v":"เด็กหญิงธันยกานต์  หาญรัตนปิยพร       "},6,null,null,null,null,null,null,null,null,null,null,null,null,null,null,null,null,null,null,null,null,null,null,null,null,null,null,null,null,null,null,null,null,null,null,null,null,null,null,null,null,null,null,null,null,null,null,null,null,null,null,null,null,null,null,null,null,null,null,null,null,null,null,null,null,null,null,null,null,null,null,null,null,null,null,null,null,null,null,null,null,null,null,null,null,null,null,null,null,null,null,null,null,null,null,null,null,null,null,null,null,null,null,null,null,null,null,null,null,null,null,null,null,null,null,null,null,null,null,null,null,null,null,null,null,null,null,null,null,null,null,null,null,null,null,null,null,null,null,null,null,null,null,null,null,null,null,null,null,null,null,null,null,null,null,null,null,null,null,null,null,null,null,null,null,null,null,null,null,null,null,null,null,null,null,null,null,null,null,null,null,null,null,null,null,null,null,null,null,null,null,null,null,null,null,null,null,null,null,null,null,null,null,null,null,null,null,null,null,null,null,null,null,null,null,null,null,null,null,null,null,null,null,null,null,null,null,null,null,null,null,null,null,null,null,null,null,null,null,null,null,{"$f":"ปก!$C$28-(IL14+IM14+IN14)","v":0},0,0,0,{"$f":"IK14/ปก!C$28*100","v":{"$error":"#DIV/0!"}},"ปกติ"]
[7,{"$f":"Sheet1!B8","v":17026},{"$f":"CONCATENATE(Sheet1!C8&Sheet1!D8&\"       \"&Sheet1!E8)","v":"เด็กหญิงกสิณา      ชูเมือง       "},7,null,null,null,null,null,null,null,null,null,null,null,null,null,null,null,null,null,null,null,null,null,null,null,null,null,null,null,null,null,null,null,null,null,null,null,null,null,null,null,null,null,null,null,null,null,null,null,null,null,null,null,null,null,null,null,null,null,null,null,null,null,null,null,null,null,null,null,null,null,null,null,null,null,null,null,null,null,null,null,null,null,null,null,null,null,null,null,null,null,null,null,null,null,null,null,null,null,null,null,null,null,null,null,null,null,null,null,null,null,null,null,null,null,null,null,null,null,null,null,null,null,null,null,null,null,null,null,null,null,null,null,null,null,null,null,null,null,null,null,null,null,null,null,null,null,null,null,null,null,null,null,null,null,null,null,null,null,null,null,null,null,null,null,null,null,null,null,null,null,null,null,null,null,null,null,null,null,null,null,null,null,null,null,null,null,null,null,null,null,null,null,null,null,null,null,null,null,null,null,null,null,null,null,null,null,null,null,null,null,null,null,null,null,null,null,null,null,null,null,null,null,null,null,null,null,null,null,null,null,null,null,null,null,null,null,null,null,null,null,null,{"$f":"ปก!$C$28-(IL15+IM15+IN15)","v":0},0,0,0,{"$f":"IK15/ปก!C$28*100","v":{"$error":"#DIV/0!"}},"ปกติ"]
[8,{"$f":"Sheet1!B9","v":17035},{"$f":"CONCATENATE(Sheet1!C9&Sheet1!D9&\"       \"&Sheet1!E9)","v":"เด็กหญิงกานต์สิตา  รัตนโชติ       "},8,null,null,null,null,null,null,null,null,null,null,null,null,null,null,null,null,null,null,null,null,null,null,null,null,null,null,null,null,null,null,null,null,null,null,null,null,null,null,null,null,null,null,null,null,null,null,null,null,null,null,null,null,null,null,null,null,null,null,null,null,null,null,null,null,null,null,null,null,null,null,null,null,null,null,null,null,null,null,null,null,null,null,null,null,null,null,null,null,null,null,null,null,null,null,null,null,null,null,null,null,null,null,null,null,null,null,null,null,null,null,null,null,null,null,null,null,null,null,null,null,null,null,null,null,null,null,null,null,null,null,null,null,null,null,null,null,null,null,null,null,null,null,null,null,null,null,null,null,null,null,null,null,null,null,null,null,null,null,null,null,null,null,null,null,null,null,null,null,null,null,null,null,null,null,null,null,null,null,null,null,null,null,null,null,null,null,null,null,null,null,null,null,null,null,null,null,null,null,null,null,null,null,null,null,null,null,null,null,null,null,null,null,null,null,null,null,null,null,null,null,null,null,null,null,null,null,null,null,null,null,null,null,null,null,null,null,null,null,null,null,{"$f":"ปก!$C$28-(IL16+IM16+IN16)","v":0},0,0,0,{"$f":"IK16/ปก!C$28*100","v":{"$error":"#DIV/0!"}},"ปกติ"]
[9,{"$f":"Sheet1!B10","v":17038},{"$f":"CONCATENATE(Sheet1!C10&Sheet1!D10&\"       \"&Sheet1!E10)","v":"เด็กหญิงธัญพร      แก้วอินทร์       "},9,null,null,null,null,null,null,null,null,null,null,null,null,null,null,null,null,null,null,null,null,null,null,null,null,null,null,null,null,null,null,null,null,null,null,null,null,null,null,null,null,null,null,null,null,null,null,null,null,null,null,null,null,null,null,null,null,null,null,null,null,null,null,null,null,null,null,null,null,null,null,null,null,null,null,null,null,null,null,null,null,null,null,null,null,null,null,null,null,null,null,null,null,null,null,null,null,null,null,null,null,null,null,null,null,null,null,null,null,null,null,null,null,null,null,null,null,null,null,null,null,null,null,null,null,null,null,null,null,null,null,null,null,null,null,null,null,null,null,null,null,null,null,null,null,null,null,null,null,null,null,null,null,null,null,null,null,null,null,null,null,null,null,null,null,null,null,null,null,null,null,null,null,null,null,null,null,null,null,null,null,null,null,null,null,null,null,null,null,null,null,null,null,null,null,null,null,null,null,null,null,null,null,null,null,null,null,null,null,null,null,null,null,null,null,null,null,null,null,null,null,null,null,null,null,null,null,null,null,null,null,null,null,null,null,null,null,null,null,null,null,{"$f":"ปก!$C$28-(IL17+IM17+IN17)","v":0},0,0,0,{"$f":"IK17/ปก!C$28*100","v":{"$error":"#DIV/0!"}},"ปกติ"]
[10,{"$f":"Sheet1!B11","v":17041},{"$f":"CONCATENATE(Sheet1!C11&Sheet1!D11&\"       \"&Sheet1!E11)","v":"เด็กหญิงกชพร       คล้ายอุดม       "},10,null,null,null,null,null,null,null,null,null,null,null,null,null,null,null,null,null,null,null,null,null,null,null,null,null,null,null,null,null,null,null,null,null,null,null,null,null,null,null,null,null,null,null,null,null,null,null,null,null,null,null,null,null,null,null,null,null,null,null,null,null,null,null,null,null,null,null,null,null,null,null,null,null,null,null,null,null,null,null,null,null,null,null,null,null,null,null,null,null,null,null,null,null,null,null,null,null,null,null,null,null,null,null,null,null,null,null,null,null,null,null,null,null,null,null,null,null,null,null,null,null,null,null,null,null,null,null,null,null,null,null,null,null,null,null,null,null,null,null,null,null,null,null,null,null,null,null,null,null,null,null,null,null,null,null,null,null,null,null,null,null,null,null,null,null,null,null,null,null,null,null,null,null,null,null,null,null,null,null,null,null,null,null,null,null,null,null,null,null,null,null,null,null,null,null,null,null,null,null,null,null,null,null,null,null,null,null,null,null,null,null,null,null,null,null,null,null,null,null,null,null,null,null,null,null,null,null,null,null,null,null,null,null,null,null,null,null,null,null,null,{"$f":"ปก!$C$28-(IL18+IM18+IN18)","v":0},0,0,0,{"$f":"IK18/ปก!C$28*100","v":{"$error":"#DIV/0!"}},"ปกติ"]
[11,{"$f":"Sheet1!B12","v":18181},{"$f":"CONCATENATE(Sheet1!C12&Sheet1!D12&\"       \"&Sheet1!E12)","v":"เด็กชายธรณ์ธันย์    อิสรา       "},11,null,null,null,null,null,null,null,null,null,null,null,null,null,null,null,null,null,null,null,null,null,null,null,null,null,null,null,null,null,null,null,null,null,null,null,null,null,null,null,null,null,null,null,null,null,null,null,null,null,null,null,null,null,null,null,null,null,null,null,null,null,null,null,null,null,null,null,null,null,null,null,null,null,null,null,null,null,null,null,null,null,null,null,null,null,null,null,null,null,null,null,null,null,null,null,null,null,null,null,null,null,null,null,null,null,null,null,null,null,null,null,null,null,null,null,null,null,null,null,null,null,null,null,null,null,null,null,null,null,null,null,null,null,null,null,null,null,null,null,null,null,null,null,null,null,null,null,null,null,null,null,null,null,null,null,null,null,null,null,null,null,null,null,null,null,null,null,null,null,null,null,null,null,null,null,null,null,null,null,null,null,null,null,null,null,null,null,null,null,null,null,null,null,null,null,null,null,null,null,null,null,null,null,null,null,null,null,null,null,null,null,null,null,null,null,null,null,null,null,null,null,null,null,null,null,null,null,null,null,null,null,null,null,null,null,null,null,null,null,null,{"$f":"ปก!$C$28-(IL19+IM19+IN19)","v":0},0,0,0,{"$f":"IK19/ปก!C$28*100","v":{"$error":"#DIV/0!"}},"ปกติ"]
[12,{"$f":"Sheet1!B13","v":18185},{"$f":"CONCATENATE(Sheet1!C13&Sheet1!D13&\"       \"&Sheet1!E13)","v":"เด็กหญิงกัลยรัตน์   สารเทพ        "},12,null,null,null,null,null,null,null,null,null,null,null,null,null,null,null,null,null,null,null,null,null,null,null,null,null,null,null,null,null,null,null,null,null,null,null,null,null,null,null,null,null,null,null,null,null,null,null,null,null,null,null,null,null,null,null,null,null,null,null,null,null,null,null,null,null,null,null,null,null,null,null,null,null,null,null,null,null,null,null,null,null,null,null,null,null,null,null,null,null,null,null,null,null,null,null,null,null,null,null,null,null,null,null,null,null,null,null,null,null,null,null,null,null,null,null,null,null,null,null,null,null,null,null,null,null,null,null,null,null,null,null,null,null,null,null,null,null,null,null,null,null,null,null,null,null,null,null,null,null,null,null,null,null,null,null,null,null,null,null,null,null,null,null,null,null,null,null,null,null,null,null,null,null,null,null,null,null,null,null,null,null,null,null,null,null,null,null,null,null,null,null,null,null,null,null,null,null,null,null,null,null,null,null,null,null,null,null,null,null,null,null,null,null,null,null,null,null,null,null,null,null,null,null,null,null,null,null,null,null,null,null,null,null,null,null,null,null,null,null,null,{"$f":"ปก!$C$28-(IL20+IM20+IN20)","v":0},0,0,0,{"$f":"IK20/ปก!C$28*100","v":{"$error":"#DIV/0!"}},"ปกติ"]
[13,{"$f":"Sheet1!B14","v":18270},{"$f":"CONCATENATE(Sheet1!C14&Sheet1!D14&\"       \"&Sheet1!E14)","v":"เด็กหญิงเขมิกา     ปลื้มใจ        "},13,null,null,null,null,null,null,null,null,null,null,null,null,null,null,null,null,null,null,null,null,null,null,null,null,null,null,null,null,null,null,null,null,null,null,null,null,null,null,null,null,null,null,null,null,null,null,null,null,null,null,null,null,null,null,null,null,null,null,null,null,null,null,null,null,null,null,null,null,null,null,null,null,null,null,null,null,null,null,null,null,null,null,null,null,null,null,null,null,null,null,null,null,null,null,null,null,null,null,null,null,null,null,null,null,null,null,null,null,null,null,null,null,null,null,null,null,null,null,null,null,null,null,null,null,null,null,null,null,null,null,null,null,null,null,null,null,null,null,null,null,null,null,null,null,null,null,null,null,null,null,null,null,null,null,null,null,null,null,null,null,null,null,null,null,null,null,null,null,null,null,null,null,null,null,null,null,null,null,null,null,null,null,null,null,null,null,null,null,null,null,null,null,null,null,null,null,null,null,null,null,null,null,null,null,null,null,null,null,null,null,null,null,null,null,null,null,null,null,null,null,null,null,null,null,null,null,null,null,null,null,null,null,null,null,null,null,null,null,null,null,{"$f":"ปก!$C$28-(IL21+IM21+IN21)","v":0},0,0,0,{"$f":"IK21/ปก!C$28*100","v":{"$error":"#DIV/0!"}},"ปกติ"]
[14,{"$f":"Sheet1!B15","v":18475},{"$f":"CONCATENATE(Sheet1!C15&Sheet1!D15&\"       \"&Sheet1!E15)","v":"เด็กชายกวินท์      นาคสวัสดิ์       "},14,null,null,null,null,null,null,null,null,null,null,null,null,null,null,null,null,null,null,null,null,null,null,null,null,null,null,null,null,null,null,null,null,null,null,null,null,null,null,null,null,null,null,null,null,null,null,null,null,null,null,null,null,null,null,null,null,null,null,null,null,null,null,null,null,null,null,null,null,null,null,null,null,null,null,null,null,null,null,null,null,null,null,null,null,null,null,null,null,null,null,null,null,null,null,null,null,null,null,null,null,null,null,null,null,null,null,null,null,null,null,null,null,null,null,null,null,null,null,null,null,null,null,null,null,null,null,null,null,null,null,null,null,null,null,null,null,null,null,null,null,null,null,null,null,null,null,null,null,null,null,null,null,null,null,null,null,null,null,null,null,null,null,null,null,null,null,null,null,null,null,null,null,null,null,null,null,null,null,null,null,null,null,null,null,null,null,null,null,null,null,null,null,null,null,null,null,null,null,null,null,null,null,null,null,null,null,null,null,null,null,null,null,null,null,null,null,null,null,null,null,null,null,null,null,null,null,null,null,null,null,null,null,null,null,null,null,null,null,null,null,{"$f":"ปก!$C$28-(IL22+IM22+IN22)","v":0},0,0,0,{"$f":"IK22/ปก!C$28*100","v":{"$error":"#DIV/0!"}},"ปกติ"]
[15,{"$f":"Sheet1!B16","v":18521},{"$f":"CONCATENATE(Sheet1!C16&Sheet1!D16&\"       \"&Sheet1!E16)","v":"เด็กชายอธินันท์    บัวเพชร       "},15,null,null,null,null,null,null,null,null,null,null,null,null,null,null,null,null,null,null,null,null,null,null,null,null,null,null,null,null,null,null,null,null,null,null,null,null,null,null,null,null,null,null,null,null,null,null,null,null,null,null,null,null,null,null,null,null,null,null,null,null,null,null,null,null,null,null,null,null,null,null,null,null,null,null,null,null,null,null,null,null,null,null,null,null,null,null,null,null,null,null,null,null,null,null,null,null,null,null,null,null,null,null,null,null,null,null,null,null,null,null,null,null,null,null,null,null,null,null,null,null,null,null,null,null,null,null,null,null,null,null,null,null,null,null,null,null,null,null,null,null,null,null,null,null,null,null,null,null,null,null,null,null,null,null,null,null,null,null,null,null,null,null,null,null,null,null,null,null,null,null,null,null,null,null,null,null,null,null,null,null,null,null,null,null,null,null,null,null,null,null,null,null,null,null,null,null,null,null,null,null,null,null,null,null,null,null,null,null,null,null,null,null,null,null,null,null,null,null,null,null,null,null,null,null,null,null,null,null,null,null,null,null,null,null,null,null,null,null,null,null,{"$f":"ปก!$C$28-(IL23+IM23+IN23)","v":0},0,0,0,{"$f":"IK23/ปก!C$28*100","v":{"$error":"#DIV/0!"}},"ปกติ"]
[16,{"$f":"Sheet1!B17","v":18831},{"$f":"CONCATENATE(Sheet1!C17&Sheet1!D17&\"       \"&Sheet1!E17)","v":"เด็กชายปวริศร์     สันตะโร       "},16,null,null,null,null,null,null,null,null,null,null,null,null,null,null,null,null,null,null,null,null,null,null,null,null,null,null,null,null,null,null,null,null,null,null,null,null,null,null,null,null,null,null,null,null,null,null,null,null,null,null,null,null,null,null,null,null,null,null,null,null,null,null,null,null,null,null,null,null,null,null,null,null,null,null,null,null,null,null,null,null,null,null,null,null,null,null,null,null,null,null,null,null,null,null,null,null,null,null,null,null,null,null,null,null,null,null,null,null,null,null,null,null,null,null,null,null,null,null,null,null,null,null,null,null,null,null,null,null,null,null,null,null,null,null,null,null,null,null,null,null,null,null,null,null,null,null,null,null,null,null,null,null,null,null,null,null,null,null,null,null,null,null,null,null,null,null,null,null,null,null,null,null,null,null,null,null,null,null,null,null,null,null,null,null,null,null,null,null,null,null,null,null,null,null,null,null,null,null,null,null,null,null,null,null,null,null,null,null,null,null,null,null,null,null,null,null,null,null,null,null,null,null,null,null,null,null,null,null,null,null,null,null,null,null,null,null,null,null,null,null,{"$f":"ปก!$C$28-(IL24+IM24+IN24)","v":0},0,0,0,{"$f":"IK24/ปก!C$28*100","v":{"$error":"#DIV/0!"}},"ปกติ"]
[17,{"$f":"Sheet1!B18","v":18832},{"$f":"CONCATENATE(Sheet1!C18&Sheet1!D18&\"       \"&Sheet1!E18)","v":"เด็กชายปุณณวิช    ทองคลอด       "},17,null,null,null,null,null,null,null,null,null,null,null,null,null,null,null,null,null,null,null,null,null,null,null,null,null,null,null,null,null,null,null,null,null,null,null,null,null,null,null,null,null,null,null,null,null,null,null,null,null,null,null,null,null,null,null,null,null,null,null,null,null,null,null,null,null,null,null,null,null,null,null,null,null,null,null,null,null,null,null,null,null,null,null,null,null,null,null,null,null,null,null,null,null,null,null,null,null,null,null,null,null,null,null,null,null,null,null,null,null,null,null,null,null,null,null,null,null,null,null,null,null,null,null,null,null,null,null,null,null,null,null,null,null,null,null,null,null,null,null,null,null,null,null,null,null,null,null,null,null,null,null,null,null,null,null,null,null,null,null,null,null,null,null,null,null,null,null,null,null,null,null,null,null,null,null,null,null,null,null,null,null,null,null,null,null,null,null,null,null,null,null,null,null,null,null,null,null,null,null,null,null,null,null,null,null,null,null,null,null,null,null,null,null,null,null,null,null,null,null,null,null,null,null,null,null,null,null,null,null,null,null,null,null,null,null,null,null,null,null,null,{"$f":"ปก!$C$28-(IL25+IM25+IN25)","v":0},0,0,0,{"$f":"IK25/ปก!C$28*100","v":{"$error":"#DIV/0!"}},"ปกติ"]
[18,{"$f":"Sheet1!B19","v":18833},{"$f":"CONCATENATE(Sheet1!C19&Sheet1!D19&\"       \"&Sheet1!E19)","v":"เด็กชายภูมิภัทร    เพชรแก้ว       "},18,null,null,null,null,null,null,null,null,null,null,null,null,null,null,null,null,null,null,null,null,null,null,null,null,null,null,null,null,null,null,null,null,null,null,null,null,null,null,null,null,null,null,null,null,null,null,null,null,null,null,null,null,null,null,null,null,null,null,null,null,null,null,null,null,null,null,null,null,null,null,null,null,null,null,null,null,null,null,null,null,null,null,null,null,null,null,null,null,null,null,null,null,null,null,null,null,null,null,null,null,null,null,null,null,null,null,null,null,null,null,null,null,null,null,null,null,null,null,null,null,null,null,null,null,null,null,null,null,null,null,null,null,null,null,null,null,null,null,null,null,null,null,null,null,null,null,null,null,null,null,null,null,null,null,null,null,null,null,null,null,null,null,null,null,null,null,null,null,null,null,null,null,null,null,null,null,null,null,null,null,null,null,null,null,null,null,null,null,null,null,null,null,null,null,null,null,null,null,null,null,null,null,null,null,null,null,null,null,null,null,null,null,null,null,null,null,null,null,null,null,null,null,null,null,null,null,null,null,null,null,null,null,null,null,null,null,null,null,null,null,{"$f":"ปก!$C$28-(IL26+IM26+IN26)","v":0},0,0,0,{"$f":"IK26/ปก!C$28*100","v":{"$error":"#DIV/0!"}},"ปกติ"]
[19,{"$f":"Sheet1!B20","v":18834},{"$f":"CONCATENATE(Sheet1!C20&Sheet1!D20&\"       \"&Sheet1!E20)","v":"เด็กชายชิณณวรรธน์  เพชรอาวุธ       "},19,null,null,null,null,null,null,null,null,null,null,null,null,null,null,null,null,null,null,null,null,null,null,null,null,null,null,null,null,null,null,null,null,null,null,null,null,null,null,null,null,null,null,null,null,null,null,null,null,null,null,null,null,null,null,null,null,null,null,null,null,null,null,null,null,null,null,null,null,null,null,null,null,null,null,null,null,null,null,null,null,null,null,null,null,null,null,null,null,null,null,null,null,null,null,null,null,null,null,null,null,null,null,null,null,null,null,null,null,null,null,null,null,null,null,null,null,null,null,null,null,null,null,null,null,null,null,null,null,null,null,null,null,null,null,null,null,null,null,null,null,null,null,null,null,null,null,null,null,null,null,null,null,null,null,null,null,null,null,null,null,null,null,null,null,null,null,null,null,null,null,null,null,null,null,null,null,null,null,null,null,null,null,null,null,null,null,null,null,null,null,null,null,null,null,null,null,null,null,null,null,null,null,null,null,null,null,null,null,null,null,null,null,null,null,null,null,null,null,null,null,null,null,null,null,null,null,null,null,null,null,null,null,null,null,null,null,null,null,null,null,{"$f":"ปก!$C$28-(IL27+IM27+IN27)","v":0},0,0,0,{"$f":"IK27/ปก!C$28*100","v":{"$error":"#DIV/0!"}},"ปกติ"]
[20,{"$f":"Sheet1!B21","v":18835},{"$f":"CONCATENATE(Sheet1!C21&Sheet1!D21&\"       \"&Sheet1!E21)","v":"เด็กชายสิทธินนท์   ขนอม        "},20,null,null,null,null,null,null,null,null,null,null,null,null,null,null,null,null,null,null,null,null,null,null,null,null,null,null,null,null,null,null,null,null,null,null,null,null,null,null,null,null,null,null,null,null,null,null,null,null,null,null,null,null,null,null,null,null,null,null,null,null,null,null,null,null,null,null,null,null,null,null,null,null,null,null,null,null,null,null,null,null,null,null,null,null,null,null,null,null,null,null,null,null,null,null,null,null,null,null,null,null,null,null,null,null,null,null,null,null,null,null,null,null,null,null,null,null,null,null,null,null,null,null,null,null,null,null,null,null,null,null,null,null,null,null,null,null,null,null,null,null,null,null,null,null,null,null,null,null,null,null,null,null,null,null,null,null,null,null,null,null,null,null,null,null,null,null,null,null,null,null,null,null,null,null,null,null,null,null,null,null,null,null,null,null,null,null,null,null,null,null,null,null,null,null,null,null,null,null,null,null,null,null,null,null,null,null,null,null,null,null,null,null,null,null,null,null,null,null,null,null,null,null,null,null,null,null,null,null,null,null,null,null,null,null,null,null,null,null,null,null,{"$f":"ปก!$C$28-(IL28+IM28+IN28)","v":0},0,0,0,{"$f":"IK28/ปก!C$28*100","v":{"$error":"#DIV/0!"}},"ปกติ"]
[21,{"$f":"Sheet1!B22","v":18836},{"$f":"CONCATENATE(Sheet1!C22&Sheet1!D22&\"       \"&Sheet1!E22)","v":"เด็กชายธนเดช      ธนวนิชนาม       "},21,null,null,null,null,null,null,null,null,null,null,null,null,null,null,null,null,null,null,null,null,null,null,null,null,null,null,null,null,null,null,null,null,null,null,null,null,null,null,null,null,null,null,null,null,null,null,null,null,null,null,null,null,null,null,null,null,null,null,null,null,null,null,null,null,null,null,null,null,null,null,null,null,null,null,null,null,null,null,null,null,null,null,null,null,null,null,null,null,null,null,null,null,null,null,null,null,null,null,null,null,null,null,null,null,null,null,null,null,null,null,null,null,null,null,null,null,null,null,null,null,null,null,null,null,null,null,null,null,null,null,null,null,null,null,null,null,null,null,null,null,null,null,null,null,null,null,null,null,null,null,null,null,null,null,null,null,null,null,null,null,null,null,null,null,null,null,null,null,null,null,null,null,null,null,null,null,null,null,null,null,null,null,null,null,null,null,null,null,null,null,null,null,null,null,null,null,null,null,null,null,null,null,null,null,null,null,null,null,null,null,null,null,null,null,null,null,null,null,null,null,null,null,null,null,null,null,null,null,null,null,null,null,null,null,null,null,null,null,null,null,{"$f":"ปก!$C$28-(IL29+IM29+IN29)","v":0},0,0,0,{"$f":"IK29/ปก!C$28*100","v":{"$error":"#DIV/0!"}},"ปกติ"]
[22,{"$f":"Sheet1!B23","v":18837},{"$f":"CONCATENATE(Sheet1!C23&Sheet1!D23&\"       \"&Sheet1!E23)","v":"เด็กชายนวพล       สิมมาตัน       "},22,null,null,null,null,null,null,null,null,null,null,null,null,null,null,null,null,null,null,null,null,null,null,null,null,null,null,null,null,null,null,null,null,null,null,null,null,null,null,null,null,null,null,null,null,null,null,null,null,null,null,null,null,null,null,null,null,null,null,null,null,null,null,null,null,null,null,null,null,null,null,null,null,null,null,null,null,null,null,null,null,null,null,null,null,null,null,null,null,null,null,null,null,null,null,null,null,null,null,null,null,null,null,null,null,null,null,null,null,null,null,null,null,null,null,null,null,null,null,null,null,null,null,null,null,null,null,null,null,null,null,null,null,null,null,null,null,null,null,null,null,null,null,null,null,null,null,null,null,null,null,null,null,null,null,null,null,null,null,null,null,null,null,null,null,null,null,null,null,null,null,null,null,null,null,null,null,null,null,null,null,null,null,null,null,null,null,null,null,null,null,null,null,null,null,null,null,null,null,null,null,null,null,null,null,null,null,null,null,null,null,null,null,null,null,null,null,null,null,null,null,null,null,null,null,null,null,null,null,null,null,null,null,null,null,null,null,null,null,null,null,{"$f":"ปก!$C$28-(IL30+IM30+IN30)","v":0},0,0,0,{"$f":"IK30/ปก!C$28*100","v":{"$error":"#DIV/0!"}},"ปกติ"]
[23,{"$f":"Sheet1!B24","v":18838},{"$f":"CONCATENATE(Sheet1!C24&Sheet1!D24&\"       \"&Sheet1!E24)","v":"เด็กชายฟารีส       แซ่โกว       "},23,null,null,null,null,null,null,null,null,null,null,null,null,null,null,null,null,null,null,null,null,null,null,null,null,null,null,null,null,null,null,null,null,null,null,null,null,null,null,null,null,null,null,null,null,null,null,null,null,null,null,null,null,null,null,null,null,null,null,null,null,null,null,null,null,null,null,null,null,null,null,null,null,null,null,null,null,null,null,null,null,null,null,null,null,null,null,null,null,null,null,null,null,null,null,null,null,null,null,null,null,null,null,null,null,null,null,null,null,null,null,null,null,null,null,null,null,null,null,null,null,null,null,null,null,null,null,null,null,null,null,null,null,null,null,null,null,null,null,null,null,null,null,null,null,null,null,null,null,null,null,null,null,null,null,null,null,null,null,null,null,null,null,null,null,null,null,null,null,null,null,null,null,null,null,null,null,null,null,null,null,null,null,null,null,null,null,null,null,null,null,null,null,null,null,null,null,null,null,null,null,null,null,null,null,null,null,null,null,null,null,null,null,null,null,null,null,null,null,null,null,null,null,null,null,null,null,null,null,null,null,null,null,null,null,null,null,null,null,null,null,{"$f":"ปก!$C$28-(IL31+IM31+IN31)","v":0},0,0,0,{"$f":"IK31/ปก!C$28*100","v":{"$error":"#DIV/0!"}},"ปกติ"]
[24,{"$f":"Sheet1!B25","v":18839},{"$f":"CONCATENATE(Sheet1!C25&Sheet1!D25&\"       \"&Sheet1!E25)","v":"เด็กหญิงจิดาภา      ใจห้าว       "},24,null,null,null,null,null,null,null,null,null,null,null,null,null,null,null,null,null,null,null,null,null,null,null,null,null,null,null,null,null,null,null,null,null,null,null,null,null,null,null,null,null,null,null,null,null,null,null,null,null,null,null,null,null,null,null,null,null,null,null,null,null,null,null,null,null,null,null,null,null,null,null,null,null,null,null,null,null,null,null,null,null,null,null,null,null,null,null,null,null,null,null,null,null,null,null,null,null,null,null,null,null,null,null,null,null,null,null,null,null,null,null,null,null,null,null,null,null,null,null,null,null,null,null,null,null,null,null,null,null,null,null,null,null,null,null,null,null,null,null,null,null,null,null,null,null,null,null,null,null,null,null,null,null,null,null,null,null,null,null,null,null,null,null,null,null,null,null,null,null,null,null,null,null,null,null,null,null,null,null,null,null,null,null,null,null,null,null,null,null,null,null,null,null,null,null,null,null,null,null,null,null,null,null,null,null,null,null,null,null,null,null,null,null,null,null,null,null,null,null,null,null,null,null,null,null,null,null,null,null,null,null,null,null,null,null,null,null,null,null,null,{"$f":"ปก!$C$28-(IL32+IM32+IN32)","v":0},0,0,0,{"$f":"IK32/ปก!C$28*100","v":{"$error":"#DIV/0!"}},"ปกติ"]
[25,{"$f":"Sheet1!B26","v":18840},{"$f":"CONCATENATE(Sheet1!C26&Sheet1!D26&\"       \"&Sheet1!E26)","v":"เด็กหญิงณัฐนัน      วิโรจน์       "},25,null,null,null,null,null,null,null,null,null,null,null,null,null,null,null,null,null,null,null,null,null,null,null,null,null,null,null,null,null,null,null,null,null,null,null,null,null,null,null,null,null,null,null,null,null,null,null,null,null,null,null,null,null,null,null,null,null,null,null,null,null,null,null,null,null,null,null,null,null,null,null,null,null,null,null,null,null,null,null,null,null,null,null,null,null,null,null,null,null,null,null,null,null,null,null,null,null,null,null,null,null,null,null,null,null,null,null,null,null,null,null,null,null,null,null,null,null,null,null,null,null,null,null,null,null,null,null,null,null,null,null,null,null,null,null,null,null,null,null,null,null,null,null,null,null,null,null,null,null,null,null,null,null,null,null,null,null,null,null,null,null,null,null,null,null,null,null,null,null,null,null,null,null,null,null,null,null,null,null,null,null,null,null,null,null,null,null,null,null,null,null,null,null,null,null,null,null,null,null,null,null,null,null,null,null,null,null,null,null,null,null,null,null,null,null,null,null,null,null,null,null,null,null,null,null,null,null,null,null,null,null,null,null,null,null,null,null,null,null,null,{"$f":"ปก!$C$28-(IL33+IM33+IN33)","v":0},0,0,0,{"$f":"IK33/ปก!C$28*100","v":{"$error":"#DIV/0!"}},"ปกติ"]
[26,{"$f":"Sheet1!B27","v":18841},{"$f":"CONCATENATE(Sheet1!C27&Sheet1!D27&\"       \"&Sheet1!E27)","v":"เด็กหญิงชลิดา       กาญจนพานิช       "},26,null,null,null,null,null,null,null,null,null,null,null,null,null,null,null,null,null,null,null,null,null,null,null,null,null,null,null,null,null,null,null,null,null,null,null,null,null,null,null,null,null,null,null,null,null,null,null,null,null,null,null,null,null,null,null,null,null,null,null,null,null,null,null,null,null,null,null,null,null,null,null,null,null,null,null,null,null,null,null,null,null,null,null,null,null,null,null,null,null,null,null,null,null,null,null,null,null,null,null,null,null,null,null,null,null,null,null,null,null,null,null,null,null,null,null,null,null,null,null,null,null,null,null,null,null,null,null,null,null,null,null,null,null,null,null,null,null,null,null,null,null,null,null,null,null,null,null,null,null,null,null,null,null,null,null,null,null,null,null,null,null,null,null,null,null,null,null,null,null,null,null,null,null,null,null,null,null,null,null,null,null,null,null,null,null,null,null,null,null,null,null,null,null,null,null,null,null,null,null,null,null,null,null,null,null,null,null,null,null,null,null,null,null,null,null,null,null,null,null,null,null,null,null,null,null,null,null,null,null,null,null,null,null,null,null,null,null,null,null,null,{"$f":"ปก!$C$28-(IL34+IM34+IN34)","v":0},0,0,0,{"$f":"IK34/ปก!C$28*100","v":{"$error":"#DIV/0!"}},"ปกติ"]
[27,{"$f":"Sheet1!B28","v":18842},{"$f":"CONCATENATE(Sheet1!C28&Sheet1!D28&\"       \"&Sheet1!E28)","v":"เด็กหญิงณัฐภัทร     เทือกสุบรรณ         "},27,null,null,null,null,null,null,null,null,null,null,null,null,null,null,null,null,null,null,null,null,null,null,null,null,null,null,null,null,null,null,null,null,null,null,null,null,null,null,null,null,null,null,null,null,null,null,null,null,null,null,null,null,null,null,null,null,null,null,null,null,null,null,null,null,null,null,null,null,null,null,null,null,null,null,null,null,null,null,null,null,null,null,null,null,null,null,null,null,null,null,null,null,null,null,null,null,null,null,null,null,null,null,null,null,null,null,null,null,null,null,null,null,null,null,null,null,null,null,null,null,null,null,null,null,null,null,null,null,null,null,null,null,null,null,null,null,null,null,null,null,null,null,null,null,null,null,null,null,null,null,null,null,null,null,null,null,null,null,null,null,null,null,null,null,null,null,null,null,null,null,null,null,null,null,null,null,null,null,null,null,null,null,null,null,null,null,null,null,null,null,null,null,null,null,null,null,null,null,null,null,null,null,null,null,null,null,null,null,null,null,null,null,null,null,null,null,null,null,null,null,null,null,null,null,null,null,null,null,null,null,null,null,null,null,null,null,null,null,null,null,{"$f":"ปก!$C$28-(IL35+IM35+IN35)","v":0},0,0,0,{"$f":"IK35/ปก!C$28*100","v":{"$error":"#DIV/0!"}},"ปกติ"]
[28,{"$f":"Sheet1!B29","v":18843},{"$f":"CONCATENATE(Sheet1!C29&Sheet1!D29&\"       \"&Sheet1!E29)","v":"เด็กหญิงสุกัญญา     สาระทิพย์       "},28,null,null,null,null,null,null,null,null,null,null,null,null,null,null,null,null,null,null,null,null,null,null,null,null,null,null,null,null,null,null,null,null,null,null,null,null,null,null,null,null,null,null,null,null,null,null,null,null,null,null,null,null,null,null,null,null,null,null,null,null,null,null,null,null,null,null,null,null,null,null,null,null,null,null,null,null,null,null,null,null,null,null,null,null,null,null,null,null,null,null,null,null,null,null,null,null,null,null,null,null,null,null,null,null,null,null,null,null,null,null,null,null,null,null,null,null,null,null,null,null,null,null,null,null,null,null,null,null,null,null,null,null,null,null,null,null,null,null,null,null,null,null,null,null,null,null,null,null,null,null,null,null,null,null,null,null,null,null,null,null,null,null,null,null,null,null,null,null,null,null,null,null,null,null,null,null,null,null,null,null,null,null,null,null,null,null,null,null,null,null,null,null,null,null,null,null,null,null,null,null,null,null,null,null,null,null,null,null,null,null,null,null,null,null,null,null,null,null,null,null,null,null,null,null,null,null,null,null,null,null,null,null,null,null,null,null,null,null,null,null,{"$f":"ปก!$C$28-(IL36+IM36+IN36)","v":0},0,0,0,{"$f":"IK36/ปก!C$28*100","v":{"$error":"#DIV/0!"}},"ปกติ"]
[29,{"$f":"Sheet1!B30","v":19012},{"$f":"CONCATENATE(Sheet1!C30&Sheet1!D30&\"       \"&Sheet1!E30)","v":"เด็กหญิงนันท์นภัส   วัชรกาญจน์       "},29,null,null,null,null,null,null,null,null,null,null,null,null,null,null,null,null,null,null,null,null,null,null,null,null,null,null,null,null,null,null,null,null,null,null,null,null,null,null,null,null,null,null,null,null,null,null,null,null,null,null,null,null,null,null,null,null,null,null,null,null,null,null,null,null,null,null,null,null,null,null,null,null,null,null,null,null,null,null,null,null,null,null,null,null,null,null,null,null,null,null,null,null,null,null,null,null,null,null,null,null,null,null,null,null,null,null,null,null,null,null,null,null,null,null,null,null,null,null,null,null,null,null,null,null,null,null,null,null,null,null,null,null,null,null,null,null,null,null,null,null,null,null,null,null,null,null,null,null,null,null,null,null,null,null,null,null,null,null,null,null,null,null,null,null,null,null,null,null,null,null,null,null,null,null,null,null,null,null,null,null,null,null,null,null,null,null,null,null,null,null,null,null,null,null,null,null,null,null,null,null,null,null,null,null,null,null,null,null,null,null,null,null,null,null,null,null,null,null,null,null,null,null,null,null,null,null,null,null,null,null,null,null,null,null,null,null,null,null,null,null,{"$f":"ปก!$C$28-(IL37+IM37+IN37)","v":0},0,0,0,{"$f":"IK37/ปก!C$28*100","v":{"$error":"#DIV/0!"}},"ปกติ"]
[30,{"$f":"Sheet1!B31","v":19013},{"$f":"CONCATENATE(Sheet1!C31&Sheet1!D31&\"       \"&Sheet1!E31)","v":"เด็กชายธนภูมิ        แซ่ด่าน       "},30,null,null,null,null,null,null,null,null,null,null,null,null,null,null,null,null,null,null,null,null,null,null,null,null,null,null,null,null,null,null,null,null,null,null,null,null,null,null,null,null,null,null,null,null,null,null,null,null,null,null,null,null,null,null,null,null,null,null,null,null,null,null,null,null,null,null,null,null,null,null,null,null,null,null,null,null,null,null,null,null,null,null,null,null,null,null,null,null,null,null,null,null,null,null,null,null,null,null,null,null,null,null,null,null,null,null,null,null,null,null,null,null,null,null,null,null,null,null,null,null,null,null,null,null,null,null,null,null,null,null,null,null,null,null,null,null,null,null,null,null,null,null,null,null,null,null,null,null,null,null,null,null,null,null,null,null,null,null,null,null,null,null,null,null,null,null,null,null,null,null,null,null,null,null,null,null,null,null,null,null,null,null,null,null,null,null,null,null,null,null,null,null,null,null,null,null,null,null,null,null,null,null,null,null,null,null,null,null,null,null,null,null,null,null,null,null,null,null,null,null,null,null,null,null,null,null,null,null,null,null,null,null,null,null,null,null,null,null,null,null,{"$f":"ปก!$C$28-(IL38+IM38+IN38)","v":0},0,0,0,{"$f":"IK38/ปก!C$28*100","v":{"$error":"#DIV/0!"}},"ปกติ"]
[31,{"$f":"Sheet1!B32","v":19045},{"$f":"CONCATENATE(Sheet1!C32&Sheet1!D32&\"       \"&Sheet1!E32)","v":"เด็กหญิงสุชานันท์    เลื่องสุนทร       "},31,null,null,null,null,null,null,null,null,null,null,null,null,null,null,null,null,null,null,null,null,null,null,null,null,null,null,null,null,null,null,null,null,null,null,null,null,null,null,null,null,null,null,null,null,null,null,null,null,null,null,null,null,null,null,null,null,null,null,null,null,null,null,null,null,null,null,null,null,null,null,null,null,null,null,null,null,null,null,null,null,null,null,null,null,null,null,null,null,null,null,null,null,null,null,null,null,null,null,null,null,null,null,null,null,null,null,null,null,null,null,null,null,null,null,null,null,null,null,null,null,null,null,null,null,null,null,null,null,null,null,null,null,null,null,null,null,null,null,null,null,null,null,null,null,null,null,null,null,null,null,null,null,null,null,null,null,null,null,null,null,null,null,null,null,null,null,null,null,null,null,null,null,null,null,null,null,null,null,null,null,null,null,null,null,null,null,null,null,null,null,null,null,null,null,null,null,null,null,null,null,null,null,null,null,null,null,null,null,null,null,null,null,null,null,null,null,null,null,null,null,null,null,null,null,null,null,null,null,null,null,null,null,null,null,null,null,null,null,null,null,{"$f":"ปก!$C$28-(IL39+IM39+IN39)","v":0},0,0,0,{"$f":"IK39/ปก!C$28*100","v":{"$error":"#DIV/0!"}},"ปกติ"]
[32,{"$f":"Sheet1!B33","v":19635},{"$f":"CONCATENATE(Sheet1!C33&Sheet1!D33&\"       \"&Sheet1!E33)","v":"เด็กหญิงกันยาวีร์    เกตุสุวรรณ       "},32,null,null,null,null,null,null,null,null,null,null,null,null,null,null,null,null,null,null,null,null,null,null,null,null,null,null,null,null,null,null,null,null,null,null,null,null,null,null,null,null,null,null,null,null,null,null,null,null,null,null,null,null,null,null,null,null,null,null,null,null,null,null,null,null,null,null,null,null,null,null,null,null,null,null,null,null,null,null,null,null,null,null,null,null,null,null,null,null,null,null,null,null,null,null,null,null,null,null,null,null,null,null,null,null,null,null,null,null,null,null,null,null,null,null,null,null,null,null,null,null,null,null,null,null,null,null,null,null,null,null,null,null,null,null,null,null,null,null,null,null,null,null,null,null,null,null,null,null,null,null,null,null,null,null,null,null,null,null,null,null,null,null,null,null,null,null,null,null,null,null,null,null,null,null,null,null,null,null,null,null,null,null,null,null,null,null,null,null,null,null,null,null,null,null,null,null,null,null,null,null,null,null,null,null,null,null,null,null,null,null,null,null,null,null,null,null,null,null,null,null,null,null,null,null,null,null,null,null,null,null,null,null,null,null,null,null,null,null,null,null,{"$f":"ปก!$C$28-(IL40+IM40+IN40)","v":0},0,0,0,{"$f":"IK40/ปก!C$28*100","v":{"$error":"#DIV/0!"}},"ปกติ"]
[33,{"$f":"Sheet1!B34","v":19636},{"$f":"CONCATENATE(Sheet1!C34&Sheet1!D34&\"       \"&Sheet1!E34)","v":"เด็กหญิงสิรินุช       ทองปลอด       "},33,null,null,null,null,null,null,null,null,null,null,null,null,null,null,null,null,null,null,null,null,null,null,null,null,null,null,null,null,null,null,null,null,null,null,null,null,null,null,null,null,null,null,null,null,null,null,null,null,null,null,null,null,null,null,null,null,null,null,null,null,null,null,null,null,null,null,null,null,null,null,null,null,null,null,null,null,null,null,null,null,null,null,null,null,null,null,null,null,null,null,null,null,null,null,null,null,null,null,null,null,null,null,null,null,null,null,null,null,null,null,null,null,null,null,null,null,null,null,null,null,null,null,null,null,null,null,null,null,null,null,null,null,null,null,null,null,null,null,null,null,null,null,null,null,null,null,null,null,null,null,null,null,null,null,null,null,null,null,null,null,null,null,null,null,null,null,null,null,null,null,null,null,null,null,null,null,null,null,null,null,null,null,null,null,null,null,null,null,null,null,null,null,null,null,null,null,null,null,null,null,null,null,null,null,null,null,null,null,null,null,null,null,null,null,null,null,null,null,null,null,null,null,null,null,null,null,null,null,null,null,null,null,null,null,null,null,null,null,null,null,{"$f":"ปก!$C$28-(IL41+IM41+IN41)","v":0},{"$f":"COUNTIF(E41:IJ41,\"ข\")","v":0},{"$f":"COUNTIF(E41:IJ41,\"ล\")","v":0},{"$f":"COUNTIF(E41:IJ41,\"ป\")","v":0},{"$f":"IK41/ปก!C$28*100","v":{"$error":"#DIV/0!"}},"ปกติ"]
[34,{"$f":"Sheet1!B35","v":0},{"$f":"CONCATENATE(Sheet1!C35&Sheet1!D35&\"       \"&Sheet1!E35)","v":"       "},34,null,null,null,null,null,null,null,null,null,null,null,null,null,null,null,null,null,null,null,null,null,null,null,null,null,null,null,null,null,null,null,null,null,null,null,null,null,null,null,null,null,null,null,null,null,null,null,null,null,null,null,null,null,null,null,null,null,null,null,null,null,null,null,null,null,null,null,null,null,null,null,null,null,null,null,null,null,null,null,null,null,null,null,null,null,null,null,null,null,null,null,null,null,null,null,null,null,null,null,null,null,null,null,null,null,null,null,null,null,null,null,null,null,null,null,null,null,null,null,null,null,null,null,null,null,null,null,null,null,null,null,null,null,null,null,null,null,null,null,null,null,null,null,null,null,null,null,null,null,null,null,null,null,null,null,null,null,null,null,null,null,null,null,null,null,null,null,null,null,null,null,null,null,null,null,null,null,null,null,null,null,null,null,null,null,null,null,null,null,null,null,null,null,null,null,null,null,null,null,null,null,null,null,null,null,null,null,null,null,null,null,null,null,null,null,null,null,null,null,null,null,null,null,null,null,null,null,null,null,null,null,null,null,null,null,null,null,null,null,null,{"$f":"ปก!$C$28-(IL42+IM42+IN42)","v":0},0,0,0,{"$f":"IK42/ปก!C$28*100","v":{"$error":"#DIV/0!"}},"ปกติ"]
[35,{"$f":"Sheet1!B36","v":0},{"$f":"CONCATENATE(Sheet1!C36&Sheet1!D36&\"       \"&Sheet1!E36)","v":"       "},35,null,null,null,null,null,null,null,null,null,null,null,null,null,null,null,null,null,null,null,null,null,null,null,null,null,null,null,null,null,null,null,null,null,null,null,null,null,null,null,null,null,null,null,null,null,null,null,null,null,null,null,null,null,null,null,null,null,null,null,null,null,null,null,null,null,null,null,null,null,null,null,null,null,null,null,null,null,null,null,null,null,null,null,null,null,null,null,null,null,null,null,null,null,null,null,null,null,null,null,null,null,null,null,null,null,null,null,null,null,null,null,null,null,null,null,null,null,null,null,null,null,null,null,null,null,null,null,null,null,null,null,null,null,null,null,null,null,null,null,null,null,null,null,null,null,null,null,null,null,null,null,null,null,null,null,null,null,null,null,null,null,null,null,null,null,null,null,null,null,null,null,null,null,null,null,null,null,null,null,null,null,null,null,null,null,null,null,null,null,null,null,null,null,null,null,null,null,null,null,null,null,null,null,null,null,null,null,null,null,null,null,null,null,null,null,null,null,null,null,null,null,null,null,null,null,null,null,null,null,null,null,null,null,null,null,null,null,null,null,null,{"$f":"ปก!$C$28-(IL43+IM43+IN43)","v":0},0,0,0,{"$f":"IK43/ปก!C$28*100","v":{"$error":"#DIV/0!"}},"ปกติ"]
[null,{"$f":"Sheet1!B37","v":0},{"$f":"CONCATENATE(Sheet1!C37&Sheet1!D37&\"       \"&Sheet1!E37)","v":"       "}]
[null,{"$f":"Sheet1!B38","v":0},{"$f":"CONCATENATE(Sheet1!C38&Sheet1!D38&\"       \"&Sheet1!E38)","v":"       "}]
[null,{"$f":"Sheet1!B39","v":0},{"$f":"CONCATENATE(Sheet1!C39&Sheet1!D39&\"       \"&Sheet1!E39)","v":"       "}]
[null,{"$f":"Sheet1!B40","v":0},{"$f":"CONCATENATE(Sheet1!C40&Sheet1!D40&\"       \"&Sheet1!E40)","v":"       "}]
[null,{"$f":"Sheet1!B41","v":0},{"$f":"CONCATENATE(Sheet1!C41&Sheet1!D41&\"       \"&Sheet1!E41)","v":"       "}]
[null,{"$f":"Sheet1!B42","v":0},{"$f":"CONCATENATE(Sheet1!C42&Sheet1!D42&\"       \"&Sheet1!E42)","v":"       "}]
[null,{"$f":"Sheet1!B43","v":0},{"$f":"CONCATENATE(Sheet1!C43&Sheet1!D43&\"       \"&Sheet1!E43)","v":"       "}]
[]
[]
[]
[null,{"$f":"Sheet1!B47","v":0},{"$f":"CONCATENATE(Sheet1!C47&Sheet1!D47&\"       \"&Sheet1!E47)","v":"       "}]
[null,{"$f":"Sheet1!B48","v":0},{"$f":"CONCATENATE(Sheet1!C48&Sheet1!D48&\"       \"&Sheet1!E48)","v":"       "}]
[null,{"$f":"Sheet1!B49","v":0},{"$f":"CONCATENATE(Sheet1!C49&Sheet1!D49&\"       \"&Sheet1!E49)","v":"       "}]
[null,{"$f":"Sheet1!B50","v":0},{"$f":"CONCATENATE(Sheet1!C50&Sheet1!D50&\"       \"&Sheet1!E50)","v":"       "}]
[null,{"$f":"Sheet1!B51","v":0},{"$f":"CONCATENATE(Sheet1!C51&Sheet1!D51&\"       \"&Sheet1!E51)","v":"       "}]
[null,null,null,null,{"$f":"IF(E6=\"\",0,1)","v":0},{"$f":"IF(F6=\"\",0,1)","v":0},0,0,0,0,0,0,0,0,0,0,0,0,0,0,0,0,0,0,0,0,0,0,0,0,0,0,0,0,0,0,0,0,0,0,0,0,0,0,0,0,0,0,0,0,0,0,0,0,0,0,0,0,0,0,0,0,0,0,0,0,0,0,0,{"$f":"IF(BR6=\"\",0,1)","v":0},0,0,0,0,0,0,0,0,0,0,0,0,0,0,0,0,0,0,0,0,0,0,0,0,0,0,0,0,0,0,0,0,0,0,0,0,0,0,0,0,0,0,0,0,0,0,0,0,0,0,0,0,0,0,0,0,0,0,0,0,0,0,0,{"$f":"IF(ED6=\"\",0,1)","v":0},0,0,0,0,0,0,0,0,0,0,0,0,0,0,0,0,0,0,0,0,0,0,0,0,0,0,0,0,0,0,0,0,0,0,0,0,0,0,0,0,0,0,0,0,0,0,0,0,0,0,0,0,0,0,0,0,0,0,0,0,0,0,0,{"$f":"IF(GP6=\"\",0,1)","v":0},0,0,0,0,0,0,0,0,0,0,0,0,0,0,0,0,0,0,0,0,0,0,0,0,0,0,0,0,0,0,0,0,0,0,0,0,0,0,0,0,0,0,0,0,0,0,{"$f":"SUM(E59:IJ59)","v":0},null,null,null,{"$f":"IF($IM$1=0,\"\",SUM(IK59*100)/$IM$1)","v":""}]

{"sheet":"ประเมินตัวชี้วัดเทอม1","index":5,"n_rows":164,"n_cols":235,"rows_kept":164,"cut":false,"hidden":false,"merged":[[2,247,4,247],[4,159,5,159],[4,182,5,182],[4,191,5,191],[4,193,5,193],[4,201,5,201],[4,220,5,220],[4,238,5,238],[2,240,4,240],[2,241,4,241],[2,242,4,242],[2,243,4,243],[2,244,4,244],[2,246,4,246],[4,168,5,168],[4,169,5,169],[4,188,5,188],[4,189,5,189],[4,194,5,194],[4,178,5,178],[4,179,5,179],[0,246,0,247],[0,249,4,249],[0,252,4,252],[2,138,5,138],[2,139,5,139],[2,141,2,160],[2,161,3,161],[2,162,3,162],[2,163,3,163],[2,164,2,183],[2,184,3,184],[2,185,3,185],[2,186,3,186],[2,187,2,201],[2,203,3,203],[2,204,3,204],[2,205,2,219],[2,222,3,222],[2,223,2,227],[2,228,3,228],[2,229,3,229],[2,230,4,230],[2,231,2,238],[2,239,4,239],[2,93,3,93],[4,93,5,93],[4,86,5,86],[2,92,3,92],[2,95,2,102],[2,94,4,94],[0,205,0,222],[0,223,0,239],[0,240,0,244],[4,98,5,98],[4,101,5,101],[4,102,5,102],[4,156,5,156],[4,157,5,157],[4,158,5,158],[4,160,5,160],[4,171,5,171],[4,172,5,172],[4,173,5,173],[4,174,5,174],[4,175,5,175],[4,176,5,176],[4,180,5,180],[4,237,5,237],[4,57,5,57],[4,58,5,58],[4,59,5,59],[4,60,5,60],[4,61,5,61],[4,99,5,99],[4,100,5,100],[4,153,5,153],[4,154,5,154],[2,103,4,103],[4,146,5,146],[4,147,5,147],[4,148,5,148],[2,119,4,119],[4,141,5,141],[4,142,5,142],[4,81,5,81],[4,82,5,82],[4,83,5,83],[4,74,5,74],[4,75,5,75],[4,76,5,76],[4,77,5,77],[4,62,5,62],[1,0,5,0],[1,1,5,1],[2,5,2,24],[2,25,3,25],[2,26,3,26],[2,2,5,2],[4,5,5,5],[4,6,5,6],[4,7,5,7],[4,8,5,8],[4,9,5,9],[4,10,5,10],[4,11,5,11],[4,12,5,12],[4,13,5,13],[4,14,5,14],[4,15,5,15],[4,16,5,16],[4,3,5,3],[4,22,5,22],[4,23,5,23],[4,24,5,24],[2,51,2,65],[4,95,5,95],[4,96,5,96],[4,97,5,97],[4,17,5,17],[4,18,5,18],[4,19,5,19],[4,20,5,20],[4,21,5,21],[2,50,3,50],[2,87,2,91],[2,68,3,68],[2,69,2,83],[2,84,3,84],[2,85,3,85],[2,86,3,86],[2,66,3,66],[2,67,3,67],[4,44,5,44],[4,48,5,48],[4,50,5,50],[4,73,5,73],[4,79,5,79],[4,80,5,80],[0,141,0,163],[0,164,0,186],[2,221,3,221],[2,202,3,202],[4,195,5,195],[4,196,5,196],[2,220,3,220],[0,187,0,204],[4,155,5,155],[4,166,5,166],[4,167,5,167],[4,161,5,161],[4,163,5,163],[4,164,5,164],[4,149,5,149],[4,150,5,150],[4,151,5,151],[4,152,5,152],[4,143,5,143],[4,144,5,144],[4,145,5,145],[0,5,0,27],[0,28,0,50],[0,87,0,103],[0,51,0,68],[0,69,0,86],[2,27,3,27],[2,28,2,47],[7,121,7,122],[7,123,8,123],[0,115,4,115],[0,118,4,118],[2,104,4,104],[2,105,4,105],[2,110,4,110],[2,111,4,111],[2,106,4,106],[2,107,4,107],[2,108,4,108],[0,113,4,113],[0,116,4,116],[0,104,0,108],[0,110,0,111],[2,48,3,48],[2,49,3,49],[4,63,5,63],[4,64,5,64],[4,65,5,65],[4,66,5,66],[4,68,5,68],[4,69,5,69],[4,70,5,70],[4,71,5,71],[4,72,5,72],[4,45,5,45],[4,39,5,39],[4,40,5,40],[4,41,5,41],[4,42,5,42],[4,43,5,43],[4,34,5,34],[4,35,5,35],[4,36,5,36],[4,37,5,37],[4,38,5,38],[4,28,5,28],[4,29,5,29],[4,30,5,30],[4,31,5,31],[4,32,5,32],[4,33,5,33],[4,25,5,25],[4,27,5,27],[4,170,5,170],[4,165,5,165],[4,46,5,46],[4,47,5,47],[4,51,5,51],[4,52,5,52],[4,53,5,53],[4,54,5,54],[4,55,5,55],[4,56,5,56],[4,92,5,92],[4,87,5,87],[4,88,5,88],[4,89,5,89],[4,90,5,90],[4,91,5,91],[4,78,5,78],[4,84,5,84],[4,216,5,216],[4,217,5,217],[4,218,5,218],[4,222,5,222],[4,223,5,223],[4,211,5,211],[4,212,5,212],[4,213,5,213],[4,214,5,214],[4,215,5,215],[4,219,5,219],[4,184,5,184],[4,186,5,186],[4,187,5,187],[4,207,5,207],[4,208,5,208],[4,209,5,209],[4,210,5,210],[4,197,5,197],[4,198,5,198],[4,199,5,199],[4,177,5,177],[2,255,4,255],[4,234,5,234],[4,235,5,235],[4,236,5,236],[4,181,5,181],[4,183,5,183],[4,190,5,190],[4,192,5,192],[4,200,5,200],[4,229,5,229],[4,231,5,231],[4,232,5,232],[4,233,5,233],[4,224,5,224],[4,225,5,225],[4,226,5,226],[4,227,5,227],[4,228,5,228],[4,204,5,204],[4,205,5,205],[4,202,5,202],[4,206,5,206],[0,251,4,251],[0,254,4,254]]}
[null,null,null,"อัตราส่วนคะแนน =","70 : 30",{"$f":"\"คะแนนประเมินผลสัมฤทธิ์ ภาคเรียนที่1 \"&\"  วิชา \"&ปก!AS15&\"   \"&\"ชั้น ป.\"&ปก!$C$21&\"/\"&ปก!$C$22&\"  หน้า 9\"","v":"คะแนนประเมินผลสัมฤทธิ์ ภาคเรียนที่1   วิชา {{โปรดกรอกรหัสวิชา}}   ชั้น ป./  หน้า 9"},null,null,null,null,null,null,null,null,null,null,null,null,null,null,null,null,null,null,null,null,null,null,{"$f":"\"คะแนนประเมินผลสัมฤทธิ์ ภาคเรียนที่1 \"&\"  วิชา \"&ปก!AS15&\"   \"&\"ชั้น ป.\"&ปก!$C$21&\"/\"&ปก!$C$22&\"  หน้า 10\"","v":"คะแนนประเมินผลสัมฤทธิ์ ภาคเรียนที่1   วิชา {{โปรดกรอกรหัสวิชา}}   ชั้น ป./  หน้า 10"},null,null,null,null,null,null,null,null,null,null,null,null,null,null,null,null,null,null,null,null,null,null,{"$f":"\"คะแนนประเมินผลสัมฤทธิ์ ภาคเรียนที่1 \"&\"  วิชา \"&ปก!AS15&\"   \"&\"ชั้น ป.\"&ปก!$C$21&\"/\"&ปก!$C$22&\"  หน้า 11\"","v":"คะแนนประเมินผลสัมฤทธิ์ ภาคเรียนที่1   วิชา {{โปรดกรอกรหัสวิชา}}   ชั้น ป./  หน้า 11"},null,null,null,null,null,null,null,null,null,null,null,null,null,null,null,null,null,{"$f":"\"คะแนนประเมินผลสัมฤทธิ์ ภาคเรียนที่1 \"&\"  วิชา \"&ปก!AS15&\"   \"&\"ชั้น ป.\"&ปก!$C$21&\"/\"&ปก!$C$22&\"  หน้า 12\"","v":"คะแนนประเมินผลสัมฤทธิ์ ภาคเรียนที่1   วิชา {{โปรดกรอกรหัสวิชา}}   ชั้น ป./  หน้า 12"},null,null,null,null,null,null,null,null,null,null,null,null,null,null,null,null,null,{"$f":"\"คะแนนประเมินผลสัมฤทธิ์ ภาคเรียนที่1 \"&\"  วิชา \"&ปก!AS15&\"   \"&\"ชั้น ป.\"&ปก!$C$21&\"/\"&ปก!$C$22&\"  หน้า 13\"","v":"คะแนนประเมินผลสัมฤทธิ์ ภาคเรียนที่1   วิชา {{โปรดกรอกรหัสวิชา}}   ชั้น ป./  หน้า 13"},null,null,null,null,null,null,null,null,null,null,null,null,null,null,null,null,"ระหว่างภาค",null,null,null,null,null,"ปลายภาค",null,null,"คะแนนรวมตลอดภาคเรียน",null,"ลงคะแนนนักเรียนเข้ากลางปี","คะแนนย้ายเข้ากลางปี",null,"แก้ไข","หน้า 14"]
[null,null,null,null,null,null,null,null,null,null,null,null,null,null,null,null,null,null,null,null,null,null,null,null,null,{"$f":"กำหนดอัตราส่วนคะแนน!B41","v":0},null,null,null,null,null,null,null,null,null,null,null,null,null,null,null,null,null,null,null,null,null,null,{"$f":"กำหนดอัตราส่วนคะแนน!Y41","v":0},null,null,null,null,null,null,null,null,null,null,null,null,null,null,null,null,null,{"$f":"กำหนดอัตราส่วนคะแนน!BQ41","v":0},null,null,null,null,null,null,null,null,null,null,null,null,null,null,null,null,null,{"$f":"กำหนดอัตราส่วนคะแนน!CN41","v":0},null,null,null,null,null,null,null,{"$f":"กำหนดอัตราส่วนคะแนน!AH41","v":0}]
[null,null,"เลข\nประจำ\nตัว\nนักเรียน","กำหนดอัตราส่วนสอบปลายภาค","การประเมิน",{"$f":"IF(ปก!$C$25=\"\",\"{{ข้อมูล ERROR โปรดกลับไปเลือกประเภทวิชาที่หน้าปก}}\",IF(ปก!$C$25=\"พื้นฐาน\",\"การประเมินตัวชี้วัด ก่อนกลางภาค\",IF(ปก!$C$25=\"เพิ่มเติม\",\"การประเมินผลการเรียนรู้ ก่อนกลางภาค\")))","v":"{{ข้อมูล ERROR โปรดกลับไปเลือกประเภทวิชาที่หน้าปก}}"},null,null,null,null,null,null,null,null,null,null,null,null,null,null,null,null,null,null,null,"คะแนนรวม",null,"คะแนนเต็ม",{"$f":"IF(ปก!$C$25=\"\",\"{{ข้อมูล ERROR โปรดกลับไปเลือกประเภทวิชาที่หน้าปก}}\",IF(ปก!$C$25=\"พื้นฐาน\",\"การประเมินตัวชี้วัด หลังกลางภาค\",IF(ปก!$C$25=\"เพิ่มเติม\",\"การประเมินผลการเรียนรู้ หลังกลางภาค\")))","v":"{{ข้อมูล ERROR โปรดกลับไปเลือกประเภทวิชาที่หน้าปก}}"},null,null,null,null,null,null,null,null,null,null,null,null,null,null,null,null,null,null,null,"คะแนนรวม",null,"คะแนนเต็ม","การประเมินผลกลางภาคเรียน(สอบกลางภาค)",null,null,null,null,null,null,null,null,null,null,null,null,null,null,"คะแนนรวม",null,"คะแนนเต็ม","การประเมินผลปลายภาคเรียน(สอบปลายภาคเรียน)",null,null,null,null,null,null,null,null,null,null,null,null,null,null,"คะแนนรวม",null,"คะแนนเต็ม","การอ่าน คิดวิเคราะห์ และเขียน",null,null,null,null,"คะแนนรวม","คะแนนเต็ม","ระดับคุณภาพ","คุณลักษณะอันพึงประสงค์",null,null,null,null,null,null,null,"ระดับคุณภาพ","ก่อนกลางภาค","หลังกลางภาค","สอบกลางภาค","สอบแก้ตัว","รวมระหว่างภาค",null,"สอบปลายภาค","สอบแก้ตัว",null,null,null,null,null,null,null,"สถานะ\nนักเรียน\nปัจจุบัน"]
[null,null,null,"100","ข้อที่",null,null,null,null,null,null,null,null,null,null,null,null,null,null,null,null,null,18,19,20,null,null,null,null,null,null,null,null,null,null,null,null,null,null,null,null,null,null,null,null,18,19,20,null,null,null,null,null,null,null,null,null,null,null,null,null,null,null,null,null,null,null,null,null,null,null,null,null,null,null,null,null,null,null,null,null,null,null,null,null,null,null,1,2,3,4,5,null,null,null,1,2,3,4,5,6,7,8]
[null,null,null,"ชื่อ - นามสกุล","คะแนน",null,null,null,null,null,null,null,null,null,null,null,null,null,null,null,null,null,null,null,null,{"$f":"SUM(F5,G5,H5,I5,J5,K5,L5,M5,N5,O5,P5,Q5,R5,S5,T5,U5,V5,W5,X5,Y5)","v":0},{"$f":"$Z$5/$AB$5","v":0},20,null,null,null,null,null,null,null,null,null,null,null,null,null,null,null,null,null,null,null,null,{"$f":"SUM(AC5,AD5,AE5,AF5,AG5,AH5,AI5,AJ5,AK5,AL5,AM5,AN5,AO5,AP5,AQ5,AR5,AS5,AT5,AU5,AV5)","v":0},{"$f":"$AW$5/$AY$5","v":0},20,null,null,null,null,null,null,null,null,null,null,null,null,null,null,null,{"$f":"SUM(AZ5,BA5,BB5,BC5,BD5,BE5,BF5,BG5,BH5,BI5,BJ5,BK5,BL5,BM5,BN5)","v":0},{"$f":"$BO$5/$BQ$5","v":0},30,null,null,null,null,null,null,null,null,null,null,null,null,null,null,null,{"$f":"SUM(BR5,BS5,BT5,BU5,BV5,BW5,BX5,BY5,BZ5,CA5,CB5,CC5,CD5,CE5,CF5)","v":0},{"$f":"$CG$5/$CI$5","v":0},{"$f":"IF(ประเมินตัวชี้วัดเทอม1!E1=\"50 : 50\",50,IF(ประเมินตัวชี้วัดเทอม1!E1=\"60 : 40\",40,IF(ประเมินตัวชี้วัดเทอม1!E1=\"70 : 30\",30,IF(ประเมินตัวชี้วัดเทอม1!E1=\"80 : 20\",20,IF(ประเมินตัวชี้วัดเทอม1!E1=\"90 : 10\",10)))))","v":30},3,3,3,3,3,{"$f":"SUM(CJ5,CK5,CL5,CM5,CN5)","v":15},3,null,3,3,3,3,3,3,3,3]
[null,null,null,null,"เลขที่",null,null,null,null,null,null,null,null,null,null,null,null,null,null,null,null,null,null,null,null,null,null,null,null,null,null,null,null,null,null,null,null,null,null,null,null,null,null,null,null,null,null,null,null,null,null,null,null,null,null,null,null,null,null,null,null,null,null,null,null,null,null,null,null,null,null,null,null,null,null,null,null,null,null,null,null,null,null,null,null,null,null,null,null,null,null,null,null,null,null,null,null,null,null,null,null,null,null,null,{"$f":"AB5","v":20},{"$f":"AY5","v":20},{"$f":"BQ5","v":30},null,{"$f":"SUM(DA6,DB6,DC6)","v":70},null,{"$f":"CI5","v":30},{"$f":"กำหนดอัตราส่วนคะแนน!F22","v":0},null,{"$f":"IF(DE6+DG6<>100,\"ERROR\",SUM(DE6,DG6))","v":100},null,100,100]
[1,null,{"$f":"CONCATENATE(Sheet1!B2)","v":"17008"},{"$f":"CONCATENATE(Sheet1!C2&Sheet1!D2&\"       \"&Sheet1!E2)","v":"เด็กชายวรชิต      ผึ้งบำรุง       "},1,null,null,null,null,null,null,null,null,null,null,null,null,null,null,null,null,null,null,null,null,{"$f":"IF(Sheet1!C2=\"\",\"\",IF(COUNTIF(F7:V7,\"-1\"),\"ร\",IF(DP7=\"ปกติ\",SUM(F7,G7,H7,I7,J7,K7,L7,M7,N7,O7,P7,Q7,R7,S7,T7,U7,V7,W7,X7,Y7),\"-\")))","v":0},null,{"$f":"IF(Z7=\"\",\"\",IF(Z7=\"-\",\"-\",IF(Z7=\"ร\",\"ร\",IF(Z7=0,\"\",IF($Z$5=0,\"\",ROUND(Z7/$AA$5,0))))))","v":""},null,null,null,null,null,null,null,null,null,null,null,null,null,null,null,null,null,null,null,null,{"$f":"IF(Sheet1!C2=\"\",\"\",IF(COUNTIF(AC7:AS7,\"-1\"),\"ร\",IF(DP7=\"ปกติ\",SUM(AC7,AD7,AE7,AF7,AG7,AH7,AI7,AJ7,AK7,AL7,AM7,AN7,AO7,AP7,AQ7,AR7,AS7),\"-\")))","v":0},null,{"$f":"IF(AW7=\"\",\"\",IF(AW7=\"-\",\"-\",IF(AW7=\"ร\",\"ร\",IF(AW7=0,\"\",IF($AW$5=0,\"\",ROUND(AW7/$AX$5,0))))))","v":""},null,null,null,null,null,null,null,null,null,null,null,null,null,null,null,{"$f":"IF(Sheet1!C2=\"\",\"\",IF(COUNTIF(AZ7:BN7,\"-1\"),\"ร\",IF(DP7=\"ปกติ\",SUM(AZ7,BA7,BB7,BC7,BD7,BE7,BF7,BG7,BH7,BI7,BJ7,BK7,BL7,BM7,BN7),\"-\")))","v":0},null,{"$f":"IF(BO7=\"\",\"\",IF(BO7=\"-\",\"-\",IF(BO7=\"ร\",\"ร\",IF(BO7=0,\"\",IF($BO$5=0,\"\",ROUND(BO7/$BP$5,0))))))","v":""},null,null,null,null,null,null,null,null,null,null,null,null,null,null,null,{"$f":"IF(Sheet1!C2=\"\",\"\",IF(COUNTIF(BR7:CF7,\"-1\"),\"ร\",IF(DP7=\"ปกติ\",SUM(BR7,BS7,BT7,BU7,BV7,BW7,BX7,BY7,BZ7,CA7,CB7,CC7,CD7,CE7,CF7),\"-\")))","v":0},null,{"$f":"IF(CG7=\"\",\"\",IF(CG7=\"-\",\"-\",IF(CG7=\"ร\",\"ร\",IF(CG7=0,\"\",IF($CG$5=0,\"\",ROUND(CG7/$CH$5,0))))))","v":""},null,null,null,null,null,{"$f":"IF(Sheet1!C2=\"\",\"\",IF(CJ7=\"\",\"\",(IF(CK7=\"\",\"\",(IF(CL7=\"\",\"\",(IF(CM7=\"\",\"\",(IF(CN7=\"\",\"\",(SUM(CJ7:CN7))))))))))))","v":""},{"$f":"IF(CO7=\"\",\"\",IF(CO7=\"-\",\"-\",IF(CO7=\"ร\",\"ร\",IF(CO7=0,0,IF($CO$5=0,\"\",ROUND(CO7/5,0))))))","v":""},{"$f":"IF(CP7=\"\",\"\",(IF(CP7>=2.5,\"ดย\",(IF(CP7>=1.5,\"ด\",(IF(CP7>=0.6,\"ผ\",(IF(CP7<=0.4,\"มผ\")))))))))","v":""},null,null,null,null,null,null,null,null,{"$f":"IF(CR7=\"\",\"\",(IF(CS7=\"\",\"\",(IF(CT7=\"\",\"\",(IF(CU7=\"\",\"\",(IF(CV7=\"\",\"\",(IF(CW7=\"\",\"\",IF(CX7=\"\",\"\",(IF(CY7=\"\",\"\",(IF(COUNTIF(CR7:CY7,0)>0,\"มผ\",IF(AND(COUNTIF(CR7:CY7,3)>=5,COUNTIF(CR7:CY7,\"<2\")=0),\"ดย\",IF(OR(AND(AND(COUNTIF(CR7:CY7,3)>=1,COUNTIF(CR7:CY7,3)<=4),COUNTIF(CR7:CY7,\"<2\")=0),COUNTIF(CR7:CY7,2)=8,AND(COUNTIF(CR7:CY7,\">=2\")>=5,COUNTIF(CR7:CY7,1)>0)),\"ด\",IF(OR(COUNTIF(CR7:CY7,1)=8,AND(COUNTIF(CR7:CY7,\">=2\")>=1,COUNTIF(CR7:CY7,\">=2\")<=4)),\"ผ\",\"มผ\")))))))))))))))))))","v":""},{"$f":"AB7","v":""},{"$f":"AY7","v":""},{"$f":"BQ7","v":""},null,{"$f":"IF(Sheet1!C2=\"\",\"\",IF(COUNTIF(DA7:DC7,\"ร\"),\"ร\",IF(DC7=\"ร\",\"ร\",IF(DP7=\"ปกติ\",SUM(DA7:DB7,IF(DD7=\"\",DC7,DD7)),\"-\"))))","v":0},null,{"$f":"CI7","v":""},null,null,{"$f":"IF(Sheet1!C2=\"\",\"\",IF(DE7=\"\",\"\",IF(COUNTIF(DA7:DH7,\"ร\"),\"ร\",IF(COUNTIF(DA7:DH7,\"-\"),\"-\",IF(DP7=\"ปกติ\",SUM(DE7,IF(DH7=\"\",DG7,DH7)))))))","v":0},null,null,null,null,null,{"$f":"IF(เวลาเรียน!IP9=\"\",\"\",เวลาเรียน!IP9)","v":"ปกติ"}]
[2,2498,{"$f":"CONCATENATE(Sheet1!B3)","v":"17009"},{"$f":"CONCATENATE(Sheet1!C3&Sheet1!D3&\"       \"&Sheet1!E3)","v":"เด็กชายธนกฤต    ธนัชญาปกรณ์       "},2,null,null,null,null,null,null,null,null,null,null,null,null,null,null,null,null,null,null,null,null,{"$f":"IF(Sheet1!C3=\"\",\"\",IF(COUNTIF(F8:V8,\"-1\"),\"ร\",IF(DP8=\"ปกติ\",SUM(F8,G8,H8,I8,J8,K8,L8,M8,N8,O8,P8,Q8,R8,S8,T8,U8,V8,W8,X8,Y8),\"-\")))","v":0},null,{"$f":"IF(Z8=\"\",\"\",IF(Z8=\"-\",\"-\",IF(Z8=\"ร\",\"ร\",IF(Z8=0,\"\",IF($Z$5=0,\"\",ROUND(Z8/$AA$5,0))))))","v":""},null,null,null,null,null,null,null,null,null,null,null,null,null,null,null,null,null,null,null,null,{"$f":"IF(Sheet1!C3=\"\",\"\",IF(COUNTIF(AC8:AS8,\"-1\"),\"ร\",IF(DP8=\"ปกติ\",SUM(AC8,AD8,AE8,AF8,AG8,AH8,AI8,AJ8,AK8,AL8,AM8,AN8,AO8,AP8,AQ8,AR8,AS8),\"-\")))","v":0},null,{"$f":"IF(AW8=\"\",\"\",IF(AW8=\"-\",\"-\",IF(AW8=\"ร\",\"ร\",IF(AW8=0,\"\",IF($AW$5=0,\"\",ROUND(AW8/$AX$5,0))))))","v":""},null,null,null,null,null,null,null,null,null,null,null,null,null,null,null,{"$f":"IF(Sheet1!C3=\"\",\"\",IF(COUNTIF(AZ8:BN8,\"-1\"),\"ร\",IF(DP8=\"ปกติ\",SUM(AZ8,BA8,BB8,BC8,BD8,BE8,BF8,BG8,BH8,BI8,BJ8,BK8,BL8,BM8,BN8),\"-\")))","v":0},null,{"$f":"IF(BO8=\"\",\"\",IF(BO8=\"-\",\"-\",IF(BO8=\"ร\",\"ร\",IF(BO8=0,\"\",IF($BO$5=0,\"\",ROUND(BO8/$BP$5,0))))))","v":""},null,null,null,null,null,null,null,null,null,null,null,null,null,null,null,{"$f":"IF(Sheet1!C3=\"\",\"\",IF(COUNTIF(BR8:CF8,\"-1\"),\"ร\",IF(DP8=\"ปกติ\",SUM(BR8,BS8,BT8,BU8,BV8,BW8,BX8,BY8,BZ8,CA8,CB8,CC8,CD8,CE8,CF8),\"-\")))","v":0},null,"",null,null,null,null,null,{"$f":"IF(Sheet1!C3=\"\",\"\",IF(CJ8=\"\",\"\",(IF(CK8=\"\",\"\",(IF(CL8=\"\",\"\",(IF(CM8=\"\",\"\",(IF(CN8=\"\",\"\",(SUM(CJ8:CN8))))))))))))","v":""},{"$f":"IF(CO8=\"\",\"\",IF(CO8=\"-\",\"-\",IF(CO8=\"ร\",\"ร\",IF(CO8=0,0,IF($CO$5=0,\"\",ROUND(CO8/5,0))))))","v":""},{"$f":"IF(CP8=\"\",\"\",(IF(CP8>=2.5,\"ดย\",(IF(CP8>=1.5,\"ด\",(IF(CP8>=0.6,\"ผ\",(IF(CP8<=0.4,\"มผ\")))))))))","v":""},null,null,null,null,null,null,null,null,{"$f":"IF(CR8=\"\",\"\",(IF(CS8=\"\",\"\",(IF(CT8=\"\",\"\",(IF(CU8=\"\",\"\",(IF(CV8=\"\",\"\",(IF(CW8=\"\",\"\",IF(CX8=\"\",\"\",(IF(CY8=\"\",\"\",(IF(COUNTIF(CR8:CY8,0)>0,\"มผ\",IF(AND(COUNTIF(CR8:CY8,3)>=5,COUNTIF(CR8:CY8,\"<2\")=0),\"ดย\",IF(OR(AND(AND(COUNTIF(CR8:CY8,3)>=1,COUNTIF(CR8:CY8,3)<=4),COUNTIF(CR8:CY8,\"<2\")=0),COUNTIF(CR8:CY8,2)=8,AND(COUNTIF(CR8:CY8,\">=2\")>=5,COUNTIF(CR8:CY8,1)>0)),\"ด\",IF(OR(COUNTIF(CR8:CY8,1)=8,AND(COUNTIF(CR8:CY8,\">=2\")>=1,COUNTIF(CR8:CY8,\">=2\")<=4)),\"ผ\",\"มผ\")))))))))))))))))))","v":""},"","","",null,{"$f":"IF(Sheet1!C3=\"\",\"\",IF(COUNTIF(DA8:DC8,\"ร\"),\"ร\",IF(DC8=\"ร\",\"ร\",IF(DP8=\"ปกติ\",SUM(DA8:DB8,IF(DD8=\"\",DC8,DD8)),\"-\"))))","v":0},null,"",null,null,{"$f":"IF(Sheet1!C3=\"\",\"\",IF(DE8=\"\",\"\",IF(COUNTIF(DA8:DH8,\"ร\"),\"ร\",IF(COUNTIF(DA8:DH8,\"-\"),\"-\",IF(DP8=\"ปกติ\",SUM(DE8,IF(DH8=\"\",DG8,DH8)))))))","v":0},null,null,null,null,null,{"$f":"IF(เวลาเรียน!IP10=\"\",\"\",เวลาเรียน!IP10)","v":"ปกติ"},null,"ช่วงคะแนน",null,"เกรด",null,4,3.5,3,2.5,2,1.5,1,0,"ร","มส"]
[3,2499,{"$f":"CONCATENATE(Sheet1!B4)","v":"17012"},{"$f":"CONCATENATE(Sheet1!C4&Sheet1!D4&\"       \"&Sheet1!E4)","v":"เด็กชายณภัทร     กำเหนิดศิลป์       "},3,null,null,null,null,null,null,null,null,null,null,null,null,null,null,null,null,null,null,null,null,{"$f":"IF(Sheet1!C4=\"\",\"\",IF(COUNTIF(F9:V9,\"-1\"),\"ร\",IF(DP9=\"ปกติ\",SUM(F9,G9,H9,I9,J9,K9,L9,M9,N9,O9,P9,Q9,R9,S9,T9,U9,V9,W9,X9,Y9),\"-\")))","v":0},null,"",null,null,null,null,null,null,null,null,null,null,null,null,null,null,null,null,null,null,null,null,{"$f":"IF(Sheet1!C4=\"\",\"\",IF(COUNTIF(AC9:AS9,\"-1\"),\"ร\",IF(DP9=\"ปกติ\",SUM(AC9,AD9,AE9,AF9,AG9,AH9,AI9,AJ9,AK9,AL9,AM9,AN9,AO9,AP9,AQ9,AR9,AS9),\"-\")))","v":0},null,"",null,null,null,null,null,null,null,null,null,null,null,null,null,null,null,{"$f":"IF(Sheet1!C4=\"\",\"\",IF(COUNTIF(AZ9:BN9,\"-1\"),\"ร\",IF(DP9=\"ปกติ\",SUM(AZ9,BA9,BB9,BC9,BD9,BE9,BF9,BG9,BH9,BI9,BJ9,BK9,BL9,BM9,BN9),\"-\")))","v":0},null,"",null,null,null,null,null,null,null,null,null,null,null,null,null,null,null,{"$f":"IF(Sheet1!C4=\"\",\"\",IF(COUNTIF(BR9:CF9,\"-1\"),\"ร\",IF(DP9=\"ปกติ\",SUM(BR9,BS9,BT9,BU9,BV9,BW9,BX9,BY9,BZ9,CA9,CB9,CC9,CD9,CE9,CF9),\"-\")))","v":0},null,"",null,null,null,null,null,{"$f":"IF(Sheet1!C4=\"\",\"\",IF(CJ9=\"\",\"\",(IF(CK9=\"\",\"\",(IF(CL9=\"\",\"\",(IF(CM9=\"\",\"\",(IF(CN9=\"\",\"\",(SUM(CJ9:CN9))))))))))))","v":""},"","",null,null,null,null,null,null,null,null,"","","","",null,{"$f":"IF(Sheet1!C4=\"\",\"\",IF(COUNTIF(DA9:DC9,\"ร\"),\"ร\",IF(DC9=\"ร\",\"ร\",IF(DP9=\"ปกติ\",SUM(DA9:DB9,IF(DD9=\"\",DC9,DD9)),\"-\"))))","v":0},null,"",null,null,{"$f":"IF(Sheet1!C4=\"\",\"\",IF(DE9=\"\",\"\",IF(COUNTIF(DA9:DH9,\"ร\"),\"ร\",IF(COUNTIF(DA9:DH9,\"-\"),\"-\",IF(DP9=\"ปกติ\",SUM(DE9,IF(DH9=\"\",DG9,DH9)))))))","v":0},null,null,null,null,null,{"$f":"IF(เวลาเรียน!IP11=\"\",\"\",เวลาเรียน!IP11)","v":"ปกติ"},null,"จาก","ถึง",null,null,{"$f":"COUNTIF($DL$7:$DL$56,DV8)","v":0},{"$f":"COUNTIF($DL$7:$DL$56,DW8)","v":0},0,0,0,0,0,0,0,0]
[4,2500,{"$f":"CONCATENATE(Sheet1!B5)","v":"17020"},{"$f":"CONCATENATE(Sheet1!C5&Sheet1!D5&\"       \"&Sheet1!E5)","v":"เด็กหญิงณัฐพัชร์   เผือกทิม       "},4,null,null,null,null,null,null,null,null,null,null,null,null,null,null,null,null,null,null,null,null,{"$f":"IF(Sheet1!C5=\"\",\"\",IF(COUNTIF(F10:V10,\"-1\"),\"ร\",IF(DP10=\"ปกติ\",SUM(F10,G10,H10,I10,J10,K10,L10,M10,N10,O10,P10,Q10,R10,S10,T10,U10,V10,W10,X10,Y10),\"-\")))","v":0},null,"",null,null,null,null,null,null,null,null,null,null,null,null,null,null,null,null,null,null,null,null,{"$f":"IF(Sheet1!C5=\"\",\"\",IF(COUNTIF(AC10:AS10,\"-1\"),\"ร\",IF(DP10=\"ปกติ\",SUM(AC10,AD10,AE10,AF10,AG10,AH10,AI10,AJ10,AK10,AL10,AM10,AN10,AO10,AP10,AQ10,AR10,AS10),\"-\")))","v":0},null,"",null,null,null,null,null,null,null,null,null,null,null,null,null,null,null,{"$f":"IF(Sheet1!C5=\"\",\"\",IF(COUNTIF(AZ10:BN10,\"-1\"),\"ร\",IF(DP10=\"ปกติ\",SUM(AZ10,BA10,BB10,BC10,BD10,BE10,BF10,BG10,BH10,BI10,BJ10,BK10,BL10,BM10,BN10),\"-\")))","v":0},null,"",null,null,null,null,null,null,null,null,null,null,null,null,null,null,null,{"$f":"IF(Sheet1!C5=\"\",\"\",IF(COUNTIF(BR10:CF10,\"-1\"),\"ร\",IF(DP10=\"ปกติ\",SUM(BR10,BS10,BT10,BU10,BV10,BW10,BX10,BY10,BZ10,CA10,CB10,CC10,CD10,CE10,CF10),\"-\")))","v":0},null,"",null,null,null,null,null,{"$f":"IF(Sheet1!C5=\"\",\"\",IF(CJ10=\"\",\"\",(IF(CK10=\"\",\"\",(IF(CL10=\"\",\"\",(IF(CM10=\"\",\"\",(IF(CN10=\"\",\"\",(SUM(CJ10:CN10))))))))))))","v":""},"","",null,null,null,null,null,null,null,null,"","","","",null,{"$f":"IF(Sheet1!C5=\"\",\"\",IF(COUNTIF(DA10:DC10,\"ร\"),\"ร\",IF(DC10=\"ร\",\"ร\",IF(DP10=\"ปกติ\",SUM(DA10:DB10,IF(DD10=\"\",DC10,DD10)),\"-\"))))","v":0},null,"",null,null,{"$f":"IF(Sheet1!C5=\"\",\"\",IF(DE10=\"\",\"\",IF(COUNTIF(DA10:DH10,\"ร\"),\"ร\",IF(COUNTIF(DA10:DH10,\"-\"),\"-\",IF(DP10=\"ปกติ\",SUM(DE10,IF(DH10=\"\",DG10,DH10)))))))","v":0},null,null,null,null,null,{"$f":"IF(เวลาเรียน!IP12=\"\",\"\",เวลาเรียน!IP12)","v":"ปกติ"},null,0,49,0]
[5,2501,{"$f":"CONCATENATE(Sheet1!B6)","v":"17021"},{"$f":"CONCATENATE(Sheet1!C6&Sheet1!D6&\"       \"&Sheet1!E6)","v":"เด็กหญิงจิรัชยา    ทัศนสวัสดิ์       "},5,null,null,null,null,null,null,null,null,null,null,null,null,null,null,null,null,null,null,null,null,{"$f":"IF(Sheet1!C6=\"\",\"\",IF(COUNTIF(F11:V11,\"-1\"),\"ร\",IF(DP11=\"ปกติ\",SUM(F11,G11,H11,I11,J11,K11,L11,M11,N11,O11,P11,Q11,R11,S11,T11,U11,V11,W11,X11,Y11),\"-\")))","v":0},null,"",null,null,null,null,null,null,null,null,null,null,null,null,null,null,null,null,null,null,null,null,{"$f":"IF(Sheet1!C6=\"\",\"\",IF(COUNTIF(AC11:AS11,\"-1\"),\"ร\",IF(DP11=\"ปกติ\",SUM(AC11,AD11,AE11,AF11,AG11,AH11,AI11,AJ11,AK11,AL11,AM11,AN11,AO11,AP11,AQ11,AR11,AS11),\"-\")))","v":0},null,"",null,null,null,null,null,null,null,null,null,null,null,null,null,null,null,{"$f":"IF(Sheet1!C6=\"\",\"\",IF(COUNTIF(AZ11:BN11,\"-1\"),\"ร\",IF(DP11=\"ปกติ\",SUM(AZ11,BA11,BB11,BC11,BD11,BE11,BF11,BG11,BH11,BI11,BJ11,BK11,BL11,BM11,BN11),\"-\")))","v":0},null,"",null,null,null,null,null,null,null,null,null,null,null,null,null,null,null,{"$f":"IF(Sheet1!C6=\"\",\"\",IF(COUNTIF(BR11:CF11,\"-1\"),\"ร\",IF(DP11=\"ปกติ\",SUM(BR11,BS11,BT11,BU11,BV11,BW11,BX11,BY11,BZ11,CA11,CB11,CC11,CD11,CE11,CF11),\"-\")))","v":0},null,"",null,null,null,null,null,{"$f":"IF(Sheet1!C6=\"\",\"\",IF(CJ11=\"\",\"\",(IF(CK11=\"\",\"\",(IF(CL11=\"\",\"\",(IF(CM11=\"\",\"\",(IF(CN11=\"\",\"\",(SUM(CJ11:CN11))))))))))))","v":""},"","",null,null,null,null,null,null,null,null,"","","","",null,{"$f":"IF(Sheet1!C6=\"\",\"\",IF(COUNTIF(DA11:DC11,\"ร\"),\"ร\",IF(DC11=\"ร\",\"ร\",IF(DP11=\"ปกติ\",SUM(DA11:DB11,IF(DD11=\"\",DC11,DD11)),\"-\"))))","v":0},null,"",null,null,{"$f":"IF(Sheet1!C6=\"\",\"\",IF(DE11=\"\",\"\",IF(COUNTIF(DA11:DH11,\"ร\"),\"ร\",IF(COUNTIF(DA11:DH11,\"-\"),\"-\",IF(DP11=\"ปกติ\",SUM(DE11,IF(DH11=\"\",DG11,DH11)))))))","v":0},null,null,null,null,null,{"$f":"IF(เวลาเรียน!IP13=\"\",\"\",เวลาเรียน!IP13)","v":"ปกติ"},null,50,54,1]
[6,2502,{"$f":"CONCATENATE(Sheet1!B7)","v":"17022"},{"$f":"CONCATENATE(Sheet1!C7&Sheet1!D7&\"       \"&Sheet1!E7)","v":"เด็กหญิงธันยกานต์  หาญรัตนปิยพร       "},6,null,null,null,null,null,null,null,null,null,null,null,null,null,null,null,null,null,null,null,null,{"$f":"IF(Sheet1!C7=\"\",\"\",IF(COUNTIF(F12:V12,\"-1\"),\"ร\",IF(DP12=\"ปกติ\",SUM(F12,G12,H12,I12,J12,K12,L12,M12,N12,O12,P12,Q12,R12,S12,T12,U12,V12,W12,X12,Y12),\"-\")))","v":0},null,"",null,null,null,null,null,null,null,null,null,null,null,null,null,null,null,null,null,null,null,null,{"$f":"IF(Sheet1!C7=\"\",\"\",IF(COUNTIF(AC12:AS12,\"-1\"),\"ร\",IF(DP12=\"ปกติ\",SUM(AC12,AD12,AE12,AF12,AG12,AH12,AI12,AJ12,AK12,AL12,AM12,AN12,AO12,AP12,AQ12,AR12,AS12),\"-\")))","v":0},null,"",null,null,null,null,null,null,null,null,null,null,null,null,null,null,null,{"$f":"IF(Sheet1!C7=\"\",\"\",IF(COUNTIF(AZ12:BN12,\"-1\"),\"ร\",IF(DP12=\"ปกติ\",SUM(AZ12,BA12,BB12,BC12,BD12,BE12,BF12,BG12,BH12,BI12,BJ12,BK12,BL12,BM12,BN12),\"-\")))","v":0},null,"",null,null,null,null,null,null,null,null,null,null,null,null,null,null,null,{"$f":"IF(Sheet1!C7=\"\",\"\",IF(COUNTIF(BR12:CF12,\"-1\"),\"ร\",IF(DP12=\"ปกติ\",SUM(BR12,BS12,BT12,BU12,BV12,BW12,BX12,BY12,BZ12,CA12,CB12,CC12,CD12,CE12,CF12),\"-\")))","v":0},null,"",null,null,null,null,null,{"$f":"IF(Sheet1!C7=\"\",\"\",IF(CJ12=\"\",\"\",(IF(CK12=\"\",\"\",(IF(CL12=\"\",\"\",(IF(CM12=\"\",\"\",(IF(CN12=\"\",\"\",(SUM(CJ12:CN12))))))))))))","v":""},"","",null,null,null,null,null,null,null,null,"","","","",null,{"$f":"IF(Sheet1!C7=\"\",\"\",IF(COUNTIF(DA12:DC12,\"ร\"),\"ร\",IF(DC12=\"ร\",\"ร\",IF(DP12=\"ปกติ\",SUM(DA12:DB12,IF(DD12=\"\",DC12,DD12)),\"-\"))))","v":0},null,"",null,null,{"$f":"IF(Sheet1!C7=\"\",\"\",IF(DE12=\"\",\"\",IF(COUNTIF(DA12:DH12,\"ร\"),\"ร\",IF(COUNTIF(DA12:DH12,\"-\"),\"-\",IF(DP12=\"ปกติ\",SUM(DE12,IF(DH12=\"\",DG12,DH12)))))))","v":0},null,null,null,null,null,{"$f":"IF(เวลาเรียน!IP14=\"\",\"\",เวลาเรียน!IP14)","v":"ปกติ"},null,55,59,1.5]
[7,2503,{"$f":"CONCATENATE(Sheet1!B8)","v":"17026"},{"$f":"CONCATENATE(Sheet1!C8&Sheet1!D8&\"       \"&Sheet1!E8)","v":"เด็กหญิงกสิณา      ชูเมือง       "},7,null,null,null,null,null,null,null,null,null,null,null,null,null,null,null,null,null,null,null,null,{"$f":"IF(Sheet1!C8=\"\",\"\",IF(COUNTIF(F13:V13,\"-1\"),\"ร\",IF(DP13=\"ปกติ\",SUM(F13,G13,H13,I13,J13,K13,L13,M13,N13,O13,P13,Q13,R13,S13,T13,U13,V13,W13,X13,Y13),\"-\")))","v":0},null,"",null,null,null,null,null,null,null,null,null,null,null,null,null,null,null,null,null,null,null,null,{"$f":"IF(Sheet1!C8=\"\",\"\",IF(COUNTIF(AC13:AS13,\"-1\"),\"ร\",IF(DP13=\"ปกติ\",SUM(AC13,AD13,AE13,AF13,AG13,AH13,AI13,AJ13,AK13,AL13,AM13,AN13,AO13,AP13,AQ13,AR13,AS13),\"-\")))","v":0},null,"",null,null,null,null,null,null,null,null,null,null,null,null,null,null,null,{"$f":"IF(Sheet1!C8=\"\",\"\",IF(COUNTIF(AZ13:BN13,\"-1\"),\"ร\",IF(DP13=\"ปกติ\",SUM(AZ13,BA13,BB13,BC13,BD13,BE13,BF13,BG13,BH13,BI13,BJ13,BK13,BL13,BM13,BN13),\"-\")))","v":0},null,"",null,null,null,null,null,null,null,null,null,null,null,null,null,null,null,{"$f":"IF(Sheet1!C8=\"\",\"\",IF(COUNTIF(BR13:CF13,\"-1\"),\"ร\",IF(DP13=\"ปกติ\",SUM(BR13,BS13,BT13,BU13,BV13,BW13,BX13,BY13,BZ13,CA13,CB13,CC13,CD13,CE13,CF13),\"-\")))","v":0},null,"",null,null,null,null,null,{"$f":"IF(Sheet1!C8=\"\",\"\",IF(CJ13=\"\",\"\",(IF(CK13=\"\",\"\",(IF(CL13=\"\",\"\",(IF(CM13=\"\",\"\",(IF(CN13=\"\",\"\",(SUM(CJ13:CN13))))))))))))","v":""},"","",null,null,null,null,null,null,null,null,"","","","",null,{"$f":"IF(Sheet1!C8=\"\",\"\",IF(COUNTIF(DA13:DC13,\"ร\"),\"ร\",IF(DC13=\"ร\",\"ร\",IF(DP13=\"ปกติ\",SUM(DA13:DB13,IF(DD13=\"\",DC13,DD13)),\"-\"))))","v":0},null,"",null,null,{"$f":"IF(Sheet1!C8=\"\",\"\",IF(DE13=\"\",\"\",IF(COUNTIF(DA13:DH13,\"ร\"),\"ร\",IF(COUNTIF(DA13:DH13,\"-\"),\"-\",IF(DP13=\"ปกติ\",SUM(DE13,IF(DH13=\"\",DG13,DH13)))))))","v":0},null,null,null,null,null,{"$f":"IF(เวลาเรียน!IP15=\"\",\"\",เวลาเรียน!IP15)","v":"ปกติ"},null,60,64,2]
[8,2504,{"$f":"CONCATENATE(Sheet1!B9)","v":"17035"},{"$f":"CONCATENATE(Sheet1!C9&Sheet1!D9&\"       \"&Sheet1!E9)","v":"เด็กหญิงกานต์สิตา  รัตนโชติ       "},8,null,null,null,null,null,null,null,null,null,null,null,null,null,null,null,null,null,null,null,null,{"$f":"IF(Sheet1!C9=\"\",\"\",IF(COUNTIF(F14:V14,\"-1\"),\"ร\",IF(DP14=\"ปกติ\",SUM(F14,G14,H14,I14,J14,K14,L14,M14,N14,O14,P14,Q14,R14,S14,T14,U14,V14,W14,X14,Y14),\"-\")))","v":0},null,"",null,null,null,null,null,null,null,null,null,null,null,null,null,null,null,null,null,null,null,null,{"$f":"IF(Sheet1!C9=\"\",\"\",IF(COUNTIF(AC14:AS14,\"-1\"),\"ร\",IF(DP14=\"ปกติ\",SUM(AC14,AD14,AE14,AF14,AG14,AH14,AI14,AJ14,AK14,AL14,AM14,AN14,AO14,AP14,AQ14,AR14,AS14),\"-\")))","v":0},null,"",null,null,null,null,null,null,null,null,null,null,null,null,null,null,null,{"$f":"IF(Sheet1!C9=\"\",\"\",IF(COUNTIF(AZ14:BN14,\"-1\"),\"ร\",IF(DP14=\"ปกติ\",SUM(AZ14,BA14,BB14,BC14,BD14,BE14,BF14,BG14,BH14,BI14,BJ14,BK14,BL14,BM14,BN14),\"-\")))","v":0},null,"",null,null,null,null,null,null,null,null,null,null,null,null,null,null,null,{"$f":"IF(Sheet1!C9=\"\",\"\",IF(COUNTIF(BR14:CF14,\"-1\"),\"ร\",IF(DP14=\"ปกติ\",SUM(BR14,BS14,BT14,BU14,BV14,BW14,BX14,BY14,BZ14,CA14,CB14,CC14,CD14,CE14,CF14),\"-\")))","v":0},null,"",null,null,null,null,null,{"$f":"IF(Sheet1!C9=\"\",\"\",IF(CJ14=\"\",\"\",(IF(CK14=\"\",\"\",(IF(CL14=\"\",\"\",(IF(CM14=\"\",\"\",(IF(CN14=\"\",\"\",(SUM(CJ14:CN14))))))))))))","v":""},"","",null,null,null,null,null,null,null,null,"","","","",null,{"$f":"IF(Sheet1!C9=\"\",\"\",IF(COUNTIF(DA14:DC14,\"ร\"),\"ร\",IF(DC14=\"ร\",\"ร\",IF(DP14=\"ปกติ\",SUM(DA14:DB14,IF(DD14=\"\",DC14,DD14)),\"-\"))))","v":0},null,"",null,null,{"$f":"IF(Sheet1!C9=\"\",\"\",IF(DE14=\"\",\"\",IF(COUNTIF(DA14:DH14,\"ร\"),\"ร\",IF(COUNTIF(DA14:DH14,\"-\"),\"-\",IF(DP14=\"ปกติ\",SUM(DE14,IF(DH14=\"\",DG14,DH14)))))))","v":0},null,null,null,null,null,{"$f":"IF(เวลาเรียน!IP16=\"\",\"\",เวลาเรียน!IP16)","v":"ปกติ"},null,65,69,2.5]
[9,2505,{"$f":"CONCATENATE(Sheet1!B10)","v":"17038"},{"$f":"CONCATENATE(Sheet1!C10&Sheet1!D10&\"       \"&Sheet1!E10)","v":"เด็กหญิงธัญพร      แก้วอินทร์       "},9,null,null,null,null,null,null,null,null,null,null,null,null,null,null,null,null,null,null,null,null,{"$f":"IF(Sheet1!C10=\"\",\"\",IF(COUNTIF(F15:V15,\"-1\"),\"ร\",IF(DP15=\"ปกติ\",SUM(F15,G15,H15,I15,J15,K15,L15,M15,N15,O15,P15,Q15,R15,S15,T15,U15,V15,W15,X15,Y15),\"-\")))","v":0},null,"",null,null,null,null,null,null,null,null,null,null,null,null,null,null,null,null,null,null,null,null,{"$f":"IF(Sheet1!C10=\"\",\"\",IF(COUNTIF(AC15:AS15,\"-1\"),\"ร\",IF(DP15=\"ปกติ\",SUM(AC15,AD15,AE15,AF15,AG15,AH15,AI15,AJ15,AK15,AL15,AM15,AN15,AO15,AP15,AQ15,AR15,AS15),\"-\")))","v":0},null,"",null,null,null,null,null,null,null,null,null,null,null,null,null,null,null,{"$f":"IF(Sheet1!C10=\"\",\"\",IF(COUNTIF(AZ15:BN15,\"-1\"),\"ร\",IF(DP15=\"ปกติ\",SUM(AZ15,BA15,BB15,BC15,BD15,BE15,BF15,BG15,BH15,BI15,BJ15,BK15,BL15,BM15,BN15),\"-\")))","v":0},null,"",null,null,null,null,null,null,null,null,null,null,null,null,null,null,null,{"$f":"IF(Sheet1!C10=\"\",\"\",IF(COUNTIF(BR15:CF15,\"-1\"),\"ร\",IF(DP15=\"ปกติ\",SUM(BR15,BS15,BT15,BU15,BV15,BW15,BX15,BY15,BZ15,CA15,CB15,CC15,CD15,CE15,CF15),\"-\")))","v":0},null,"",null,null,null,null,null,{"$f":"IF(Sheet1!C10=\"\",\"\",IF(CJ15=\"\",\"\",(IF(CK15=\"\",\"\",(IF(CL15=\"\",\"\",(IF(CM15=\"\",\"\",(IF(CN15=\"\",\"\",(SUM(CJ15:CN15))))))))))))","v":""},"","",null,null,null,null,null,null,null,null,"","","","",null,{"$f":"IF(Sheet1!C10=\"\",\"\",IF(COUNTIF(DA15:DC15,\"ร\"),\"ร\",IF(DC15=\"ร\",\"ร\",IF(DP15=\"ปกติ\",SUM(DA15:DB15,IF(DD15=\"\",DC15,DD15)),\"-\"))))","v":0},null,"",null,null,{"$f":"IF(Sheet1!C10=\"\",\"\",IF(DE15=\"\",\"\",IF(COUNTIF(DA15:DH15,\"ร\"),\"ร\",IF(COUNTIF(DA15:DH15,\"-\"),\"-\",IF(DP15=\"ปกติ\",SUM(DE15,IF(DH15=\"\",DG15,DH15)))))))","v":0},null,null,null,null,null,{"$f":"IF(เวลาเรียน!IP17=\"\",\"\",เวลาเรียน!IP17)","v":"ปกติ"},null,70,74,3]
[10,2506,{"$f":"CONCATENATE(Sheet1!B11)","v":"17041"},{"$f":"CONCATENATE(Sheet1!C11&Sheet1!D11&\"       \"&Sheet1!E11)","v":"เด็กหญิงกชพร       คล้ายอุดม       "},10,null,null,null,null,null,null,null,null,null,null,null,null,null,null,null,null,null,null,null,null,{"$f":"IF(Sheet1!C11=\"\",\"\",IF(COUNTIF(F16:V16,\"-1\"),\"ร\",IF(DP16=\"ปกติ\",SUM(F16,G16,H16,I16,J16,K16,L16,M16,N16,O16,P16,Q16,R16,S16,T16,U16,V16,W16,X16,Y16),\"-\")))","v":0},null,"",null,null,null,null,null,null,null,null,null,null,null,null,null,null,null,null,null,null,null,null,{"$f":"IF(Sheet1!C11=\"\",\"\",IF(COUNTIF(AC16:AS16,\"-1\"),\"ร\",IF(DP16=\"ปกติ\",SUM(AC16,AD16,AE16,AF16,AG16,AH16,AI16,AJ16,AK16,AL16,AM16,AN16,AO16,AP16,AQ16,AR16,AS16),\"-\")))","v":0},null,"",null,null,null,null,null,null,null,null,null,null,null,null,null,null,null,{"$f":"IF(Sheet1!C11=\"\",\"\",IF(COUNTIF(AZ16:BN16,\"-1\"),\"ร\",IF(DP16=\"ปกติ\",SUM(AZ16,BA16,BB16,BC16,BD16,BE16,BF16,BG16,BH16,BI16,BJ16,BK16,BL16,BM16,BN16),\"-\")))","v":0},null,"",null,null,null,null,null,null,null,null,null,null,null,null,null,null,null,{"$f":"IF(Sheet1!C11=\"\",\"\",IF(COUNTIF(BR16:CF16,\"-1\"),\"ร\",IF(DP16=\"ปกติ\",SUM(BR16,BS16,BT16,BU16,BV16,BW16,BX16,BY16,BZ16,CA16,CB16,CC16,CD16,CE16,CF16),\"-\")))","v":0},null,"",null,null,null,null,null,{"$f":"IF(Sheet1!C11=\"\",\"\",IF(CJ16=\"\",\"\",(IF(CK16=\"\",\"\",(IF(CL16=\"\",\"\",(IF(CM16=\"\",\"\",(IF(CN16=\"\",\"\",(SUM(CJ16:CN16))))))))))))","v":""},"","",null,null,null,null,null,null,null,null,"","","","",null,{"$f":"IF(Sheet1!C11=\"\",\"\",IF(COUNTIF(DA16:DC16,\"ร\"),\"ร\",IF(DC16=\"ร\",\"ร\",IF(DP16=\"ปกติ\",SUM(DA16:DB16,IF(DD16=\"\",DC16,DD16)),\"-\"))))","v":0},null,"",null,null,{"$f":"IF(Sheet1!C11=\"\",\"\",IF(DE16=\"\",\"\",IF(COUNTIF(DA16:DH16,\"ร\"),\"ร\",IF(COUNTIF(DA16:DH16,\"-\"),\"-\",IF(DP16=\"ปกติ\",SUM(DE16,IF(DH16=\"\",DG16,DH16)))))))","v":0},null,null,null,null,null,{"$f":"IF(เวลาเรียน!IP18=\"\",\"\",เวลาเรียน!IP18)","v":"ปกติ"},null,75,79,3.5]
[11,2507,{"$f":"CONCATENATE(Sheet1!B12)","v":"18181"},{"$f":"CONCATENATE(Sheet1!C12&Sheet1!D12&\"       \"&Sheet1!E12)","v":"เด็กชายธรณ์ธันย์    อิสรา       "},11,null,null,null,null,null,null,null,null,null,null,null,null,null,null,null,null,null,null,null,null,{"$f":"IF(Sheet1!C12=\"\",\"\",IF(COUNTIF(F17:V17,\"-1\"),\"ร\",IF(DP17=\"ปกติ\",SUM(F17,G17,H17,I17,J17,K17,L17,M17,N17,O17,P17,Q17,R17,S17,T17,U17,V17,W17,X17,Y17),\"-\")))","v":0},null,"",null,null,null,null,null,null,null,null,null,null,null,null,null,null,null,null,null,null,null,null,{"$f":"IF(Sheet1!C12=\"\",\"\",IF(COUNTIF(AC17:AS17,\"-1\"),\"ร\",IF(DP17=\"ปกติ\",SUM(AC17,AD17,AE17,AF17,AG17,AH17,AI17,AJ17,AK17,AL17,AM17,AN17,AO17,AP17,AQ17,AR17,AS17),\"-\")))","v":0},null,"",null,null,null,null,null,null,null,null,null,null,null,null,null,null,null,{"$f":"IF(Sheet1!C12=\"\",\"\",IF(COUNTIF(AZ17:BN17,\"-1\"),\"ร\",IF(DP17=\"ปกติ\",SUM(AZ17,BA17,BB17,BC17,BD17,BE17,BF17,BG17,BH17,BI17,BJ17,BK17,BL17,BM17,BN17),\"-\")))","v":0},null,"",null,null,null,null,null,null,null,null,null,null,null,null,null,null,null,{"$f":"IF(Sheet1!C12=\"\",\"\",IF(COUNTIF(BR17:CF17,\"-1\"),\"ร\",IF(DP17=\"ปกติ\",SUM(BR17,BS17,BT17,BU17,BV17,BW17,BX17,BY17,BZ17,CA17,CB17,CC17,CD17,CE17,CF17),\"-\")))","v":0},null,"",null,null,null,null,null,{"$f":"IF(Sheet1!C12=\"\",\"\",IF(CJ17=\"\",\"\",(IF(CK17=\"\",\"\",(IF(CL17=\"\",\"\",(IF(CM17=\"\",\"\",(IF(CN17=\"\",\"\",(SUM(CJ17:CN17))))))))))))","v":""},"","",null,null,null,null,null,null,null,null,"","","","",null,{"$f":"IF(Sheet1!C12=\"\",\"\",IF(COUNTIF(DA17:DC17,\"ร\"),\"ร\",IF(DC17=\"ร\",\"ร\",IF(DP17=\"ปกติ\",SUM(DA17:DB17,IF(DD17=\"\",DC17,DD17)),\"-\"))))","v":0},null,"",null,null,{"$f":"IF(Sheet1!C12=\"\",\"\",IF(DE17=\"\",\"\",IF(COUNTIF(DA17:DH17,\"ร\"),\"ร\",IF(COUNTIF(DA17:DH17,\"-\"),\"-\",IF(DP17=\"ปกติ\",SUM(DE17,IF(DH17=\"\",DG17,DH17)))))))","v":0},null,null,null,null,null,{"$f":"IF(เวลาเรียน!IP19=\"\",\"\",เวลาเรียน!IP19)","v":"ปกติ"},null,80,100,4]
[12,2508,{"$f":"CONCATENATE(Sheet1!B13)","v":"18185"},{"$f":"CONCATENATE(Sheet1!C13&Sheet1!D13&\"       \"&Sheet1!E13)","v":"เด็กหญิงกัลยรัตน์   สารเทพ        "},12,null,null,null,null,null,null,null,null,null,null,null,null,null,null,null,null,null,null,null,null,{"$f":"IF(Sheet1!C13=\"\",\"\",IF(COUNTIF(F18:V18,\"-1\"),\"ร\",IF(DP18=\"ปกติ\",SUM(F18,G18,H18,I18,J18,K18,L18,M18,N18,O18,P18,Q18,R18,S18,T18,U18,V18,W18,X18,Y18),\"-\")))","v":0},null,"",null,null,null,null,null,null,null,null,null,null,null,null,null,null,null,null,null,null,null,null,{"$f":"IF(Sheet1!C13=\"\",\"\",IF(COUNTIF(AC18:AS18,\"-1\"),\"ร\",IF(DP18=\"ปกติ\",SUM(AC18,AD18,AE18,AF18,AG18,AH18,AI18,AJ18,AK18,AL18,AM18,AN18,AO18,AP18,AQ18,AR18,AS18),\"-\")))","v":0},null,"",null,null,null,null,null,null,null,null,null,null,null,null,null,null,null,{"$f":"IF(Sheet1!C13=\"\",\"\",IF(COUNTIF(AZ18:BN18,\"-1\"),\"ร\",IF(DP18=\"ปกติ\",SUM(AZ18,BA18,BB18,BC18,BD18,BE18,BF18,BG18,BH18,BI18,BJ18,BK18,BL18,BM18,BN18),\"-\")))","v":0},null,"",null,null,null,null,null,null,null,null,null,null,null,null,null,null,null,{"$f":"IF(Sheet1!C13=\"\",\"\",IF(COUNTIF(BR18:CF18,\"-1\"),\"ร\",IF(DP18=\"ปกติ\",SUM(BR18,BS18,BT18,BU18,BV18,BW18,BX18,BY18,BZ18,CA18,CB18,CC18,CD18,CE18,CF18),\"-\")))","v":0},null,"",null,null,null,null,null,{"$f":"IF(Sheet1!C13=\"\",\"\",IF(CJ18=\"\",\"\",(IF(CK18=\"\",\"\",(IF(CL18=\"\",\"\",(IF(CM18=\"\",\"\",(IF(CN18=\"\",\"\",(SUM(CJ18:CN18))))))))))))","v":""},"","",null,null,null,null,null,null,null,null,"","","","",null,{"$f":"IF(Sheet1!C13=\"\",\"\",IF(COUNTIF(DA18:DC18,\"ร\"),\"ร\",IF(DC18=\"ร\",\"ร\",IF(DP18=\"ปกติ\",SUM(DA18:DB18,IF(DD18=\"\",DC18,DD18)),\"-\"))))","v":0},null,"",null,null,{"$f":"IF(Sheet1!C13=\"\",\"\",IF(DE18=\"\",\"\",IF(COUNTIF(DA18:DH18,\"ร\"),\"ร\",IF(COUNTIF(DA18:DH18,\"-\"),\"-\",IF(DP18=\"ปกติ\",SUM(DE18,IF(DH18=\"\",DG18,DH18)))))))","v":0},null,null,null,null,null,{"$f":"IF(เวลาเรียน!IP20=\"\",\"\",เวลาเรียน!IP20)","v":"ปกติ"}]
[13,2509,{"$f":"CONCATENATE(Sheet1!B14)","v":"18270"},{"$f":"CONCATENATE(Sheet1!C14&Sheet1!D14&\"       \"&Sheet1!E14)","v":"เด็กหญิงเขมิกา     ปลื้มใจ        "},13,null,null,null,null,null,null,null,null,null,null,null,null,null,null,null,null,null,null,null,null,{"$f":"IF(Sheet1!C14=\"\",\"\",IF(COUNTIF(F19:V19,\"-1\"),\"ร\",IF(DP19=\"ปกติ\",SUM(F19,G19,H19,I19,J19,K19,L19,M19,N19,O19,P19,Q19,R19,S19,T19,U19,V19,W19,X19,Y19),\"-\")))","v":0},null,"",null,null,null,null,null,null,null,null,null,null,null,null,null,null,null,null,null,null,null,null,{"$f":"IF(Sheet1!C14=\"\",\"\",IF(COUNTIF(AC19:AS19,\"-1\"),\"ร\",IF(DP19=\"ปกติ\",SUM(AC19,AD19,AE19,AF19,AG19,AH19,AI19,AJ19,AK19,AL19,AM19,AN19,AO19,AP19,AQ19,AR19,AS19),\"-\")))","v":0},null,"",null,null,null,null,null,null,null,null,null,null,null,null,null,null,null,{"$f":"IF(Sheet1!C14=\"\",\"\",IF(COUNTIF(AZ19:BN19,\"-1\"),\"ร\",IF(DP19=\"ปกติ\",SUM(AZ19,BA19,BB19,BC19,BD19,BE19,BF19,BG19,BH19,BI19,BJ19,BK19,BL19,BM19,BN19),\"-\")))","v":0},null,"",null,null,null,null,null,null,null,null,null,null,null,null,null,null,null,{"$f":"IF(Sheet1!C14=\"\",\"\",IF(COUNTIF(BR19:CF19,\"-1\"),\"ร\",IF(DP19=\"ปกติ\",SUM(BR19,BS19,BT19,BU19,BV19,BW19,BX19,BY19,BZ19,CA19,CB19,CC19,CD19,CE19,CF19),\"-\")))","v":0},null,"",null,null,null,null,null,{"$f":"IF(Sheet1!C14=\"\",\"\",IF(CJ19=\"\",\"\",(IF(CK19=\"\",\"\",(IF(CL19=\"\",\"\",(IF(CM19=\"\",\"\",(IF(CN19=\"\",\"\",(SUM(CJ19:CN19))))))))))))","v":""},"","",null,null,null,null,null,null,null,null,"","","","",null,{"$f":"IF(Sheet1!C14=\"\",\"\",IF(COUNTIF(DA19:DC19,\"ร\"),\"ร\",IF(DC19=\"ร\",\"ร\",IF(DP19=\"ปกติ\",SUM(DA19:DB19,IF(DD19=\"\",DC19,DD19)),\"-\"))))","v":0},null,"",null,null,{"$f":"IF(Sheet1!C14=\"\",\"\",IF(DE19=\"\",\"\",IF(COUNTIF(DA19:DH19,\"ร\"),\"ร\",IF(COUNTIF(DA19:DH19,\"-\"),\"-\",IF(DP19=\"ปกติ\",SUM(DE19,IF(DH19=\"\",DG19,DH19)))))))","v":0},null,null,null,null,null,{"$f":"IF(เวลาเรียน!IP21=\"\",\"\",เวลาเรียน!IP21)","v":"ปกติ"},null,0,50,0]
[14,2510,{"$f":"CONCATENATE(Sheet1!B15)","v":"18475"},{"$f":"CONCATENATE(Sheet1!C15&Sheet1!D15&\"       \"&Sheet1!E15)","v":"เด็กชายกวินท์      นาคสวัสดิ์       "},14,null,null,null,null,null,null,null,null,null,null,null,null,null,null,null,null,null,null,null,null,{"$f":"IF(Sheet1!C15=\"\",\"\",IF(COUNTIF(F20:V20,\"-1\"),\"ร\",IF(DP20=\"ปกติ\",SUM(F20,G20,H20,I20,J20,K20,L20,M20,N20,O20,P20,Q20,R20,S20,T20,U20,V20,W20,X20,Y20),\"-\")))","v":0},null,"",null,null,null,null,null,null,null,null,null,null,null,null,null,null,null,null,null,null,null,null,{"$f":"IF(Sheet1!C15=\"\",\"\",IF(COUNTIF(AC20:AS20,\"-1\"),\"ร\",IF(DP20=\"ปกติ\",SUM(AC20,AD20,AE20,AF20,AG20,AH20,AI20,AJ20,AK20,AL20,AM20,AN20,AO20,AP20,AQ20,AR20,AS20),\"-\")))","v":0},null,"",null,null,null,null,null,null,null,null,null,null,null,null,null,null,null,{"$f":"IF(Sheet1!C15=\"\",\"\",IF(COUNTIF(AZ20:BN20,\"-1\"),\"ร\",IF(DP20=\"ปกติ\",SUM(AZ20,BA20,BB20,BC20,BD20,BE20,BF20,BG20,BH20,BI20,BJ20,BK20,BL20,BM20,BN20),\"-\")))","v":0},null,"",null,null,null,null,null,null,null,null,null,null,null,null,null,null,null,{"$f":"IF(Sheet1!C15=\"\",\"\",IF(COUNTIF(BR20:CF20,\"-1\"),\"ร\",IF(DP20=\"ปกติ\",SUM(BR20,BS20,BT20,BU20,BV20,BW20,BX20,BY20,BZ20,CA20,CB20,CC20,CD20,CE20,CF20),\"-\")))","v":0},null,"",null,null,null,null,null,{"$f":"IF(Sheet1!C15=\"\",\"\",IF(CJ20=\"\",\"\",(IF(CK20=\"\",\"\",(IF(CL20=\"\",\"\",(IF(CM20=\"\",\"\",(IF(CN20=\"\",\"\",(SUM(CJ20:CN20))))))))))))","v":""},"","",null,null,null,null,null,null,null,null,"","","","",null,{"$f":"IF(Sheet1!C15=\"\",\"\",IF(COUNTIF(DA20:DC20,\"ร\"),\"ร\",IF(DC20=\"ร\",\"ร\",IF(DP20=\"ปกติ\",SUM(DA20:DB20,IF(DD20=\"\",DC20,DD20)),\"-\"))))","v":0},null,"",null,null,{"$f":"IF(Sheet1!C15=\"\",\"\",IF(DE20=\"\",\"\",IF(COUNTIF(DA20:DH20,\"ร\"),\"ร\",IF(COUNTIF(DA20:DH20,\"-\"),\"-\",IF(DP20=\"ปกติ\",SUM(DE20,IF(DH20=\"\",DG20,DH20)))))))","v":0},null,null,null,null,null,{"$f":"IF(เวลาเรียน!IP22=\"\",\"\",เวลาเรียน!IP22)","v":"ปกติ"},null,50,55,1]
[15,2511,{"$f":"CONCATENATE(Sheet1!B16)","v":"18521"},{"$f":"CONCATENATE(Sheet1!C16&Sheet1!D16&\"       \"&Sheet1!E16)","v":"เด็กชายอธินันท์    บัวเพชร       "},15,null,null,null,null,null,null,null,null,null,null,null,null,null,null,null,null,null,null,null,null,{"$f":"IF(Sheet1!C16=\"\",\"\",IF(COUNTIF(F21:V21,\"-1\"),\"ร\",IF(DP21=\"ปกติ\",SUM(F21,G21,H21,I21,J21,K21,L21,M21,N21,O21,P21,Q21,R21,S21,T21,U21,V21,W21,X21,Y21),\"-\")))","v":0},null,"",null,null,null,null,null,null,null,null,null,null,null,null,null,null,null,null,null,null,null,null,{"$f":"IF(Sheet1!C16=\"\",\"\",IF(COUNTIF(AC21:AS21,\"-1\"),\"ร\",IF(DP21=\"ปกติ\",SUM(AC21,AD21,AE21,AF21,AG21,AH21,AI21,AJ21,AK21,AL21,AM21,AN21,AO21,AP21,AQ21,AR21,AS21),\"-\")))","v":0},null,"",null,null,null,null,null,null,null,null,null,null,null,null,null,null,null,{"$f":"IF(Sheet1!C16=\"\",\"\",IF(COUNTIF(AZ21:BN21,\"-1\"),\"ร\",IF(DP21=\"ปกติ\",SUM(AZ21,BA21,BB21,BC21,BD21,BE21,BF21,BG21,BH21,BI21,BJ21,BK21,BL21,BM21,BN21),\"-\")))","v":0},null,"",null,null,null,null,null,null,null,null,null,null,null,null,null,null,null,{"$f":"IF(Sheet1!C16=\"\",\"\",IF(COUNTIF(BR21:CF21,\"-1\"),\"ร\",IF(DP21=\"ปกติ\",SUM(BR21,BS21,BT21,BU21,BV21,BW21,BX21,BY21,BZ21,CA21,CB21,CC21,CD21,CE21,CF21),\"-\")))","v":0},null,"",null,null,null,null,null,{"$f":"IF(Sheet1!C16=\"\",\"\",IF(CJ21=\"\",\"\",(IF(CK21=\"\",\"\",(IF(CL21=\"\",\"\",(IF(CM21=\"\",\"\",(IF(CN21=\"\",\"\",(SUM(CJ21:CN21))))))))))))","v":""},"","",null,null,null,null,null,null,null,null,"","","","",null,{"$f":"IF(Sheet1!C16=\"\",\"\",IF(COUNTIF(DA21:DC21,\"ร\"),\"ร\",IF(DC21=\"ร\",\"ร\",IF(DP21=\"ปกติ\",SUM(DA21:DB21,IF(DD21=\"\",DC21,DD21)),\"-\"))))","v":0},null,"",null,null,{"$f":"IF(Sheet1!C16=\"\",\"\",IF(DE21=\"\",\"\",IF(COUNTIF(DA21:DH21,\"ร\"),\"ร\",IF(COUNTIF(DA21:DH21,\"-\"),\"-\",IF(DP21=\"ปกติ\",SUM(DE21,IF(DH21=\"\",DG21,DH21)))))))","v":0},null,null,null,null,null,{"$f":"IF(เวลาเรียน!IP23=\"\",\"\",เวลาเรียน!IP23)","v":"ปกติ"},null,55,60,1.5]
[16,2512,{"$f":"CONCATENATE(Sheet1!B17)","v":"18831"},{"$f":"CONCATENATE(Sheet1!C17&Sheet1!D17&\"       \"&Sheet1!E17)","v":"เด็กชายปวริศร์     สันตะโร       "},16,null,null,null,null,null,null,null,null,null,null,null,null,null,null,null,null,null,null,null,null,{"$f":"IF(Sheet1!C17=\"\",\"\",IF(COUNTIF(F22:V22,\"-1\"),\"ร\",IF(DP22=\"ปกติ\",SUM(F22,G22,H22,I22,J22,K22,L22,M22,N22,O22,P22,Q22,R22,S22,T22,U22,V22,W22,X22,Y22),\"-\")))","v":0},null,"",null,null,null,null,null,null,null,null,null,null,null,null,null,null,null,null,null,null,null,null,{"$f":"IF(Sheet1!C17=\"\",\"\",IF(COUNTIF(AC22:AS22,\"-1\"),\"ร\",IF(DP22=\"ปกติ\",SUM(AC22,AD22,AE22,AF22,AG22,AH22,AI22,AJ22,AK22,AL22,AM22,AN22,AO22,AP22,AQ22,AR22,AS22),\"-\")))","v":0},null,"",null,null,null,null,null,null,null,null,null,null,null,null,null,null,null,{"$f":"IF(Sheet1!C17=\"\",\"\",IF(COUNTIF(AZ22:BN22,\"-1\"),\"ร\",IF(DP22=\"ปกติ\",SUM(AZ22,BA22,BB22,BC22,BD22,BE22,BF22,BG22,BH22,BI22,BJ22,BK22,BL22,BM22,BN22),\"-\")))","v":0},null,"",null,null,null,null,null,null,null,null,null,null,null,null,null,null,null,{"$f":"IF(Sheet1!C17=\"\",\"\",IF(COUNTIF(BR22:CF22,\"-1\"),\"ร\",IF(DP22=\"ปกติ\",SUM(BR22,BS22,BT22,BU22,BV22,BW22,BX22,BY22,BZ22,CA22,CB22,CC22,CD22,CE22,CF22),\"-\")))","v":0},null,"",null,null,null,null,null,{"$f":"IF(Sheet1!C17=\"\",\"\",IF(CJ22=\"\",\"\",(IF(CK22=\"\",\"\",(IF(CL22=\"\",\"\",(IF(CM22=\"\",\"\",(IF(CN22=\"\",\"\",(SUM(CJ22:CN22))))))))))))","v":""},"","",null,null,null,null,null,null,null,null,"","","","",null,{"$f":"IF(Sheet1!C17=\"\",\"\",IF(COUNTIF(DA22:DC22,\"ร\"),\"ร\",IF(DC22=\"ร\",\"ร\",IF(DP22=\"ปกติ\",SUM(DA22:DB22,IF(DD22=\"\",DC22,DD22)),\"-\"))))","v":0},null,"",null,null,{"$f":"IF(Sheet1!C17=\"\",\"\",IF(DE22=\"\",\"\",IF(COUNTIF(DA22:DH22,\"ร\"),\"ร\",IF(COUNTIF(DA22:DH22,\"-\"),\"-\",IF(DP22=\"ปกติ\",SUM(DE22,IF(DH22=\"\",DG22,DH22)))))))","v":0},null,null,null,null,null,{"$f":"IF(เวลาเรียน!IP24=\"\",\"\",เวลาเรียน!IP24)","v":"ปกติ"},null,60,65,2]
[17,2513,{"$f":"CONCATENATE(Sheet1!B18)","v":"18832"},{"$f":"CONCATENATE(Sheet1!C18&Sheet1!D18&\"       \"&Sheet1!E18)","v":"เด็กชายปุณณวิช    ทองคลอด       "},17,null,null,null,null,null,null,null,null,null,null,null,null,null,null,null,null,null,null,null,null,{"$f":"IF(Sheet1!C18=\"\",\"\",IF(COUNTIF(F23:V23,\"-1\"),\"ร\",IF(DP23=\"ปกติ\",SUM(F23,G23,H23,I23,J23,K23,L23,M23,N23,O23,P23,Q23,R23,S23,T23,U23,V23,W23,X23,Y23),\"-\")))","v":0},null,"",null,null,null,null,null,null,null,null,null,null,null,null,null,null,null,null,null,null,null,null,{"$f":"IF(Sheet1!C18=\"\",\"\",IF(COUNTIF(AC23:AS23,\"-1\"),\"ร\",IF(DP23=\"ปกติ\",SUM(AC23,AD23,AE23,AF23,AG23,AH23,AI23,AJ23,AK23,AL23,AM23,AN23,AO23,AP23,AQ23,AR23,AS23),\"-\")))","v":0},null,"",null,null,null,null,null,null,null,null,null,null,null,null,null,null,null,{"$f":"IF(Sheet1!C18=\"\",\"\",IF(COUNTIF(AZ23:BN23,\"-1\"),\"ร\",IF(DP23=\"ปกติ\",SUM(AZ23,BA23,BB23,BC23,BD23,BE23,BF23,BG23,BH23,BI23,BJ23,BK23,BL23,BM23,BN23),\"-\")))","v":0},null,"",null,null,null,null,null,null,null,null,null,null,null,null,null,null,null,{"$f":"IF(Sheet1!C18=\"\",\"\",IF(COUNTIF(BR23:CF23,\"-1\"),\"ร\",IF(DP23=\"ปกติ\",SUM(BR23,BS23,BT23,BU23,BV23,BW23,BX23,BY23,BZ23,CA23,CB23,CC23,CD23,CE23,CF23),\"-\")))","v":0},null,"",null,null,null,null,null,{"$f":"IF(Sheet1!C18=\"\",\"\",IF(CJ23=\"\",\"\",(IF(CK23=\"\",\"\",(IF(CL23=\"\",\"\",(IF(CM23=\"\",\"\",(IF(CN23=\"\",\"\",(SUM(CJ23:CN23))))))))))))","v":""},"","",null,null,null,null,null,null,null,null,"","","","",null,{"$f":"IF(Sheet1!C18=\"\",\"\",IF(COUNTIF(DA23:DC23,\"ร\"),\"ร\",IF(DC23=\"ร\",\"ร\",IF(DP23=\"ปกติ\",SUM(DA23:DB23,IF(DD23=\"\",DC23,DD23)),\"-\"))))","v":0},null,"",null,null,{"$f":"IF(Sheet1!C18=\"\",\"\",IF(DE23=\"\",\"\",IF(COUNTIF(DA23:DH23,\"ร\"),\"ร\",IF(COUNTIF(DA23:DH23,\"-\"),\"-\",IF(DP23=\"ปกติ\",SUM(DE23,IF(DH23=\"\",DG23,DH23)))))))","v":0},null,null,null,null,null,{"$f":"IF(เวลาเรียน!IP25=\"\",\"\",เวลาเรียน!IP25)","v":"ปกติ"},null,65,70,2.5]
[18,2514,{"$f":"CONCATENATE(Sheet1!B19)","v":"18833"},{"$f":"CONCATENATE(Sheet1!C19&Sheet1!D19&\"       \"&Sheet1!E19)","v":"เด็กชายภูมิภัทร    เพชรแก้ว       "},18,null,null,null,null,null,null,null,null,null,null,null,null,null,null,null,null,null,null,null,null,{"$f":"IF(Sheet1!C19=\"\",\"\",IF(COUNTIF(F24:V24,\"-1\"),\"ร\",IF(DP24=\"ปกติ\",SUM(F24,G24,H24,I24,J24,K24,L24,M24,N24,O24,P24,Q24,R24,S24,T24,U24,V24,W24,X24,Y24),\"-\")))","v":0},null,"",null,null,null,null,null,null,null,null,null,null,null,null,null,null,null,null,null,null,null,null,{"$f":"IF(Sheet1!C19=\"\",\"\",IF(COUNTIF(AC24:AS24,\"-1\"),\"ร\",IF(DP24=\"ปกติ\",SUM(AC24,AD24,AE24,AF24,AG24,AH24,AI24,AJ24,AK24,AL24,AM24,AN24,AO24,AP24,AQ24,AR24,AS24),\"-\")))","v":0},null,"",null,null,null,null,null,null,null,null,null,null,null,null,null,null,null,{"$f":"IF(Sheet1!C19=\"\",\"\",IF(COUNTIF(AZ24:BN24,\"-1\"),\"ร\",IF(DP24=\"ปกติ\",SUM(AZ24,BA24,BB24,BC24,BD24,BE24,BF24,BG24,BH24,BI24,BJ24,BK24,BL24,BM24,BN24),\"-\")))","v":0},null,"",null,null,null,null,null,null,null,null,null,null,null,null,null,null,null,{"$f":"IF(Sheet1!C19=\"\",\"\",IF(COUNTIF(BR24:CF24,\"-1\"),\"ร\",IF(DP24=\"ปกติ\",SUM(BR24,BS24,BT24,BU24,BV24,BW24,BX24,BY24,BZ24,CA24,CB24,CC24,CD24,CE24,CF24),\"-\")))","v":0},null,"",null,null,null,null,null,{"$f":"IF(Sheet1!C19=\"\",\"\",IF(CJ24=\"\",\"\",(IF(CK24=\"\",\"\",(IF(CL24=\"\",\"\",(IF(CM24=\"\",\"\",(IF(CN24=\"\",\"\",(SUM(CJ24:CN24))))))))))))","v":""},"","",null,null,null,null,null,null,null,null,"","","","",null,{"$f":"IF(Sheet1!C19=\"\",\"\",IF(COUNTIF(DA24:DC24,\"ร\"),\"ร\",IF(DC24=\"ร\",\"ร\",IF(DP24=\"ปกติ\",SUM(DA24:DB24,IF(DD24=\"\",DC24,DD24)),\"-\"))))","v":0},null,"",null,null,{"$f":"IF(Sheet1!C19=\"\",\"\",IF(DE24=\"\",\"\",IF(COUNTIF(DA24:DH24,\"ร\"),\"ร\",IF(COUNTIF(DA24:DH24,\"-\"),\"-\",IF(DP24=\"ปกติ\",SUM(DE24,IF(DH24=\"\",DG24,DH24)))))))","v":0},null,null,null,null,null,{"$f":"IF(เวลาเรียน!IP26=\"\",\"\",เวลาเรียน!IP26)","v":"ปกติ"},null,70,75,3]
[19,2515,{"$f":"CONCATENATE(Sheet1!B20)","v":"18834"},{"$f":"CONCATENATE(Sheet1!C20&Sheet1!D20&\"       \"&Sheet1!E20)","v":"เด็กชายชิณณวรรธน์  เพชรอาวุธ       "},19,null,null,null,null,null,null,null,null,null,null,null,null,null,null,null,null,null,null,null,null,{"$f":"IF(Sheet1!C20=\"\",\"\",IF(COUNTIF(F25:V25,\"-1\"),\"ร\",IF(DP25=\"ปกติ\",SUM(F25,G25,H25,I25,J25,K25,L25,M25,N25,O25,P25,Q25,R25,S25,T25,U25,V25,W25,X25,Y25),\"-\")))","v":0},null,"",null,null,null,null,null,null,null,null,null,null,null,null,null,null,null,null,null,null,null,null,{"$f":"IF(Sheet1!C20=\"\",\"\",IF(COUNTIF(AC25:AS25,\"-1\"),\"ร\",IF(DP25=\"ปกติ\",SUM(AC25,AD25,AE25,AF25,AG25,AH25,AI25,AJ25,AK25,AL25,AM25,AN25,AO25,AP25,AQ25,AR25,AS25),\"-\")))","v":0},null,"",null,null,null,null,null,null,null,null,null,null,null,null,null,null,null,{"$f":"IF(Sheet1!C20=\"\",\"\",IF(COUNTIF(AZ25:BN25,\"-1\"),\"ร\",IF(DP25=\"ปกติ\",SUM(AZ25,BA25,BB25,BC25,BD25,BE25,BF25,BG25,BH25,BI25,BJ25,BK25,BL25,BM25,BN25),\"-\")))","v":0},null,"",null,null,null,null,null,null,null,null,null,null,null,null,null,null,null,{"$f":"IF(Sheet1!C20=\"\",\"\",IF(COUNTIF(BR25:CF25,\"-1\"),\"ร\",IF(DP25=\"ปกติ\",SUM(BR25,BS25,BT25,BU25,BV25,BW25,BX25,BY25,BZ25,CA25,CB25,CC25,CD25,CE25,CF25),\"-\")))","v":0},null,"",null,null,null,null,null,{"$f":"IF(Sheet1!C20=\"\",\"\",IF(CJ25=\"\",\"\",(IF(CK25=\"\",\"\",(IF(CL25=\"\",\"\",(IF(CM25=\"\",\"\",(IF(CN25=\"\",\"\",(SUM(CJ25:CN25))))))))))))","v":""},"","",null,null,null,null,null,null,null,null,"","","","",null,{"$f":"IF(Sheet1!C20=\"\",\"\",IF(COUNTIF(DA25:DC25,\"ร\"),\"ร\",IF(DC25=\"ร\",\"ร\",IF(DP25=\"ปกติ\",SUM(DA25:DB25,IF(DD25=\"\",DC25,DD25)),\"-\"))))","v":0},null,"",null,null,{"$f":"IF(Sheet1!C20=\"\",\"\",IF(DE25=\"\",\"\",IF(COUNTIF(DA25:DH25,\"ร\"),\"ร\",IF(COUNTIF(DA25:DH25,\"-\"),\"-\",IF(DP25=\"ปกติ\",SUM(DE25,IF(DH25=\"\",DG25,DH25)))))))","v":0},null,null,null,null,null,{"$f":"IF(เวลาเรียน!IP27=\"\",\"\",เวลาเรียน!IP27)","v":"ปกติ"},null,75,80,3.5]
[20,2516,{"$f":"CONCATENATE(Sheet1!B21)","v":"18835"},{"$f":"CONCATENATE(Sheet1!C21&Sheet1!D21&\"       \"&Sheet1!E21)","v":"เด็กชายสิทธินนท์   ขนอม        "},20,null,null,null,null,null,null,null,null,null,null,null,null,null,null,null,null,null,null,null,null,{"$f":"IF(Sheet1!C21=\"\",\"\",IF(COUNTIF(F26:V26,\"-1\"),\"ร\",IF(DP26=\"ปกติ\",SUM(F26,G26,H26,I26,J26,K26,L26,M26,N26,O26,P26,Q26,R26,S26,T26,U26,V26,W26,X26,Y26),\"-\")))","v":0},null,"",null,null,null,null,null,null,null,null,null,null,null,null,null,null,null,null,null,null,null,null,{"$f":"IF(Sheet1!C21=\"\",\"\",IF(COUNTIF(AC26:AS26,\"-1\"),\"ร\",IF(DP26=\"ปกติ\",SUM(AC26,AD26,AE26,AF26,AG26,AH26,AI26,AJ26,AK26,AL26,AM26,AN26,AO26,AP26,AQ26,AR26,AS26),\"-\")))","v":0},null,"",null,null,null,null,null,null,null,null,null,null,null,null,null,null,null,{"$f":"IF(Sheet1!C21=\"\",\"\",IF(COUNTIF(AZ26:BN26,\"-1\"),\"ร\",IF(DP26=\"ปกติ\",SUM(AZ26,BA26,BB26,BC26,BD26,BE26,BF26,BG26,BH26,BI26,BJ26,BK26,BL26,BM26,BN26),\"-\")))","v":0},null,"",null,null,null,null,null,null,null,null,null,null,null,null,null,null,null,{"$f":"IF(Sheet1!C21=\"\",\"\",IF(COUNTIF(BR26:CF26,\"-1\"),\"ร\",IF(DP26=\"ปกติ\",SUM(BR26,BS26,BT26,BU26,BV26,BW26,BX26,BY26,BZ26,CA26,CB26,CC26,CD26,CE26,CF26),\"-\")))","v":0},null,"",null,null,null,null,null,{"$f":"IF(Sheet1!C21=\"\",\"\",IF(CJ26=\"\",\"\",(IF(CK26=\"\",\"\",(IF(CL26=\"\",\"\",(IF(CM26=\"\",\"\",(IF(CN26=\"\",\"\",(SUM(CJ26:CN26))))))))))))","v":""},"","",null,null,null,null,null,null,null,null,"","","","",null,{"$f":"IF(Sheet1!C21=\"\",\"\",IF(COUNTIF(DA26:DC26,\"ร\"),\"ร\",IF(DC26=\"ร\",\"ร\",IF(DP26=\"ปกติ\",SUM(DA26:DB26,IF(DD26=\"\",DC26,DD26)),\"-\"))))","v":0},null,"",null,null,{"$f":"IF(Sheet1!C21=\"\",\"\",IF(DE26=\"\",\"\",IF(COUNTIF(DA26:DH26,\"ร\"),\"ร\",IF(COUNTIF(DA26:DH26,\"-\"),\"-\",IF(DP26=\"ปกติ\",SUM(DE26,IF(DH26=\"\",DG26,DH26)))))))","v":0},null,null,null,null,null,{"$f":"IF(เวลาเรียน!IP28=\"\",\"\",เวลาเรียน!IP28)","v":"ปกติ"},null,80,100,4]
[21,2517,{"$f":"CONCATENATE(Sheet1!B22)","v":"18836"},{"$f":"CONCATENATE(Sheet1!C22&Sheet1!D22&\"       \"&Sheet1!E22)","v":"เด็กชายธนเดช      ธนวนิชนาม       "},21,null,null,null,null,null,null,null,null,null,null,null,null,null,null,null,null,null,null,null,null,{"$f":"IF(Sheet1!C22=\"\",\"\",IF(COUNTIF(F27:V27,\"-1\"),\"ร\",IF(DP27=\"ปกติ\",SUM(F27,G27,H27,I27,J27,K27,L27,M27,N27,O27,P27,Q27,R27,S27,T27,U27,V27,W27,X27,Y27),\"-\")))","v":0},null,"",null,null,null,null,null,null,null,null,null,null,null,null,null,null,null,null,null,null,null,null,{"$f":"IF(Sheet1!C22=\"\",\"\",IF(COUNTIF(AC27:AS27,\"-1\"),\"ร\",IF(DP27=\"ปกติ\",SUM(AC27,AD27,AE27,AF27,AG27,AH27,AI27,AJ27,AK27,AL27,AM27,AN27,AO27,AP27,AQ27,AR27,AS27),\"-\")))","v":0},null,"",null,null,null,null,null,null,null,null,null,null,null,null,null,null,null,{"$f":"IF(Sheet1!C22=\"\",\"\",IF(COUNTIF(AZ27:BN27,\"-1\"),\"ร\",IF(DP27=\"ปกติ\",SUM(AZ27,BA27,BB27,BC27,BD27,BE27,BF27,BG27,BH27,BI27,BJ27,BK27,BL27,BM27,BN27),\"-\")))","v":0},null,"",null,null,null,null,null,null,null,null,null,null,null,null,null,null,null,{"$f":"IF(Sheet1!C22=\"\",\"\",IF(COUNTIF(BR27:CF27,\"-1\"),\"ร\",IF(DP27=\"ปกติ\",SUM(BR27,BS27,BT27,BU27,BV27,BW27,BX27,BY27,BZ27,CA27,CB27,CC27,CD27,CE27,CF27),\"-\")))","v":0},null,"",null,null,null,null,null,{"$f":"IF(Sheet1!C22=\"\",\"\",IF(CJ27=\"\",\"\",(IF(CK27=\"\",\"\",(IF(CL27=\"\",\"\",(IF(CM27=\"\",\"\",(IF(CN27=\"\",\"\",(SUM(CJ27:CN27))))))))))))","v":""},"","",null,null,null,null,null,null,null,null,"","","","",null,{"$f":"IF(Sheet1!C22=\"\",\"\",IF(COUNTIF(DA27:DC27,\"ร\"),\"ร\",IF(DC27=\"ร\",\"ร\",IF(DP27=\"ปกติ\",SUM(DA27:DB27,IF(DD27=\"\",DC27,DD27)),\"-\"))))","v":0},null,"",null,null,{"$f":"IF(Sheet1!C22=\"\",\"\",IF(DE27=\"\",\"\",IF(COUNTIF(DA27:DH27,\"ร\"),\"ร\",IF(COUNTIF(DA27:DH27,\"-\"),\"-\",IF(DP27=\"ปกติ\",SUM(DE27,IF(DH27=\"\",DG27,DH27)))))))","v":0},null,null,null,null,null,{"$f":"IF(เวลาเรียน!IP29=\"\",\"\",เวลาเรียน!IP29)","v":"ปกติ"}]
[22,2518,{"$f":"CONCATENATE(Sheet1!B23)","v":"18837"},{"$f":"CONCATENATE(Sheet1!C23&Sheet1!D23&\"       \"&Sheet1!E23)","v":"เด็กชายนวพล       สิมมาตัน       "},22,null,null,null,null,null,null,null,null,null,null,null,null,null,null,null,null,null,null,null,null,{"$f":"IF(Sheet1!C23=\"\",\"\",IF(COUNTIF(F28:V28,\"-1\"),\"ร\",IF(DP28=\"ปกติ\",SUM(F28,G28,H28,I28,J28,K28,L28,M28,N28,O28,P28,Q28,R28,S28,T28,U28,V28,W28,X28,Y28),\"-\")))","v":0},null,"",null,null,null,null,null,null,null,null,null,null,null,null,null,null,null,null,null,null,null,null,{"$f":"IF(Sheet1!C23=\"\",\"\",IF(COUNTIF(AC28:AS28,\"-1\"),\"ร\",IF(DP28=\"ปกติ\",SUM(AC28,AD28,AE28,AF28,AG28,AH28,AI28,AJ28,AK28,AL28,AM28,AN28,AO28,AP28,AQ28,AR28,AS28),\"-\")))","v":0},null,"",null,null,null,null,null,null,null,null,null,null,null,null,null,null,null,{"$f":"IF(Sheet1!C23=\"\",\"\",IF(COUNTIF(AZ28:BN28,\"-1\"),\"ร\",IF(DP28=\"ปกติ\",SUM(AZ28,BA28,BB28,BC28,BD28,BE28,BF28,BG28,BH28,BI28,BJ28,BK28,BL28,BM28,BN28),\"-\")))","v":0},null,"",null,null,null,null,null,null,null,null,null,null,null,null,null,null,null,{"$f":"IF(Sheet1!C23=\"\",\"\",IF(COUNTIF(BR28:CF28,\"-1\"),\"ร\",IF(DP28=\"ปกติ\",SUM(BR28,BS28,BT28,BU28,BV28,BW28,BX28,BY28,BZ28,CA28,CB28,CC28,CD28,CE28,CF28),\"-\")))","v":0},null,"",null,null,null,null,null,{"$f":"IF(Sheet1!C23=\"\",\"\",IF(CJ28=\"\",\"\",(IF(CK28=\"\",\"\",(IF(CL28=\"\",\"\",(IF(CM28=\"\",\"\",(IF(CN28=\"\",\"\",(SUM(CJ28:CN28))))))))))))","v":""},"","",null,null,null,null,null,null,null,null,"","","","",null,{"$f":"IF(Sheet1!C23=\"\",\"\",IF(COUNTIF(DA28:DC28,\"ร\"),\"ร\",IF(DC28=\"ร\",\"ร\",IF(DP28=\"ปกติ\",SUM(DA28:DB28,IF(DD28=\"\",DC28,DD28)),\"-\"))))","v":0},null,"",null,null,{"$f":"IF(Sheet1!C23=\"\",\"\",IF(DE28=\"\",\"\",IF(COUNTIF(DA28:DH28,\"ร\"),\"ร\",IF(COUNTIF(DA28:DH28,\"-\"),\"-\",IF(DP28=\"ปกติ\",SUM(DE28,IF(DH28=\"\",DG28,DH28)))))))","v":0},null,null,null,null,null,{"$f":"IF(เวลาเรียน!IP30=\"\",\"\",เวลาเรียน!IP30)","v":"ปกติ"}]
[23,2519,{"$f":"CONCATENATE(Sheet1!B24)","v":"18838"},{"$f":"CONCATENATE(Sheet1!C24&Sheet1!D24&\"       \"&Sheet1!E24)","v":"เด็กชายฟารีส       แซ่โกว       "},23,null,null,null,null,null,null,null,null,null,null,null,null,null,null,null,null,null,null,null,null,{"$f":"IF(Sheet1!C24=\"\",\"\",IF(COUNTIF(F29:V29,\"-1\"),\"ร\",IF(DP29=\"ปกติ\",SUM(F29,G29,H29,I29,J29,K29,L29,M29,N29,O29,P29,Q29,R29,S29,T29,U29,V29,W29,X29,Y29),\"-\")))","v":0},null,"",null,null,null,null,null,null,null,null,null,null,null,null,null,null,null,null,null,null,null,null,{"$f":"IF(Sheet1!C24=\"\",\"\",IF(COUNTIF(AC29:AS29,\"-1\"),\"ร\",IF(DP29=\"ปกติ\",SUM(AC29,AD29,AE29,AF29,AG29,AH29,AI29,AJ29,AK29,AL29,AM29,AN29,AO29,AP29,AQ29,AR29,AS29),\"-\")))","v":0},null,"",null,null,null,null,null,null,null,null,null,null,null,null,null,null,null,{"$f":"IF(Sheet1!C24=\"\",\"\",IF(COUNTIF(AZ29:BN29,\"-1\"),\"ร\",IF(DP29=\"ปกติ\",SUM(AZ29,BA29,BB29,BC29,BD29,BE29,BF29,BG29,BH29,BI29,BJ29,BK29,BL29,BM29,BN29),\"-\")))","v":0},null,"",null,null,null,null,null,null,null,null,null,null,null,null,null,null,null,{"$f":"IF(Sheet1!C24=\"\",\"\",IF(COUNTIF(BR29:CF29,\"-1\"),\"ร\",IF(DP29=\"ปกติ\",SUM(BR29,BS29,BT29,BU29,BV29,BW29,BX29,BY29,BZ29,CA29,CB29,CC29,CD29,CE29,CF29),\"-\")))","v":0},null,"",null,null,null,null,null,{"$f":"IF(Sheet1!C24=\"\",\"\",IF(CJ29=\"\",\"\",(IF(CK29=\"\",\"\",(IF(CL29=\"\",\"\",(IF(CM29=\"\",\"\",(IF(CN29=\"\",\"\",(SUM(CJ29:CN29))))))))))))","v":""},"","",null,null,null,null,null,null,null,null,"","","","",null,{"$f":"IF(Sheet1!C24=\"\",\"\",IF(COUNTIF(DA29:DC29,\"ร\"),\"ร\",IF(DC29=\"ร\",\"ร\",IF(DP29=\"ปกติ\",SUM(DA29:DB29,IF(DD29=\"\",DC29,DD29)),\"-\"))))","v":0},null,"",null,null,{"$f":"IF(Sheet1!C24=\"\",\"\",IF(DE29=\"\",\"\",IF(COUNTIF(DA29:DH29,\"ร\"),\"ร\",IF(COUNTIF(DA29:DH29,\"-\"),\"-\",IF(DP29=\"ปกติ\",SUM(DE29,IF(DH29=\"\",DG29,DH29)))))))","v":0},null,null,null,null,null,{"$f":"IF(เวลาเรียน!IP31=\"\",\"\",เวลาเรียน!IP31)","v":"ปกติ"}]
[24,2520,{"$f":"CONCATENATE(Sheet1!B25)","v":"18839"},{"$f":"CONCATENATE(Sheet1!C25&Sheet1!D25&\"       \"&Sheet1!E25)","v":"เด็กหญิงจิดาภา      ใจห้าว       "},24,null,null,null,null,null,null,null,null,null,null,null,null,null,null,null,null,null,null,null,null,{"$f":"IF(Sheet1!C25=\"\",\"\",IF(COUNTIF(F30:V30,\"-1\"),\"ร\",IF(DP30=\"ปกติ\",SUM(F30,G30,H30,I30,J30,K30,L30,M30,N30,O30,P30,Q30,R30,S30,T30,U30,V30,W30,X30,Y30),\"-\")))","v":0},null,"",null,null,null,null,null,null,null,null,null,null,null,null,null,null,null,null,null,null,null,null,{"$f":"IF(Sheet1!C25=\"\",\"\",IF(COUNTIF(AC30:AS30,\"-1\"),\"ร\",IF(DP30=\"ปกติ\",SUM(AC30,AD30,AE30,AF30,AG30,AH30,AI30,AJ30,AK30,AL30,AM30,AN30,AO30,AP30,AQ30,AR30,AS30),\"-\")))","v":0},null,"",null,null,null,null,null,null,null,null,null,null,null,null,null,null,null,{"$f":"IF(Sheet1!C25=\"\",\"\",IF(COUNTIF(AZ30:BN30,\"-1\"),\"ร\",IF(DP30=\"ปกติ\",SUM(AZ30,BA30,BB30,BC30,BD30,BE30,BF30,BG30,BH30,BI30,BJ30,BK30,BL30,BM30,BN30),\"-\")))","v":0},null,"",null,null,null,null,null,null,null,null,null,null,null,null,null,null,null,{"$f":"IF(Sheet1!C25=\"\",\"\",IF(COUNTIF(BR30:CF30,\"-1\"),\"ร\",IF(DP30=\"ปกติ\",SUM(BR30,BS30,BT30,BU30,BV30,BW30,BX30,BY30,BZ30,CA30,CB30,CC30,CD30,CE30,CF30),\"-\")))","v":0},null,"",null,null,null,null,null,{"$f":"IF(Sheet1!C25=\"\",\"\",IF(CJ30=\"\",\"\",(IF(CK30=\"\",\"\",(IF(CL30=\"\",\"\",(IF(CM30=\"\",\"\",(IF(CN30=\"\",\"\",(SUM(CJ30:CN30))))))))))))","v":""},"","",null,null,null,null,null,null,null,null,"","","","",null,{"$f":"IF(Sheet1!C25=\"\",\"\",IF(COUNTIF(DA30:DC30,\"ร\"),\"ร\",IF(DC30=\"ร\",\"ร\",IF(DP30=\"ปกติ\",SUM(DA30:DB30,IF(DD30=\"\",DC30,DD30)),\"-\"))))","v":0},null,"",null,null,{"$f":"IF(Sheet1!C25=\"\",\"\",IF(DE30=\"\",\"\",IF(COUNTIF(DA30:DH30,\"ร\"),\"ร\",IF(COUNTIF(DA30:DH30,\"-\"),\"-\",IF(DP30=\"ปกติ\",SUM(DE30,IF(DH30=\"\",DG30,DH30)))))))","v":0},null,null,null,null,null,{"$f":"IF(เวลาเรียน!IP32=\"\",\"\",เวลาเรียน!IP32)","v":"ปกติ"}]
[25,2521,{"$f":"CONCATENATE(Sheet1!B26)","v":"18840"},{"$f":"CONCATENATE(Sheet1!C26&Sheet1!D26&\"       \"&Sheet1!E26)","v":"เด็กหญิงณัฐนัน      วิโรจน์       "},25,null,null,null,null,null,null,null,null,null,null,null,null,null,null,null,null,null,null,null,null,{"$f":"IF(Sheet1!C26=\"\",\"\",IF(COUNTIF(F31:V31,\"-1\"),\"ร\",IF(DP31=\"ปกติ\",SUM(F31,G31,H31,I31,J31,K31,L31,M31,N31,O31,P31,Q31,R31,S31,T31,U31,V31,W31,X31,Y31),\"-\")))","v":0},null,"",null,null,null,null,null,null,null,null,null,null,null,null,null,null,null,null,null,null,null,null,{"$f":"IF(Sheet1!C26=\"\",\"\",IF(COUNTIF(AC31:AS31,\"-1\"),\"ร\",IF(DP31=\"ปกติ\",SUM(AC31,AD31,AE31,AF31,AG31,AH31,AI31,AJ31,AK31,AL31,AM31,AN31,AO31,AP31,AQ31,AR31,AS31),\"-\")))","v":0},null,"",null,null,null,null,null,null,null,null,null,null,null,null,null,null,null,{"$f":"IF(Sheet1!C26=\"\",\"\",IF(COUNTIF(AZ31:BN31,\"-1\"),\"ร\",IF(DP31=\"ปกติ\",SUM(AZ31,BA31,BB31,BC31,BD31,BE31,BF31,BG31,BH31,BI31,BJ31,BK31,BL31,BM31,BN31),\"-\")))","v":0},null,"",null,null,null,null,null,null,null,null,null,null,null,null,null,null,null,{"$f":"IF(Sheet1!C26=\"\",\"\",IF(COUNTIF(BR31:CF31,\"-1\"),\"ร\",IF(DP31=\"ปกติ\",SUM(BR31,BS31,BT31,BU31,BV31,BW31,BX31,BY31,BZ31,CA31,CB31,CC31,CD31,CE31,CF31),\"-\")))","v":0},null,"",null,null,null,null,null,{"$f":"IF(Sheet1!C26=\"\",\"\",IF(CJ31=\"\",\"\",(IF(CK31=\"\",\"\",(IF(CL31=\"\",\"\",(IF(CM31=\"\",\"\",(IF(CN31=\"\",\"\",(SUM(CJ31:CN31))))))))))))","v":""},"","",null,null,null,null,null,null,null,null,"","","","",null,{"$f":"IF(Sheet1!C26=\"\",\"\",IF(COUNTIF(DA31:DC31,\"ร\"),\"ร\",IF(DC31=\"ร\",\"ร\",IF(DP31=\"ปกติ\",SUM(DA31:DB31,IF(DD31=\"\",DC31,DD31)),\"-\"))))","v":0},null,"",null,null,{"$f":"IF(Sheet1!C26=\"\",\"\",IF(DE31=\"\",\"\",IF(COUNTIF(DA31:DH31,\"ร\"),\"ร\",IF(COUNTIF(DA31:DH31,\"-\"),\"-\",IF(DP31=\"ปกติ\",SUM(DE31,IF(DH31=\"\",DG31,DH31)))))))","v":0},null,null,null,null,null,{"$f":"IF(เวลาเรียน!IP33=\"\",\"\",เวลาเรียน!IP33)","v":"ปกติ"}]
[26,2522,{"$f":"CONCATENATE(Sheet1!B27)","v":"18841"},{"$f":"CONCATENATE(Sheet1!C27&Sheet1!D27&\"       \"&Sheet1!E27)","v":"เด็กหญิงชลิดา       กาญจนพานิช       "},26,null,null,null,null,null,null,null,null,null,null,null,null,null,null,null,null,null,null,null,null,{"$f":"IF(Sheet1!C27=\"\",\"\",IF(COUNTIF(F32:V32,\"-1\"),\"ร\",IF(DP32=\"ปกติ\",SUM(F32,G32,H32,I32,J32,K32,L32,M32,N32,O32,P32,Q32,R32,S32,T32,U32,V32,W32,X32,Y32),\"-\")))","v":0},null,"",null,null,null,null,null,null,null,null,null,null,null,null,null,null,null,null,null,null,null,null,{"$f":"IF(Sheet1!C27=\"\",\"\",IF(COUNTIF(AC32:AS32,\"-1\"),\"ร\",IF(DP32=\"ปกติ\",SUM(AC32,AD32,AE32,AF32,AG32,AH32,AI32,AJ32,AK32,AL32,AM32,AN32,AO32,AP32,AQ32,AR32,AS32),\"-\")))","v":0},null,"",null,null,null,null,null,null,null,null,null,null,null,null,null,null,null,{"$f":"IF(Sheet1!C27=\"\",\"\",IF(COUNTIF(AZ32:BN32,\"-1\"),\"ร\",IF(DP32=\"ปกติ\",SUM(AZ32,BA32,BB32,BC32,BD32,BE32,BF32,BG32,BH32,BI32,BJ32,BK32,BL32,BM32,BN32),\"-\")))","v":0},null,"",null,null,null,null,null,null,null,null,null,null,null,null,null,null,null,{"$f":"IF(Sheet1!C27=\"\",\"\",IF(COUNTIF(BR32:CF32,\"-1\"),\"ร\",IF(DP32=\"ปกติ\",SUM(BR32,BS32,BT32,BU32,BV32,BW32,BX32,BY32,BZ32,CA32,CB32,CC32,CD32,CE32,CF32),\"-\")))","v":0},null,"",null,null,null,null,null,{"$f":"IF(Sheet1!C27=\"\",\"\",IF(CJ32=\"\",\"\",(IF(CK32=\"\",\"\",(IF(CL32=\"\",\"\",(IF(CM32=\"\",\"\",(IF(CN32=\"\",\"\",(SUM(CJ32:CN32))))))))))))","v":""},"","",null,null,null,null,null,null,null,null,"","","","",null,{"$f":"IF(Sheet1!C27=\"\",\"\",IF(COUNTIF(DA32:DC32,\"ร\"),\"ร\",IF(DC32=\"ร\",\"ร\",IF(DP32=\"ปกติ\",SUM(DA32:DB32,IF(DD32=\"\",DC32,DD32)),\"-\"))))","v":0},null,"",null,null,{"$f":"IF(Sheet1!C27=\"\",\"\",IF(DE32=\"\",\"\",IF(COUNTIF(DA32:DH32,\"ร\"),\"ร\",IF(COUNTIF(DA32:DH32,\"-\"),\"-\",IF(DP32=\"ปกติ\",SUM(DE32,IF(DH32=\"\",DG32,DH32)))))))","v":0},null,null,null,null,null,{"$f":"IF(เวลาเรียน!IP34=\"\",\"\",เวลาเรียน!IP34)","v":"ปกติ"}]
[27,2523,{"$f":"CONCATENATE(Sheet1!B28)","v":"18842"},{"$f":"CONCATENATE(Sheet1!C28&Sheet1!D28&\"       \"&Sheet1!E28)","v":"เด็กหญิงณัฐภัทร     เทือกสุบรรณ         "},27,null,null,null,null,null,null,null,null,null,null,null,null,null,null,null,null,null,null,null,null,{"$f":"IF(Sheet1!C28=\"\",\"\",IF(COUNTIF(F33:V33,\"-1\"),\"ร\",IF(DP33=\"ปกติ\",SUM(F33,G33,H33,I33,J33,K33,L33,M33,N33,O33,P33,Q33,R33,S33,T33,U33,V33,W33,X33,Y33),\"-\")))","v":0},null,"",null,null,null,null,null,null,null,null,null,null,null,null,null,null,null,null,null,null,null,null,{"$f":"IF(Sheet1!C28=\"\",\"\",IF(COUNTIF(AC33:AS33,\"-1\"),\"ร\",IF(DP33=\"ปกติ\",SUM(AC33,AD33,AE33,AF33,AG33,AH33,AI33,AJ33,AK33,AL33,AM33,AN33,AO33,AP33,AQ33,AR33,AS33),\"-\")))","v":0},null,"",null,null,null,null,null,null,null,null,null,null,null,null,null,null,null,{"$f":"IF(Sheet1!C28=\"\",\"\",IF(COUNTIF(AZ33:BN33,\"-1\"),\"ร\",IF(DP33=\"ปกติ\",SUM(AZ33,BA33,BB33,BC33,BD33,BE33,BF33,BG33,BH33,BI33,BJ33,BK33,BL33,BM33,BN33),\"-\")))","v":0},null,"",null,null,null,null,null,null,null,null,null,null,null,null,null,null,null,{"$f":"IF(Sheet1!C28=\"\",\"\",IF(COUNTIF(BR33:CF33,\"-1\"),\"ร\",IF(DP33=\"ปกติ\",SUM(BR33,BS33,BT33,BU33,BV33,BW33,BX33,BY33,BZ33,CA33,CB33,CC33,CD33,CE33,CF33),\"-\")))","v":0},null,"",null,null,null,null,null,{"$f":"IF(Sheet1!C28=\"\",\"\",IF(CJ33=\"\",\"\",(IF(CK33=\"\",\"\",(IF(CL33=\"\",\"\",(IF(CM33=\"\",\"\",(IF(CN33=\"\",\"\",(SUM(CJ33:CN33))))))))))))","v":""},"","",null,null,null,null,null,null,null,null,"","","","",null,{"$f":"IF(Sheet1!C28=\"\",\"\",IF(COUNTIF(DA33:DC33,\"ร\"),\"ร\",IF(DC33=\"ร\",\"ร\",IF(DP33=\"ปกติ\",SUM(DA33:DB33,IF(DD33=\"\",DC33,DD33)),\"-\"))))","v":0},null,"",null,null,{"$f":"IF(Sheet1!C28=\"\",\"\",IF(DE33=\"\",\"\",IF(COUNTIF(DA33:DH33,\"ร\"),\"ร\",IF(COUNTIF(DA33:DH33,\"-\"),\"-\",IF(DP33=\"ปกติ\",SUM(DE33,IF(DH33=\"\",DG33,DH33)))))))","v":0},null,null,null,null,null,{"$f":"IF(เวลาเรียน!IP35=\"\",\"\",เวลาเรียน!IP35)","v":"ปกติ"}]
[28,2524,{"$f":"CONCATENATE(Sheet1!B29)","v":"18843"},{"$f":"CONCATENATE(Sheet1!C29&Sheet1!D29&\"       \"&Sheet1!E29)","v":"เด็กหญิงสุกัญญา     สาระทิพย์       "},28,null,null,null,null,null,null,null,null,null,null,null,null,null,null,null,null,null,null,null,null,{"$f":"IF(Sheet1!C29=\"\",\"\",IF(COUNTIF(F34:V34,\"-1\"),\"ร\",IF(DP34=\"ปกติ\",SUM(F34,G34,H34,I34,J34,K34,L34,M34,N34,O34,P34,Q34,R34,S34,T34,U34,V34,W34,X34,Y34),\"-\")))","v":0},null,"",null,null,null,null,null,null,null,null,null,null,null,null,null,null,null,null,null,null,null,null,{"$f":"IF(Sheet1!C29=\"\",\"\",IF(COUNTIF(AC34:AS34,\"-1\"),\"ร\",IF(DP34=\"ปกติ\",SUM(AC34,AD34,AE34,AF34,AG34,AH34,AI34,AJ34,AK34,AL34,AM34,AN34,AO34,AP34,AQ34,AR34,AS34),\"-\")))","v":0},null,"",null,null,null,null,null,null,null,null,null,null,null,null,null,null,null,{"$f":"IF(Sheet1!C29=\"\",\"\",IF(COUNTIF(AZ34:BN34,\"-1\"),\"ร\",IF(DP34=\"ปกติ\",SUM(AZ34,BA34,BB34,BC34,BD34,BE34,BF34,BG34,BH34,BI34,BJ34,BK34,BL34,BM34,BN34),\"-\")))","v":0},null,"",null,null,null,null,null,null,null,null,null,null,null,null,null,null,null,{"$f":"IF(Sheet1!C29=\"\",\"\",IF(COUNTIF(BR34:CF34,\"-1\"),\"ร\",IF(DP34=\"ปกติ\",SUM(BR34,BS34,BT34,BU34,BV34,BW34,BX34,BY34,BZ34,CA34,CB34,CC34,CD34,CE34,CF34),\"-\")))","v":0},null,"",null,null,null,null,null,{"$f":"IF(Sheet1!C29=\"\",\"\",IF(CJ34=\"\",\"\",(IF(CK34=\"\",\"\",(IF(CL34=\"\",\"\",(IF(CM34=\"\",\"\",(IF(CN34=\"\",\"\",(SUM(CJ34:CN34))))))))))))","v":""},"","",null,null,null,null,null,null,null,null,"","","","",null,{"$f":"IF(Sheet1!C29=\"\",\"\",IF(COUNTIF(DA34:DC34,\"ร\"),\"ร\",IF(DC34=\"ร\",\"ร\",IF(DP34=\"ปกติ\",SUM(DA34:DB34,IF(DD34=\"\",DC34,DD34)),\"-\"))))","v":0},null,"",null,null,{"$f":"IF(Sheet1!C29=\"\",\"\",IF(DE34=\"\",\"\",IF(COUNTIF(DA34:DH34,\"ร\"),\"ร\",IF(COUNTIF(DA34:DH34,\"-\"),\"-\",IF(DP34=\"ปกติ\",SUM(DE34,IF(DH34=\"\",DG34,DH34)))))))","v":0},null,null,null,null,null,{"$f":"IF(เวลาเรียน!IP36=\"\",\"\",เวลาเรียน!IP36)","v":"ปกติ"}]
[29,2525,{"$f":"CONCATENATE(Sheet1!B30)","v":"19012"},{"$f":"CONCATENATE(Sheet1!C30&Sheet1!D30&\"       \"&Sheet1!E30)","v":"เด็กหญิงนันท์นภัส   วัชรกาญจน์       "},29,null,null,null,null,null,null,null,null,null,null,null,null,null,null,null,null,null,null,null,null,{"$f":"IF(Sheet1!C30=\"\",\"\",IF(COUNTIF(F35:V35,\"-1\"),\"ร\",IF(DP35=\"ปกติ\",SUM(F35,G35,H35,I35,J35,K35,L35,M35,N35,O35,P35,Q35,R35,S35,T35,U35,V35,W35,X35,Y35),\"-\")))","v":0},null,"",null,null,null,null,null,null,null,null,null,null,null,null,null,null,null,null,null,null,null,null,{"$f":"IF(Sheet1!C30=\"\",\"\",IF(COUNTIF(AC35:AS35,\"-1\"),\"ร\",IF(DP35=\"ปกติ\",SUM(AC35,AD35,AE35,AF35,AG35,AH35,AI35,AJ35,AK35,AL35,AM35,AN35,AO35,AP35,AQ35,AR35,AS35),\"-\")))","v":0},null,"",null,null,null,null,null,null,null,null,null,null,null,null,null,null,null,{"$f":"IF(Sheet1!C30=\"\",\"\",IF(COUNTIF(AZ35:BN35,\"-1\"),\"ร\",IF(DP35=\"ปกติ\",SUM(AZ35,BA35,BB35,BC35,BD35,BE35,BF35,BG35,BH35,BI35,BJ35,BK35,BL35,BM35,BN35),\"-\")))","v":0},null,"",null,null,null,null,null,null,null,null,null,null,null,null,null,null,null,{"$f":"IF(Sheet1!C30=\"\",\"\",IF(COUNTIF(BR35:CF35,\"-1\"),\"ร\",IF(DP35=\"ปกติ\",SUM(BR35,BS35,BT35,BU35,BV35,BW35,BX35,BY35,BZ35,CA35,CB35,CC35,CD35,CE35,CF35),\"-\")))","v":0},null,"",null,null,null,null,null,{"$f":"IF(Sheet1!C30=\"\",\"\",IF(CJ35=\"\",\"\",(IF(CK35=\"\",\"\",(IF(CL35=\"\",\"\",(IF(CM35=\"\",\"\",(IF(CN35=\"\",\"\",(SUM(CJ35:CN35))))))))))))","v":""},"","",null,null,null,null,null,null,null,null,"","","","",null,{"$f":"IF(Sheet1!C30=\"\",\"\",IF(COUNTIF(DA35:DC35,\"ร\"),\"ร\",IF(DC35=\"ร\",\"ร\",IF(DP35=\"ปกติ\",SUM(DA35:DB35,IF(DD35=\"\",DC35,DD35)),\"-\"))))","v":0},null,"",null,null,{"$f":"IF(Sheet1!C30=\"\",\"\",IF(DE35=\"\",\"\",IF(COUNTIF(DA35:DH35,\"ร\"),\"ร\",IF(COUNTIF(DA35:DH35,\"-\"),\"-\",IF(DP35=\"ปกติ\",SUM(DE35,IF(DH35=\"\",DG35,DH35)))))))","v":0},null,null,null,null,null,{"$f":"IF(เวลาเรียน!IP37=\"\",\"\",เวลาเรียน!IP37)","v":"ปกติ"}]
[30,2526,{"$f":"CONCATENATE(Sheet1!B31)","v":"19013"},{"$f":"CONCATENATE(Sheet1!C31&Sheet1!D31&\"       \"&Sheet1!E31)","v":"เด็กชายธนภูมิ        แซ่ด่าน       "},30,null,null,null,null,null,null,null,null,null,null,null,null,null,null,null,null,null,null,null,null,{"$f":"IF(Sheet1!C31=\"\",\"\",IF(COUNTIF(F36:V36,\"-1\"),\"ร\",IF(DP36=\"ปกติ\",SUM(F36,G36,H36,I36,J36,K36,L36,M36,N36,O36,P36,Q36,R36,S36,T36,U36,V36,W36,X36,Y36),\"-\")))","v":0},null,"",null,null,null,null,null,null,null,null,null,null,null,null,null,null,null,null,null,null,null,null,{"$f":"IF(Sheet1!C31=\"\",\"\",IF(COUNTIF(AC36:AS36,\"-1\"),\"ร\",IF(DP36=\"ปกติ\",SUM(AC36,AD36,AE36,AF36,AG36,AH36,AI36,AJ36,AK36,AL36,AM36,AN36,AO36,AP36,AQ36,AR36,AS36),\"-\")))","v":0},null,"",null,null,null,null,null,null,null,null,null,null,null,null,null,null,null,{"$f":"IF(Sheet1!C31=\"\",\"\",IF(COUNTIF(AZ36:BN36,\"-1\"),\"ร\",IF(DP36=\"ปกติ\",SUM(AZ36,BA36,BB36,BC36,BD36,BE36,BF36,BG36,BH36,BI36,BJ36,BK36,BL36,BM36,BN36),\"-\")))","v":0},null,"",null,null,null,null,null,null,null,null,null,null,null,null,null,null,null,{"$f":"IF(Sheet1!C31=\"\",\"\",IF(COUNTIF(BR36:CF36,\"-1\"),\"ร\",IF(DP36=\"ปกติ\",SUM(BR36,BS36,BT36,BU36,BV36,BW36,BX36,BY36,BZ36,CA36,CB36,CC36,CD36,CE36,CF36),\"-\")))","v":0},null,"",null,null,null,null,null,{"$f":"IF(Sheet1!C31=\"\",\"\",IF(CJ36=\"\",\"\",(IF(CK36=\"\",\"\",(IF(CL36=\"\",\"\",(IF(CM36=\"\",\"\",(IF(CN36=\"\",\"\",(SUM(CJ36:CN36))))))))))))","v":""},"","",null,null,null,null,null,null,null,null,"","","","",null,{"$f":"IF(Sheet1!C31=\"\",\"\",IF(COUNTIF(DA36:DC36,\"ร\"),\"ร\",IF(DC36=\"ร\",\"ร\",IF(DP36=\"ปกติ\",SUM(DA36:DB36,IF(DD36=\"\",DC36,DD36)),\"-\"))))","v":0},null,"",null,null,{"$f":"IF(Sheet1!C31=\"\",\"\",IF(DE36=\"\",\"\",IF(COUNTIF(DA36:DH36,\"ร\"),\"ร\",IF(COUNTIF(DA36:DH36,\"-\"),\"-\",IF(DP36=\"ปกติ\",SUM(DE36,IF(DH36=\"\",DG36,DH36)))))))","v":0},null,null,null,null,null,{"$f":"IF(เวลาเรียน!IP38=\"\",\"\",เวลาเรียน!IP38)","v":"ปกติ"}]
[31,2528,{"$f":"CONCATENATE(Sheet1!B32)","v":"19045"},{"$f":"CONCATENATE(Sheet1!C32&Sheet1!D32&\"       \"&Sheet1!E32)","v":"เด็กหญิงสุชานันท์    เลื่องสุนทร       "},31,null,null,null,null,null,null,null,null,null,null,null,null,null,null,null,null,null,null,null,null,{"$f":"IF(Sheet1!C32=\"\",\"\",IF(COUNTIF(F37:V37,\"-1\"),\"ร\",IF(DP37=\"ปกติ\",SUM(F37,G37,H37,I37,J37,K37,L37,M37,N37,O37,P37,Q37,R37,S37,T37,U37,V37,W37,X37,Y37),\"-\")))","v":0},null,"",null,null,null,null,null,null,null,null,null,null,null,null,null,null,null,null,null,null,null,null,{"$f":"IF(Sheet1!C32=\"\",\"\",IF(COUNTIF(AC37:AS37,\"-1\"),\"ร\",IF(DP37=\"ปกติ\",SUM(AC37,AD37,AE37,AF37,AG37,AH37,AI37,AJ37,AK37,AL37,AM37,AN37,AO37,AP37,AQ37,AR37,AS37),\"-\")))","v":0},null,"",null,null,null,null,null,null,null,null,null,null,null,null,null,null,null,{"$f":"IF(Sheet1!C32=\"\",\"\",IF(COUNTIF(AZ37:BN37,\"-1\"),\"ร\",IF(DP37=\"ปกติ\",SUM(AZ37,BA37,BB37,BC37,BD37,BE37,BF37,BG37,BH37,BI37,BJ37,BK37,BL37,BM37,BN37),\"-\")))","v":0},null,"",null,null,null,null,null,null,null,null,null,null,null,null,null,null,null,{"$f":"IF(Sheet1!C32=\"\",\"\",IF(COUNTIF(BR37:CF37,\"-1\"),\"ร\",IF(DP37=\"ปกติ\",SUM(BR37,BS37,BT37,BU37,BV37,BW37,BX37,BY37,BZ37,CA37,CB37,CC37,CD37,CE37,CF37),\"-\")))","v":0},null,"",null,null,null,null,null,{"$f":"IF(Sheet1!C32=\"\",\"\",IF(CJ37=\"\",\"\",(IF(CK37=\"\",\"\",(IF(CL37=\"\",\"\",(IF(CM37=\"\",\"\",(IF(CN37=\"\",\"\",(SUM(CJ37:CN37))))))))))))","v":""},"","",null,null,null,null,null,null,null,null,"","","","",null,{"$f":"IF(Sheet1!C32=\"\",\"\",IF(COUNTIF(DA37:DC37,\"ร\"),\"ร\",IF(DC37=\"ร\",\"ร\",IF(DP37=\"ปกติ\",SUM(DA37:DB37,IF(DD37=\"\",DC37,DD37)),\"-\"))))","v":0},null,"",null,null,{"$f":"IF(Sheet1!C32=\"\",\"\",IF(DE37=\"\",\"\",IF(COUNTIF(DA37:DH37,\"ร\"),\"ร\",IF(COUNTIF(DA37:DH37,\"-\"),\"-\",IF(DP37=\"ปกติ\",SUM(DE37,IF(DH37=\"\",DG37,DH37)))))))","v":0},null,null,null,null,null,{"$f":"IF(เวลาเรียน!IP39=\"\",\"\",เวลาเรียน!IP39)","v":"ปกติ"}]
[32,2529,{"$f":"CONCATENATE(Sheet1!B33)","v":"19635"},{"$f":"CONCATENATE(Sheet1!C33&Sheet1!D33&\"       \"&Sheet1!E33)","v":"เด็กหญิงกันยาวีร์    เกตุสุวรรณ       "},32,null,null,null,null,null,null,null,null,null,null,null,null,null,null,null,null,null,null,null,null,{"$f":"IF(Sheet1!C33=\"\",\"\",IF(COUNTIF(F38:V38,\"-1\"),\"ร\",IF(DP38=\"ปกติ\",SUM(F38,G38,H38,I38,J38,K38,L38,M38,N38,O38,P38,Q38,R38,S38,T38,U38,V38,W38,X38,Y38),\"-\")))","v":0},null,"",null,null,null,null,null,null,null,null,null,null,null,null,null,null,null,null,null,null,null,null,{"$f":"IF(Sheet1!C33=\"\",\"\",IF(COUNTIF(AC38:AS38,\"-1\"),\"ร\",IF(DP38=\"ปกติ\",SUM(AC38,AD38,AE38,AF38,AG38,AH38,AI38,AJ38,AK38,AL38,AM38,AN38,AO38,AP38,AQ38,AR38,AS38),\"-\")))","v":0},null,"",null,null,null,null,null,null,null,null,null,null,null,null,null,null,null,{"$f":"IF(Sheet1!C33=\"\",\"\",IF(COUNTIF(AZ38:BN38,\"-1\"),\"ร\",IF(DP38=\"ปกติ\",SUM(AZ38,BA38,BB38,BC38,BD38,BE38,BF38,BG38,BH38,BI38,BJ38,BK38,BL38,BM38,BN38),\"-\")))","v":0},null,"",null,null,null,null,null,null,null,null,null,null,null,null,null,null,null,{"$f":"IF(Sheet1!C33=\"\",\"\",IF(COUNTIF(BR38:CF38,\"-1\"),\"ร\",IF(DP38=\"ปกติ\",SUM(BR38,BS38,BT38,BU38,BV38,BW38,BX38,BY38,BZ38,CA38,CB38,CC38,CD38,CE38,CF38),\"-\")))","v":0},null,"",null,null,null,null,null,{"$f":"IF(Sheet1!C33=\"\",\"\",IF(CJ38=\"\",\"\",(IF(CK38=\"\",\"\",(IF(CL38=\"\",\"\",(IF(CM38=\"\",\"\",(IF(CN38=\"\",\"\",(SUM(CJ38:CN38))))))))))))","v":""},"","",null,null,null,null,null,null,null,null,"","","","",null,{"$f":"IF(Sheet1!C33=\"\",\"\",IF(COUNTIF(DA38:DC38,\"ร\"),\"ร\",IF(DC38=\"ร\",\"ร\",IF(DP38=\"ปกติ\",SUM(DA38:DB38,IF(DD38=\"\",DC38,DD38)),\"-\"))))","v":0},null,"",null,null,{"$f":"IF(Sheet1!C33=\"\",\"\",IF(DE38=\"\",\"\",IF(COUNTIF(DA38:DH38,\"ร\"),\"ร\",IF(COUNTIF(DA38:DH38,\"-\"),\"-\",IF(DP38=\"ปกติ\",SUM(DE38,IF(DH38=\"\",DG38,DH38)))))))","v":0},null,null,null,null,null,{"$f":"IF(เวลาเรียน!IP40=\"\",\"\",เวลาเรียน!IP40)","v":"ปกติ"}]
[33,0,{"$f":"CONCATENATE(Sheet1!B34)","v":"19636"},{"$f":"CONCATENATE(Sheet1!C34&Sheet1!D34&\"       \"&Sheet1!E34)","v":"เด็กหญิงสิรินุช       ทองปลอด       "},33,null,null,null,null,null,null,null,null,null,null,null,null,null,null,null,null,null,null,null,null,{"$f":"IF(Sheet1!C34=\"\",\"\",IF(COUNTIF(F39:V39,\"-1\"),\"ร\",IF(DP39=\"ปกติ\",SUM(F39,G39,H39,I39,J39,K39,L39,M39,N39,O39,P39,Q39,R39,S39,T39,U39,V39,W39,X39,Y39),\"-\")))","v":0},null,"",null,null,null,null,null,null,null,null,null,null,null,null,null,null,null,null,null,null,null,null,{"$f":"IF(Sheet1!C34=\"\",\"\",IF(COUNTIF(AC39:AS39,\"-1\"),\"ร\",IF(DP39=\"ปกติ\",SUM(AC39,AD39,AE39,AF39,AG39,AH39,AI39,AJ39,AK39,AL39,AM39,AN39,AO39,AP39,AQ39,AR39,AS39),\"-\")))","v":0},null,"",null,null,null,null,null,null,null,null,null,null,null,null,null,null,null,{"$f":"IF(Sheet1!C34=\"\",\"\",IF(COUNTIF(AZ39:BN39,\"-1\"),\"ร\",IF(DP39=\"ปกติ\",SUM(AZ39,BA39,BB39,BC39,BD39,BE39,BF39,BG39,BH39,BI39,BJ39,BK39,BL39,BM39,BN39),\"-\")))","v":0},null,"",null,null,null,null,null,null,null,null,null,null,null,null,null,null,null,{"$f":"IF(Sheet1!C34=\"\",\"\",IF(COUNTIF(BR39:CF39,\"-1\"),\"ร\",IF(DP39=\"ปกติ\",SUM(BR39,BS39,BT39,BU39,BV39,BW39,BX39,BY39,BZ39,CA39,CB39,CC39,CD39,CE39,CF39),\"-\")))","v":0},null,"",null,null,null,null,null,{"$f":"IF(Sheet1!C34=\"\",\"\",IF(CJ39=\"\",\"\",(IF(CK39=\"\",\"\",(IF(CL39=\"\",\"\",(IF(CM39=\"\",\"\",(IF(CN39=\"\",\"\",(SUM(CJ39:CN39))))))))))))","v":""},"","",null,null,null,null,null,null,null,null,"",{"$f":"AB39","v":""},{"$f":"AY39","v":""},{"$f":"BQ39","v":""},null,{"$f":"IF(Sheet1!C34=\"\",\"\",IF(COUNTIF(DA39:DC39,\"ร\"),\"ร\",IF(DC39=\"ร\",\"ร\",IF(DP39=\"ปกติ\",SUM(DA39:DB39,IF(DD39=\"\",DC39,DD39)),\"-\"))))","v":0},null,{"$f":"CI39","v":""},null,null,{"$f":"IF(Sheet1!C34=\"\",\"\",IF(DE39=\"\",\"\",IF(COUNTIF(DA39:DH39,\"ร\"),\"ร\",IF(COUNTIF(DA39:DH39,\"-\"),\"-\",IF(DP39=\"ปกติ\",SUM(DE39,IF(DH39=\"\",DG39,DH39)))))))","v":0},null,null,null,null,null,{"$f":"IF(เวลาเรียน!IP41=\"\",\"\",เวลาเรียน!IP41)","v":"ปกติ"}]
[34,0,{"$f":"CONCATENATE(Sheet1!B35)","v":""},{"$f":"CONCATENATE(Sheet1!C35&Sheet1!D35&\"       \"&Sheet1!E35)","v":"       "},34,null,null,null,null,null,null,null,null,null,null,null,null,null,null,null,null,null,null,null,null,{"$f":"IF(Sheet1!C35=\"\",\"\",IF(COUNTIF(F40:V40,\"-1\"),\"ร\",IF(DP40=\"ปกติ\",SUM(F40,G40,H40,I40,J40,K40,L40,M40,N40,O40,P40,Q40,R40,S40,T40,U40,V40,W40,X40,Y40),\"-\")))","v":""},null,"",null,null,null,null,null,null,null,null,null,null,null,null,null,null,null,null,null,null,null,null,{"$f":"IF(Sheet1!C35=\"\",\"\",IF(COUNTIF(AC40:AS40,\"-1\"),\"ร\",IF(DP40=\"ปกติ\",SUM(AC40,AD40,AE40,AF40,AG40,AH40,AI40,AJ40,AK40,AL40,AM40,AN40,AO40,AP40,AQ40,AR40,AS40),\"-\")))","v":""},null,"",null,null,null,null,null,null,null,null,null,null,null,null,null,null,null,{"$f":"IF(Sheet1!C35=\"\",\"\",IF(COUNTIF(AZ40:BN40,\"-1\"),\"ร\",IF(DP40=\"ปกติ\",SUM(AZ40,BA40,BB40,BC40,BD40,BE40,BF40,BG40,BH40,BI40,BJ40,BK40,BL40,BM40,BN40),\"-\")))","v":""},null,"",null,null,null,null,null,null,null,null,null,null,null,null,null,null,null,{"$f":"IF(Sheet1!C35=\"\",\"\",IF(COUNTIF(BR40:CF40,\"-1\"),\"ร\",IF(DP40=\"ปกติ\",SUM(BR40,BS40,BT40,BU40,BV40,BW40,BX40,BY40,BZ40,CA40,CB40,CC40,CD40,CE40,CF40),\"-\")))","v":""},null,"",null,null,null,null,null,{"$f":"IF(Sheet1!C35=\"\",\"\",IF(CJ40=\"\",\"\",(IF(CK40=\"\",\"\",(IF(CL40=\"\",\"\",(IF(CM40=\"\",\"\",(IF(CN40=\"\",\"\",(SUM(CJ40:CN40))))))))))))","v":""},"","",null,null,null,null,null,null,null,null,{"$f":"IF(CR40=\"\",\"\",(IF(CS40=\"\",\"\",(IF(CT40=\"\",\"\",(IF(CU40=\"\",\"\",(IF(CV40=\"\",\"\",(IF(CW40=\"\",\"\",IF(CX40=\"\",\"\",(IF(CY40=\"\",\"\",(IF(COUNTIF(CR40:CY40,0)>0,\"มผ\",IF(AND(COUNTIF(CR40:CY40,3)>=5,COUNTIF(CR40:CY40,\"<2\")=0),\"ดย\",IF(OR(AND(AND(COUNTIF(CR40:CY40,3)>=1,COUNTIF(CR40:CY40,3)<=4),COUNTIF(CR40:CY40,\"<2\")=0),COUNTIF(CR40:CY40,2)=8,AND(COUNTIF(CR40:CY40,\">=2\")>=5,COUNTIF(CR40:CY40,1)>0)),\"ด\",IF(OR(COUNTIF(CR40:CY40,1)=8,AND(COUNTIF(CR40:CY40,\">=2\")>=1,COUNTIF(CR40:CY40,\">=2\")<=4)),\"ผ\",\"มผ\")))))))))))))))))))","v":""},"","","",null,{"$f":"IF(Sheet1!C35=\"\",\"\",IF(COUNTIF(DA40:DC40,\"ร\"),\"ร\",IF(DC40=\"ร\",\"ร\",IF(DP40=\"ปกติ\",SUM(DA40:DB40,IF(DD40=\"\",DC40,DD40)),\"-\"))))","v":""},null,"",null,null,{"$f":"IF(Sheet1!C35=\"\",\"\",IF(DE40=\"\",\"\",IF(COUNTIF(DA40:DH40,\"ร\"),\"ร\",IF(COUNTIF(DA40:DH40,\"-\"),\"-\",IF(DP40=\"ปกติ\",SUM(DE40,IF(DH40=\"\",DG40,DH40)))))))","v":""},null,null,null,null,null,{"$f":"IF(เวลาเรียน!IP42=\"\",\"\",เวลาเรียน!IP42)","v":"ปกติ"}]
[35,0,{"$f":"CONCATENATE(Sheet1!B36)","v":""},{"$f":"CONCATENATE(Sheet1!C36&Sheet1!D36&\"       \"&Sheet1!E36)","v":"       "},35,null,null,null,null,null,null,null,null,null,null,null,null,null,null,null,null,null,null,null,null,{"$f":"IF(Sheet1!C36=\"\",\"\",IF(COUNTIF(F41:V41,\"-1\"),\"ร\",IF(DP41=\"ปกติ\",SUM(F41,G41,H41,I41,J41,K41,L41,M41,N41,O41,P41,Q41,R41,S41,T41,U41,V41,W41,X41,Y41),\"-\")))","v":""},null,"",null,null,null,null,null,null,null,null,null,null,null,null,null,null,null,null,null,null,null,null,{"$f":"IF(Sheet1!C36=\"\",\"\",IF(COUNTIF(AC41:AS41,\"-1\"),\"ร\",IF(DP41=\"ปกติ\",SUM(AC41,AD41,AE41,AF41,AG41,AH41,AI41,AJ41,AK41,AL41,AM41,AN41,AO41,AP41,AQ41,AR41,AS41),\"-\")))","v":""},null,"",null,null,null,null,null,null,null,null,null,null,null,null,null,null,null,{"$f":"IF(Sheet1!C36=\"\",\"\",IF(COUNTIF(AZ41:BN41,\"-1\"),\"ร\",IF(DP41=\"ปกติ\",SUM(AZ41,BA41,BB41,BC41,BD41,BE41,BF41,BG41,BH41,BI41,BJ41,BK41,BL41,BM41,BN41),\"-\")))","v":""},null,"",null,null,null,null,null,null,null,null,null,null,null,null,null,null,null,{"$f":"IF(Sheet1!C36=\"\",\"\",IF(COUNTIF(BR41:CF41,\"-1\"),\"ร\",IF(DP41=\"ปกติ\",SUM(BR41,BS41,BT41,BU41,BV41,BW41,BX41,BY41,BZ41,CA41,CB41,CC41,CD41,CE41,CF41),\"-\")))","v":""},null,"",null,null,null,null,null,{"$f":"IF(Sheet1!C36=\"\",\"\",IF(CJ41=\"\",\"\",(IF(CK41=\"\",\"\",(IF(CL41=\"\",\"\",(IF(CM41=\"\",\"\",(IF(CN41=\"\",\"\",(SUM(CJ41:CN41))))))))))))","v":""},"","",null,null,null,null,null,null,null,null,"","","","",null,{"$f":"IF(Sheet1!C36=\"\",\"\",IF(COUNTIF(DA41:DC41,\"ร\"),\"ร\",IF(DC41=\"ร\",\"ร\",IF(DP41=\"ปกติ\",SUM(DA41:DB41,IF(DD41=\"\",DC41,DD41)),\"-\"))))","v":""},null,"",null,null,{"$f":"IF(Sheet1!C36=\"\",\"\",IF(DE41=\"\",\"\",IF(COUNTIF(DA41:DH41,\"ร\"),\"ร\",IF(COUNTIF(DA41:DH41,\"-\"),\"-\",IF(DP41=\"ปกติ\",SUM(DE41,IF(DH41=\"\",DG41,DH41)))))))","v":""},null,null,null,null,null,{"$f":"IF(เวลาเรียน!IP43=\"\",\"\",เวลาเรียน!IP43)","v":"ปกติ"}]
[36,0,{"$f":"CONCATENATE(Sheet1!B37)","v":""},{"$f":"CONCATENATE(Sheet1!C37&Sheet1!D37&\"       \"&Sheet1!E37)","v":"       "},null,null,null,null,null,null,null,null,null,null,null,null,null,null,null,null,null,null,null,null,null,{"$f":"IF(Sheet1!C37=\"\",\"\",IF(COUNTIF(F42:V42,\"-1\"),\"ร\",IF(DP42=\"ปกติ\",SUM(F42,G42,H42,I42,J42,K42,L42,M42,N42,O42,P42,Q42,R42,S42,T42,U42,V42,W42,X42,Y42),\"-\")))","v":""},null,"",null,null,null,null,null,null,null,null,null,null,null,null,null,null,null,null,null,null,null,null,{"$f":"IF(Sheet1!C37=\"\",\"\",IF(COUNTIF(AC42:AS42,\"-1\"),\"ร\",IF(DP42=\"ปกติ\",SUM(AC42,AD42,AE42,AF42,AG42,AH42,AI42,AJ42,AK42,AL42,AM42,AN42,AO42,AP42,AQ42,AR42,AS42),\"-\")))","v":""},null,"",null,null,null,null,null,null,null,null,null,null,null,null,null,null,null,{"$f":"IF(Sheet1!C37=\"\",\"\",IF(COUNTIF(AZ42:BN42,\"-1\"),\"ร\",IF(DP42=\"ปกติ\",SUM(AZ42,BA42,BB42,BC42,BD42,BE42,BF42,BG42,BH42,BI42,BJ42,BK42,BL42,BM42,BN42),\"-\")))","v":""},null,"",null,null,null,null,null,null,null,null,null,null,null,null,null,null,null,{"$f":"IF(Sheet1!C37=\"\",\"\",IF(COUNTIF(BR42:CF42,\"-1\"),\"ร\",IF(DP42=\"ปกติ\",SUM(BR42,BS42,BT42,BU42,BV42,BW42,BX42,BY42,BZ42,CA42,CB42,CC42,CD42,CE42,CF42),\"-\")))","v":""},null,"",null,null,null,null,null,{"$f":"IF(Sheet1!C37=\"\",\"\",IF(CJ42=\"\",\"\",(IF(CK42=\"\",\"\",(IF(CL42=\"\",\"\",(IF(CM42=\"\",\"\",(IF(CN42=\"\",\"\",(SUM(CJ42:CN42))))))))))))","v":""},"","",null,null,null,null,null,null,null,null,"","","","",null,{"$f":"IF(Sheet1!C37=\"\",\"\",IF(COUNTIF(DA42:DC42,\"ร\"),\"ร\",IF(DC42=\"ร\",\"ร\",IF(DP42=\"ปกติ\",SUM(DA42:DB42,IF(DD42=\"\",DC42,DD42)),\"-\"))))","v":""},null,"",null,null,{"$f":"IF(Sheet1!C37=\"\",\"\",IF(DE42=\"\",\"\",IF(COUNTIF(DA42:DH42,\"ร\"),\"ร\",IF(COUNTIF(DA42:DH42,\"-\"),\"-\",IF(DP42=\"ปกติ\",SUM(DE42,IF(DH42=\"\",DG42,DH42)))))))","v":""},null,null,null,null,null,{"$f":"IF(เวลาเรียน!IP44=\"\",\"\",เวลาเรียน!IP44)","v":""}]
[37,0,{"$f":"CONCATENATE(Sheet1!B38)","v":""},{"$f":"CONCATENATE(Sheet1!C38&Sheet1!D38&\"       \"&Sheet1!E38)","v":"       "},null,null,null,null,null,null,null,null,null,null,null,null,null,null,null,null,null,null,null,null,null,{"$f":"IF(Sheet1!C38=\"\",\"\",IF(COUNTIF(F43:V43,\"-1\"),\"ร\",IF(DP43=\"ปกติ\",SUM(F43,G43,H43,I43,J43,K43,L43,M43,N43,O43,P43,Q43,R43,S43,T43,U43,V43,W43,X43,Y43),\"-\")))","v":""},null,"",null,null,null,null,null,null,null,null,null,null,null,null,null,null,null,null,null,null,null,null,{"$f":"IF(Sheet1!C38=\"\",\"\",IF(COUNTIF(AC43:AS43,\"-1\"),\"ร\",IF(DP43=\"ปกติ\",SUM(AC43,AD43,AE43,AF43,AG43,AH43,AI43,AJ43,AK43,AL43,AM43,AN43,AO43,AP43,AQ43,AR43,AS43),\"-\")))","v":""},null,"",null,null,null,null,null,null,null,null,null,null,null,null,null,null,null,{"$f":"IF(Sheet1!C38=\"\",\"\",IF(COUNTIF(AZ43:BN43,\"-1\"),\"ร\",IF(DP43=\"ปกติ\",SUM(AZ43,BA43,BB43,BC43,BD43,BE43,BF43,BG43,BH43,BI43,BJ43,BK43,BL43,BM43,BN43),\"-\")))","v":""},null,"",null,null,null,null,null,null,null,null,null,null,null,null,null,null,null,{"$f":"IF(Sheet1!C38=\"\",\"\",IF(COUNTIF(BR43:CF43,\"-1\"),\"ร\",IF(DP43=\"ปกติ\",SUM(BR43,BS43,BT43,BU43,BV43,BW43,BX43,BY43,BZ43,CA43,CB43,CC43,CD43,CE43,CF43),\"-\")))","v":""},null,"",null,null,null,null,null,{"$f":"IF(Sheet1!C38=\"\",\"\",IF(CJ43=\"\",\"\",(IF(CK43=\"\",\"\",(IF(CL43=\"\",\"\",(IF(CM43=\"\",\"\",(IF(CN43=\"\",\"\",(SUM(CJ43:CN43))))))))))))","v":""},"","",null,null,null,null,null,null,null,null,"","","","",null,{"$f":"IF(Sheet1!C38=\"\",\"\",IF(COUNTIF(DA43:DC43,\"ร\"),\"ร\",IF(DC43=\"ร\",\"ร\",IF(DP43=\"ปกติ\",SUM(DA43:DB43,IF(DD43=\"\",DC43,DD43)),\"-\"))))","v":""},null,"",null,null,{"$f":"IF(Sheet1!C38=\"\",\"\",IF(DE43=\"\",\"\",IF(COUNTIF(DA43:DH43,\"ร\"),\"ร\",IF(COUNTIF(DA43:DH43,\"-\"),\"-\",IF(DP43=\"ปกติ\",SUM(DE43,IF(DH43=\"\",DG43,DH43)))))))","v":""},null,null,null,null,null,{"$f":"IF(เวลาเรียน!IP45=\"\",\"\",เวลาเรียน!IP45)","v":""}]
[38,0,{"$f":"CONCATENATE(Sheet1!B39)","v":""},{"$f":"CONCATENATE(Sheet1!C39&Sheet1!D39&\"       \"&Sheet1!E39)","v":"       "},null,null,null,null,null,null,null,null,null,null,null,null,null,null,null,null,null,null,null,null,null,{"$f":"IF(Sheet1!C39=\"\",\"\",IF(COUNTIF(F44:V44,\"-1\"),\"ร\",IF(DP44=\"ปกติ\",SUM(F44,G44,H44,I44,J44,K44,L44,M44,N44,O44,P44,Q44,R44,S44,T44,U44,V44,W44,X44,Y44),\"-\")))","v":""},null,{"$f":"IF(Z44=\"\",\"\",IF(Z44=\"-\",\"-\",IF(Z44=\"ร\",\"ร\",IF(Z44=0,\"\",IF($Z$5=0,\"\",ROUND(Z44/$AA$5,0))))))","v":""},null,null,null,null,null,null,null,null,null,null,null,null,null,null,null,null,null,null,null,null,{"$f":"IF(Sheet1!C39=\"\",\"\",IF(COUNTIF(AC44:AS44,\"-1\"),\"ร\",IF(DP44=\"ปกติ\",SUM(AC44,AD44,AE44,AF44,AG44,AH44,AI44,AJ44,AK44,AL44,AM44,AN44,AO44,AP44,AQ44,AR44,AS44),\"-\")))","v":""},null,{"$f":"IF(AW44=\"\",\"\",IF(AW44=\"-\",\"-\",IF(AW44=\"ร\",\"ร\",IF(AW44=0,\"\",IF($AW$5=0,\"\",ROUND(AW44/$AX$5,0))))))","v":""},null,null,null,null,null,null,null,null,null,null,null,null,null,null,null,{"$f":"IF(Sheet1!C39=\"\",\"\",IF(COUNTIF(AZ44:BN44,\"-1\"),\"ร\",IF(DP44=\"ปกติ\",SUM(AZ44,BA44,BB44,BC44,BD44,BE44,BF44,BG44,BH44,BI44,BJ44,BK44,BL44,BM44,BN44),\"-\")))","v":""},null,{"$f":"IF(BO44=\"\",\"\",IF(BO44=\"-\",\"-\",IF(BO44=\"ร\",\"ร\",IF(BO44=0,\"\",IF($BO$5=0,\"\",ROUND(BO44/$BP$5,0))))))","v":""},null,null,null,null,null,null,null,null,null,null,null,null,null,null,null,{"$f":"IF(Sheet1!C39=\"\",\"\",IF(COUNTIF(BR44:CF44,\"-1\"),\"ร\",IF(DP44=\"ปกติ\",SUM(BR44,BS44,BT44,BU44,BV44,BW44,BX44,BY44,BZ44,CA44,CB44,CC44,CD44,CE44,CF44),\"-\")))","v":""},null,{"$f":"IF(CG44=\"\",\"\",IF(CG44=\"-\",\"-\",IF(CG44=\"ร\",\"ร\",IF(CG44=0,\"\",IF($CG$5=0,\"\",ROUND(CG44/$CH$5,0))))))","v":""},null,null,null,null,null,{"$f":"IF(Sheet1!C39=\"\",\"\",IF(CJ44=\"\",\"\",(IF(CK44=\"\",\"\",(IF(CL44=\"\",\"\",(IF(CM44=\"\",\"\",(IF(CN44=\"\",\"\",(SUM(CJ44:CN44))))))))))))","v":""},{"$f":"IF(CO44=\"\",\"\",IF(CO44=\"-\",\"-\",IF(CO44=\"ร\",\"ร\",IF(CO44=0,0,IF($CO$5=0,\"\",ROUND(CO44/5,0))))))","v":""},{"$f":"IF(CP44=\"\",\"\",(IF(CP44>=2.5,\"ดย\",(IF(CP44>=1.5,\"ด\",(IF(CP44>=0.6,\"ผ\",(IF(CP44<=0.4,\"มผ\")))))))))","v":""},null,null,null,null,null,null,null,null,"",{"$f":"AB44","v":""},{"$f":"AY44","v":""},{"$f":"BQ44","v":""},null,{"$f":"IF(Sheet1!C39=\"\",\"\",IF(COUNTIF(DA44:DC44,\"ร\"),\"ร\",IF(DC44=\"ร\",\"ร\",IF(DP44=\"ปกติ\",SUM(DA44:DB44,IF(DD44=\"\",DC44,DD44)),\"-\"))))","v":""},null,{"$f":"CI44","v":""},null,null,{"$f":"IF(Sheet1!C39=\"\",\"\",IF(DE44=\"\",\"\",IF(COUNTIF(DA44:DH44,\"ร\"),\"ร\",IF(COUNTIF(DA44:DH44,\"-\"),\"-\",IF(DP44=\"ปกติ\",SUM(DE44,IF(DH44=\"\",DG44,DH44)))))))","v":""},null,null,null,null,null,{"$f":"IF(เวลาเรียน!IP46=\"\",\"\",เวลาเรียน!IP46)","v":""}]
[39,0,{"$f":"CONCATENATE(Sheet1!B40)","v":""},{"$f":"CONCATENATE(Sheet1!C40&Sheet1!D40&\"       \"&Sheet1!E40)","v":"       "},null,null,null,null,null,null,null,null,null,null,null,null,null,null,null,null,null,null,null,null,null,{"$f":"IF(Sheet1!C40=\"\",\"\",IF(COUNTIF(F45:V45,\"-1\"),\"ร\",IF(DP45=\"ปกติ\",SUM(F45,G45,H45,I45,J45,K45,L45,M45,N45,O45,P45,Q45,R45,S45,T45,U45,V45,W45,X45,Y45),\"-\")))","v":""},null,"",null,null,null,null,null,null,null,null,null,null,null,null,null,null,null,null,null,null,null,null,{"$f":"IF(Sheet1!C40=\"\",\"\",IF(COUNTIF(AC45:AS45,\"-1\"),\"ร\",IF(DP45=\"ปกติ\",SUM(AC45,AD45,AE45,AF45,AG45,AH45,AI45,AJ45,AK45,AL45,AM45,AN45,AO45,AP45,AQ45,AR45,AS45),\"-\")))","v":""},null,"",null,null,null,null,null,null,null,null,null,null,null,null,null,null,null,{"$f":"IF(Sheet1!C40=\"\",\"\",IF(COUNTIF(AZ45:BN45,\"-1\"),\"ร\",IF(DP45=\"ปกติ\",SUM(AZ45,BA45,BB45,BC45,BD45,BE45,BF45,BG45,BH45,BI45,BJ45,BK45,BL45,BM45,BN45),\"-\")))","v":""},null,"",null,null,null,null,null,null,null,null,null,null,null,null,null,null,null,{"$f":"IF(Sheet1!C40=\"\",\"\",IF(COUNTIF(BR45:CF45,\"-1\"),\"ร\",IF(DP45=\"ปกติ\",SUM(BR45,BS45,BT45,BU45,BV45,BW45,BX45,BY45,BZ45,CA45,CB45,CC45,CD45,CE45,CF45),\"-\")))","v":""},null,"",null,null,null,null,null,{"$f":"IF(Sheet1!C40=\"\",\"\",IF(CJ45=\"\",\"\",(IF(CK45=\"\",\"\",(IF(CL45=\"\",\"\",(IF(CM45=\"\",\"\",(IF(CN45=\"\",\"\",(SUM(CJ45:CN45))))))))))))","v":""},"","",null,null,null,null,null,null,null,null,"","","","",null,{"$f":"IF(Sheet1!C40=\"\",\"\",IF(COUNTIF(DA45:DC45,\"ร\"),\"ร\",IF(DC45=\"ร\",\"ร\",IF(DP45=\"ปกติ\",SUM(DA45:DB45,IF(DD45=\"\",DC45,DD45)),\"-\"))))","v":""},null,"",null,null,{"$f":"IF(Sheet1!C40=\"\",\"\",IF(DE45=\"\",\"\",IF(COUNTIF(DA45:DH45,\"ร\"),\"ร\",IF(COUNTIF(DA45:DH45,\"-\"),\"-\",IF(DP45=\"ปกติ\",SUM(DE45,IF(DH45=\"\",DG45,DH45)))))))","v":""},null,null,null,null,null,{"$f":"IF(เวลาเรียน!IP47=\"\",\"\",เวลาเรียน!IP47)","v":""}]
[40,0,{"$f":"CONCATENATE(Sheet1!B41)","v":""},{"$f":"CONCATENATE(Sheet1!C41&Sheet1!D41&\"       \"&Sheet1!E41)","v":"       "},null,null,null,null,null,null,null,null,null,null,null,null,null,null,null,null,null,null,null,null,null,{"$f":"IF(Sheet1!C41=\"\",\"\",IF(COUNTIF(F46:V46,\"-1\"),\"ร\",IF(DP46=\"ปกติ\",SUM(F46,G46,H46,I46,J46,K46,L46,M46,N46,O46,P46,Q46,R46,S46,T46,U46,V46,W46,X46,Y46),\"-\")))","v":""},null,"",null,null,null,null,null,null,null,null,null,null,null,null,null,null,null,null,null,null,null,null,{"$f":"IF(Sheet1!C41=\"\",\"\",IF(COUNTIF(AC46:AS46,\"-1\"),\"ร\",IF(DP46=\"ปกติ\",SUM(AC46,AD46,AE46,AF46,AG46,AH46,AI46,AJ46,AK46,AL46,AM46,AN46,AO46,AP46,AQ46,AR46,AS46),\"-\")))","v":""},null,"",null,null,null,null,null,null,null,null,null,null,null,null,null,null,null,{"$f":"IF(Sheet1!C41=\"\",\"\",IF(COUNTIF(AZ46:BN46,\"-1\"),\"ร\",IF(DP46=\"ปกติ\",SUM(AZ46,BA46,BB46,BC46,BD46,BE46,BF46,BG46,BH46,BI46,BJ46,BK46,BL46,BM46,BN46),\"-\")))","v":""},null,"",null,null,null,null,null,null,null,null,null,null,null,null,null,null,null,{"$f":"IF(Sheet1!C41=\"\",\"\",IF(COUNTIF(BR46:CF46,\"-1\"),\"ร\",IF(DP46=\"ปกติ\",SUM(BR46,BS46,BT46,BU46,BV46,BW46,BX46,BY46,BZ46,CA46,CB46,CC46,CD46,CE46,CF46),\"-\")))","v":""},null,"",null,null,null,null,null,{"$f":"IF(Sheet1!C41=\"\",\"\",IF(CJ46=\"\",\"\",(IF(CK46=\"\",\"\",(IF(CL46=\"\",\"\",(IF(CM46=\"\",\"\",(IF(CN46=\"\",\"\",(SUM(CJ46:CN46))))))))))))","v":""},"","",null,null,null,null,null,null,null,null,"","","","",null,{"$f":"IF(Sheet1!C41=\"\",\"\",IF(COUNTIF(DA46:DC46,\"ร\"),\"ร\",IF(DC46=\"ร\",\"ร\",IF(DP46=\"ปกติ\",SUM(DA46:DB46,IF(DD46=\"\",DC46,DD46)),\"-\"))))","v":""},null,"",null,null,{"$f":"IF(Sheet1!C41=\"\",\"\",IF(DE46=\"\",\"\",IF(COUNTIF(DA46:DH46,\"ร\"),\"ร\",IF(COUNTIF(DA46:DH46,\"-\"),\"-\",IF(DP46=\"ปกติ\",SUM(DE46,IF(DH46=\"\",DG46,DH46)))))))","v":""},null,null,null,null,null,{"$f":"IF(เวลาเรียน!IP48=\"\",\"\",เวลาเรียน!IP48)","v":""}]
[36,0,{"$f":"CONCATENATE(Sheet1!B42)","v":""},{"$f":"CONCATENATE(Sheet1!C42&Sheet1!D42&\"       \"&Sheet1!E42)","v":"       "},null,null,null,null,null,null,null,null,null,null,null,null,null,null,null,null,null,null,null,null,null,{"$f":"IF(Sheet1!C42=\"\",\"\",IF(COUNTIF(F47:V47,\"-1\"),\"ร\",IF(DP47=\"ปกติ\",SUM(F47,G47,H47,I47,J47,K47,L47,M47,N47,O47,P47,Q47,R47,S47,T47,U47,V47,W47,X47,Y47),\"-\")))","v":""},null,"",null,null,null,null,null,null,null,null,null,null,null,null,null,null,null,null,null,null,null,null,{"$f":"IF(Sheet1!C42=\"\",\"\",IF(COUNTIF(AC47:AS47,\"-1\"),\"ร\",IF(DP47=\"ปกติ\",SUM(AC47,AD47,AE47,AF47,AG47,AH47,AI47,AJ47,AK47,AL47,AM47,AN47,AO47,AP47,AQ47,AR47,AS47),\"-\")))","v":""},null,"",null,null,null,null,null,null,null,null,null,null,null,null,null,null,null,{"$f":"IF(Sheet1!C42=\"\",\"\",IF(COUNTIF(AZ47:BN47,\"-1\"),\"ร\",IF(DP47=\"ปกติ\",SUM(AZ47,BA47,BB47,BC47,BD47,BE47,BF47,BG47,BH47,BI47,BJ47,BK47,BL47,BM47,BN47),\"-\")))","v":""},null,"",null,null,null,null,null,null,null,null,null,null,null,null,null,null,null,{"$f":"IF(Sheet1!C42=\"\",\"\",IF(COUNTIF(BR47:CF47,\"-1\"),\"ร\",IF(DP47=\"ปกติ\",SUM(BR47,BS47,BT47,BU47,BV47,BW47,BX47,BY47,BZ47,CA47,CB47,CC47,CD47,CE47,CF47),\"-\")))","v":""},null,"",null,null,null,null,null,{"$f":"IF(Sheet1!C42=\"\",\"\",IF(CJ47=\"\",\"\",(IF(CK47=\"\",\"\",(IF(CL47=\"\",\"\",(IF(CM47=\"\",\"\",(IF(CN47=\"\",\"\",(SUM(CJ47:CN47))))))))))))","v":""},"","",null,null,null,null,null,null,null,null,"","","","",null,{"$f":"IF(Sheet1!C42=\"\",\"\",IF(COUNTIF(DA47:DC47,\"ร\"),\"ร\",IF(DC47=\"ร\",\"ร\",IF(DP47=\"ปกติ\",SUM(DA47:DB47,IF(DD47=\"\",DC47,DD47)),\"-\"))))","v":""},null,"",null,null,{"$f":"IF(Sheet1!C42=\"\",\"\",IF(DE47=\"\",\"\",IF(COUNTIF(DA47:DH47,\"ร\"),\"ร\",IF(COUNTIF(DA47:DH47,\"-\"),\"-\",IF(DP47=\"ปกติ\",SUM(DE47,IF(DH47=\"\",DG47,DH47)))))))","v":""},null,null,null,null,null,{"$f":"IF(เวลาเรียน!IP49=\"\",\"\",เวลาเรียน!IP49)","v":""}]
[37,0,{"$f":"CONCATENATE(Sheet1!B43)","v":""},{"$f":"CONCATENATE(Sheet1!C43&Sheet1!D43&\"       \"&Sheet1!E43)","v":"       "},null,null,null,null,null,null,null,null,null,null,null,null,null,null,null,null,null,null,null,null,null,{"$f":"IF(Sheet1!C43=\"\",\"\",IF(COUNTIF(F48:V48,\"-1\"),\"ร\",IF(DP48=\"ปกติ\",SUM(F48,G48,H48,I48,J48,K48,L48,M48,N48,O48,P48,Q48,R48,S48,T48,U48,V48,W48,X48,Y48),\"-\")))","v":""},null,"",null,null,null,null,null,null,null,null,null,null,null,null,null,null,null,null,null,null,null,null,{"$f":"IF(Sheet1!C43=\"\",\"\",IF(COUNTIF(AC48:AS48,\"-1\"),\"ร\",IF(DP48=\"ปกติ\",SUM(AC48,AD48,AE48,AF48,AG48,AH48,AI48,AJ48,AK48,AL48,AM48,AN48,AO48,AP48,AQ48,AR48,AS48),\"-\")))","v":""},null,"",null,null,null,null,null,null,null,null,null,null,null,null,null,null,null,{"$f":"IF(Sheet1!C43=\"\",\"\",IF(COUNTIF(AZ48:BN48,\"-1\"),\"ร\",IF(DP48=\"ปกติ\",SUM(AZ48,BA48,BB48,BC48,BD48,BE48,BF48,BG48,BH48,BI48,BJ48,BK48,BL48,BM48,BN48),\"-\")))","v":""},null,"",null,null,null,null,null,null,null,null,null,null,null,null,null,null,null,{"$f":"IF(Sheet1!C43=\"\",\"\",IF(COUNTIF(BR48:CF48,\"-1\"),\"ร\",IF(DP48=\"ปกติ\",SUM(BR48,BS48,BT48,BU48,BV48,BW48,BX48,BY48,BZ48,CA48,CB48,CC48,CD48,CE48,CF48),\"-\")))","v":""},null,"",null,null,null,null,null,{"$f":"IF(Sheet1!C43=\"\",\"\",IF(CJ48=\"\",\"\",(IF(CK48=\"\",\"\",(IF(CL48=\"\",\"\",(IF(CM48=\"\",\"\",(IF(CN48=\"\",\"\",(SUM(CJ48:CN48))))))))))))","v":""},"","",null,null,null,null,null,null,null,null,"","","","",null,{"$f":"IF(Sheet1!C43=\"\",\"\",IF(COUNTIF(DA48:DC48,\"ร\"),\"ร\",IF(DC48=\"ร\",\"ร\",IF(DP48=\"ปกติ\",SUM(DA48:DB48,IF(DD48=\"\",DC48,DD48)),\"-\"))))","v":""},null,"",null,null,{"$f":"IF(Sheet1!C43=\"\",\"\",IF(DE48=\"\",\"\",IF(COUNTIF(DA48:DH48,\"ร\"),\"ร\",IF(COUNTIF(DA48:DH48,\"-\"),\"-\",IF(DP48=\"ปกติ\",SUM(DE48,IF(DH48=\"\",DG48,DH48)))))))","v":""},null,null,null,null,null,{"$f":"IF(เวลาเรียน!IP50=\"\",\"\",เวลาเรียน!IP50)","v":""}]
[38,0,{"$f":"CONCATENATE(Sheet1!B44)","v":""},{"$f":"CONCATENATE(Sheet1!C44&Sheet1!D44&\"       \"&Sheet1!E44)","v":"       "},null,null,null,null,null,null,null,null,null,null,null,null,null,null,null,null,null,null,null,null,null,{"$f":"IF(Sheet1!C44=\"\",\"\",IF(COUNTIF(F49:V49,\"-1\"),\"ร\",IF(DP49=\"ปกติ\",SUM(F49,G49,H49,I49,J49,K49,L49,M49,N49,O49,P49,Q49,R49,S49,T49,U49,V49,W49,X49,Y49),\"-\")))","v":""},null,"",null,null,null,null,null,null,null,null,null,null,null,null,null,null,null,null,null,null,null,null,{"$f":"IF(Sheet1!C44=\"\",\"\",IF(COUNTIF(AC49:AS49,\"-1\"),\"ร\",IF(DP49=\"ปกติ\",SUM(AC49,AD49,AE49,AF49,AG49,AH49,AI49,AJ49,AK49,AL49,AM49,AN49,AO49,AP49,AQ49,AR49,AS49),\"-\")))","v":""},null,"",null,null,null,null,null,null,null,null,null,null,null,null,null,null,null,{"$f":"IF(Sheet1!C44=\"\",\"\",IF(COUNTIF(AZ49:BN49,\"-1\"),\"ร\",IF(DP49=\"ปกติ\",SUM(AZ49,BA49,BB49,BC49,BD49,BE49,BF49,BG49,BH49,BI49,BJ49,BK49,BL49,BM49,BN49),\"-\")))","v":""},null,"",null,null,null,null,null,null,null,null,null,null,null,null,null,null,null,{"$f":"IF(Sheet1!C44=\"\",\"\",IF(COUNTIF(BR49:CF49,\"-1\"),\"ร\",IF(DP49=\"ปกติ\",SUM(BR49,BS49,BT49,BU49,BV49,BW49,BX49,BY49,BZ49,CA49,CB49,CC49,CD49,CE49,CF49),\"-\")))","v":""},null,"",null,null,null,null,null,{"$f":"IF(Sheet1!C44=\"\",\"\",IF(CJ49=\"\",\"\",(IF(CK49=\"\",\"\",(IF(CL49=\"\",\"\",(IF(CM49=\"\",\"\",(IF(CN49=\"\",\"\",(SUM(CJ49:CN49))))))))))))","v":""},"","",null,null,null,null,null,null,null,null,"","","","",null,{"$f":"IF(Sheet1!C44=\"\",\"\",IF(COUNTIF(DA49:DC49,\"ร\"),\"ร\",IF(DC49=\"ร\",\"ร\",IF(DP49=\"ปกติ\",SUM(DA49:DB49,IF(DD49=\"\",DC49,DD49)),\"-\"))))","v":""},null,"",null,null,{"$f":"IF(Sheet1!C44=\"\",\"\",IF(DE49=\"\",\"\",IF(COUNTIF(DA49:DH49,\"ร\"),\"ร\",IF(COUNTIF(DA49:DH49,\"-\"),\"-\",IF(DP49=\"ปกติ\",SUM(DE49,IF(DH49=\"\",DG49,DH49)))))))","v":""},null,null,null,null,null,{"$f":"IF(เวลาเรียน!IP51=\"\",\"\",เวลาเรียน!IP51)","v":""}]
[39,0,{"$f":"CONCATENATE(Sheet1!B45)","v":""},{"$f":"CONCATENATE(Sheet1!C45&Sheet1!D45&\"       \"&Sheet1!E45)","v":"       "},null,null,null,null,null,null,null,null,null,null,null,null,null,null,null,null,null,null,null,null,null,{"$f":"IF(Sheet1!C45=\"\",\"\",IF(COUNTIF(F50:V50,\"-1\"),\"ร\",IF(DP50=\"ปกติ\",SUM(F50,G50,H50,I50,J50,K50,L50,M50,N50,O50,P50,Q50,R50,S50,T50,U50,V50,W50,X50,Y50),\"-\")))","v":""},null,"",null,null,null,null,null,null,null,null,null,null,null,null,null,null,null,null,null,null,null,null,{"$f":"IF(Sheet1!C45=\"\",\"\",IF(COUNTIF(AC50:AS50,\"-1\"),\"ร\",IF(DP50=\"ปกติ\",SUM(AC50,AD50,AE50,AF50,AG50,AH50,AI50,AJ50,AK50,AL50,AM50,AN50,AO50,AP50,AQ50,AR50,AS50),\"-\")))","v":""},null,"",null,null,null,null,null,null,null,null,null,null,null,null,null,null,null,{"$f":"IF(Sheet1!C45=\"\",\"\",IF(COUNTIF(AZ50:BN50,\"-1\"),\"ร\",IF(DP50=\"ปกติ\",SUM(AZ50,BA50,BB50,BC50,BD50,BE50,BF50,BG50,BH50,BI50,BJ50,BK50,BL50,BM50,BN50),\"-\")))","v":""},null,"",null,null,null,null,null,null,null,null,null,null,null,null,null,null,null,{"$f":"IF(Sheet1!C45=\"\",\"\",IF(COUNTIF(BR50:CF50,\"-1\"),\"ร\",IF(DP50=\"ปกติ\",SUM(BR50,BS50,BT50,BU50,BV50,BW50,BX50,BY50,BZ50,CA50,CB50,CC50,CD50,CE50,CF50),\"-\")))","v":""},null,"",null,null,null,null,null,{"$f":"IF(Sheet1!C45=\"\",\"\",IF(CJ50=\"\",\"\",(IF(CK50=\"\",\"\",(IF(CL50=\"\",\"\",(IF(CM50=\"\",\"\",(IF(CN50=\"\",\"\",(SUM(CJ50:CN50))))))))))))","v":""},"","",null,null,null,null,null,null,null,null,{"$f":"IF(CR50=\"\",\"\",(IF(CS50=\"\",\"\",(IF(CT50=\"\",\"\",(IF(CU50=\"\",\"\",(IF(CV50=\"\",\"\",(IF(CW50=\"\",\"\",IF(CX50=\"\",\"\",(IF(CY50=\"\",\"\",(IF(COUNTIF(CR50:CY50,0)>0,\"มผ\",IF(AND(COUNTIF(CR50:CY50,3)>=5,COUNTIF(CR50:CY50,\"<2\")=0),\"ดย\",IF(OR(AND(AND(COUNTIF(CR50:CY50,3)>=1,COUNTIF(CR50:CY50,3)<=4),COUNTIF(CR50:CY50,\"<2\")=0),COUNTIF(CR50:CY50,2)=8,AND(COUNTIF(CR50:CY50,\">=2\")>=5,COUNTIF(CR50:CY50,1)>0)),\"ด\",IF(OR(COUNTIF(CR50:CY50,1)=8,AND(COUNTIF(CR50:CY50,\">=2\")>=1,COUNTIF(CR50:CY50,\">=2\")<=4)),\"ผ\",\"มผ\")))))))))))))))))))","v":""},"","","",null,{"$f":"IF(Sheet1!C45=\"\",\"\",IF(COUNTIF(DA50:DC50,\"ร\"),\"ร\",IF(DC50=\"ร\",\"ร\",IF(DP50=\"ปกติ\",SUM(DA50:DB50,IF(DD50=\"\",DC50,DD50)),\"-\"))))","v":""},null,"",null,null,{"$f":"IF(Sheet1!C45=\"\",\"\",IF(DE50=\"\",\"\",IF(COUNTIF(DA50:DH50,\"ร\"),\"ร\",IF(COUNTIF(DA50:DH50,\"-\"),\"-\",IF(DP50=\"ปกติ\",SUM(DE50,IF(DH50=\"\",DG50,DH50)))))))","v":""},null,null,null,null,null,{"$f":"IF(เวลาเรียน!IP52=\"\",\"\",เวลาเรียน!IP52)","v":""}]
[40,0,{"$f":"CONCATENATE(Sheet1!B46)","v":""},{"$f":"CONCATENATE(Sheet1!C46&Sheet1!D46&\"       \"&Sheet1!E46)","v":"       "},null,null,null,null,null,null,null,null,null,null,null,null,null,null,null,null,null,null,null,null,null,{"$f":"IF(Sheet1!C46=\"\",\"\",IF(COUNTIF(F51:V51,\"-1\"),\"ร\",IF(DP51=\"ปกติ\",SUM(F51,G51,H51,I51,J51,K51,L51,M51,N51,O51,P51,Q51,R51,S51,T51,U51,V51,W51,X51,Y51),\"-\")))","v":""},null,"",null,null,null,null,null,null,null,null,null,null,null,null,null,null,null,null,null,null,null,null,{"$f":"IF(Sheet1!C46=\"\",\"\",IF(COUNTIF(AC51:AS51,\"-1\"),\"ร\",IF(DP51=\"ปกติ\",SUM(AC51,AD51,AE51,AF51,AG51,AH51,AI51,AJ51,AK51,AL51,AM51,AN51,AO51,AP51,AQ51,AR51,AS51),\"-\")))","v":""},null,"",null,null,null,null,null,null,null,null,null,null,null,null,null,null,null,{"$f":"IF(Sheet1!C46=\"\",\"\",IF(COUNTIF(AZ51:BN51,\"-1\"),\"ร\",IF(DP51=\"ปกติ\",SUM(AZ51,BA51,BB51,BC51,BD51,BE51,BF51,BG51,BH51,BI51,BJ51,BK51,BL51,BM51,BN51),\"-\")))","v":""},null,"",null,null,null,null,null,null,null,null,null,null,null,null,null,null,null,{"$f":"IF(Sheet1!C46=\"\",\"\",IF(COUNTIF(BR51:CF51,\"-1\"),\"ร\",IF(DP51=\"ปกติ\",SUM(BR51,BS51,BT51,BU51,BV51,BW51,BX51,BY51,BZ51,CA51,CB51,CC51,CD51,CE51,CF51),\"-\")))","v":""},null,"",null,null,null,null,null,{"$f":"IF(Sheet1!C46=\"\",\"\",IF(CJ51=\"\",\"\",(IF(CK51=\"\",\"\",(IF(CL51=\"\",\"\",(IF(CM51=\"\",\"\",(IF(CN51=\"\",\"\",(SUM(CJ51:CN51))))))))))))","v":""},"","",null,null,null,null,null,null,null,null,"","","","",null,{"$f":"IF(Sheet1!C46=\"\",\"\",IF(COUNTIF(DA51:DC51,\"ร\"),\"ร\",IF(DC51=\"ร\",\"ร\",IF(DP51=\"ปกติ\",SUM(DA51:DB51,IF(DD51=\"\",DC51,DD51)),\"-\"))))","v":""},null,"",null,null,{"$f":"IF(Sheet1!C46=\"\",\"\",IF(DE51=\"\",\"\",IF(COUNTIF(DA51:DH51,\"ร\"),\"ร\",IF(COUNTIF(DA51:DH51,\"-\"),\"-\",IF(DP51=\"ปกติ\",SUM(DE51,IF(DH51=\"\",DG51,DH51)))))))","v":""},null,null,null,null,null,{"$f":"IF(เวลาเรียน!IP53=\"\",\"\",เวลาเรียน!IP53)","v":""}]
[36,0]
[37,0]
[38,0]
[39,0]
[40,0]
[null,null,null,null,null,null,null,null,null,null,null,null,null,null,null,null,null,null,null,null,null,null,null,null,null,null,null,null,null,null,null,null,null,null,null,null,null,null,null,null,null,null,null,null,null,null,null,null,null,null,null,null,null,null,null,null,null,null,null,null,null,null,null,null,null,null,null,null,null,null,null,null,null,null,null,null,null,null,null,null,null,null,null,null,null,null,null,null,null,null,null,null,null,null,null,null,null,null,null,null,null,null,null,null,null,null,null,null,null,null,null,null,null,null,null,null,null,null,null,null,null,null,null,null,null,null,null,null,null,null,null,null,null,null,null,null,null,null,{"$f":"กำหนดอัตราส่วนคะแนน!FA4","v":0},null,null,null,null,null,null,null,null,null,null,null,null,null,null,null,null,null,null,null,null,null,null,null,null,null,null,null,null,null,null,null,null,null,null,null,null,null,null,null,null,null,null,null,null,null,null,null,null,null,null,null,null,null,null,null,null,null,null,null,null,null,null,null,null,null,null,null,null,null,null,null,null,null,null,null,null,null,null,null,null,null,null,null,null,{"$f":"COUNTIF($CQ$7:$CQ$56,\"3\")","v":0},{"$f":"COUNTIF($CQ$7:$CQ$56,\"2\")","v":0},{"$f":"COUNTIF($CQ$7:$CQ$56,\"1\")","v":0},{"$f":"COUNTIF($CQ$7:$CQ$56,\"0\")","v":0},null,null,null,null,{"$f":"COUNTIF($CZ$7:$CZ$56,\"3\")","v":0},{"$f":"COUNTIF($CZ$7:$CZ$56,\"2\")","v":0},{"$f":"COUNTIF($CZ$7:$CZ$56,\"1\")","v":0},{"$f":"COUNTIF($CZ$7:$CZ$56,\"0\")","v":0}]
[]
[]
[]
[]
[]
[]
[]
[]
[]
[]
[]
[]
[]
[]
[]
[]
[]
[]
[]
[]
[]
[]
[]
[]
[]
[]
[]
[]
[]
[]
[]
[]
[]
[]
[]
[]
[]
[]
[]
[]
[null,"ท 1.1",null,null,null,null,null,null,null,null,null,null,null,null,null,null,null,null,null,null,null,null,null,null,null,null,null,null,null,null,null,null,null,null,null,null,null,null,null,null,null,null,null,null,null,null,null,null,null,null,null,null,null,null,null,null,null,null,null,null,null,null,null,null,null,null,null,null,null,null,null,null,null,null,null,null,null,null,null,null,null,null,null,null,null,null,null,null,null,null,null,null,null,null,null,null,null,null,null,null,null,null,null,null,null,null,null,null,null,null,null,null,null,null,null,null,null,null,null,null,null,null,null,null,null,null,null,null,null,null,null,null,null,null,null,null,null,null,null,null,"ม.1/1"]
[null,"ท 2.1",null,null,null,null,null,null,null,null,null,null,null,null,null,null,null,null,null,null,null,null,null,null,null,null,null,null,null,null,null,null,null,null,null,null,null,null,null,null,null,null,null,null,null,null,null,null,null,null,null,null,null,null,null,null,null,null,null,null,null,null,null,null,null,null,null,null,null,null,null,null,null,null,null,null,null,null,null,null,null,null,null,null,null,null,null,null,null,null,null,null,null,null,null,null,null,null,null,null,null,null,null,null,null,null,null,null,null,null,null,null,null,null,null,null,null,null,null,null,null,null,null,null,null,null,null,null,null,null,null,null,null,null,null,null,null,null,null,null,"ม.1/2"]
[null,"ท 3.1",null,null,null,null,null,null,null,null,null,null,null,null,null,null,null,null,null,null,null,null,null,null,null,null,null,null,null,null,null,null,null,null,null,null,null,null,null,null,null,null,null,null,null,null,null,null,null,null,null,null,null,null,null,null,null,null,null,null,null,null,null,null,null,null,null,null,null,null,null,null,null,null,null,null,null,null,null,null,null,null,null,null,null,null,null,null,null,null,null,null,null,null,null,null,null,null,null,null,null,null,null,null,null,null,null,null,null,null,null,null,null,null,null,null,null,null,null,null,null,null,null,null,null,null,null,null,null,null,null,null,null,null,null,null,null,null,null,null,"ม.1/3"]
[null,"ท 4.1",null,null,null,null,null,null,null,null,null,null,null,null,null,null,null,null,null,null,null,null,null,null,null,null,null,null,null,null,null,null,null,null,null,null,null,null,null,null,null,null,null,null,null,null,null,null,null,null,null,null,null,null,null,null,null,null,null,null,null,null,null,null,null,null,null,null,null,null,null,null,null,null,null,null,null,null,null,null,null,null,null,null,null,null,null,null,null,null,null,null,null,null,null,null,null,null,null,null,null,null,null,null,null,null,null,null,null,null,null,null,null,null,null,null,null,null,null,null,null,null,null,null,null,null,null,null,null,null,null,null,null,null,null,null,null,null,null,null,"ม.1/4"]
[null,"ท 5.1",null,null,null,null,null,null,null,null,null,null,null,null,null,null,null,null,null,null,null,null,null,null,null,null,null,null,null,null,null,null,null,null,null,null,null,null,null,null,null,null,null,null,null,null,null,null,null,null,null,null,null,null,null,null,null,null,null,null,null,null,null,null,null,null,null,null,null,null,null,null,null,null,null,null,null,null,null,null,null,null,null,null,null,null,null,null,null,null,null,null,null,null,null,null,null,null,null,null,null,null,null,null,null,null,null,null,null,null,null,null,null,null,null,null,null,null,null,null,null,null,null,null,null,null,null,null,null,null,null,null,null,null,null,null,null,null,null,null,"ม.1/5"]
[null,"ค 1.1",null,null,null,null,null,null,null,null,null,null,null,null,null,null,null,null,null,null,null,null,null,null,null,null,null,null,null,null,null,null,null,null,null,null,null,null,null,null,null,null,null,null,null,null,null,null,null,null,null,null,null,null,null,null,null,null,null,null,null,null,null,null,null,null,null,null,null,null,null,null,null,null,null,null,null,null,null,null,null,null,null,null,null,null,null,null,null,null,null,null,null,null,null,null,null,null,null,null,null,null,null,null,null,null,null,null,null,null,null,null,null,null,null,null,null,null,null,null,null,null,null,null,null,null,null,null,null,null,null,null,null,null,null,null,null,null,null,null,"ม.1/6"]
[null,"ค 1.2",null,null,null,null,null,null,null,null,null,null,null,null,null,null,null,null,null,null,null,null,null,null,null,null,null,null,null,null,null,null,null,null,null,null,null,null,null,null,null,null,null,null,null,null,null,null,null,null,null,null,null,null,null,null,null,null,null,null,null,null,null,null,null,null,null,null,null,null,null,null,null,null,null,null,null,null,null,null,null,null,null,null,null,null,null,null,null,null,null,null,null,null,null,null,null,null,null,null,null,null,null,null,null,null,null,null,null,null,null,null,null,null,null,null,null,null,null,null,null,null,null,null,null,null,null,null,null,null,null,null,null,null,null,null,null,null,null,null,"ม.1/7"]
[null,"ค 1.3",null,null,null,null,null,null,null,null,null,null,null,null,null,null,null,null,null,null,null,null,null,null,null,null,null,null,null,null,null,null,null,null,null,null,null,null,null,null,null,null,null,null,null,null,null,null,null,null,null,null,null,null,null,null,null,null,null,null,null,null,null,null,null,null,null,null,null,null,null,null,null,null,null,null,null,null,null,null,null,null,null,null,null,null,null,null,null,null,null,null,null,null,null,null,null,null,null,null,null,null,null,null,null,null,null,null,null,null,null,null,null,null,null,null,null,null,null,null,null,null,null,null,null,null,null,null,null,null,null,null,null,null,null,null,null,null,null,null,"ม.1/8"]
[null,"ค 1.4",null,null,null,null,null,null,null,null,null,null,null,null,null,null,null,null,null,null,null,null,null,null,null,null,null,null,null,null,null,null,null,null,null,null,null,null,null,null,null,null,null,null,null,null,null,null,null,null,null,null,null,null,null,null,null,null,null,null,null,null,null,null,null,null,null,null,null,null,null,null,null,null,null,null,null,null,null,null,null,null,null,null,null,null,null,null,null,null,null,null,null,null,null,null,null,null,null,null,null,null,null,null,null,null,null,null,null,null,null,null,null,null,null,null,null,null,null,null,null,null,null,null,null,null,null,null,null,null,null,null,null,null,null,null,null,null,null,null,"ม.1/9"]
[null,"ค 2.1",null,null,null,null,null,null,null,null,null,null,null,null,null,null,null,null,null,null,null,null,null,null,null,null,null,null,null,null,null,null,null,null,null,null,null,null,null,null,null,null,null,null,null,null,null,null,null,null,null,null,null,null,null,null,null,null,null,null,null,null,null,null,null,null,null,null,null,null,null,null,null,null,null,null,null,null,null,null,null,null,null,null,null,null,null,null,null,null,null,null,null,null,null,null,null,null,null,null,null,null,null,null,null,null,null,null,null,null,null,null,null,null,null,null,null,null,null,null,null,null,null,null,null,null,null,null,null,null,null,null,null,null,null,null,null,null,null,null,"ม.1/10"]
[null,"ค 2.2",null,null,null,null,null,null,null,null,null,null,null,null,null,null,null,null,null,null,null,null,null,null,null,null,null,null,null,null,null,null,null,null,null,null,null,null,null,null,null,null,null,null,null,null,null,null,null,null,null,null,null,null,null,null,null,null,null,null,null,null,null,null,null,null,null,null,null,null,null,null,null,null,null,null,null,null,null,null,null,null,null,null,null,null,null,null,null,null,null,null,null,null,null,null,null,null,null,null,null,null,null,null,null,null,null,null,null,null,null,null,null,null,null,null,null,null,null,null,null,null,null,null,null,null,null,null,null,null,null,null,null,null,null,null,null,null,null,null,"ม.2/1"]
[null,"ค 3.1",null,null,null,null,null,null,null,null,null,null,null,null,null,null,null,null,null,null,null,null,null,null,null,null,null,null,null,null,null,null,null,null,null,null,null,null,null,null,null,null,null,null,null,null,null,null,null,null,null,null,null,null,null,null,null,null,null,null,null,null,null,null,null,null,null,null,null,null,null,null,null,null,null,null,null,null,null,null,null,null,null,null,null,null,null,null,null,null,null,null,null,null,null,null,null,null,null,null,null,null,null,null,null,null,null,null,null,null,null,null,null,null,null,null,null,null,null,null,null,null,null,null,null,null,null,null,null,null,null,null,null,null,null,null,null,null,null,null,"ม.2/2"]
[null,"ค 3.2",null,null,null,null,null,null,null,null,null,null,null,null,null,null,null,null,null,null,null,null,null,null,null,null,null,null,null,null,null,null,null,null,null,null,null,null,null,null,null,null,null,null,null,null,null,null,null,null,null,null,null,null,null,null,null,null,null,null,null,null,null,null,null,null,null,null,null,null,null,null,null,null,null,null,null,null,null,null,null,null,null,null,null,null,null,null,null,null,null,null,null,null,null,null,null,null,null,null,null,null,null,null,null,null,null,null,null,null,null,null,null,null,null,null,null,null,null,null,null,null,null,null,null,null,null,null,null,null,null,null,null,null,null,null,null,null,null,null,"ม.2/3"]
[null,"ค 4.1",null,null,null,null,null,null,null,null,null,null,null,null,null,null,null,null,null,null,null,null,null,null,null,null,null,null,null,null,null,null,null,null,null,null,null,null,null,null,null,null,null,null,null,null,null,null,null,null,null,null,null,null,null,null,null,null,null,null,null,null,null,null,null,null,null,null,null,null,null,null,null,null,null,null,null,null,null,null,null,null,null,null,null,null,null,null,null,null,null,null,null,null,null,null,null,null,null,null,null,null,null,null,null,null,null,null,null,null,null,null,null,null,null,null,null,null,null,null,null,null,null,null,null,null,null,null,null,null,null,null,null,null,null,null,null,null,null,null,"ม.2/4"]
[null,"ค 4.2",null,null,null,null,null,null,null,null,null,null,null,null,null,null,null,null,null,null,null,null,null,null,null,null,null,null,null,null,null,null,null,null,null,null,null,null,null,null,null,null,null,null,null,null,null,null,null,null,null,null,null,null,null,null,null,null,null,null,null,null,null,null,null,null,null,null,null,null,null,null,null,null,null,null,null,null,null,null,null,null,null,null,null,null,null,null,null,null,null,null,null,null,null,null,null,null,null,null,null,null,null,null,null,null,null,null,null,null,null,null,null,null,null,null,null,null,null,null,null,null,null,null,null,null,null,null,null,null,null,null,null,null,null,null,null,null,null,null,"ม.2/5"]
[null,"ค 5.1",null,null,null,null,null,null,null,null,null,null,null,null,null,null,null,null,null,null,null,null,null,null,null,null,null,null,null,null,null,null,null,null,null,null,null,null,null,null,null,null,null,null,null,null,null,null,null,null,null,null,null,null,null,null,null,null,null,null,null,null,null,null,null,null,null,null,null,null,null,null,null,null,null,null,null,null,null,null,null,null,null,null,null,null,null,null,null,null,null,null,null,null,null,null,null,null,null,null,null,null,null,null,null,null,null,null,null,null,null,null,null,null,null,null,null,null,null,null,null,null,null,null,null,null,null,null,null,null,null,null,null,null,null,null,null,null,null,null,"ม.2/6"]
[null,"ค 5.2",null,null,null,null,null,null,null,null,null,null,null,null,null,null,null,null,null,null,null,null,null,null,null,null,null,null,null,null,null,null,null,null,null,null,null,null,null,null,null,null,null,null,null,null,null,null,null,null,null,null,null,null,null,null,null,null,null,null,null,null,null,null,null,null,null,null,null,null,null,null,null,null,null,null,null,null,null,null,null,null,null,null,null,null,null,null,null,null,null,null,null,null,null,null,null,null,null,null,null,null,null,null,null,null,null,null,null,null,null,null,null,null,null,null,null,null,null,null,null,null,null,null,null,null,null,null,null,null,null,null,null,null,null,null,null,null,null,null,"ม.2/7"]
[null,"ค 5.3",null,null,null,null,null,null,null,null,null,null,null,null,null,null,null,null,null,null,null,null,null,null,null,null,null,null,null,null,null,null,null,null,null,null,null,null,null,null,null,null,null,null,null,null,null,null,null,null,null,null,null,null,null,null,null,null,null,null,null,null,null,null,null,null,null,null,null,null,null,null,null,null,null,null,null,null,null,null,null,null,null,null,null,null,null,null,null,null,null,null,null,null,null,null,null,null,null,null,null,null,null,null,null,null,null,null,null,null,null,null,null,null,null,null,null,null,null,null,null,null,null,null,null,null,null,null,null,null,null,null,null,null,null,null,null,null,null,null,"ม.2/8"]
[null,"ค 6.1",null,null,null,null,null,null,null,null,null,null,null,null,null,null,null,null,null,null,null,null,null,null,null,null,null,null,null,null,null,null,null,null,null,null,null,null,null,null,null,null,null,null,null,null,null,null,null,null,null,null,null,null,null,null,null,null,null,null,null,null,null,null,null,null,null,null,null,null,null,null,null,null,null,null,null,null,null,null,null,null,null,null,null,null,null,null,null,null,null,null,null,null,null,null,null,null,null,null,null,null,null,null,null,null,null,null,null,null,null,null,null,null,null,null,null,null,null,null,null,null,null,null,null,null,null,null,null,null,null,null,null,null,null,null,null,null,null,null,"ม.2/9"]
[null,"ว 1.1",null,null,null,null,null,null,null,null,null,null,null,null,null,null,null,null,null,null,null,null,null,null,null,null,null,null,null,null,null,null,null,null,null,null,null,null,null,null,null,null,null,null,null,null,null,null,null,null,null,null,null,null,null,null,null,null,null,null,null,null,null,null,null,null,null,null,null,null,null,null,null,null,null,null,null,null,null,null,null,null,null,null,null,null,null,null,null,null,null,null,null,null,null,null,null,null,null,null,null,null,null,null,null,null,null,null,null,null,null,null,null,null,null,null,null,null,null,null,null,null,null,null,null,null,null,null,null,null,null,null,null,null,null,null,null,null,null,null,"ม.2/10"]
[null,"ว 1.2",null,null,null,null,null,null,null,null,null,null,null,null,null,null,null,null,null,null,null,null,null,null,null,null,null,null,null,null,null,null,null,null,null,null,null,null,null,null,null,null,null,null,null,null,null,null,null,null,null,null,null,null,null,null,null,null,null,null,null,null,null,null,null,null,null,null,null,null,null,null,null,null,null,null,null,null,null,null,null,null,null,null,null,null,null,null,null,null,null,null,null,null,null,null,null,null,null,null,null,null,null,null,null,null,null,null,null,null,null,null,null,null,null,null,null,null,null,null,null,null,null,null,null,null,null,null,null,null,null,null,null,null,null,null,null,null,null,null,"ม.3/1"]
[null,"ว 2.1",null,null,null,null,null,null,null,null,null,null,null,null,null,null,null,null,null,null,null,null,null,null,null,null,null,null,null,null,null,null,null,null,null,null,null,null,null,null,null,null,null,null,null,null,null,null,null,null,null,null,null,null,null,null,null,null,null,null,null,null,null,null,null,null,null,null,null,null,null,null,null,null,null,null,null,null,null,null,null,null,null,null,null,null,null,null,null,null,null,null,null,null,null,null,null,null,null,null,null,null,null,null,null,null,null,null,null,null,null,null,null,null,null,null,null,null,null,null,null,null,null,null,null,null,null,null,null,null,null,null,null,null,null,null,null,null,null,null,"ม.3/2"]
[null,"ว 2.2",null,null,null,null,null,null,null,null,null,null,null,null,null,null,null,null,null,null,null,null,null,null,null,null,null,null,null,null,null,null,null,null,null,null,null,null,null,null,null,null,null,null,null,null,null,null,null,null,null,null,null,null,null,null,null,null,null,null,null,null,null,null,null,null,null,null,null,null,null,null,null,null,null,null,null,null,null,null,null,null,null,null,null,null,null,null,null,null,null,null,null,null,null,null,null,null,null,null,null,null,null,null,null,null,null,null,null,null,null,null,null,null,null,null,null,null,null,null,null,null,null,null,null,null,null,null,null,null,null,null,null,null,null,null,null,null,null,null,"ม.3/3"]
[null,"ว 3.1",null,null,null,null,null,null,null,null,null,null,null,null,null,null,null,null,null,null,null,null,null,null,null,null,null,null,null,null,null,null,null,null,null,null,null,null,null,null,null,null,null,null,null,null,null,null,null,null,null,null,null,null,null,null,null,null,null,null,null,null,null,null,null,null,null,null,null,null,null,null,null,null,null,null,null,null,null,null,null,null,null,null,null,null,null,null,null,null,null,null,null,null,null,null,null,null,null,null,null,null,null,null,null,null,null,null,null,null,null,null,null,null,null,null,null,null,null,null,null,null,null,null,null,null,null,null,null,null,null,null,null,null,null,null,null,null,null,null,"ม.3/4"]
[null,"ว 3.2",null,null,null,null,null,null,null,null,null,null,null,null,null,null,null,null,null,null,null,null,null,null,null,null,null,null,null,null,null,null,null,null,null,null,null,null,null,null,null,null,null,null,null,null,null,null,null,null,null,null,null,null,null,null,null,null,null,null,null,null,null,null,null,null,null,null,null,null,null,null,null,null,null,null,null,null,null,null,null,null,null,null,null,null,null,null,null,null,null,null,null,null,null,null,null,null,null,null,null,null,null,null,null,null,null,null,null,null,null,null,null,null,null,null,null,null,null,null,null,null,null,null,null,null,null,null,null,null,null,null,null,null,null,null,null,null,null,null,"ม.3/5"]
[null,"ว 4.1",null,null,null,null,null,null,null,null,null,null,null,null,null,null,null,null,null,null,null,null,null,null,null,null,null,null,null,null,null,null,null,null,null,null,null,null,null,null,null,null,null,null,null,null,null,null,null,null,null,null,null,null,null,null,null,null,null,null,null,null,null,null,null,null,null,null,null,null,null,null,null,null,null,null,null,null,null,null,null,null,null,null,null,null,null,null,null,null,null,null,null,null,null,null,null,null,null,null,null,null,null,null,null,null,null,null,null,null,null,null,null,null,null,null,null,null,null,null,null,null,null,null,null,null,null,null,null,null,null,null,null,null,null,null,null,null,null,null,"ม.3/6"]
[null,"ว 4.2",null,null,null,null,null,null,null,null,null,null,null,null,null,null,null,null,null,null,null,null,null,null,null,null,null,null,null,null,null,null,null,null,null,null,null,null,null,null,null,null,null,null,null,null,null,null,null,null,null,null,null,null,null,null,null,null,null,null,null,null,null,null,null,null,null,null,null,null,null,null,null,null,null,null,null,null,null,null,null,null,null,null,null,null,null,null,null,null,null,null,null,null,null,null,null,null,null,null,null,null,null,null,null,null,null,null,null,null,null,null,null,null,null,null,null,null,null,null,null,null,null,null,null,null,null,null,null,null,null,null,null,null,null,null,null,null,null,null,"ม.3/7"]
[null,"ว 5.1",null,null,null,null,null,null,null,null,null,null,null,null,null,null,null,null,null,null,null,null,null,null,null,null,null,null,null,null,null,null,null,null,null,null,null,null,null,null,null,null,null,null,null,null,null,null,null,null,null,null,null,null,null,null,null,null,null,null,null,null,null,null,null,null,null,null,null,null,null,null,null,null,null,null,null,null,null,null,null,null,null,null,null,null,null,null,null,null,null,null,null,null,null,null,null,null,null,null,null,null,null,null,null,null,null,null,null,null,null,null,null,null,null,null,null,null,null,null,null,null,null,null,null,null,null,null,null,null,null,null,null,null,null,null,null,null,null,null,"ม.3/8"]
[null,"ว 6.1",null,null,null,null,null,null,null,null,null,null,null,null,null,null,null,null,null,null,null,null,null,null,null,null,null,null,null,null,null,null,null,null,null,null,null,null,null,null,null,null,null,null,null,null,null,null,null,null,null,null,null,null,null,null,null,null,null,null,null,null,null,null,null,null,null,null,null,null,null,null,null,null,null,null,null,null,null,null,null,null,null,null,null,null,null,null,null,null,null,null,null,null,null,null,null,null,null,null,null,null,null,null,null,null,null,null,null,null,null,null,null,null,null,null,null,null,null,null,null,null,null,null,null,null,null,null,null,null,null,null,null,null,null,null,null,null,null,null,"ม.3/9"]
[null,"ว 7.1",null,null,null,null,null,null,null,null,null,null,null,null,null,null,null,null,null,null,null,null,null,null,null,null,null,null,null,null,null,null,null,null,null,null,null,null,null,null,null,null,null,null,null,null,null,null,null,null,null,null,null,null,null,null,null,null,null,null,null,null,null,null,null,null,null,null,null,null,null,null,null,null,null,null,null,null,null,null,null,null,null,null,null,null,null,null,null,null,null,null,null,null,null,null,null,null,null,null,null,null,null,null,null,null,null,null,null,null,null,null,null,null,null,null,null,null,null,null,null,null,null,null,null,null,null,null,null,null,null,null,null,null,null,null,null,null,null,null,"ม.3/10"]
[null,"ว 7.2",null,null,null,null,null,null,null,null,null,null,null,null,null,null,null,null,null,null,null,null,null,null,null,null,null,null,null,null,null,null,null,null,null,null,null,null,null,null,null,null,null,null,null,null,null,null,null,null,null,null,null,null,null,null,null,null,null,null,null,null,null,null,null,null,null,null,null,null,null,null,null,null,null,null,null,null,null,null,null,null,null,null,null,null,null,null,null,null,null,null,null,null,null,null,null,null,null,null,null,null,null,null,null,null,null,null,null,null,null,null,null,null,null,null,null,null,null,null,null,null,null,null,null,null,null,null,null,null,null,null,null,null,null,null,null,null,null,null,"ม.4-6/1"]
[null,"ว 8.1",null,null,null,null,null,null,null,null,null,null,null,null,null,null,null,null,null,null,null,null,null,null,null,null,null,null,null,null,null,null,null,null,null,null,null,null,null,null,null,null,null,null,null,null,null,null,null,null,null,null,null,null,null,null,null,null,null,null,null,null,null,null,null,null,null,null,null,null,null,null,null,null,null,null,null,null,null,null,null,null,null,null,null,null,null,null,null,null,null,null,null,null,null,null,null,null,null,null,null,null,null,null,null,null,null,null,null,null,null,null,null,null,null,null,null,null,null,null,null,null,null,null,null,null,null,null,null,null,null,null,null,null,null,null,null,null,null,null,"ม.4-6/2"]
[null,"ส 1.1",null,null,null,null,null,null,null,null,null,null,null,null,null,null,null,null,null,null,null,null,null,null,null,null,null,null,null,null,null,null,null,null,null,null,null,null,null,null,null,null,null,null,null,null,null,null,null,null,null,null,null,null,null,null,null,null,null,null,null,null,null,null,null,null,null,null,null,null,null,null,null,null,null,null,null,null,null,null,null,null,null,null,null,null,null,null,null,null,null,null,null,null,null,null,null,null,null,null,null,null,null,null,null,null,null,null,null,null,null,null,null,null,null,null,null,null,null,null,null,null,null,null,null,null,null,null,null,null,null,null,null,null,null,null,null,null,null,null,"ม.4-6/3"]
[null,"ส 1.2",null,null,null,null,null,null,null,null,null,null,null,null,null,null,null,null,null,null,null,null,null,null,null,null,null,null,null,null,null,null,null,null,null,null,null,null,null,null,null,null,null,null,null,null,null,null,null,null,null,null,null,null,null,null,null,null,null,null,null,null,null,null,null,null,null,null,null,null,null,null,null,null,null,null,null,null,null,null,null,null,null,null,null,null,null,null,null,null,null,null,null,null,null,null,null,null,null,null,null,null,null,null,null,null,null,null,null,null,null,null,null,null,null,null,null,null,null,null,null,null,null,null,null,null,null,null,null,null,null,null,null,null,null,null,null,null,null,null,"ม.4-6/4"]
[null,"ส 2.1",null,null,null,null,null,null,null,null,null,null,null,null,null,null,null,null,null,null,null,null,null,null,null,null,null,null,null,null,null,null,null,null,null,null,null,null,null,null,null,null,null,null,null,null,null,null,null,null,null,null,null,null,null,null,null,null,null,null,null,null,null,null,null,null,null,null,null,null,null,null,null,null,null,null,null,null,null,null,null,null,null,null,null,null,null,null,null,null,null,null,null,null,null,null,null,null,null,null,null,null,null,null,null,null,null,null,null,null,null,null,null,null,null,null,null,null,null,null,null,null,null,null,null,null,null,null,null,null,null,null,null,null,null,null,null,null,null,null,"ม.4-6/5"]
[null,"ส 2.2",null,null,null,null,null,null,null,null,null,null,null,null,null,null,null,null,null,null,null,null,null,null,null,null,null,null,null,null,null,null,null,null,null,null,null,null,null,null,null,null,null,null,null,null,null,null,null,null,null,null,null,null,null,null,null,null,null,null,null,null,null,null,null,null,null,null,null,null,null,null,null,null,null,null,null,null,null,null,null,null,null,null,null,null,null,null,null,null,null,null,null,null,null,null,null,null,null,null,null,null,null,null,null,null,null,null,null,null,null,null,null,null,null,null,null,null,null,null,null,null,null,null,null,null,null,null,null,null,null,null,null,null,null,null,null,null,null,null,"ม.4-6/6"]
[null,"ส 3.1",null,null,null,null,null,null,null,null,null,null,null,null,null,null,null,null,null,null,null,null,null,null,null,null,null,null,null,null,null,null,null,null,null,null,null,null,null,null,null,null,null,null,null,null,null,null,null,null,null,null,null,null,null,null,null,null,null,null,null,null,null,null,null,null,null,null,null,null,null,null,null,null,null,null,null,null,null,null,null,null,null,null,null,null,null,null,null,null,null,null,null,null,null,null,null,null,null,null,null,null,null,null,null,null,null,null,null,null,null,null,null,null,null,null,null,null,null,null,null,null,null,null,null,null,null,null,null,null,null,null,null,null,null,null,null,null,null,null,"ม.4-6/7"]
[null,"ส 3.2",null,null,null,null,null,null,null,null,null,null,null,null,null,null,null,null,null,null,null,null,null,null,null,null,null,null,null,null,null,null,null,null,null,null,null,null,null,null,null,null,null,null,null,null,null,null,null,null,null,null,null,null,null,null,null,null,null,null,null,null,null,null,null,null,null,null,null,null,null,null,null,null,null,null,null,null,null,null,null,null,null,null,null,null,null,null,null,null,null,null,null,null,null,null,null,null,null,null,null,null,null,null,null,null,null,null,null,null,null,null,null,null,null,null,null,null,null,null,null,null,null,null,null,null,null,null,null,null,null,null,null,null,null,null,null,null,null,null,"ม.4-6/8"]
[null,"ส 4.1",null,null,null,null,null,null,null,null,null,null,null,null,null,null,null,null,null,null,null,null,null,null,null,null,null,null,null,null,null,null,null,null,null,null,null,null,null,null,null,null,null,null,null,null,null,null,null,null,null,null,null,null,null,null,null,null,null,null,null,null,null,null,null,null,null,null,null,null,null,null,null,null,null,null,null,null,null,null,null,null,null,null,null,null,null,null,null,null,null,null,null,null,null,null,null,null,null,null,null,null,null,null,null,null,null,null,null,null,null,null,null,null,null,null,null,null,null,null,null,null,null,null,null,null,null,null,null,null,null,null,null,null,null,null,null,null,null,null,"ม.4-6/9"]
[null,"ส 4.2",null,null,null,null,null,null,null,null,null,null,null,null,null,null,null,null,null,null,null,null,null,null,null,null,null,null,null,null,null,null,null,null,null,null,null,null,null,null,null,null,null,null,null,null,null,null,null,null,null,null,null,null,null,null,null,null,null,null,null,null,null,null,null,null,null,null,null,null,null,null,null,null,null,null,null,null,null,null,null,null,null,null,null,null,null,null,null,null,null,null,null,null,null,null,null,null,null,null,null,null,null,null,null,null,null,null,null,null,null,null,null,null,null,null,null,null,null,null,null,null,null,null,null,null,null,null,null,null,null,null,null,null,null,null,null,null,null,null,"ม.4-6/10"]
[null,"ส 4.2",null,null,null,null,null,null,null,null,null,null,null,null,null,null,null,null,null,null,null,null,null,null,null,null,null,null,null,null,null,null,null,null,null,null,null,null,null,null,null,null,null,null,null,null,null,null,null,null,null,null,null,null,null,null,null,null,null,null,null,null,null,null,null,null,null,null,null,null,null,null,null,null,null,null,null,null,null,null,null,null,null,null,null,null,null,null,null,null,null,null,null,null,null,null,null,null,null,null,null,null,null,null,null,null,null,null,null,null,null,null,null,null,null,null,null,null,null,null,null,null,null,null,null,null,null,null,null,null,null,null,null,null,null,null,null,null,null,null,"ม.4-6/11"]
[null,"ส 5.1",null,null,null,null,null,null,null,null,null,null,null,null,null,null,null,null,null,null,null,null,null,null,null,null,null,null,null,null,null,null,null,null,null,null,null,null,null,null,null,null,null,null,null,null,null,null,null,null,null,null,null,null,null,null,null,null,null,null,null,null,null,null,null,null,null,null,null,null,null,null,null,null,null,null,null,null,null,null,null,null,null,null,null,null,null,null,null,null,null,null,null,null,null,null,null,null,null,null,null,null,null,null,null,null,null,null,null,null,null,null,null,null,null,null,null,null,null,null,null,null,null,null,null,null,null,null,null,null,null,null,null,null,null,null,null,null,null,null,"ม.4-6/12"]
[null,"ส 5.2",null,null,null,null,null,null,null,null,null,null,null,null,null,null,null,null,null,null,null,null,null,null,null,null,null,null,null,null,null,null,null,null,null,null,null,null,null,null,null,null,null,null,null,null,null,null,null,null,null,null,null,null,null,null,null,null,null,null,null,null,null,null,null,null,null,null,null,null,null,null,null,null,null,null,null,null,null,null,null,null,null,null,null,null,null,null,null,null,null,null,null,null,null,null,null,null,null,null,null,null,null,null,null,null,null,null,null,null,null,null,null,null,null,null,null,null,null,null,null,null,null,null,null,null,null,null,null,null,null,null,null,null,null,null,null,null,null,null,"ม.4-6/13"]
[null,"พ 1.1",null,null,null,null,null,null,null,null,null,null,null,null,null,null,null,null,null,null,null,null,null,null,null,null,null,null,null,null,null,null,null,null,null,null,null,null,null,null,null,null,null,null,null,null,null,null,null,null,null,null,null,null,null,null,null,null,null,null,null,null,null,null,null,null,null,null,null,null,null,null,null,null,null,null,null,null,null,null,null,null,null,null,null,null,null,null,null,null,null,null,null,null,null,null,null,null,null,null,null,null,null,null,null,null,null,null,null,null,null,null,null,null,null,null,null,null,null,null,null,null,null,null,null,null,null,null,null,null,null,null,null,null,null,null,null,null,null,null,"ม.4-6/14"]
[null,"พ 2.1",null,null,null,null,null,null,null,null,null,null,null,null,null,null,null,null,null,null,null,null,null,null,null,null,null,null,null,null,null,null,null,null,null,null,null,null,null,null,null,null,null,null,null,null,null,null,null,null,null,null,null,null,null,null,null,null,null,null,null,null,null,null,null,null,null,null,null,null,null,null,null,null,null,null,null,null,null,null,null,null,null,null,null,null,null,null,null,null,null,null,null,null,null,null,null,null,null,null,null,null,null,null,null,null,null,null,null,null,null,null,null,null,null,null,null,null,null,null,null,null,null,null,null,null,null,null,null,null,null,null,null,null,null,null,null,null,null,null,"ม.4-6/15"]
[null,"พ 3.1",null,null,null,null,null,null,null,null,null,null,null,null,null,null,null,null,null,null,null,null,null,null,null,null,null,null,null,null,null,null,null,null,null,null,null,null,null,null,null,null,null,null,null,null,null,null,null,null,null,null,null,null,null,null,null,null,null,null,null,null,null,null,null,null,null,null,null,null,null,null,null,null,null,null,null,null,null,null,null,null,null,null,null,null,null,null,null,null,null,null,null,null,null,null,null,null,null,null,null,null,null,null,null,null,null,null,null,null,null,null,null,null,null,null,null,null,null,null,null,null,null,null,null,null,null,null,null,null,null,null,null,null,null,null,null,null,null,null,"ม.4-6/16"]
[null,"พ 3.2",null,null,null,null,null,null,null,null,null,null,null,null,null,null,null,null,null,null,null,null,null,null,null,null,null,null,null,null,null,null,null,null,null,null,null,null,null,null,null,null,null,null,null,null,null,null,null,null,null,null,null,null,null,null,null,null,null,null,null,null,null,null,null,null,null,null,null,null,null,null,null,null,null,null,null,null,null,null,null,null,null,null,null,null,null,null,null,null,null,null,null,null,null,null,null,null,null,null,null,null,null,null,null,null,null,null,null,null,null,null,null,null,null,null,null,null,null,null,null,null,null,null,null,null,null,null,null,null,null,null,null,null,null,null,null,null,null,null,"ม.4-6/17"]
[null,"พ 4.1",null,null,null,null,null,null,null,null,null,null,null,null,null,null,null,null,null,null,null,null,null,null,null,null,null,null,null,null,null,null,null,null,null,null,null,null,null,null,null,null,null,null,null,null,null,null,null,null,null,null,null,null,null,null,null,null,null,null,null,null,null,null,null,null,null,null,null,null,null,null,null,null,null,null,null,null,null,null,null,null,null,null,null,null,null,null,null,null,null,null,null,null,null,null,null,null,null,null,null,null,null,null,null,null,null,null,null,null,null,null,null,null,null,null,null,null,null,null,null,null,null,null,null,null,null,null,null,null,null,null,null,null,null,null,null,null,null,null,"ม.4-6/18"]
[null,"พ 5.1",null,null,null,null,null,null,null,null,null,null,null,null,null,null,null,null,null,null,null,null,null,null,null,null,null,null,null,null,null,null,null,null,null,null,null,null,null,null,null,null,null,null,null,null,null,null,null,null,null,null,null,null,null,null,null,null,null,null,null,null,null,null,null,null,null,null,null,null,null,null,null,null,null,null,null,null,null,null,null,null,null,null,null,null,null,null,null,null,null,null,null,null,null,null,null,null,null,null,null,null,null,null,null,null,null,null,null,null,null,null,null,null,null,null,null,null,null,null,null,null,null,null,null,null,null,null,null,null,null,null,null,null,null,null,null,null,null,null,"ม.4-6/19"]
[null,"ศ. 1.1",null,null,null,null,null,null,null,null,null,null,null,null,null,null,null,null,null,null,null,null,null,null,null,null,null,null,null,null,null,null,null,null,null,null,null,null,null,null,null,null,null,null,null,null,null,null,null,null,null,null,null,null,null,null,null,null,null,null,null,null,null,null,null,null,null,null,null,null,null,null,null,null,null,null,null,null,null,null,null,null,null,null,null,null,null,null,null,null,null,null,null,null,null,null,null,null,null,null,null,null,null,null,null,null,null,null,null,null,null,null,null,null,null,null,null,null,null,null,null,null,null,null,null,null,null,null,null,null,null,null,null,null,null,null,null,null,null,null,"ม.4-6/20"]
[null,"ศ 1.2",null,null,null,null,null,null,null,null,null,null,null,null,null,null,null,null,null,null,null,null,null,null,null,null,null,null,null,null,null,null,null,null,null,null,null,null,null,null,null,null,null,null,null,null,null,null,null,null,null,null,null,null,null,null,null,null,null,null,null,null,null,null,null,null,null,null,null,null,null,null,null,null,null,null,null,null,null,null,null,null,null,null,null,null,null,null,null,null,null,null,null,null,null,null,null,null,null,null,null,null,null,null,null,null,null,null,null,null,null,null,null,null,null,null,null,null,null,null,null,null,null,null,null,null,null,null,null,null,null,null,null,null,null,null,null,null,null,null,"ม.4-6/21"]
[null,"ศ 2.1",null,null,null,null,null,null,null,null,null,null,null,null,null,null,null,null,null,null,null,null,null,null,null,null,null,null,null,null,null,null,null,null,null,null,null,null,null,null,null,null,null,null,null,null,null,null,null,null,null,null,null,null,null,null,null,null,null,null,null,null,null,null,null,null,null,null,null,null,null,null,null,null,null,null,null,null,null,null,null,null,null,null,null,null,null,null,null,null,null,null,null,null,null,null,null,null,null,null,null,null,null,null,null,null,null,null,null,null,null,null,null,null,null,null,null,null,null,null,null,null,null,null,null,null,null,null,null,null,null,null,null,null,null,null,null,null,null,null,"ม.4-6/22"]
[null,"ศ 2.2",null,null,null,null,null,null,null,null,null,null,null,null,null,null,null,null,null,null,null,null,null,null,null,null,null,null,null,null,null,null,null,null,null,null,null,null,null,null,null,null,null,null,null,null,null,null,null,null,null,null,null,null,null,null,null,null,null,null,null,null,null,null,null,null,null,null,null,null,null,null,null,null,null,null,null,null,null,null,null,null,null,null,null,null,null,null,null,null,null,null,null,null,null,null,null,null,null,null,null,null,null,null,null,null,null,null,null,null,null,null,null,null,null,null,null,null,null,null,null,null,null,null,null,null,null,null,null,null,null,null,null,null,null,null,null,null,null,null,"ม.4-6/23"]
[null,"ศ 3.1",null,null,null,null,null,null,null,null,null,null,null,null,null,null,null,null,null,null,null,null,null,null,null,null,null,null,null,null,null,null,null,null,null,null,null,null,null,null,null,null,null,null,null,null,null,null,null,null,null,null,null,null,null,null,null,null,null,null,null,null,null,null,null,null,null,null,null,null,null,null,null,null,null,null,null,null,null,null,null,null,null,null,null,null,null,null,null,null,null,null,null,null,null,null,null,null,null,null,null,null,null,null,null,null,null,null,null,null,null,null,null,null,null,null,null,null,null,null,null,null,null,null,null,null,null,null,null,null,null,null,null,null,null,null,null,null,null,null,"ม.4-6/24"]
[null,"ศ 3.2",null,null,null,null,null,null,null,null,null,null,null,null,null,null,null,null,null,null,null,null,null,null,null,null,null,null,null,null,null,null,null,null,null,null,null,null,null,null,null,null,null,null,null,null,null,null,null,null,null,null,null,null,null,null,null,null,null,null,null,null,null,null,null,null,null,null,null,null,null,null,null,null,null,null,null,null,null,null,null,null,null,null,null,null,null,null,null,null,null,null,null,null,null,null,null,null,null,null,null,null,null,null,null,null,null,null,null,null,null,null,null,null,null,null,null,null,null,null,null,null,null,null,null,null,null,null,null,null,null,null,null,null,null,null,null,null,null,null,"ม.4-6/25"]
[null,"ง 1.1",null,null,null,null,null,null,null,null,null,null,null,null,null,null,null,null,null,null,null,null,null,null,null,null,null,null,null,null,null,null,null,null,null,null,null,null,null,null,null,null,null,null,null,null,null,null,null,null,null,null,null,null,null,null,null,null,null,null,null,null,null,null,null,null,null,null,null,null,null,null,null,null,null,null,null,null,null,null,null,null,null,null,null,null,null,null,null,null,null,null,null,null,null,null,null,null,null,null,null,null,null,null,null,null,null,null,null,null,null,null,null,null,null,null,null,null,null,null,null,null,null,null,null,null,null,null,null,null,null,null,null,null,null,null,null,null,null,null,"ม.4-6/26"]
[null,"ง 2.1",null,null,null,null,null,null,null,null,null,null,null,null,null,null,null,null,null,null,null,null,null,null,null,null,null,null,null,null,null,null,null,null,null,null,null,null,null,null,null,null,null,null,null,null,null,null,null,null,null,null,null,null,null,null,null,null,null,null,null,null,null,null,null,null,null,null,null,null,null,null,null,null,null,null,null,null,null,null,null,null,null,null,null,null,null,null,null,null,null,null,null,null,null,null,null,null,null,null,null,null,null,null,null,null,null,null,null,null,null,null,null,null,null,null,null,null,null,null,null,null,null,null,null,null,null,null,null,null,null,null,null,null,null,null,null,null,null,null,"ม.4-6/27"]
[null,"ง 3.1",null,null,null,null,null,null,null,null,null,null,null,null,null,null,null,null,null,null,null,null,null,null,null,null,null,null,null,null,null,null,null,null,null,null,null,null,null,null,null,null,null,null,null,null,null,null,null,null,null,null,null,null,null,null,null,null,null,null,null,null,null,null,null,null,null,null,null,null,null,null,null,null,null,null,null,null,null,null,null,null,null,null,null,null,null,null,null,null,null,null,null,null,null,null,null,null,null,null,null,null,null,null,null,null,null,null,null,null,null,null,null,null,null,null,null,null,null,null,null,null,null,null,null,null,null,null,null,null,null,null,null,null,null,null,null,null,null,null,"ม.4-6/28"]
[null,"ง 4.1",null,null,null,null,null,null,null,null,null,null,null,null,null,null,null,null,null,null,null,null,null,null,null,null,null,null,null,null,null,null,null,null,null,null,null,null,null,null,null,null,null,null,null,null,null,null,null,null,null,null,null,null,null,null,null,null,null,null,null,null,null,null,null,null,null,null,null,null,null,null,null,null,null,null,null,null,null,null,null,null,null,null,null,null,null,null,null,null,null,null,null,null,null,null,null,null,null,null,null,null,null,null,null,null,null,null,null,null,null,null,null,null,null,null,null,null,null,null,null,null,null,null,null,null,null,null,null,null,null,null,null,null,null,null,null,null,null,null,"ม.4-6/29"]
[null,"ต 1.1",null,null,null,null,null,null,null,null,null,null,null,null,null,null,null,null,null,null,null,null,null,null,null,null,null,null,null,null,null,null,null,null,null,null,null,null,null,null,null,null,null,null,null,null,null,null,null,null,null,null,null,null,null,null,null,null,null,null,null,null,null,null,null,null,null,null,null,null,null,null,null,null,null,null,null,null,null,null,null,null,null,null,null,null,null,null,null,null,null,null,null,null,null,null,null,null,null,null,null,null,null,null,null,null,null,null,null,null,null,null,null,null,null,null,null,null,null,null,null,null,null,null,null,null,null,null,null,null,null,null,null,null,null,null,null,null,null,null,"ม.4-6/30"]
[null,"ต 1.2"]
[null,"ต 1.3"]
[null,"ต 2.1"]
[null,"ต 2.2"]
[null,"ต 3.1"]
[null,"ต 4.1"]
[null,"ต 4.2"]

{"sheet":"ประเมินตัวชี้วัดเทอม2","index":6,"n_rows":164,"n_cols":237,"rows_kept":164,"cut":false,"hidden":false,"merged":[[7,123,7,124],[7,125,8,125],[4,231,5,231],[4,233,5,233],[4,234,5,234],[4,235,5,235],[4,236,5,236],[4,237,5,237],[4,225,5,225],[4,226,5,226],[4,227,5,227],[4,228,5,228],[4,229,5,229],[4,230,5,230],[4,218,5,218],[4,219,5,219],[4,220,5,220],[4,221,5,221],[4,222,5,222],[4,224,5,224],[4,212,5,212],[4,213,5,213],[4,214,5,214],[4,215,5,215],[4,216,5,216],[4,217,5,217],[4,206,5,206],[4,207,5,207],[4,208,5,208],[4,209,5,209],[4,210,5,210],[4,211,5,211],[4,199,5,199],[4,200,5,200],[4,201,5,201],[4,202,5,202],[4,203,5,203],[4,204,5,204],[4,195,5,195],[4,196,5,196],[4,197,5,197],[4,198,5,198],[4,186,5,186],[4,188,5,188],[4,189,5,189],[4,190,5,190],[4,191,5,191],[4,192,5,192],[4,193,5,193],[4,194,5,194],[4,161,5,161],[4,162,5,162],[4,163,5,163],[4,165,5,165],[4,166,5,166],[4,167,5,167],[4,180,5,180],[4,181,5,181],[4,182,5,182],[4,174,5,174],[4,175,5,175],[4,176,5,176],[4,177,5,177],[4,178,5,178],[4,179,5,179],[4,157,5,157],[4,158,5,158],[4,159,5,159],[4,160,5,160],[4,149,5,149],[4,150,5,150],[4,151,5,151],[4,152,5,152],[4,153,5,153],[4,154,5,154],[4,100,5,100],[4,101,5,101],[4,102,5,102],[4,143,5,143],[4,144,5,144],[4,84,5,84],[4,86,5,86],[4,87,5,87],[4,88,5,88],[4,89,5,89],[4,90,5,90],[2,107,4,107],[4,95,5,95],[4,96,5,96],[4,97,5,97],[4,98,5,98],[2,121,4,121],[2,108,4,108],[2,110,4,110],[2,113,4,113],[2,140,5,140],[2,141,5,141],[2,103,4,103],[4,82,5,82],[4,83,5,83],[4,72,5,72],[4,73,5,73],[4,74,5,74],[4,75,5,75],[4,76,5,76],[4,77,5,77],[4,99,5,99],[4,60,5,60],[4,61,5,61],[4,62,5,62],[4,63,5,63],[4,64,5,64],[4,78,5,78],[4,79,5,79],[4,80,5,80],[4,81,5,81],[4,65,5,65],[4,66,5,66],[4,68,5,68],[4,69,5,69],[4,70,5,70],[4,71,5,71],[4,21,5,21],[4,22,5,22],[4,23,5,23],[4,24,5,24],[4,25,5,25],[4,27,5,27],[4,40,5,40],[4,41,5,41],[4,42,5,42],[4,34,5,34],[4,35,5,35],[4,36,5,36],[4,37,5,37],[4,38,5,38],[4,39,5,39],[4,28,5,28],[4,29,5,29],[4,30,5,30],[4,31,5,31],[4,32,5,32],[4,33,5,33],[4,43,5,43],[4,44,5,44],[4,45,5,45],[4,53,5,53],[4,54,5,54],[4,55,5,55],[4,56,5,56],[4,57,5,57],[4,58,5,58],[4,46,5,46],[4,47,5,47],[4,48,5,48],[4,50,5,50],[4,51,5,51],[4,52,5,52],[4,59,5,59],[4,19,5,19],[4,20,5,20],[2,245,4,245],[2,246,4,246],[2,248,4,248],[2,204,3,204],[2,205,3,205],[2,206,3,206],[2,207,2,221],[2,163,3,163],[2,164,3,164],[2,165,3,165],[2,166,2,185],[2,186,3,186],[2,187,3,187],[4,168,5,168],[4,169,5,169],[4,170,5,170],[4,171,5,171],[4,172,5,172],[4,173,5,173],[4,183,5,183],[4,184,5,184],[4,185,5,185],[2,50,3,50],[2,85,3,85],[2,249,4,249],[4,5,5,5],[4,6,5,6],[4,7,5,7],[4,8,5,8],[4,9,5,9],[4,10,5,10],[2,232,4,232],[2,233,2,240],[2,241,4,241],[2,242,4,242],[2,243,4,243],[2,244,4,244],[4,238,5,238],[4,239,5,239],[4,240,5,240],[2,222,3,222],[2,223,3,223],[4,15,5,15],[4,16,5,16],[4,17,5,17],[4,18,5,18],[2,189,2,203],[4,155,5,155],[4,156,5,156],[2,257,4,257],[1,0,5,0],[1,1,5,1],[2,2,5,2],[2,5,2,24],[2,25,3,25],[4,11,5,11],[4,12,5,12],[4,13,5,13],[4,14,5,14],[2,51,2,65],[2,66,3,66],[2,67,3,67],[2,68,3,68],[2,69,2,83],[2,84,3,84],[2,26,3,26],[2,27,3,27],[2,28,2,47],[2,48,3,48],[2,49,3,49],[2,104,4,104],[2,105,4,105],[2,106,4,106],[0,248,0,249],[0,251,4,251],[0,253,4,253],[0,254,4,254],[0,256,4,256],[0,143,0,165],[0,166,0,188],[0,189,0,206],[0,207,0,224],[0,225,0,241],[0,242,0,246],[2,143,2,162],[4,145,5,145],[4,146,5,146],[4,147,5,147],[4,148,5,148],[2,224,3,224],[2,225,2,229],[2,230,3,230],[2,231,3,231],[2,188,3,188],[4,3,5,3],[2,111,4,111],[2,112,4,112],[0,110,0,113],[0,115,4,115],[0,117,4,117],[0,118,4,118],[0,120,4,120],[0,5,0,27],[0,28,0,50],[0,51,0,68],[0,69,0,86],[0,87,0,103],[0,104,0,108],[2,86,3,86],[2,87,2,91],[2,92,3,92],[2,93,3,93],[2,94,4,94],[4,91,5,91],[4,92,5,92],[4,93,5,93],[2,95,2,102]]}
[null,null,null,"อัตราส่วนคะแนน =",{"$f":"ประเมินตัวชี้วัดเทอม1!E1","v":"70 : 30"},{"$f":"\"คะแนนประเมินผลสัมฤทธิ์ ภาคเรียนที่ 2 \"&\"  วิชา \"&ปก!AS15&\"   \"&\"ชั้น ป.\"&ปก!$C$21&\"/\"&ปก!$C$22&\"  หน้า 15\"","v":"คะแนนประเมินผลสัมฤทธิ์ ภาคเรียนที่ 2   วิชา {{โปรดกรอกรหัสวิชา}}   ชั้น ป./  หน้า 15"},null,null,null,null,null,null,null,null,null,null,null,null,null,null,null,null,null,null,null,null,null,null,{"$f":"\"คะแนนประเมินผลสัมฤทธิ์ ภาคเรียนที่ 2 \"&\"  วิชา \"&ปก!AS15&\"   \"&\"ชั้น ป.\"&ปก!$C$21&\"/\"&ปก!$C$22&\"  หน้า 16\"","v":"คะแนนประเมินผลสัมฤทธิ์ ภาคเรียนที่ 2   วิชา {{โปรดกรอกรหัสวิชา}}   ชั้น ป./  หน้า 16"},null,null,null,null,null,null,null,null,null,null,null,null,null,null,null,null,null,null,null,null,null,null,{"$f":"\"คะแนนประเมินผลสัมฤทธิ์ ภาคเรียนที่ 2 \"&\"  วิชา \"&ปก!AS15&\"   \"&\"ชั้น ป.\"&ปก!$C$21&\"/\"&ปก!$C$22&\"  หน้า 17\"","v":"คะแนนประเมินผลสัมฤทธิ์ ภาคเรียนที่ 2   วิชา {{โปรดกรอกรหัสวิชา}}   ชั้น ป./  หน้า 17"},null,null,null,null,null,null,null,null,null,null,null,null,null,null,null,null,null,{"$f":"\"คะแนนประเมินผลสัมฤทธิ์ ภาคเรียนที่ 2 \"&\"  วิชา \"&ปก!AS15&\"   \"&\"ชั้น ป.\"&ปก!$C$21&\"/\"&ปก!$C$22&\"  หน้า 18\"","v":"คะแนนประเมินผลสัมฤทธิ์ ภาคเรียนที่ 2   วิชา {{โปรดกรอกรหัสวิชา}}   ชั้น ป./  หน้า 18"},null,null,null,null,null,null,null,null,null,null,null,null,null,null,null,null,null,{"$f":"\"คะแนนประเมินผลสัมฤทธิ์ ภาคเรียนที่ 2 \"&\"  วิชา \"&ปก!AS15&\"   \"&\"ชั้น ป.\"&ปก!$C$21&\"/\"&ปก!$C$22&\"  หน้า 19\"","v":"คะแนนประเมินผลสัมฤทธิ์ ภาคเรียนที่ 2   วิชา {{โปรดกรอกรหัสวิชา}}   ชั้น ป./  หน้า 19"},null,null,null,null,null,null,null,null,null,null,null,null,null,null,null,null,"ระหว่างภาค",null,null,null,null,null,"ปลายภาค",null,null,null,null,"คะแนนรวมตลอดภาคเรียน",null,"ระดับผลการเรียน(เกรด)","คะแนนย้ายเข้ากลางปี",null,"แก้ไข","หน้า 20"]
[null,null,null,null,null,null,null,null,null,null,null,null,null,null,null,null,null,null,null,null,null,null,null,null,null,{"$f":"กำหนดอัตราส่วนคะแนน!B41","v":0},null,null,null,null,null,null,null,null,null,null,null,null,null,null,null,null,null,null,null,null,null,null,{"$f":"กำหนดอัตราส่วนคะแนน!Y41","v":0},null,null,null,null,null,null,null,null,null,null,null,null,null,null,null,null,null,{"$f":"กำหนดอัตราส่วนคะแนน!BQ41","v":0},null,null,null,null,null,null,null,null,null,null,null,null,null,null,null,null,null,{"$f":"กำหนดอัตราส่วนคะแนน!CN41","v":0},null,null,null,null,null,null,null,{"$f":"กำหนดอัตราส่วนคะแนน!AH41","v":0}]
[null,null,"เลข\nประจำ\nตัว\nนักเรียน","กำหนดอัตราส่วนสอบปลายภาค","การประเมิน",{"$f":"IF(ปก!$C$25=\"\",\"{{ข้อมูล ERROR โปรดกลับไปเลือกประเภทวิชาที่หน้าปก}}\",IF(ปก!$C$25=\"พื้นฐาน\",\"การประเมินตัวชี้วัด ก่อนกลางภาค\",IF(ปก!$C$25=\"เพิ่มเติม\",\"การประเมินผลการเรียนรู้ ก่อนกลางภาค\")))","v":"{{ข้อมูล ERROR โปรดกลับไปเลือกประเภทวิชาที่หน้าปก}}"},null,null,null,null,null,null,null,null,null,null,null,null,null,null,null,null,null,null,null,"คะแนนรวม",null,"คะแนนเต็ม",{"$f":"IF(ปก!$C$25=\"\",\"{{ข้อมูล ERROR โปรดกลับไปเลือกประเภทวิชาที่หน้าปก}}\",IF(ปก!$C$25=\"พื้นฐาน\",\"การประเมินตัวชี้วัด หลังกลางภาค\",IF(ปก!$C$25=\"เพิ่มเติม\",\"การประเมินผลการเรียนรู้ หลังกลางภาค\")))","v":"{{ข้อมูล ERROR โปรดกลับไปเลือกประเภทวิชาที่หน้าปก}}"},null,null,null,null,null,null,null,null,null,null,null,null,null,null,null,null,null,null,null,"คะแนนรวม",null,"คะแนนเต็ม","การประเมินผลกลางภาคเรียน(สอบกลางภาค)",null,null,null,null,null,null,null,null,null,null,null,null,null,null,"คะแนนรวม",null,"คะแนนเต็ม","การประเมินผลปลายภาคเรียน(สอบปลายภาคเรียน)",null,null,null,null,null,null,null,null,null,null,null,null,null,null,"คะแนนรวม",null,"คะแนนเต็ม","การอ่าน คิดวิเคราะห์ และเขียน",null,null,null,null,"คะแนนรวม","คะแนนเต็ม","ระดับคุณภาพ","คุณลักษณะอันพึงประสงค์",null,null,null,null,null,null,null,"ระดับคุณภาพ","ก่อนกลางภาค","หลังกลางภาค","สอบกลางภาค","สอบแก้ตัว","รวมระหว่างภาค",null,"สอบปลายภาค","คะแนนสอบกลาง","รวมปลายภาค","สอบแก้ตัว",null,null,null,null,null,null,null,"สถานะ\nนักเรียน\nปัจจุบัน"]
[null,null,null,"100","ข้อที่",null,null,null,null,null,null,null,null,null,null,null,null,null,null,null,null,null,18,19,20,null,null,null,null,null,null,null,null,null,null,null,null,null,null,null,null,null,null,null,null,18,19,20,null,null,null,null,null,null,null,null,null,null,null,null,null,null,null,null,null,null,null,null,null,null,null,null,null,null,null,null,null,null,null,null,null,null,null,null,null,null,null,1,2,3,4,5,null,null,null,1,2,3,4,5,6,7,8]
[null,null,null,"ชื่อ - นามสกุล","คะแนน",null,null,null,null,null,null,null,null,null,null,null,null,null,null,null,null,null,null,null,null,{"$f":"SUM(F5,G5,H5,I5,J5,K5,L5,M5,N5,O5,P5,Q5,R5,S5,T5,U5,V5,W5,X5,Y5)","v":0},{"$f":"$Z$5/$AB$5","v":0},{"$f":"ประเมินตัวชี้วัดเทอม1!AB5","v":20},null,null,null,null,null,null,null,null,null,null,null,null,null,null,null,null,null,null,null,null,{"$f":"SUM(AC5,AD5,AE5,AF5,AG5,AH5,AI5,AJ5,AK5,AL5,AM5,AN5,AO5,AP5,AQ5,AR5,AS5,AT5,AU5,AV5)","v":0},{"$f":"$AW$5/$AY$5","v":0},{"$f":"ประเมินตัวชี้วัดเทอม1!AY5","v":20},null,null,null,null,null,null,null,null,null,null,null,null,null,null,null,{"$f":"SUM(AZ5,BA5,BB5,BC5,BD5,BE5,BF5,BG5,BH5,BI5,BJ5,BK5,BL5,BM5,BN5)","v":0},{"$f":"$BO$5/$BQ$5","v":0},{"$f":"ประเมินตัวชี้วัดเทอม1!BQ5","v":30},null,null,null,null,null,null,null,null,null,null,null,null,null,null,null,{"$f":"SUM(BR5,BS5,BT5,BU5,BV5,BW5,BX5,BY5,BZ5,CA5,CB5,CC5,CD5,CE5,CF5)","v":0},{"$f":"$CG$5/$CI$5","v":0},{"$f":"IF(ประเมินตัวชี้วัดเทอม2!E1=\"50 : 50\",50,IF(ประเมินตัวชี้วัดเทอม2!E1=\"60 : 40\",40,IF(ประเมินตัวชี้วัดเทอม2!E1=\"70 : 30\",30,IF(ประเมินตัวชี้วัดเทอม2!E1=\"80 : 20\",20,IF(ประเมินตัวชี้วัดเทอม2!E1=\"90 : 10\",10)))))","v":30},3,3,3,3,3,{"$f":"SUM(CJ5,CK5,CL5,CM5,CN5)","v":15},3,null,3,3,3,3,3,3,3,3]
[null,null,null,null,"เลขที่",null,null,null,null,null,null,null,null,null,null,null,null,null,null,null,null,null,null,null,null,null,null,null,null,null,null,null,null,null,null,null,null,null,null,null,null,null,null,null,null,null,null,null,null,null,null,null,null,null,null,null,null,null,null,null,null,null,null,null,null,null,null,null,null,null,null,null,null,null,null,null,null,null,null,null,null,null,null,null,null,null,null,null,null,null,null,null,null,null,null,null,null,null,null,null,null,null,null,null,{"$f":"AB5","v":20},{"$f":"AY5","v":20},{"$f":"BQ5","v":30},null,{"$f":"SUM(DA6,DB6,DC6)","v":70},null,{"$f":"$CI$5*($D$4/100)","v":30},{"$f":"$DI$6-$DG$6","v":0},{"$f":"IF(ประเมินตัวชี้วัดเทอม1!E1=\"60 : 40\",40,IF(ประเมินตัวชี้วัดเทอม1!E1=\"70 : 30\",30,IF(ประเมินตัวชี้วัดเทอม1!E1=\"80 : 20\",20)))","v":30},{"$f":"กำหนดอัตราส่วนคะแนน!F22","v":0},null,{"$f":"IF(DE6+DI6<>100,\"ERROR\",SUM(DE6,DI6))","v":100},null,null,100]
[1,null,{"$f":"CONCATENATE(Sheet1!B2)","v":"17008"},{"$f":"CONCATENATE(Sheet1!C2&Sheet1!D2&\"       \"&Sheet1!E2)","v":"เด็กชายวรชิต      ผึ้งบำรุง       "},1,null,null,null,null,null,null,null,null,null,null,null,null,null,null,null,null,null,null,null,null,{"$f":"IF(Sheet1!C2=\"\",\"\",IF(COUNTIF(F7:V7,\"-1\"),\"ร\",IF(DR7=\"ปกติ\",SUM(F7,G7,H7,I7,J7,K7,L7,M7,N7,O7,P7,Q7,R7,S7,T7,U7,V7,W7,X7,Y7),\"-\")))","v":0},null,{"$f":"IF(Z7=\"\",\"\",IF(Z7=\"-\",\"-\",IF(Z7=\"ร\",\"ร\",IF(Z7=0,\"\",IF($Z$5=0,\"\",ROUND(Z7/$AA$5,0))))))","v":""},null,null,null,null,null,null,null,null,null,null,null,null,null,null,null,null,null,null,null,null,{"$f":"IF(Sheet1!C2=\"\",\"\",IF(COUNTIF(AC7:AS7,\"-1\"),\"ร\",IF(DR7=\"ปกติ\",SUM(AC7,AD7,AE7,AF7,AG7,AH7,AI7,AJ7,AK7,AL7,AM7,AN7,AO7,AP7,AQ7,AR7,AS7),\"-\")))","v":0},null,{"$f":"IF(AW7=\"\",\"\",IF(AW7=\"-\",\"-\",IF(AW7=\"ร\",\"ร\",IF(AW7=0,\"\",IF($AW$5=0,\"\",ROUND(AW7/$AX$5,0))))))","v":""},null,null,null,null,null,null,null,null,null,null,null,null,null,null,null,{"$f":"IF(Sheet1!C2=\"\",\"\",IF(COUNTIF(AZ7:BN7,\"-1\"),\"ร\",IF(DR7=\"ปกติ\",SUM(AZ7,BA7,BB7,BC7,BD7,BE7,BF7,BG7,BH7,BI7,BJ7,BK7,BL7,BM7,BN7),\"-\")))","v":0},null,{"$f":"IF(BO7=\"\",\"\",IF(BO7=\"-\",\"-\",IF(BO7=\"ร\",\"ร\",IF(BO7=0,\"\",IF($BO$5=0,\"\",ROUND(BO7/$BP$5,0))))))","v":""},null,null,null,null,null,null,null,null,null,null,null,null,null,null,null,{"$f":"IF(Sheet1!C2=\"\",\"\",IF(COUNTIF(BR7:CF7,\"-1\"),\"ร\",IF(DR7=\"ปกติ\",SUM(BR7,BS7,BT7,BU7,BV7,BW7,BX7,BY7,BZ7,CA7,CB7,CC7,CD7,CE7,CF7),\"-\")))","v":0},null,{"$f":"IF(CG7=\"\",\"\",IF(CG7=\"-\",\"-\",IF(CG7=\"ร\",\"ร\",IF(CG7=0,\"\",IF($CG$5=0,\"\",ROUND(CG7/$CH$5,0))))))","v":""},null,null,null,null,null,{"$f":"IF(Sheet1!C2=\"\",\"\",IF(CJ7=\"\",\"\",(IF(CK7=\"\",\"\",(IF(CL7=\"\",\"\",(IF(CM7=\"\",\"\",(IF(CN7=\"\",\"\",(SUM(CJ7:CN7))))))))))))","v":""},{"$f":"IF(CO7=\"\",\"\",IF(CO7=\"-\",\"-\",IF(CO7=\"ร\",\"ร\",IF(CO7=0,0,IF($CO$5=0,\"\",ROUND(CO7/5,0))))))","v":""},{"$f":"IF(CP7=\"\",\"\",(IF(CP7>=2.5,\"ดย\",(IF(CP7>=1.5,\"ด\",(IF(CP7>=0.6,\"ผ\",(IF(CP7<=0.4,\"มผ\")))))))))","v":""},null,null,null,null,null,null,null,null,{"$f":"IF(CR7=\"\",\"\",(IF(CS7=\"\",\"\",(IF(CT7=\"\",\"\",(IF(CU7=\"\",\"\",(IF(CV7=\"\",\"\",(IF(CW7=\"\",\"\",IF(CX7=\"\",\"\",(IF(CY7=\"\",\"\",(IF(COUNTIF(CR7:CY7,0)>0,\"มผ\",IF(AND(COUNTIF(CR7:CY7,3)>=5,COUNTIF(CR7:CY7,\"<2\")=0),\"ดย\",IF(OR(AND(AND(COUNTIF(CR7:CY7,3)>=1,COUNTIF(CR7:CY7,3)<=4),COUNTIF(CR7:CY7,\"<2\")=0),COUNTIF(CR7:CY7,2)=8,AND(COUNTIF(CR7:CY7,\">=2\")>=5,COUNTIF(CR7:CY7,1)>0)),\"ด\",IF(OR(COUNTIF(CR7:CY7,1)=8,AND(COUNTIF(CR7:CY7,\">=2\")>=1,COUNTIF(CR7:CY7,\">=2\")<=4)),\"ผ\",\"มผ\")))))))))))))))))))","v":""},{"$f":"AB7","v":""},{"$f":"AY7","v":""},{"$f":"BQ7","v":""},null,{"$f":"IF(Sheet1!C2=\"\",\"\",IF(COUNTIF(DA7:DC7,\"ร\"),\"ร\",IF(DC7=\"ร\",\"ร\",IF(DR7=\"ปกติ\",SUM(DA7:DB7,IF(DD7=\"\",DC7,DD7)),\"-\"))))","v":0},null,{"$f":"IF(DR7=\"\",\"\",IF(DR7=\"ปกติ\",IF(CI7=\"\",\"\",(CI7*($D$4/100))),\"\"))","v":""},null,{"$f":"IF(DG7=\"\",\"\",SUM(DG7:DH7))","v":""},null,null,{"$f":"IF(Sheet1!D2=\"\",\"\",IF(DE7=\"\",\"\",IF(COUNTIF(DA7:DJ7,\"ร\"),\"ร\",IF(COUNTIF(DA7:DJ7,\"-\"),\"-\",IF(DR7=\"ปกติ\",SUM(DE7,IF(DJ7=\"\",DI7,DJ7)))))))","v":0},null,{"$f":"IF(DL7=\"\",\"\",IF(DR7=\"\",\"\",IF(DR7=\"ย้าย\",\"-\",IF(DR7=\"จำหน่าย\",\"-\",IF(DR7=\"ขาดเรียนนาน\",\"-\",IF(เวลาเรียน!IO9<80,\"มส\",IF(DL7=\"ร\",\"ร\",VLOOKUP(DL7,$DT$19:$DV$26,3))))))))","v":{"$error":"#DIV/0!"}},null,null,null,{"$f":"IF(เวลาเรียน!IP9=\"\",\"\",เวลาเรียน!IP9)","v":"ปกติ"}]
[2,2498,{"$f":"CONCATENATE(Sheet1!B3)","v":"17009"},{"$f":"CONCATENATE(Sheet1!C3&Sheet1!D3&\"       \"&Sheet1!E3)","v":"เด็กชายธนกฤต    ธนัชญาปกรณ์       "},2,null,null,null,null,null,null,null,null,null,null,null,null,null,null,null,null,null,null,null,null,{"$f":"IF(Sheet1!C3=\"\",\"\",IF(COUNTIF(F8:V8,\"-1\"),\"ร\",IF(DR8=\"ปกติ\",SUM(F8,G8,H8,I8,J8,K8,L8,M8,N8,O8,P8,Q8,R8,S8,T8,U8,V8,W8,X8,Y8),\"-\")))","v":0},null,{"$f":"IF(Z8=\"\",\"\",IF(Z8=\"-\",\"-\",IF(Z8=\"ร\",\"ร\",IF(Z8=0,\"\",IF($Z$5=0,\"\",ROUND(Z8/$AA$5,0))))))","v":""},null,null,null,null,null,null,null,null,null,null,null,null,null,null,null,null,null,null,null,null,{"$f":"IF(Sheet1!C3=\"\",\"\",IF(COUNTIF(AC8:AS8,\"-1\"),\"ร\",IF(DR8=\"ปกติ\",SUM(AC8,AD8,AE8,AF8,AG8,AH8,AI8,AJ8,AK8,AL8,AM8,AN8,AO8,AP8,AQ8,AR8,AS8),\"-\")))","v":0},null,{"$f":"IF(AW8=\"\",\"\",IF(AW8=\"-\",\"-\",IF(AW8=\"ร\",\"ร\",IF(AW8=0,\"\",IF($AW$5=0,\"\",ROUND(AW8/$AX$5,0))))))","v":""},null,null,null,null,null,null,null,null,null,null,null,null,null,null,null,{"$f":"IF(Sheet1!C3=\"\",\"\",IF(COUNTIF(AZ8:BN8,\"-1\"),\"ร\",IF(DR8=\"ปกติ\",SUM(AZ8,BA8,BB8,BC8,BD8,BE8,BF8,BG8,BH8,BI8,BJ8,BK8,BL8,BM8,BN8),\"-\")))","v":0},null,{"$f":"IF(BO8=\"\",\"\",IF(BO8=\"-\",\"-\",IF(BO8=\"ร\",\"ร\",IF(BO8=0,\"\",IF($BO$5=0,\"\",ROUND(BO8/$BP$5,0))))))","v":""},null,null,null,null,null,null,null,null,null,null,null,null,null,null,null,{"$f":"IF(Sheet1!C3=\"\",\"\",IF(COUNTIF(BR8:CF8,\"-1\"),\"ร\",IF(DR8=\"ปกติ\",SUM(BR8,BS8,BT8,BU8,BV8,BW8,BX8,BY8,BZ8,CA8,CB8,CC8,CD8,CE8,CF8),\"-\")))","v":0},null,"",null,null,null,null,null,{"$f":"IF(Sheet1!C3=\"\",\"\",IF(CJ8=\"\",\"\",(IF(CK8=\"\",\"\",(IF(CL8=\"\",\"\",(IF(CM8=\"\",\"\",(IF(CN8=\"\",\"\",(SUM(CJ8:CN8))))))))))))","v":""},{"$f":"IF(CO8=\"\",\"\",IF(CO8=\"-\",\"-\",IF(CO8=\"ร\",\"ร\",IF(CO8=0,0,IF($CO$5=0,\"\",ROUND(CO8/5,0))))))","v":""},{"$f":"IF(CP8=\"\",\"\",(IF(CP8>=2.5,\"ดย\",(IF(CP8>=1.5,\"ด\",(IF(CP8>=0.6,\"ผ\",(IF(CP8<=0.4,\"มผ\")))))))))","v":""},null,null,null,null,null,null,null,null,{"$f":"IF(CR8=\"\",\"\",(IF(CS8=\"\",\"\",(IF(CT8=\"\",\"\",(IF(CU8=\"\",\"\",(IF(CV8=\"\",\"\",(IF(CW8=\"\",\"\",IF(CX8=\"\",\"\",(IF(CY8=\"\",\"\",(IF(COUNTIF(CR8:CY8,0)>0,\"มผ\",IF(AND(COUNTIF(CR8:CY8,3)>=5,COUNTIF(CR8:CY8,\"<2\")=0),\"ดย\",IF(OR(AND(AND(COUNTIF(CR8:CY8,3)>=1,COUNTIF(CR8:CY8,3)<=4),COUNTIF(CR8:CY8,\"<2\")=0),COUNTIF(CR8:CY8,2)=8,AND(COUNTIF(CR8:CY8,\">=2\")>=5,COUNTIF(CR8:CY8,1)>0)),\"ด\",IF(OR(COUNTIF(CR8:CY8,1)=8,AND(COUNTIF(CR8:CY8,\">=2\")>=1,COUNTIF(CR8:CY8,\">=2\")<=4)),\"ผ\",\"มผ\")))))))))))))))))))","v":""},"","","",null,{"$f":"IF(Sheet1!C3=\"\",\"\",IF(COUNTIF(DA8:DC8,\"ร\"),\"ร\",IF(DC8=\"ร\",\"ร\",IF(DR8=\"ปกติ\",SUM(DA8:DB8,IF(DD8=\"\",DC8,DD8)),\"-\"))))","v":0},null,{"$f":"IF(DR8=\"\",\"\",IF(DR8=\"ปกติ\",IF(CI8=\"\",\"\",(CI8*($D$4/100))),\"\"))","v":""},null,{"$f":"IF(DG8=\"\",\"\",SUM(DG8:DH8))","v":""},null,null,{"$f":"IF([3]Sheet1!D3=\"\",\"\",IF(DE8=\"\",\"\",IF(COUNTIF(DA8:DJ8,\"ร\"),\"ร\",IF(COUNTIF(DA8:DJ8,\"-\"),\"-\",IF(DR8=\"ปกติ\",SUM(DE8,IF(DJ8=\"\",DI8,DJ8)))))))","v":0},null,{"$f":"IF(DL8=\"\",\"\",IF(DR8=\"\",\"\",IF(DR8=\"ย้าย\",\"-\",IF(DR8=\"จำหน่าย\",\"-\",IF(DR8=\"ขาดเรียนนาน\",\"-\",IF(เวลาเรียน!IO10<80,\"มส\",IF(DL8=\"ร\",\"ร\",VLOOKUP(DL8,$DT$19:$DV$26,3))))))))","v":{"$error":"#DIV/0!"}},null,null,null,{"$f":"IF(เวลาเรียน!IP10=\"\",\"\",เวลาเรียน!IP10)","v":"ปกติ"},null,"ช่วงคะแนน",null,"เกรด",null,4,3.5,3,2.5,2,1.5,1,0,"ร","มส"]
[3,2499,{"$f":"CONCATENATE(Sheet1!B4)","v":"17012"},{"$f":"CONCATENATE(Sheet1!C4&Sheet1!D4&\"       \"&Sheet1!E4)","v":"เด็กชายณภัทร     กำเหนิดศิลป์       "},3,null,null,null,null,null,null,null,null,null,null,null,null,null,null,null,null,null,null,null,null,{"$f":"IF(Sheet1!C4=\"\",\"\",IF(COUNTIF(F9:V9,\"-1\"),\"ร\",IF(DR9=\"ปกติ\",SUM(F9,G9,H9,I9,J9,K9,L9,M9,N9,O9,P9,Q9,R9,S9,T9,U9,V9,W9,X9,Y9),\"-\")))","v":0},null,"",null,null,null,null,null,null,null,null,null,null,null,null,null,null,null,null,null,null,null,null,{"$f":"IF(Sheet1!C4=\"\",\"\",IF(COUNTIF(AC9:AS9,\"-1\"),\"ร\",IF(DR9=\"ปกติ\",SUM(AC9,AD9,AE9,AF9,AG9,AH9,AI9,AJ9,AK9,AL9,AM9,AN9,AO9,AP9,AQ9,AR9,AS9),\"-\")))","v":0},null,"",null,null,null,null,null,null,null,null,null,null,null,null,null,null,null,{"$f":"IF(Sheet1!C4=\"\",\"\",IF(COUNTIF(AZ9:BN9,\"-1\"),\"ร\",IF(DR9=\"ปกติ\",SUM(AZ9,BA9,BB9,BC9,BD9,BE9,BF9,BG9,BH9,BI9,BJ9,BK9,BL9,BM9,BN9),\"-\")))","v":0},null,"",null,null,null,null,null,null,null,null,null,null,null,null,null,null,null,{"$f":"IF(Sheet1!C4=\"\",\"\",IF(COUNTIF(BR9:CF9,\"-1\"),\"ร\",IF(DR9=\"ปกติ\",SUM(BR9,BS9,BT9,BU9,BV9,BW9,BX9,BY9,BZ9,CA9,CB9,CC9,CD9,CE9,CF9),\"-\")))","v":0},null,"",null,null,null,null,null,{"$f":"IF(Sheet1!C4=\"\",\"\",IF(CJ9=\"\",\"\",(IF(CK9=\"\",\"\",(IF(CL9=\"\",\"\",(IF(CM9=\"\",\"\",(IF(CN9=\"\",\"\",(SUM(CJ9:CN9))))))))))))","v":""},"","",null,null,null,null,null,null,null,null,"","","","",null,{"$f":"IF(Sheet1!C4=\"\",\"\",IF(COUNTIF(DA9:DC9,\"ร\"),\"ร\",IF(DC9=\"ร\",\"ร\",IF(DR9=\"ปกติ\",SUM(DA9:DB9,IF(DD9=\"\",DC9,DD9)),\"-\"))))","v":0},null,"",null,"",null,null,{"$f":"IF([3]Sheet1!D4=\"\",\"\",IF(DE9=\"\",\"\",IF(COUNTIF(DA9:DJ9,\"ร\"),\"ร\",IF(COUNTIF(DA9:DJ9,\"-\"),\"-\",IF(DR9=\"ปกติ\",SUM(DE9,IF(DJ9=\"\",DI9,DJ9)))))))","v":0},null,{"$f":"IF(DL9=\"\",\"\",IF(DR9=\"\",\"\",IF(DR9=\"ย้าย\",\"-\",IF(DR9=\"จำหน่าย\",\"-\",IF(DR9=\"ขาดเรียนนาน\",\"-\",IF(เวลาเรียน!IO11<80,\"มส\",IF(DL9=\"ร\",\"ร\",VLOOKUP(DL9,$DT$19:$DV$26,3))))))))","v":{"$error":"#DIV/0!"}},null,null,null,{"$f":"IF(เวลาเรียน!IP11=\"\",\"\",เวลาเรียน!IP11)","v":"ปกติ"},null,"จาก","ถึง",null,null,{"$f":"COUNTIF($DN$7:$DN$56,DX8)","v":0},{"$f":"COUNTIF($DN$7:$DN$56,DY8)","v":0},0,0,0,0,0,0,0,0]
[4,2500,{"$f":"CONCATENATE(Sheet1!B5)","v":"17020"},{"$f":"CONCATENATE(Sheet1!C5&Sheet1!D5&\"       \"&Sheet1!E5)","v":"เด็กหญิงณัฐพัชร์   เผือกทิม       "},4,null,null,null,null,null,null,null,null,null,null,null,null,null,null,null,null,null,null,null,null,{"$f":"IF(Sheet1!C5=\"\",\"\",IF(COUNTIF(F10:V10,\"-1\"),\"ร\",IF(DR10=\"ปกติ\",SUM(F10,G10,H10,I10,J10,K10,L10,M10,N10,O10,P10,Q10,R10,S10,T10,U10,V10,W10,X10,Y10),\"-\")))","v":0},null,"",null,null,null,null,null,null,null,null,null,null,null,null,null,null,null,null,null,null,null,null,{"$f":"IF(Sheet1!C5=\"\",\"\",IF(COUNTIF(AC10:AS10,\"-1\"),\"ร\",IF(DR10=\"ปกติ\",SUM(AC10,AD10,AE10,AF10,AG10,AH10,AI10,AJ10,AK10,AL10,AM10,AN10,AO10,AP10,AQ10,AR10,AS10),\"-\")))","v":0},null,"",null,null,null,null,null,null,null,null,null,null,null,null,null,null,null,{"$f":"IF(Sheet1!C5=\"\",\"\",IF(COUNTIF(AZ10:BN10,\"-1\"),\"ร\",IF(DR10=\"ปกติ\",SUM(AZ10,BA10,BB10,BC10,BD10,BE10,BF10,BG10,BH10,BI10,BJ10,BK10,BL10,BM10,BN10),\"-\")))","v":0},null,"",null,null,null,null,null,null,null,null,null,null,null,null,null,null,null,{"$f":"IF(Sheet1!C5=\"\",\"\",IF(COUNTIF(BR10:CF10,\"-1\"),\"ร\",IF(DR10=\"ปกติ\",SUM(BR10,BS10,BT10,BU10,BV10,BW10,BX10,BY10,BZ10,CA10,CB10,CC10,CD10,CE10,CF10),\"-\")))","v":0},null,"",null,null,null,null,null,{"$f":"IF(Sheet1!C5=\"\",\"\",IF(CJ10=\"\",\"\",(IF(CK10=\"\",\"\",(IF(CL10=\"\",\"\",(IF(CM10=\"\",\"\",(IF(CN10=\"\",\"\",(SUM(CJ10:CN10))))))))))))","v":""},"","",null,null,null,null,null,null,null,null,"","","","",null,{"$f":"IF(Sheet1!C5=\"\",\"\",IF(COUNTIF(DA10:DC10,\"ร\"),\"ร\",IF(DC10=\"ร\",\"ร\",IF(DR10=\"ปกติ\",SUM(DA10:DB10,IF(DD10=\"\",DC10,DD10)),\"-\"))))","v":0},null,"",null,"",null,null,{"$f":"IF([3]Sheet1!D5=\"\",\"\",IF(DE10=\"\",\"\",IF(COUNTIF(DA10:DJ10,\"ร\"),\"ร\",IF(COUNTIF(DA10:DJ10,\"-\"),\"-\",IF(DR10=\"ปกติ\",SUM(DE10,IF(DJ10=\"\",DI10,DJ10)))))))","v":0},null,{"$f":"IF(DL10=\"\",\"\",IF(DR10=\"\",\"\",IF(DR10=\"ย้าย\",\"-\",IF(DR10=\"จำหน่าย\",\"-\",IF(DR10=\"ขาดเรียนนาน\",\"-\",IF(เวลาเรียน!IO12<80,\"มส\",IF(DL10=\"ร\",\"ร\",VLOOKUP(DL10,$DT$19:$DV$26,3))))))))","v":{"$error":"#DIV/0!"}},null,null,null,{"$f":"IF(เวลาเรียน!IP12=\"\",\"\",เวลาเรียน!IP12)","v":"ปกติ"},null,0,49,0]
[5,2501,{"$f":"CONCATENATE(Sheet1!B6)","v":"17021"},{"$f":"CONCATENATE(Sheet1!C6&Sheet1!D6&\"       \"&Sheet1!E6)","v":"เด็กหญิงจิรัชยา    ทัศนสวัสดิ์       "},5,null,null,null,null,null,null,null,null,null,null,null,null,null,null,null,null,null,null,null,null,{"$f":"IF(Sheet1!C6=\"\",\"\",IF(COUNTIF(F11:V11,\"-1\"),\"ร\",IF(DR11=\"ปกติ\",SUM(F11,G11,H11,I11,J11,K11,L11,M11,N11,O11,P11,Q11,R11,S11,T11,U11,V11,W11,X11,Y11),\"-\")))","v":0},null,"",null,null,null,null,null,null,null,null,null,null,null,null,null,null,null,null,null,null,null,null,{"$f":"IF(Sheet1!C6=\"\",\"\",IF(COUNTIF(AC11:AS11,\"-1\"),\"ร\",IF(DR11=\"ปกติ\",SUM(AC11,AD11,AE11,AF11,AG11,AH11,AI11,AJ11,AK11,AL11,AM11,AN11,AO11,AP11,AQ11,AR11,AS11),\"-\")))","v":0},null,"",null,null,null,null,null,null,null,null,null,null,null,null,null,null,null,{"$f":"IF(Sheet1!C6=\"\",\"\",IF(COUNTIF(AZ11:BN11,\"-1\"),\"ร\",IF(DR11=\"ปกติ\",SUM(AZ11,BA11,BB11,BC11,BD11,BE11,BF11,BG11,BH11,BI11,BJ11,BK11,BL11,BM11,BN11),\"-\")))","v":0},null,"",null,null,null,null,null,null,null,null,null,null,null,null,null,null,null,{"$f":"IF(Sheet1!C6=\"\",\"\",IF(COUNTIF(BR11:CF11,\"-1\"),\"ร\",IF(DR11=\"ปกติ\",SUM(BR11,BS11,BT11,BU11,BV11,BW11,BX11,BY11,BZ11,CA11,CB11,CC11,CD11,CE11,CF11),\"-\")))","v":0},null,"",null,null,null,null,null,{"$f":"IF(Sheet1!C6=\"\",\"\",IF(CJ11=\"\",\"\",(IF(CK11=\"\",\"\",(IF(CL11=\"\",\"\",(IF(CM11=\"\",\"\",(IF(CN11=\"\",\"\",(SUM(CJ11:CN11))))))))))))","v":""},"","",null,null,null,null,null,null,null,null,"","","","",null,{"$f":"IF(Sheet1!C6=\"\",\"\",IF(COUNTIF(DA11:DC11,\"ร\"),\"ร\",IF(DC11=\"ร\",\"ร\",IF(DR11=\"ปกติ\",SUM(DA11:DB11,IF(DD11=\"\",DC11,DD11)),\"-\"))))","v":0},null,"",null,"",null,null,{"$f":"IF([3]Sheet1!D6=\"\",\"\",IF(DE11=\"\",\"\",IF(COUNTIF(DA11:DJ11,\"ร\"),\"ร\",IF(COUNTIF(DA11:DJ11,\"-\"),\"-\",IF(DR11=\"ปกติ\",SUM(DE11,IF(DJ11=\"\",DI11,DJ11)))))))","v":0},null,{"$f":"IF(DL11=\"\",\"\",IF(DR11=\"\",\"\",IF(DR11=\"ย้าย\",\"-\",IF(DR11=\"จำหน่าย\",\"-\",IF(DR11=\"ขาดเรียนนาน\",\"-\",IF(เวลาเรียน!IO13<80,\"มส\",IF(DL11=\"ร\",\"ร\",VLOOKUP(DL11,$DT$19:$DV$26,3))))))))","v":{"$error":"#DIV/0!"}},null,null,null,{"$f":"IF(เวลาเรียน!IP13=\"\",\"\",เวลาเรียน!IP13)","v":"ปกติ"},null,50,54,1]
[6,2502,{"$f":"CONCATENATE(Sheet1!B7)","v":"17022"},{"$f":"CONCATENATE(Sheet1!C7&Sheet1!D7&\"       \"&Sheet1!E7)","v":"เด็กหญิงธันยกานต์  หาญรัตนปิยพร       "},6,null,null,null,null,null,null,null,null,null,null,null,null,null,null,null,null,null,null,null,null,{"$f":"IF(Sheet1!C7=\"\",\"\",IF(COUNTIF(F12:V12,\"-1\"),\"ร\",IF(DR12=\"ปกติ\",SUM(F12,G12,H12,I12,J12,K12,L12,M12,N12,O12,P12,Q12,R12,S12,T12,U12,V12,W12,X12,Y12),\"-\")))","v":0},null,"",null,null,null,null,null,null,null,null,null,null,null,null,null,null,null,null,null,null,null,null,{"$f":"IF(Sheet1!C7=\"\",\"\",IF(COUNTIF(AC12:AS12,\"-1\"),\"ร\",IF(DR12=\"ปกติ\",SUM(AC12,AD12,AE12,AF12,AG12,AH12,AI12,AJ12,AK12,AL12,AM12,AN12,AO12,AP12,AQ12,AR12,AS12),\"-\")))","v":0},null,"",null,null,null,null,null,null,null,null,null,null,null,null,null,null,null,{"$f":"IF(Sheet1!C7=\"\",\"\",IF(COUNTIF(AZ12:BN12,\"-1\"),\"ร\",IF(DR12=\"ปกติ\",SUM(AZ12,BA12,BB12,BC12,BD12,BE12,BF12,BG12,BH12,BI12,BJ12,BK12,BL12,BM12,BN12),\"-\")))","v":0},null,"",null,null,null,null,null,null,null,null,null,null,null,null,null,null,null,{"$f":"IF(Sheet1!C7=\"\",\"\",IF(COUNTIF(BR12:CF12,\"-1\"),\"ร\",IF(DR12=\"ปกติ\",SUM(BR12,BS12,BT12,BU12,BV12,BW12,BX12,BY12,BZ12,CA12,CB12,CC12,CD12,CE12,CF12),\"-\")))","v":0},null,"",null,null,null,null,null,{"$f":"IF(Sheet1!C7=\"\",\"\",IF(CJ12=\"\",\"\",(IF(CK12=\"\",\"\",(IF(CL12=\"\",\"\",(IF(CM12=\"\",\"\",(IF(CN12=\"\",\"\",(SUM(CJ12:CN12))))))))))))","v":""},"","",null,null,null,null,null,null,null,null,"","","","",null,{"$f":"IF(Sheet1!C7=\"\",\"\",IF(COUNTIF(DA12:DC12,\"ร\"),\"ร\",IF(DC12=\"ร\",\"ร\",IF(DR12=\"ปกติ\",SUM(DA12:DB12,IF(DD12=\"\",DC12,DD12)),\"-\"))))","v":0},null,"",null,"",null,null,{"$f":"IF([3]Sheet1!D7=\"\",\"\",IF(DE12=\"\",\"\",IF(COUNTIF(DA12:DJ12,\"ร\"),\"ร\",IF(COUNTIF(DA12:DJ12,\"-\"),\"-\",IF(DR12=\"ปกติ\",SUM(DE12,IF(DJ12=\"\",DI12,DJ12)))))))","v":0},null,{"$f":"IF(DL12=\"\",\"\",IF(DR12=\"\",\"\",IF(DR12=\"ย้าย\",\"-\",IF(DR12=\"จำหน่าย\",\"-\",IF(DR12=\"ขาดเรียนนาน\",\"-\",IF(เวลาเรียน!IO14<80,\"มส\",IF(DL12=\"ร\",\"ร\",VLOOKUP(DL12,$DT$19:$DV$26,3))))))))","v":{"$error":"#DIV/0!"}},null,null,null,{"$f":"IF(เวลาเรียน!IP14=\"\",\"\",เวลาเรียน!IP14)","v":"ปกติ"},null,55,59,1.5]
[7,2503,{"$f":"CONCATENATE(Sheet1!B8)","v":"17026"},{"$f":"CONCATENATE(Sheet1!C8&Sheet1!D8&\"       \"&Sheet1!E8)","v":"เด็กหญิงกสิณา      ชูเมือง       "},7,null,null,null,null,null,null,null,null,null,null,null,null,null,null,null,null,null,null,null,null,{"$f":"IF(Sheet1!C8=\"\",\"\",IF(COUNTIF(F13:V13,\"-1\"),\"ร\",IF(DR13=\"ปกติ\",SUM(F13,G13,H13,I13,J13,K13,L13,M13,N13,O13,P13,Q13,R13,S13,T13,U13,V13,W13,X13,Y13),\"-\")))","v":0},null,"",null,null,null,null,null,null,null,null,null,null,null,null,null,null,null,null,null,null,null,null,{"$f":"IF(Sheet1!C8=\"\",\"\",IF(COUNTIF(AC13:AS13,\"-1\"),\"ร\",IF(DR13=\"ปกติ\",SUM(AC13,AD13,AE13,AF13,AG13,AH13,AI13,AJ13,AK13,AL13,AM13,AN13,AO13,AP13,AQ13,AR13,AS13),\"-\")))","v":0},null,"",null,null,null,null,null,null,null,null,null,null,null,null,null,null,null,{"$f":"IF(Sheet1!C8=\"\",\"\",IF(COUNTIF(AZ13:BN13,\"-1\"),\"ร\",IF(DR13=\"ปกติ\",SUM(AZ13,BA13,BB13,BC13,BD13,BE13,BF13,BG13,BH13,BI13,BJ13,BK13,BL13,BM13,BN13),\"-\")))","v":0},null,"",null,null,null,null,null,null,null,null,null,null,null,null,null,null,null,{"$f":"IF(Sheet1!C8=\"\",\"\",IF(COUNTIF(BR13:CF13,\"-1\"),\"ร\",IF(DR13=\"ปกติ\",SUM(BR13,BS13,BT13,BU13,BV13,BW13,BX13,BY13,BZ13,CA13,CB13,CC13,CD13,CE13,CF13),\"-\")))","v":0},null,"",null,null,null,null,null,{"$f":"IF(Sheet1!C8=\"\",\"\",IF(CJ13=\"\",\"\",(IF(CK13=\"\",\"\",(IF(CL13=\"\",\"\",(IF(CM13=\"\",\"\",(IF(CN13=\"\",\"\",(SUM(CJ13:CN13))))))))))))","v":""},"","",null,null,null,null,null,null,null,null,"","","","",null,{"$f":"IF(Sheet1!C8=\"\",\"\",IF(COUNTIF(DA13:DC13,\"ร\"),\"ร\",IF(DC13=\"ร\",\"ร\",IF(DR13=\"ปกติ\",SUM(DA13:DB13,IF(DD13=\"\",DC13,DD13)),\"-\"))))","v":0},null,"",null,"",null,null,{"$f":"IF([3]Sheet1!D8=\"\",\"\",IF(DE13=\"\",\"\",IF(COUNTIF(DA13:DJ13,\"ร\"),\"ร\",IF(COUNTIF(DA13:DJ13,\"-\"),\"-\",IF(DR13=\"ปกติ\",SUM(DE13,IF(DJ13=\"\",DI13,DJ13)))))))","v":0},null,{"$f":"IF(DL13=\"\",\"\",IF(DR13=\"\",\"\",IF(DR13=\"ย้าย\",\"-\",IF(DR13=\"จำหน่าย\",\"-\",IF(DR13=\"ขาดเรียนนาน\",\"-\",IF(เวลาเรียน!IO15<80,\"มส\",IF(DL13=\"ร\",\"ร\",VLOOKUP(DL13,$DT$19:$DV$26,3))))))))","v":{"$error":"#DIV/0!"}},null,null,null,{"$f":"IF(เวลาเรียน!IP15=\"\",\"\",เวลาเรียน!IP15)","v":"ปกติ"},null,60,64,2]
[8,2504,{"$f":"CONCATENATE(Sheet1!B9)","v":"17035"},{"$f":"CONCATENATE(Sheet1!C9&Sheet1!D9&\"       \"&Sheet1!E9)","v":"เด็กหญิงกานต์สิตา  รัตนโชติ       "},8,null,null,null,null,null,null,null,null,null,null,null,null,null,null,null,null,null,null,null,null,{"$f":"IF(Sheet1!C9=\"\",\"\",IF(COUNTIF(F14:V14,\"-1\"),\"ร\",IF(DR14=\"ปกติ\",SUM(F14,G14,H14,I14,J14,K14,L14,M14,N14,O14,P14,Q14,R14,S14,T14,U14,V14,W14,X14,Y14),\"-\")))","v":0},null,"",null,null,null,null,null,null,null,null,null,null,null,null,null,null,null,null,null,null,null,null,{"$f":"IF(Sheet1!C9=\"\",\"\",IF(COUNTIF(AC14:AS14,\"-1\"),\"ร\",IF(DR14=\"ปกติ\",SUM(AC14,AD14,AE14,AF14,AG14,AH14,AI14,AJ14,AK14,AL14,AM14,AN14,AO14,AP14,AQ14,AR14,AS14),\"-\")))","v":0},null,"",null,null,null,null,null,null,null,null,null,null,null,null,null,null,null,{"$f":"IF(Sheet1!C9=\"\",\"\",IF(COUNTIF(AZ14:BN14,\"-1\"),\"ร\",IF(DR14=\"ปกติ\",SUM(AZ14,BA14,BB14,BC14,BD14,BE14,BF14,BG14,BH14,BI14,BJ14,BK14,BL14,BM14,BN14),\"-\")))","v":0},null,"",null,null,null,null,null,null,null,null,null,null,null,null,null,null,null,{"$f":"IF(Sheet1!C9=\"\",\"\",IF(COUNTIF(BR14:CF14,\"-1\"),\"ร\",IF(DR14=\"ปกติ\",SUM(BR14,BS14,BT14,BU14,BV14,BW14,BX14,BY14,BZ14,CA14,CB14,CC14,CD14,CE14,CF14),\"-\")))","v":0},null,"",null,null,null,null,null,{"$f":"IF(Sheet1!C9=\"\",\"\",IF(CJ14=\"\",\"\",(IF(CK14=\"\",\"\",(IF(CL14=\"\",\"\",(IF(CM14=\"\",\"\",(IF(CN14=\"\",\"\",(SUM(CJ14:CN14))))))))))))","v":""},"","",null,null,null,null,null,null,null,null,"","","","",null,{"$f":"IF(Sheet1!C9=\"\",\"\",IF(COUNTIF(DA14:DC14,\"ร\"),\"ร\",IF(DC14=\"ร\",\"ร\",IF(DR14=\"ปกติ\",SUM(DA14:DB14,IF(DD14=\"\",DC14,DD14)),\"-\"))))","v":0},null,"",null,"",null,null,{"$f":"IF([3]Sheet1!D9=\"\",\"\",IF(DE14=\"\",\"\",IF(COUNTIF(DA14:DJ14,\"ร\"),\"ร\",IF(COUNTIF(DA14:DJ14,\"-\"),\"-\",IF(DR14=\"ปกติ\",SUM(DE14,IF(DJ14=\"\",DI14,DJ14)))))))","v":0},null,{"$f":"IF(DL14=\"\",\"\",IF(DR14=\"\",\"\",IF(DR14=\"ย้าย\",\"-\",IF(DR14=\"จำหน่าย\",\"-\",IF(DR14=\"ขาดเรียนนาน\",\"-\",IF(เวลาเรียน!IO16<80,\"มส\",IF(DL14=\"ร\",\"ร\",VLOOKUP(DL14,$DT$19:$DV$26,3))))))))","v":{"$error":"#DIV/0!"}},null,null,null,{"$f":"IF(เวลาเรียน!IP16=\"\",\"\",เวลาเรียน!IP16)","v":"ปกติ"},null,65,69,2.5]
[9,2505,{"$f":"CONCATENATE(Sheet1!B10)","v":"17038"},{"$f":"CONCATENATE(Sheet1!C10&Sheet1!D10&\"       \"&Sheet1!E10)","v":"เด็กหญิงธัญพร      แก้วอินทร์       "},9,null,null,null,null,null,null,null,null,null,null,null,null,null,null,null,null,null,null,null,null,{"$f":"IF(Sheet1!C10=\"\",\"\",IF(COUNTIF(F15:V15,\"-1\"),\"ร\",IF(DR15=\"ปกติ\",SUM(F15,G15,H15,I15,J15,K15,L15,M15,N15,O15,P15,Q15,R15,S15,T15,U15,V15,W15,X15,Y15),\"-\")))","v":0},null,"",null,null,null,null,null,null,null,null,null,null,null,null,null,null,null,null,null,null,null,null,{"$f":"IF(Sheet1!C10=\"\",\"\",IF(COUNTIF(AC15:AS15,\"-1\"),\"ร\",IF(DR15=\"ปกติ\",SUM(AC15,AD15,AE15,AF15,AG15,AH15,AI15,AJ15,AK15,AL15,AM15,AN15,AO15,AP15,AQ15,AR15,AS15),\"-\")))","v":0},null,"",null,null,null,null,null,null,null,null,null,null,null,null,null,null,null,{"$f":"IF(Sheet1!C10=\"\",\"\",IF(COUNTIF(AZ15:BN15,\"-1\"),\"ร\",IF(DR15=\"ปกติ\",SUM(AZ15,BA15,BB15,BC15,BD15,BE15,BF15,BG15,BH15,BI15,BJ15,BK15,BL15,BM15,BN15),\"-\")))","v":0},null,"",null,null,null,null,null,null,null,null,null,null,null,null,null,null,null,{"$f":"IF(Sheet1!C10=\"\",\"\",IF(COUNTIF(BR15:CF15,\"-1\"),\"ร\",IF(DR15=\"ปกติ\",SUM(BR15,BS15,BT15,BU15,BV15,BW15,BX15,BY15,BZ15,CA15,CB15,CC15,CD15,CE15,CF15),\"-\")))","v":0},null,"",null,null,null,null,null,{"$f":"IF(Sheet1!C10=\"\",\"\",IF(CJ15=\"\",\"\",(IF(CK15=\"\",\"\",(IF(CL15=\"\",\"\",(IF(CM15=\"\",\"\",(IF(CN15=\"\",\"\",(SUM(CJ15:CN15))))))))))))","v":""},"","",null,null,null,null,null,null,null,null,"","","","",null,{"$f":"IF(Sheet1!C10=\"\",\"\",IF(COUNTIF(DA15:DC15,\"ร\"),\"ร\",IF(DC15=\"ร\",\"ร\",IF(DR15=\"ปกติ\",SUM(DA15:DB15,IF(DD15=\"\",DC15,DD15)),\"-\"))))","v":0},null,"",null,"",null,null,{"$f":"IF([3]Sheet1!D10=\"\",\"\",IF(DE15=\"\",\"\",IF(COUNTIF(DA15:DJ15,\"ร\"),\"ร\",IF(COUNTIF(DA15:DJ15,\"-\"),\"-\",IF(DR15=\"ปกติ\",SUM(DE15,IF(DJ15=\"\",DI15,DJ15)))))))","v":0},null,{"$f":"IF(DL15=\"\",\"\",IF(DR15=\"\",\"\",IF(DR15=\"ย้าย\",\"-\",IF(DR15=\"จำหน่าย\",\"-\",IF(DR15=\"ขาดเรียนนาน\",\"-\",IF(เวลาเรียน!IO17<80,\"มส\",IF(DL15=\"ร\",\"ร\",VLOOKUP(DL15,$DT$19:$DV$26,3))))))))","v":{"$error":"#DIV/0!"}},null,null,null,{"$f":"IF(เวลาเรียน!IP17=\"\",\"\",เวลาเรียน!IP17)","v":"ปกติ"},null,70,74,3]
[10,2506,{"$f":"CONCATENATE(Sheet1!B11)","v":"17041"},{"$f":"CONCATENATE(Sheet1!C11&Sheet1!D11&\"       \"&Sheet1!E11)","v":"เด็กหญิงกชพร       คล้ายอุดม       "},10,null,null,null,null,null,null,null,null,null,null,null,null,null,null,null,null,null,null,null,null,{"$f":"IF(Sheet1!C11=\"\",\"\",IF(COUNTIF(F16:V16,\"-1\"),\"ร\",IF(DR16=\"ปกติ\",SUM(F16,G16,H16,I16,J16,K16,L16,M16,N16,O16,P16,Q16,R16,S16,T16,U16,V16,W16,X16,Y16),\"-\")))","v":0},null,"",null,null,null,null,null,null,null,null,null,null,null,null,null,null,null,null,null,null,null,null,{"$f":"IF(Sheet1!C11=\"\",\"\",IF(COUNTIF(AC16:AS16,\"-1\"),\"ร\",IF(DR16=\"ปกติ\",SUM(AC16,AD16,AE16,AF16,AG16,AH16,AI16,AJ16,AK16,AL16,AM16,AN16,AO16,AP16,AQ16,AR16,AS16),\"-\")))","v":0},null,"",null,null,null,null,null,null,null,null,null,null,null,null,null,null,null,{"$f":"IF(Sheet1!C11=\"\",\"\",IF(COUNTIF(AZ16:BN16,\"-1\"),\"ร\",IF(DR16=\"ปกติ\",SUM(AZ16,BA16,BB16,BC16,BD16,BE16,BF16,BG16,BH16,BI16,BJ16,BK16,BL16,BM16,BN16),\"-\")))","v":0},null,"",null,null,null,null,null,null,null,null,null,null,null,null,null,null,null,{"$f":"IF(Sheet1!C11=\"\",\"\",IF(COUNTIF(BR16:CF16,\"-1\"),\"ร\",IF(DR16=\"ปกติ\",SUM(BR16,BS16,BT16,BU16,BV16,BW16,BX16,BY16,BZ16,CA16,CB16,CC16,CD16,CE16,CF16),\"-\")))","v":0},null,"",null,null,null,null,null,{"$f":"IF(Sheet1!C11=\"\",\"\",IF(CJ16=\"\",\"\",(IF(CK16=\"\",\"\",(IF(CL16=\"\",\"\",(IF(CM16=\"\",\"\",(IF(CN16=\"\",\"\",(SUM(CJ16:CN16))))))))))))","v":""},"","",null,null,null,null,null,null,null,null,"","","","",null,{"$f":"IF(Sheet1!C11=\"\",\"\",IF(COUNTIF(DA16:DC16,\"ร\"),\"ร\",IF(DC16=\"ร\",\"ร\",IF(DR16=\"ปกติ\",SUM(DA16:DB16,IF(DD16=\"\",DC16,DD16)),\"-\"))))","v":0},null,"",null,"",null,null,{"$f":"IF([3]Sheet1!D11=\"\",\"\",IF(DE16=\"\",\"\",IF(COUNTIF(DA16:DJ16,\"ร\"),\"ร\",IF(COUNTIF(DA16:DJ16,\"-\"),\"-\",IF(DR16=\"ปกติ\",SUM(DE16,IF(DJ16=\"\",DI16,DJ16)))))))","v":0},null,{"$f":"IF(DL16=\"\",\"\",IF(DR16=\"\",\"\",IF(DR16=\"ย้าย\",\"-\",IF(DR16=\"จำหน่าย\",\"-\",IF(DR16=\"ขาดเรียนนาน\",\"-\",IF(เวลาเรียน!IO18<80,\"มส\",IF(DL16=\"ร\",\"ร\",VLOOKUP(DL16,$DT$19:$DV$26,3))))))))","v":{"$error":"#DIV/0!"}},null,null,null,{"$f":"IF(เวลาเรียน!IP18=\"\",\"\",เวลาเรียน!IP18)","v":"ปกติ"},null,75,79,3.5]
[11,2507,{"$f":"CONCATENATE(Sheet1!B12)","v":"18181"},{"$f":"CONCATENATE(Sheet1!C12&Sheet1!D12&\"       \"&Sheet1!E12)","v":"เด็กชายธรณ์ธันย์    อิสรา       "},11,null,null,null,null,null,null,null,null,null,null,null,null,null,null,null,null,null,null,null,null,{"$f":"IF(Sheet1!C12=\"\",\"\",IF(COUNTIF(F17:V17,\"-1\"),\"ร\",IF(DR17=\"ปกติ\",SUM(F17,G17,H17,I17,J17,K17,L17,M17,N17,O17,P17,Q17,R17,S17,T17,U17,V17,W17,X17,Y17),\"-\")))","v":0},null,"",null,null,null,null,null,null,null,null,null,null,null,null,null,null,null,null,null,null,null,null,{"$f":"IF(Sheet1!C12=\"\",\"\",IF(COUNTIF(AC17:AS17,\"-1\"),\"ร\",IF(DR17=\"ปกติ\",SUM(AC17,AD17,AE17,AF17,AG17,AH17,AI17,AJ17,AK17,AL17,AM17,AN17,AO17,AP17,AQ17,AR17,AS17),\"-\")))","v":0},null,"",null,null,null,null,null,null,null,null,null,null,null,null,null,null,null,{"$f":"IF(Sheet1!C12=\"\",\"\",IF(COUNTIF(AZ17:BN17,\"-1\"),\"ร\",IF(DR17=\"ปกติ\",SUM(AZ17,BA17,BB17,BC17,BD17,BE17,BF17,BG17,BH17,BI17,BJ17,BK17,BL17,BM17,BN17),\"-\")))","v":0},null,"",null,null,null,null,null,null,null,null,null,null,null,null,null,null,null,{"$f":"IF(Sheet1!C12=\"\",\"\",IF(COUNTIF(BR17:CF17,\"-1\"),\"ร\",IF(DR17=\"ปกติ\",SUM(BR17,BS17,BT17,BU17,BV17,BW17,BX17,BY17,BZ17,CA17,CB17,CC17,CD17,CE17,CF17),\"-\")))","v":0},null,"",null,null,null,null,null,{"$f":"IF(Sheet1!C12=\"\",\"\",IF(CJ17=\"\",\"\",(IF(CK17=\"\",\"\",(IF(CL17=\"\",\"\",(IF(CM17=\"\",\"\",(IF(CN17=\"\",\"\",(SUM(CJ17:CN17))))))))))))","v":""},"","",null,null,null,null,null,null,null,null,"","","","",null,{"$f":"IF(Sheet1!C12=\"\",\"\",IF(COUNTIF(DA17:DC17,\"ร\"),\"ร\",IF(DC17=\"ร\",\"ร\",IF(DR17=\"ปกติ\",SUM(DA17:DB17,IF(DD17=\"\",DC17,DD17)),\"-\"))))","v":0},null,"",null,"",null,null,{"$f":"IF([3]Sheet1!D12=\"\",\"\",IF(DE17=\"\",\"\",IF(COUNTIF(DA17:DJ17,\"ร\"),\"ร\",IF(COUNTIF(DA17:DJ17,\"-\"),\"-\",IF(DR17=\"ปกติ\",SUM(DE17,IF(DJ17=\"\",DI17,DJ17)))))))","v":0},null,{"$f":"IF(DL17=\"\",\"\",IF(DR17=\"\",\"\",IF(DR17=\"ย้าย\",\"-\",IF(DR17=\"จำหน่าย\",\"-\",IF(DR17=\"ขาดเรียนนาน\",\"-\",IF(เวลาเรียน!IO19<80,\"มส\",IF(DL17=\"ร\",\"ร\",VLOOKUP(DL17,$DT$19:$DV$26,3))))))))","v":{"$error":"#DIV/0!"}},null,null,null,{"$f":"IF(เวลาเรียน!IP19=\"\",\"\",เวลาเรียน!IP19)","v":"ปกติ"},null,80,100,4]
[12,2508,{"$f":"CONCATENATE(Sheet1!B13)","v":"18185"},{"$f":"CONCATENATE(Sheet1!C13&Sheet1!D13&\"       \"&Sheet1!E13)","v":"เด็กหญิงกัลยรัตน์   สารเทพ        "},12,null,null,null,null,null,null,null,null,null,null,null,null,null,null,null,null,null,null,null,null,{"$f":"IF(Sheet1!C13=\"\",\"\",IF(COUNTIF(F18:V18,\"-1\"),\"ร\",IF(DR18=\"ปกติ\",SUM(F18,G18,H18,I18,J18,K18,L18,M18,N18,O18,P18,Q18,R18,S18,T18,U18,V18,W18,X18,Y18),\"-\")))","v":0},null,"",null,null,null,null,null,null,null,null,null,null,null,null,null,null,null,null,null,null,null,null,{"$f":"IF(Sheet1!C13=\"\",\"\",IF(COUNTIF(AC18:AS18,\"-1\"),\"ร\",IF(DR18=\"ปกติ\",SUM(AC18,AD18,AE18,AF18,AG18,AH18,AI18,AJ18,AK18,AL18,AM18,AN18,AO18,AP18,AQ18,AR18,AS18),\"-\")))","v":0},null,"",null,null,null,null,null,null,null,null,null,null,null,null,null,null,null,{"$f":"IF(Sheet1!C13=\"\",\"\",IF(COUNTIF(AZ18:BN18,\"-1\"),\"ร\",IF(DR18=\"ปกติ\",SUM(AZ18,BA18,BB18,BC18,BD18,BE18,BF18,BG18,BH18,BI18,BJ18,BK18,BL18,BM18,BN18),\"-\")))","v":0},null,"",null,null,null,null,null,null,null,null,null,null,null,null,null,null,null,{"$f":"IF(Sheet1!C13=\"\",\"\",IF(COUNTIF(BR18:CF18,\"-1\"),\"ร\",IF(DR18=\"ปกติ\",SUM(BR18,BS18,BT18,BU18,BV18,BW18,BX18,BY18,BZ18,CA18,CB18,CC18,CD18,CE18,CF18),\"-\")))","v":0},null,"",null,null,null,null,null,{"$f":"IF(Sheet1!C13=\"\",\"\",IF(CJ18=\"\",\"\",(IF(CK18=\"\",\"\",(IF(CL18=\"\",\"\",(IF(CM18=\"\",\"\",(IF(CN18=\"\",\"\",(SUM(CJ18:CN18))))))))))))","v":""},"","",null,null,null,null,null,null,null,null,"","","","",null,{"$f":"IF(Sheet1!C13=\"\",\"\",IF(COUNTIF(DA18:DC18,\"ร\"),\"ร\",IF(DC18=\"ร\",\"ร\",IF(DR18=\"ปกติ\",SUM(DA18:DB18,IF(DD18=\"\",DC18,DD18)),\"-\"))))","v":0},null,"",null,"",null,null,{"$f":"IF([3]Sheet1!D13=\"\",\"\",IF(DE18=\"\",\"\",IF(COUNTIF(DA18:DJ18,\"ร\"),\"ร\",IF(COUNTIF(DA18:DJ18,\"-\"),\"-\",IF(DR18=\"ปกติ\",SUM(DE18,IF(DJ18=\"\",DI18,DJ18)))))))","v":0},null,{"$f":"IF(DL18=\"\",\"\",IF(DR18=\"\",\"\",IF(DR18=\"ย้าย\",\"-\",IF(DR18=\"จำหน่าย\",\"-\",IF(DR18=\"ขาดเรียนนาน\",\"-\",IF(เวลาเรียน!IO20<80,\"มส\",IF(DL18=\"ร\",\"ร\",VLOOKUP(DL18,$DT$19:$DV$26,3))))))))","v":{"$error":"#DIV/0!"}},null,null,null,{"$f":"IF(เวลาเรียน!IP20=\"\",\"\",เวลาเรียน!IP20)","v":"ปกติ"}]
[13,2509,{"$f":"CONCATENATE(Sheet1!B14)","v":"18270"},{"$f":"CONCATENATE(Sheet1!C14&Sheet1!D14&\"       \"&Sheet1!E14)","v":"เด็กหญิงเขมิกา     ปลื้มใจ        "},13,null,null,null,null,null,null,null,null,null,null,null,null,null,null,null,null,null,null,null,null,{"$f":"IF(Sheet1!C14=\"\",\"\",IF(COUNTIF(F19:V19,\"-1\"),\"ร\",IF(DR19=\"ปกติ\",SUM(F19,G19,H19,I19,J19,K19,L19,M19,N19,O19,P19,Q19,R19,S19,T19,U19,V19,W19,X19,Y19),\"-\")))","v":0},null,"",null,null,null,null,null,null,null,null,null,null,null,null,null,null,null,null,null,null,null,null,{"$f":"IF(Sheet1!C14=\"\",\"\",IF(COUNTIF(AC19:AS19,\"-1\"),\"ร\",IF(DR19=\"ปกติ\",SUM(AC19,AD19,AE19,AF19,AG19,AH19,AI19,AJ19,AK19,AL19,AM19,AN19,AO19,AP19,AQ19,AR19,AS19),\"-\")))","v":0},null,"",null,null,null,null,null,null,null,null,null,null,null,null,null,null,null,{"$f":"IF(Sheet1!C14=\"\",\"\",IF(COUNTIF(AZ19:BN19,\"-1\"),\"ร\",IF(DR19=\"ปกติ\",SUM(AZ19,BA19,BB19,BC19,BD19,BE19,BF19,BG19,BH19,BI19,BJ19,BK19,BL19,BM19,BN19),\"-\")))","v":0},null,"",null,null,null,null,null,null,null,null,null,null,null,null,null,null,null,{"$f":"IF(Sheet1!C14=\"\",\"\",IF(COUNTIF(BR19:CF19,\"-1\"),\"ร\",IF(DR19=\"ปกติ\",SUM(BR19,BS19,BT19,BU19,BV19,BW19,BX19,BY19,BZ19,CA19,CB19,CC19,CD19,CE19,CF19),\"-\")))","v":0},null,"",null,null,null,null,null,{"$f":"IF(Sheet1!C14=\"\",\"\",IF(CJ19=\"\",\"\",(IF(CK19=\"\",\"\",(IF(CL19=\"\",\"\",(IF(CM19=\"\",\"\",(IF(CN19=\"\",\"\",(SUM(CJ19:CN19))))))))))))","v":""},"","",null,null,null,null,null,null,null,null,"","","","",null,{"$f":"IF(Sheet1!C14=\"\",\"\",IF(COUNTIF(DA19:DC19,\"ร\"),\"ร\",IF(DC19=\"ร\",\"ร\",IF(DR19=\"ปกติ\",SUM(DA19:DB19,IF(DD19=\"\",DC19,DD19)),\"-\"))))","v":0},null,"",null,"",null,null,{"$f":"IF([3]Sheet1!D14=\"\",\"\",IF(DE19=\"\",\"\",IF(COUNTIF(DA19:DJ19,\"ร\"),\"ร\",IF(COUNTIF(DA19:DJ19,\"-\"),\"-\",IF(DR19=\"ปกติ\",SUM(DE19,IF(DJ19=\"\",DI19,DJ19)))))))","v":0},null,{"$f":"IF(DL19=\"\",\"\",IF(DR19=\"\",\"\",IF(DR19=\"ย้าย\",\"-\",IF(DR19=\"จำหน่าย\",\"-\",IF(DR19=\"ขาดเรียนนาน\",\"-\",IF(เวลาเรียน!IO21<80,\"มส\",IF(DL19=\"ร\",\"ร\",VLOOKUP(DL19,$DT$19:$DV$26,3))))))))","v":{"$error":"#DIV/0!"}},null,null,null,{"$f":"IF(เวลาเรียน!IP21=\"\",\"\",เวลาเรียน!IP21)","v":"ปกติ"},null,0,50,0]
[14,2510,{"$f":"CONCATENATE(Sheet1!B15)","v":"18475"},{"$f":"CONCATENATE(Sheet1!C15&Sheet1!D15&\"       \"&Sheet1!E15)","v":"เด็กชายกวินท์      นาคสวัสดิ์       "},14,null,null,null,null,null,null,null,null,null,null,null,null,null,null,null,null,null,null,null,null,{"$f":"IF(Sheet1!C15=\"\",\"\",IF(COUNTIF(F20:V20,\"-1\"),\"ร\",IF(DR20=\"ปกติ\",SUM(F20,G20,H20,I20,J20,K20,L20,M20,N20,O20,P20,Q20,R20,S20,T20,U20,V20,W20,X20,Y20),\"-\")))","v":0},null,"",null,null,null,null,null,null,null,null,null,null,null,null,null,null,null,null,null,null,null,null,{"$f":"IF(Sheet1!C15=\"\",\"\",IF(COUNTIF(AC20:AS20,\"-1\"),\"ร\",IF(DR20=\"ปกติ\",SUM(AC20,AD20,AE20,AF20,AG20,AH20,AI20,AJ20,AK20,AL20,AM20,AN20,AO20,AP20,AQ20,AR20,AS20),\"-\")))","v":0},null,"",null,null,null,null,null,null,null,null,null,null,null,null,null,null,null,{"$f":"IF(Sheet1!C15=\"\",\"\",IF(COUNTIF(AZ20:BN20,\"-1\"),\"ร\",IF(DR20=\"ปกติ\",SUM(AZ20,BA20,BB20,BC20,BD20,BE20,BF20,BG20,BH20,BI20,BJ20,BK20,BL20,BM20,BN20),\"-\")))","v":0},null,"",null,null,null,null,null,null,null,null,null,null,null,null,null,null,null,{"$f":"IF(Sheet1!C15=\"\",\"\",IF(COUNTIF(BR20:CF20,\"-1\"),\"ร\",IF(DR20=\"ปกติ\",SUM(BR20,BS20,BT20,BU20,BV20,BW20,BX20,BY20,BZ20,CA20,CB20,CC20,CD20,CE20,CF20),\"-\")))","v":0},null,"",null,null,null,null,null,{"$f":"IF(Sheet1!C15=\"\",\"\",IF(CJ20=\"\",\"\",(IF(CK20=\"\",\"\",(IF(CL20=\"\",\"\",(IF(CM20=\"\",\"\",(IF(CN20=\"\",\"\",(SUM(CJ20:CN20))))))))))))","v":""},"","",null,null,null,null,null,null,null,null,"","","","",null,{"$f":"IF(Sheet1!C15=\"\",\"\",IF(COUNTIF(DA20:DC20,\"ร\"),\"ร\",IF(DC20=\"ร\",\"ร\",IF(DR20=\"ปกติ\",SUM(DA20:DB20,IF(DD20=\"\",DC20,DD20)),\"-\"))))","v":0},null,"",null,"",null,null,{"$f":"IF([3]Sheet1!D15=\"\",\"\",IF(DE20=\"\",\"\",IF(COUNTIF(DA20:DJ20,\"ร\"),\"ร\",IF(COUNTIF(DA20:DJ20,\"-\"),\"-\",IF(DR20=\"ปกติ\",SUM(DE20,IF(DJ20=\"\",DI20,DJ20)))))))","v":0},null,{"$f":"IF(DL20=\"\",\"\",IF(DR20=\"\",\"\",IF(DR20=\"ย้าย\",\"-\",IF(DR20=\"จำหน่าย\",\"-\",IF(DR20=\"ขาดเรียนนาน\",\"-\",IF(เวลาเรียน!IO22<80,\"มส\",IF(DL20=\"ร\",\"ร\",VLOOKUP(DL20,$DT$19:$DV$26,3))))))))","v":{"$error":"#DIV/0!"}},null,null,null,{"$f":"IF(เวลาเรียน!IP22=\"\",\"\",เวลาเรียน!IP22)","v":"ปกติ"},null,50,55,1]
[15,2511,{"$f":"CONCATENATE(Sheet1!B16)","v":"18521"},{"$f":"CONCATENATE(Sheet1!C16&Sheet1!D16&\"       \"&Sheet1!E16)","v":"เด็กชายอธินันท์    บัวเพชร       "},15,null,null,null,null,null,null,null,null,null,null,null,null,null,null,null,null,null,null,null,null,{"$f":"IF(Sheet1!C16=\"\",\"\",IF(COUNTIF(F21:V21,\"-1\"),\"ร\",IF(DR21=\"ปกติ\",SUM(F21,G21,H21,I21,J21,K21,L21,M21,N21,O21,P21,Q21,R21,S21,T21,U21,V21,W21,X21,Y21),\"-\")))","v":0},null,"",null,null,null,null,null,null,null,null,null,null,null,null,null,null,null,null,null,null,null,null,{"$f":"IF(Sheet1!C16=\"\",\"\",IF(COUNTIF(AC21:AS21,\"-1\"),\"ร\",IF(DR21=\"ปกติ\",SUM(AC21,AD21,AE21,AF21,AG21,AH21,AI21,AJ21,AK21,AL21,AM21,AN21,AO21,AP21,AQ21,AR21,AS21),\"-\")))","v":0},null,"",null,null,null,null,null,null,null,null,null,null,null,null,null,null,null,{"$f":"IF(Sheet1!C16=\"\",\"\",IF(COUNTIF(AZ21:BN21,\"-1\"),\"ร\",IF(DR21=\"ปกติ\",SUM(AZ21,BA21,BB21,BC21,BD21,BE21,BF21,BG21,BH21,BI21,BJ21,BK21,BL21,BM21,BN21),\"-\")))","v":0},null,"",null,null,null,null,null,null,null,null,null,null,null,null,null,null,null,{"$f":"IF(Sheet1!C16=\"\",\"\",IF(COUNTIF(BR21:CF21,\"-1\"),\"ร\",IF(DR21=\"ปกติ\",SUM(BR21,BS21,BT21,BU21,BV21,BW21,BX21,BY21,BZ21,CA21,CB21,CC21,CD21,CE21,CF21),\"-\")))","v":0},null,"",null,null,null,null,null,{"$f":"IF(Sheet1!C16=\"\",\"\",IF(CJ21=\"\",\"\",(IF(CK21=\"\",\"\",(IF(CL21=\"\",\"\",(IF(CM21=\"\",\"\",(IF(CN21=\"\",\"\",(SUM(CJ21:CN21))))))))))))","v":""},"","",null,null,null,null,null,null,null,null,"","","","",null,{"$f":"IF(Sheet1!C16=\"\",\"\",IF(COUNTIF(DA21:DC21,\"ร\"),\"ร\",IF(DC21=\"ร\",\"ร\",IF(DR21=\"ปกติ\",SUM(DA21:DB21,IF(DD21=\"\",DC21,DD21)),\"-\"))))","v":0},null,"",null,"",null,null,{"$f":"IF([3]Sheet1!D16=\"\",\"\",IF(DE21=\"\",\"\",IF(COUNTIF(DA21:DJ21,\"ร\"),\"ร\",IF(COUNTIF(DA21:DJ21,\"-\"),\"-\",IF(DR21=\"ปกติ\",SUM(DE21,IF(DJ21=\"\",DI21,DJ21)))))))","v":0},null,{"$f":"IF(DL21=\"\",\"\",IF(DR21=\"\",\"\",IF(DR21=\"ย้าย\",\"-\",IF(DR21=\"จำหน่าย\",\"-\",IF(DR21=\"ขาดเรียนนาน\",\"-\",IF(เวลาเรียน!IO23<80,\"มส\",IF(DL21=\"ร\",\"ร\",VLOOKUP(DL21,$DT$19:$DV$26,3))))))))","v":{"$error":"#DIV/0!"}},null,null,null,{"$f":"IF(เวลาเรียน!IP23=\"\",\"\",เวลาเรียน!IP23)","v":"ปกติ"},null,55,60,1.5]
[16,2512,{"$f":"CONCATENATE(Sheet1!B17)","v":"18831"},{"$f":"CONCATENATE(Sheet1!C17&Sheet1!D17&\"       \"&Sheet1!E17)","v":"เด็กชายปวริศร์     สันตะโร       "},16,null,null,null,null,null,null,null,null,null,null,null,null,null,null,null,null,null,null,null,null,{"$f":"IF(Sheet1!C17=\"\",\"\",IF(COUNTIF(F22:V22,\"-1\"),\"ร\",IF(DR22=\"ปกติ\",SUM(F22,G22,H22,I22,J22,K22,L22,M22,N22,O22,P22,Q22,R22,S22,T22,U22,V22,W22,X22,Y22),\"-\")))","v":0},null,"",null,null,null,null,null,null,null,null,null,null,null,null,null,null,null,null,null,null,null,null,{"$f":"IF(Sheet1!C17=\"\",\"\",IF(COUNTIF(AC22:AS22,\"-1\"),\"ร\",IF(DR22=\"ปกติ\",SUM(AC22,AD22,AE22,AF22,AG22,AH22,AI22,AJ22,AK22,AL22,AM22,AN22,AO22,AP22,AQ22,AR22,AS22),\"-\")))","v":0},null,"",null,null,null,null,null,null,null,null,null,null,null,null,null,null,null,{"$f":"IF(Sheet1!C17=\"\",\"\",IF(COUNTIF(AZ22:BN22,\"-1\"),\"ร\",IF(DR22=\"ปกติ\",SUM(AZ22,BA22,BB22,BC22,BD22,BE22,BF22,BG22,BH22,BI22,BJ22,BK22,BL22,BM22,BN22),\"-\")))","v":0},null,"",null,null,null,null,null,null,null,null,null,null,null,null,null,null,null,{"$f":"IF(Sheet1!C17=\"\",\"\",IF(COUNTIF(BR22:CF22,\"-1\"),\"ร\",IF(DR22=\"ปกติ\",SUM(BR22,BS22,BT22,BU22,BV22,BW22,BX22,BY22,BZ22,CA22,CB22,CC22,CD22,CE22,CF22),\"-\")))","v":0},null,"",null,null,null,null,null,{"$f":"IF(Sheet1!C17=\"\",\"\",IF(CJ22=\"\",\"\",(IF(CK22=\"\",\"\",(IF(CL22=\"\",\"\",(IF(CM22=\"\",\"\",(IF(CN22=\"\",\"\",(SUM(CJ22:CN22))))))))))))","v":""},"","",null,null,null,null,null,null,null,null,"","","","",null,{"$f":"IF(Sheet1!C17=\"\",\"\",IF(COUNTIF(DA22:DC22,\"ร\"),\"ร\",IF(DC22=\"ร\",\"ร\",IF(DR22=\"ปกติ\",SUM(DA22:DB22,IF(DD22=\"\",DC22,DD22)),\"-\"))))","v":0},null,"",null,"",null,null,{"$f":"IF([3]Sheet1!D17=\"\",\"\",IF(DE22=\"\",\"\",IF(COUNTIF(DA22:DJ22,\"ร\"),\"ร\",IF(COUNTIF(DA22:DJ22,\"-\"),\"-\",IF(DR22=\"ปกติ\",SUM(DE22,IF(DJ22=\"\",DI22,DJ22)))))))","v":0},null,{"$f":"IF(DL22=\"\",\"\",IF(DR22=\"\",\"\",IF(DR22=\"ย้าย\",\"-\",IF(DR22=\"จำหน่าย\",\"-\",IF(DR22=\"ขาดเรียนนาน\",\"-\",IF(เวลาเรียน!IO24<80,\"มส\",IF(DL22=\"ร\",\"ร\",VLOOKUP(DL22,$DT$19:$DV$26,3))))))))","v":{"$error":"#DIV/0!"}},null,null,null,{"$f":"IF(เวลาเรียน!IP24=\"\",\"\",เวลาเรียน!IP24)","v":"ปกติ"},null,60,65,2]
[17,2513,{"$f":"CONCATENATE(Sheet1!B18)","v":"18832"},{"$f":"CONCATENATE(Sheet1!C18&Sheet1!D18&\"       \"&Sheet1!E18)","v":"เด็กชายปุณณวิช    ทองคลอด       "},17,null,null,null,null,null,null,null,null,null,null,null,null,null,null,null,null,null,null,null,null,{"$f":"IF(Sheet1!C18=\"\",\"\",IF(COUNTIF(F23:V23,\"-1\"),\"ร\",IF(DR23=\"ปกติ\",SUM(F23,G23,H23,I23,J23,K23,L23,M23,N23,O23,P23,Q23,R23,S23,T23,U23,V23,W23,X23,Y23),\"-\")))","v":0},null,"",null,null,null,null,null,null,null,null,null,null,null,null,null,null,null,null,null,null,null,null,{"$f":"IF(Sheet1!C18=\"\",\"\",IF(COUNTIF(AC23:AS23,\"-1\"),\"ร\",IF(DR23=\"ปกติ\",SUM(AC23,AD23,AE23,AF23,AG23,AH23,AI23,AJ23,AK23,AL23,AM23,AN23,AO23,AP23,AQ23,AR23,AS23),\"-\")))","v":0},null,"",null,null,null,null,null,null,null,null,null,null,null,null,null,null,null,{"$f":"IF(Sheet1!C18=\"\",\"\",IF(COUNTIF(AZ23:BN23,\"-1\"),\"ร\",IF(DR23=\"ปกติ\",SUM(AZ23,BA23,BB23,BC23,BD23,BE23,BF23,BG23,BH23,BI23,BJ23,BK23,BL23,BM23,BN23),\"-\")))","v":0},null,"",null,null,null,null,null,null,null,null,null,null,null,null,null,null,null,{"$f":"IF(Sheet1!C18=\"\",\"\",IF(COUNTIF(BR23:CF23,\"-1\"),\"ร\",IF(DR23=\"ปกติ\",SUM(BR23,BS23,BT23,BU23,BV23,BW23,BX23,BY23,BZ23,CA23,CB23,CC23,CD23,CE23,CF23),\"-\")))","v":0},null,"",null,null,null,null,null,{"$f":"IF(Sheet1!C18=\"\",\"\",IF(CJ23=\"\",\"\",(IF(CK23=\"\",\"\",(IF(CL23=\"\",\"\",(IF(CM23=\"\",\"\",(IF(CN23=\"\",\"\",(SUM(CJ23:CN23))))))))))))","v":""},"","",null,null,null,null,null,null,null,null,"","","","",null,{"$f":"IF(Sheet1!C18=\"\",\"\",IF(COUNTIF(DA23:DC23,\"ร\"),\"ร\",IF(DC23=\"ร\",\"ร\",IF(DR23=\"ปกติ\",SUM(DA23:DB23,IF(DD23=\"\",DC23,DD23)),\"-\"))))","v":0},null,"",null,"",null,null,{"$f":"IF([3]Sheet1!D18=\"\",\"\",IF(DE23=\"\",\"\",IF(COUNTIF(DA23:DJ23,\"ร\"),\"ร\",IF(COUNTIF(DA23:DJ23,\"-\"),\"-\",IF(DR23=\"ปกติ\",SUM(DE23,IF(DJ23=\"\",DI23,DJ23)))))))","v":0},null,{"$f":"IF(DL23=\"\",\"\",IF(DR23=\"\",\"\",IF(DR23=\"ย้าย\",\"-\",IF(DR23=\"จำหน่าย\",\"-\",IF(DR23=\"ขาดเรียนนาน\",\"-\",IF(เวลาเรียน!IO25<80,\"มส\",IF(DL23=\"ร\",\"ร\",VLOOKUP(DL23,$DT$19:$DV$26,3))))))))","v":{"$error":"#DIV/0!"}},null,null,null,{"$f":"IF(เวลาเรียน!IP25=\"\",\"\",เวลาเรียน!IP25)","v":"ปกติ"},null,65,70,2.5]
[18,2514,{"$f":"CONCATENATE(Sheet1!B19)","v":"18833"},{"$f":"CONCATENATE(Sheet1!C19&Sheet1!D19&\"       \"&Sheet1!E19)","v":"เด็กชายภูมิภัทร    เพชรแก้ว       "},18,null,null,null,null,null,null,null,null,null,null,null,null,null,null,null,null,null,null,null,null,{"$f":"IF(Sheet1!C19=\"\",\"\",IF(COUNTIF(F24:V24,\"-1\"),\"ร\",IF(DR24=\"ปกติ\",SUM(F24,G24,H24,I24,J24,K24,L24,M24,N24,O24,P24,Q24,R24,S24,T24,U24,V24,W24,X24,Y24),\"-\")))","v":0},null,"",null,null,null,null,null,null,null,null,null,null,null,null,null,null,null,null,null,null,null,null,{"$f":"IF(Sheet1!C19=\"\",\"\",IF(COUNTIF(AC24:AS24,\"-1\"),\"ร\",IF(DR24=\"ปกติ\",SUM(AC24,AD24,AE24,AF24,AG24,AH24,AI24,AJ24,AK24,AL24,AM24,AN24,AO24,AP24,AQ24,AR24,AS24),\"-\")))","v":0},null,"",null,null,null,null,null,null,null,null,null,null,null,null,null,null,null,{"$f":"IF(Sheet1!C19=\"\",\"\",IF(COUNTIF(AZ24:BN24,\"-1\"),\"ร\",IF(DR24=\"ปกติ\",SUM(AZ24,BA24,BB24,BC24,BD24,BE24,BF24,BG24,BH24,BI24,BJ24,BK24,BL24,BM24,BN24),\"-\")))","v":0},null,"",null,null,null,null,null,null,null,null,null,null,null,null,null,null,null,{"$f":"IF(Sheet1!C19=\"\",\"\",IF(COUNTIF(BR24:CF24,\"-1\"),\"ร\",IF(DR24=\"ปกติ\",SUM(BR24,BS24,BT24,BU24,BV24,BW24,BX24,BY24,BZ24,CA24,CB24,CC24,CD24,CE24,CF24),\"-\")))","v":0},null,"",null,null,null,null,null,{"$f":"IF(Sheet1!C19=\"\",\"\",IF(CJ24=\"\",\"\",(IF(CK24=\"\",\"\",(IF(CL24=\"\",\"\",(IF(CM24=\"\",\"\",(IF(CN24=\"\",\"\",(SUM(CJ24:CN24))))))))))))","v":""},"","",null,null,null,null,null,null,null,null,"","","","",null,{"$f":"IF(Sheet1!C19=\"\",\"\",IF(COUNTIF(DA24:DC24,\"ร\"),\"ร\",IF(DC24=\"ร\",\"ร\",IF(DR24=\"ปกติ\",SUM(DA24:DB24,IF(DD24=\"\",DC24,DD24)),\"-\"))))","v":0},null,"",null,"",null,null,{"$f":"IF([3]Sheet1!D19=\"\",\"\",IF(DE24=\"\",\"\",IF(COUNTIF(DA24:DJ24,\"ร\"),\"ร\",IF(COUNTIF(DA24:DJ24,\"-\"),\"-\",IF(DR24=\"ปกติ\",SUM(DE24,IF(DJ24=\"\",DI24,DJ24)))))))","v":0},null,{"$f":"IF(DL24=\"\",\"\",IF(DR24=\"\",\"\",IF(DR24=\"ย้าย\",\"-\",IF(DR24=\"จำหน่าย\",\"-\",IF(DR24=\"ขาดเรียนนาน\",\"-\",IF(เวลาเรียน!IO26<80,\"มส\",IF(DL24=\"ร\",\"ร\",VLOOKUP(DL24,$DT$19:$DV$26,3))))))))","v":{"$error":"#DIV/0!"}},null,null,null,{"$f":"IF(เวลาเรียน!IP26=\"\",\"\",เวลาเรียน!IP26)","v":"ปกติ"},null,70,75,3]
[19,2515,{"$f":"CONCATENATE(Sheet1!B20)","v":"18834"},{"$f":"CONCATENATE(Sheet1!C20&Sheet1!D20&\"       \"&Sheet1!E20)","v":"เด็กชายชิณณวรรธน์  เพชรอาวุธ       "},19,null,null,null,null,null,null,null,null,null,null,null,null,null,null,null,null,null,null,null,null,{"$f":"IF(Sheet1!C20=\"\",\"\",IF(COUNTIF(F25:V25,\"-1\"),\"ร\",IF(DR25=\"ปกติ\",SUM(F25,G25,H25,I25,J25,K25,L25,M25,N25,O25,P25,Q25,R25,S25,T25,U25,V25,W25,X25,Y25),\"-\")))","v":0},null,"",null,null,null,null,null,null,null,null,null,null,null,null,null,null,null,null,null,null,null,null,{"$f":"IF(Sheet1!C20=\"\",\"\",IF(COUNTIF(AC25:AS25,\"-1\"),\"ร\",IF(DR25=\"ปกติ\",SUM(AC25,AD25,AE25,AF25,AG25,AH25,AI25,AJ25,AK25,AL25,AM25,AN25,AO25,AP25,AQ25,AR25,AS25),\"-\")))","v":0},null,"",null,null,null,null,null,null,null,null,null,null,null,null,null,null,null,{"$f":"IF(Sheet1!C20=\"\",\"\",IF(COUNTIF(AZ25:BN25,\"-1\"),\"ร\",IF(DR25=\"ปกติ\",SUM(AZ25,BA25,BB25,BC25,BD25,BE25,BF25,BG25,BH25,BI25,BJ25,BK25,BL25,BM25,BN25),\"-\")))","v":0},null,"",null,null,null,null,null,null,null,null,null,null,null,null,null,null,null,{"$f":"IF(Sheet1!C20=\"\",\"\",IF(COUNTIF(BR25:CF25,\"-1\"),\"ร\",IF(DR25=\"ปกติ\",SUM(BR25,BS25,BT25,BU25,BV25,BW25,BX25,BY25,BZ25,CA25,CB25,CC25,CD25,CE25,CF25),\"-\")))","v":0},null,"",null,null,null,null,null,{"$f":"IF(Sheet1!C20=\"\",\"\",IF(CJ25=\"\",\"\",(IF(CK25=\"\",\"\",(IF(CL25=\"\",\"\",(IF(CM25=\"\",\"\",(IF(CN25=\"\",\"\",(SUM(CJ25:CN25))))))))))))","v":""},"","",null,null,null,null,null,null,null,null,"","","","",null,{"$f":"IF(Sheet1!C20=\"\",\"\",IF(COUNTIF(DA25:DC25,\"ร\"),\"ร\",IF(DC25=\"ร\",\"ร\",IF(DR25=\"ปกติ\",SUM(DA25:DB25,IF(DD25=\"\",DC25,DD25)),\"-\"))))","v":0},null,"",null,"",null,null,{"$f":"IF([3]Sheet1!D20=\"\",\"\",IF(DE25=\"\",\"\",IF(COUNTIF(DA25:DJ25,\"ร\"),\"ร\",IF(COUNTIF(DA25:DJ25,\"-\"),\"-\",IF(DR25=\"ปกติ\",SUM(DE25,IF(DJ25=\"\",DI25,DJ25)))))))","v":0},null,{"$f":"IF(DL25=\"\",\"\",IF(DR25=\"\",\"\",IF(DR25=\"ย้าย\",\"-\",IF(DR25=\"จำหน่าย\",\"-\",IF(DR25=\"ขาดเรียนนาน\",\"-\",IF(เวลาเรียน!IO27<80,\"มส\",IF(DL25=\"ร\",\"ร\",VLOOKUP(DL25,$DT$19:$DV$26,3))))))))","v":{"$error":"#DIV/0!"}},null,null,null,{"$f":"IF(เวลาเรียน!IP27=\"\",\"\",เวลาเรียน!IP27)","v":"ปกติ"},null,75,80,3.5]
[20,2516,{"$f":"CONCATENATE(Sheet1!B21)","v":"18835"},{"$f":"CONCATENATE(Sheet1!C21&Sheet1!D21&\"       \"&Sheet1!E21)","v":"เด็กชายสิทธินนท์   ขนอม        "},20,null,null,null,null,null,null,null,null,null,null,null,null,null,null,null,null,null,null,null,null,{"$f":"IF(Sheet1!C21=\"\",\"\",IF(COUNTIF(F26:V26,\"-1\"),\"ร\",IF(DR26=\"ปกติ\",SUM(F26,G26,H26,I26,J26,K26,L26,M26,N26,O26,P26,Q26,R26,S26,T26,U26,V26,W26,X26,Y26),\"-\")))","v":0},null,"",null,null,null,null,null,null,null,null,null,null,null,null,null,null,null,null,null,null,null,null,{"$f":"IF(Sheet1!C21=\"\",\"\",IF(COUNTIF(AC26:AS26,\"-1\"),\"ร\",IF(DR26=\"ปกติ\",SUM(AC26,AD26,AE26,AF26,AG26,AH26,AI26,AJ26,AK26,AL26,AM26,AN26,AO26,AP26,AQ26,AR26,AS26),\"-\")))","v":0},null,"",null,null,null,null,null,null,null,null,null,null,null,null,null,null,null,{"$f":"IF(Sheet1!C21=\"\",\"\",IF(COUNTIF(AZ26:BN26,\"-1\"),\"ร\",IF(DR26=\"ปกติ\",SUM(AZ26,BA26,BB26,BC26,BD26,BE26,BF26,BG26,BH26,BI26,BJ26,BK26,BL26,BM26,BN26),\"-\")))","v":0},null,"",null,null,null,null,null,null,null,null,null,null,null,null,null,null,null,{"$f":"IF(Sheet1!C21=\"\",\"\",IF(COUNTIF(BR26:CF26,\"-1\"),\"ร\",IF(DR26=\"ปกติ\",SUM(BR26,BS26,BT26,BU26,BV26,BW26,BX26,BY26,BZ26,CA26,CB26,CC26,CD26,CE26,CF26),\"-\")))","v":0},null,"",null,null,null,null,null,{"$f":"IF(Sheet1!C21=\"\",\"\",IF(CJ26=\"\",\"\",(IF(CK26=\"\",\"\",(IF(CL26=\"\",\"\",(IF(CM26=\"\",\"\",(IF(CN26=\"\",\"\",(SUM(CJ26:CN26))))))))))))","v":""},"","",null,null,null,null,null,null,null,null,"","","","",null,{"$f":"IF(Sheet1!C21=\"\",\"\",IF(COUNTIF(DA26:DC26,\"ร\"),\"ร\",IF(DC26=\"ร\",\"ร\",IF(DR26=\"ปกติ\",SUM(DA26:DB26,IF(DD26=\"\",DC26,DD26)),\"-\"))))","v":0},null,"",null,"",null,null,{"$f":"IF([3]Sheet1!D21=\"\",\"\",IF(DE26=\"\",\"\",IF(COUNTIF(DA26:DJ26,\"ร\"),\"ร\",IF(COUNTIF(DA26:DJ26,\"-\"),\"-\",IF(DR26=\"ปกติ\",SUM(DE26,IF(DJ26=\"\",DI26,DJ26)))))))","v":0},null,{"$f":"IF(DL26=\"\",\"\",IF(DR26=\"\",\"\",IF(DR26=\"ย้าย\",\"-\",IF(DR26=\"จำหน่าย\",\"-\",IF(DR26=\"ขาดเรียนนาน\",\"-\",IF(เวลาเรียน!IO28<80,\"มส\",IF(DL26=\"ร\",\"ร\",VLOOKUP(DL26,$DT$19:$DV$26,3))))))))","v":{"$error":"#DIV/0!"}},null,null,null,{"$f":"IF(เวลาเรียน!IP28=\"\",\"\",เวลาเรียน!IP28)","v":"ปกติ"},null,80,100,4]
[21,2517,{"$f":"CONCATENATE(Sheet1!B22)","v":"18836"},{"$f":"CONCATENATE(Sheet1!C22&Sheet1!D22&\"       \"&Sheet1!E22)","v":"เด็กชายธนเดช      ธนวนิชนาม       "},21,null,null,null,null,null,null,null,null,null,null,null,null,null,null,null,null,null,null,null,null,{"$f":"IF(Sheet1!C22=\"\",\"\",IF(COUNTIF(F27:V27,\"-1\"),\"ร\",IF(DR27=\"ปกติ\",SUM(F27,G27,H27,I27,J27,K27,L27,M27,N27,O27,P27,Q27,R27,S27,T27,U27,V27,W27,X27,Y27),\"-\")))","v":0},null,"",null,null,null,null,null,null,null,null,null,null,null,null,null,null,null,null,null,null,null,null,{"$f":"IF(Sheet1!C22=\"\",\"\",IF(COUNTIF(AC27:AS27,\"-1\"),\"ร\",IF(DR27=\"ปกติ\",SUM(AC27,AD27,AE27,AF27,AG27,AH27,AI27,AJ27,AK27,AL27,AM27,AN27,AO27,AP27,AQ27,AR27,AS27),\"-\")))","v":0},null,"",null,null,null,null,null,null,null,null,null,null,null,null,null,null,null,{"$f":"IF(Sheet1!C22=\"\",\"\",IF(COUNTIF(AZ27:BN27,\"-1\"),\"ร\",IF(DR27=\"ปกติ\",SUM(AZ27,BA27,BB27,BC27,BD27,BE27,BF27,BG27,BH27,BI27,BJ27,BK27,BL27,BM27,BN27),\"-\")))","v":0},null,"",null,null,null,null,null,null,null,null,null,null,null,null,null,null,null,{"$f":"IF(Sheet1!C22=\"\",\"\",IF(COUNTIF(BR27:CF27,\"-1\"),\"ร\",IF(DR27=\"ปกติ\",SUM(BR27,BS27,BT27,BU27,BV27,BW27,BX27,BY27,BZ27,CA27,CB27,CC27,CD27,CE27,CF27),\"-\")))","v":0},null,"",null,null,null,null,null,{"$f":"IF(Sheet1!C22=\"\",\"\",IF(CJ27=\"\",\"\",(IF(CK27=\"\",\"\",(IF(CL27=\"\",\"\",(IF(CM27=\"\",\"\",(IF(CN27=\"\",\"\",(SUM(CJ27:CN27))))))))))))","v":""},"","",null,null,null,null,null,null,null,null,"","","","",null,{"$f":"IF(Sheet1!C22=\"\",\"\",IF(COUNTIF(DA27:DC27,\"ร\"),\"ร\",IF(DC27=\"ร\",\"ร\",IF(DR27=\"ปกติ\",SUM(DA27:DB27,IF(DD27=\"\",DC27,DD27)),\"-\"))))","v":0},null,"",null,"",null,null,{"$f":"IF([3]Sheet1!D22=\"\",\"\",IF(DE27=\"\",\"\",IF(COUNTIF(DA27:DJ27,\"ร\"),\"ร\",IF(COUNTIF(DA27:DJ27,\"-\"),\"-\",IF(DR27=\"ปกติ\",SUM(DE27,IF(DJ27=\"\",DI27,DJ27)))))))","v":0},null,{"$f":"IF(DL27=\"\",\"\",IF(DR27=\"\",\"\",IF(DR27=\"ย้าย\",\"-\",IF(DR27=\"จำหน่าย\",\"-\",IF(DR27=\"ขาดเรียนนาน\",\"-\",IF(เวลาเรียน!IO29<80,\"มส\",IF(DL27=\"ร\",\"ร\",VLOOKUP(DL27,$DT$19:$DV$26,3))))))))","v":{"$error":"#DIV/0!"}},null,null,null,{"$f":"IF(เวลาเรียน!IP29=\"\",\"\",เวลาเรียน!IP29)","v":"ปกติ"}]
[22,2518,{"$f":"CONCATENATE(Sheet1!B23)","v":"18837"},{"$f":"CONCATENATE(Sheet1!C23&Sheet1!D23&\"       \"&Sheet1!E23)","v":"เด็กชายนวพล       สิมมาตัน       "},22,null,null,null,null,null,null,null,null,null,null,null,null,null,null,null,null,null,null,null,null,{"$f":"IF(Sheet1!C23=\"\",\"\",IF(COUNTIF(F28:V28,\"-1\"),\"ร\",IF(DR28=\"ปกติ\",SUM(F28,G28,H28,I28,J28,K28,L28,M28,N28,O28,P28,Q28,R28,S28,T28,U28,V28,W28,X28,Y28),\"-\")))","v":0},null,"",null,null,null,null,null,null,null,null,null,null,null,null,null,null,null,null,null,null,null,null,{"$f":"IF(Sheet1!C23=\"\",\"\",IF(COUNTIF(AC28:AS28,\"-1\"),\"ร\",IF(DR28=\"ปกติ\",SUM(AC28,AD28,AE28,AF28,AG28,AH28,AI28,AJ28,AK28,AL28,AM28,AN28,AO28,AP28,AQ28,AR28,AS28),\"-\")))","v":0},null,"",null,null,null,null,null,null,null,null,null,null,null,null,null,null,null,{"$f":"IF(Sheet1!C23=\"\",\"\",IF(COUNTIF(AZ28:BN28,\"-1\"),\"ร\",IF(DR28=\"ปกติ\",SUM(AZ28,BA28,BB28,BC28,BD28,BE28,BF28,BG28,BH28,BI28,BJ28,BK28,BL28,BM28,BN28),\"-\")))","v":0},null,"",null,null,null,null,null,null,null,null,null,null,null,null,null,null,null,{"$f":"IF(Sheet1!C23=\"\",\"\",IF(COUNTIF(BR28:CF28,\"-1\"),\"ร\",IF(DR28=\"ปกติ\",SUM(BR28,BS28,BT28,BU28,BV28,BW28,BX28,BY28,BZ28,CA28,CB28,CC28,CD28,CE28,CF28),\"-\")))","v":0},null,"",null,null,null,null,null,{"$f":"IF(Sheet1!C23=\"\",\"\",IF(CJ28=\"\",\"\",(IF(CK28=\"\",\"\",(IF(CL28=\"\",\"\",(IF(CM28=\"\",\"\",(IF(CN28=\"\",\"\",(SUM(CJ28:CN28))))))))))))","v":""},"","",null,null,null,null,null,null,null,null,"","","","",null,{"$f":"IF(Sheet1!C23=\"\",\"\",IF(COUNTIF(DA28:DC28,\"ร\"),\"ร\",IF(DC28=\"ร\",\"ร\",IF(DR28=\"ปกติ\",SUM(DA28:DB28,IF(DD28=\"\",DC28,DD28)),\"-\"))))","v":0},null,"",null,"",null,null,{"$f":"IF([3]Sheet1!D23=\"\",\"\",IF(DE28=\"\",\"\",IF(COUNTIF(DA28:DJ28,\"ร\"),\"ร\",IF(COUNTIF(DA28:DJ28,\"-\"),\"-\",IF(DR28=\"ปกติ\",SUM(DE28,IF(DJ28=\"\",DI28,DJ28)))))))","v":0},null,{"$f":"IF(DL28=\"\",\"\",IF(DR28=\"\",\"\",IF(DR28=\"ย้าย\",\"-\",IF(DR28=\"จำหน่าย\",\"-\",IF(DR28=\"ขาดเรียนนาน\",\"-\",IF(เวลาเรียน!IO30<80,\"มส\",IF(DL28=\"ร\",\"ร\",VLOOKUP(DL28,$DT$19:$DV$26,3))))))))","v":{"$error":"#DIV/0!"}},null,null,null,{"$f":"IF(เวลาเรียน!IP30=\"\",\"\",เวลาเรียน!IP30)","v":"ปกติ"}]
[23,2519,{"$f":"CONCATENATE(Sheet1!B24)","v":"18838"},{"$f":"CONCATENATE(Sheet1!C24&Sheet1!D24&\"       \"&Sheet1!E24)","v":"เด็กชายฟารีส       แซ่โกว       "},23,null,null,null,null,null,null,null,null,null,null,null,null,null,null,null,null,null,null,null,null,{"$f":"IF(Sheet1!C24=\"\",\"\",IF(COUNTIF(F29:V29,\"-1\"),\"ร\",IF(DR29=\"ปกติ\",SUM(F29,G29,H29,I29,J29,K29,L29,M29,N29,O29,P29,Q29,R29,S29,T29,U29,V29,W29,X29,Y29),\"-\")))","v":0},null,"",null,null,null,null,null,null,null,null,null,null,null,null,null,null,null,null,null,null,null,null,{"$f":"IF(Sheet1!C24=\"\",\"\",IF(COUNTIF(AC29:AS29,\"-1\"),\"ร\",IF(DR29=\"ปกติ\",SUM(AC29,AD29,AE29,AF29,AG29,AH29,AI29,AJ29,AK29,AL29,AM29,AN29,AO29,AP29,AQ29,AR29,AS29),\"-\")))","v":0},null,"",null,null,null,null,null,null,null,null,null,null,null,null,null,null,null,{"$f":"IF(Sheet1!C24=\"\",\"\",IF(COUNTIF(AZ29:BN29,\"-1\"),\"ร\",IF(DR29=\"ปกติ\",SUM(AZ29,BA29,BB29,BC29,BD29,BE29,BF29,BG29,BH29,BI29,BJ29,BK29,BL29,BM29,BN29),\"-\")))","v":0},null,"",null,null,null,null,null,null,null,null,null,null,null,null,null,null,null,{"$f":"IF(Sheet1!C24=\"\",\"\",IF(COUNTIF(BR29:CF29,\"-1\"),\"ร\",IF(DR29=\"ปกติ\",SUM(BR29,BS29,BT29,BU29,BV29,BW29,BX29,BY29,BZ29,CA29,CB29,CC29,CD29,CE29,CF29),\"-\")))","v":0},null,"",null,null,null,null,null,{"$f":"IF(Sheet1!C24=\"\",\"\",IF(CJ29=\"\",\"\",(IF(CK29=\"\",\"\",(IF(CL29=\"\",\"\",(IF(CM29=\"\",\"\",(IF(CN29=\"\",\"\",(SUM(CJ29:CN29))))))))))))","v":""},"","",null,null,null,null,null,null,null,null,"","","","",null,{"$f":"IF(Sheet1!C24=\"\",\"\",IF(COUNTIF(DA29:DC29,\"ร\"),\"ร\",IF(DC29=\"ร\",\"ร\",IF(DR29=\"ปกติ\",SUM(DA29:DB29,IF(DD29=\"\",DC29,DD29)),\"-\"))))","v":0},null,"",null,"",null,null,{"$f":"IF([3]Sheet1!D24=\"\",\"\",IF(DE29=\"\",\"\",IF(COUNTIF(DA29:DJ29,\"ร\"),\"ร\",IF(COUNTIF(DA29:DJ29,\"-\"),\"-\",IF(DR29=\"ปกติ\",SUM(DE29,IF(DJ29=\"\",DI29,DJ29)))))))","v":0},null,{"$f":"IF(DL29=\"\",\"\",IF(DR29=\"\",\"\",IF(DR29=\"ย้าย\",\"-\",IF(DR29=\"จำหน่าย\",\"-\",IF(DR29=\"ขาดเรียนนาน\",\"-\",IF(เวลาเรียน!IO31<80,\"มส\",IF(DL29=\"ร\",\"ร\",VLOOKUP(DL29,$DT$19:$DV$26,3))))))))","v":{"$error":"#DIV/0!"}},null,null,null,{"$f":"IF(เวลาเรียน!IP31=\"\",\"\",เวลาเรียน!IP31)","v":"ปกติ"}]
[24,2520,{"$f":"CONCATENATE(Sheet1!B25)","v":"18839"},{"$f":"CONCATENATE(Sheet1!C25&Sheet1!D25&\"       \"&Sheet1!E25)","v":"เด็กหญิงจิดาภา      ใจห้าว       "},24,null,null,null,null,null,null,null,null,null,null,null,null,null,null,null,null,null,null,null,null,{"$f":"IF(Sheet1!C25=\"\",\"\",IF(COUNTIF(F30:V30,\"-1\"),\"ร\",IF(DR30=\"ปกติ\",SUM(F30,G30,H30,I30,J30,K30,L30,M30,N30,O30,P30,Q30,R30,S30,T30,U30,V30,W30,X30,Y30),\"-\")))","v":0},null,"",null,null,null,null,null,null,null,null,null,null,null,null,null,null,null,null,null,null,null,null,{"$f":"IF(Sheet1!C25=\"\",\"\",IF(COUNTIF(AC30:AS30,\"-1\"),\"ร\",IF(DR30=\"ปกติ\",SUM(AC30,AD30,AE30,AF30,AG30,AH30,AI30,AJ30,AK30,AL30,AM30,AN30,AO30,AP30,AQ30,AR30,AS30),\"-\")))","v":0},null,"",null,null,null,null,null,null,null,null,null,null,null,null,null,null,null,{"$f":"IF(Sheet1!C25=\"\",\"\",IF(COUNTIF(AZ30:BN30,\"-1\"),\"ร\",IF(DR30=\"ปกติ\",SUM(AZ30,BA30,BB30,BC30,BD30,BE30,BF30,BG30,BH30,BI30,BJ30,BK30,BL30,BM30,BN30),\"-\")))","v":0},null,"",null,null,null,null,null,null,null,null,null,null,null,null,null,null,null,{"$f":"IF(Sheet1!C25=\"\",\"\",IF(COUNTIF(BR30:CF30,\"-1\"),\"ร\",IF(DR30=\"ปกติ\",SUM(BR30,BS30,BT30,BU30,BV30,BW30,BX30,BY30,BZ30,CA30,CB30,CC30,CD30,CE30,CF30),\"-\")))","v":0},null,{"$f":"IF(CG30=\"\",\"\",IF(CG30=\"-\",\"-\",IF(CG30=\"ร\",\"ร\",IF(CG30=0,\"\",IF($BO$5=0,\"\",ROUND(CG30/$BP$5,0))))))","v":""},null,null,null,null,null,{"$f":"IF(Sheet1!C25=\"\",\"\",IF(CJ30=\"\",\"\",(IF(CK30=\"\",\"\",(IF(CL30=\"\",\"\",(IF(CM30=\"\",\"\",(IF(CN30=\"\",\"\",(SUM(CJ30:CN30))))))))))))","v":""},"","",null,null,null,null,null,null,null,null,"","","","",null,{"$f":"IF(Sheet1!C25=\"\",\"\",IF(COUNTIF(DA30:DC30,\"ร\"),\"ร\",IF(DC30=\"ร\",\"ร\",IF(DR30=\"ปกติ\",SUM(DA30:DB30,IF(DD30=\"\",DC30,DD30)),\"-\"))))","v":0},null,"",null,"",null,null,{"$f":"IF([3]Sheet1!D25=\"\",\"\",IF(DE30=\"\",\"\",IF(COUNTIF(DA30:DJ30,\"ร\"),\"ร\",IF(COUNTIF(DA30:DJ30,\"-\"),\"-\",IF(DR30=\"ปกติ\",SUM(DE30,IF(DJ30=\"\",DI30,DJ30)))))))","v":0},null,{"$f":"IF(DL30=\"\",\"\",IF(DR30=\"\",\"\",IF(DR30=\"ย้าย\",\"-\",IF(DR30=\"จำหน่าย\",\"-\",IF(DR30=\"ขาดเรียนนาน\",\"-\",IF(เวลาเรียน!IO32<80,\"มส\",IF(DL30=\"ร\",\"ร\",VLOOKUP(DL30,$DT$19:$DV$26,3))))))))","v":{"$error":"#DIV/0!"}},null,null,null,{"$f":"IF(เวลาเรียน!IP32=\"\",\"\",เวลาเรียน!IP32)","v":"ปกติ"}]
[25,2521,{"$f":"CONCATENATE(Sheet1!B26)","v":"18840"},{"$f":"CONCATENATE(Sheet1!C26&Sheet1!D26&\"       \"&Sheet1!E26)","v":"เด็กหญิงณัฐนัน      วิโรจน์       "},25,null,null,null,null,null,null,null,null,null,null,null,null,null,null,null,null,null,null,null,null,{"$f":"IF(Sheet1!C26=\"\",\"\",IF(COUNTIF(F31:V31,\"-1\"),\"ร\",IF(DR31=\"ปกติ\",SUM(F31,G31,H31,I31,J31,K31,L31,M31,N31,O31,P31,Q31,R31,S31,T31,U31,V31,W31,X31,Y31),\"-\")))","v":0},null,"",null,null,null,null,null,null,null,null,null,null,null,null,null,null,null,null,null,null,null,null,{"$f":"IF(Sheet1!C26=\"\",\"\",IF(COUNTIF(AC31:AS31,\"-1\"),\"ร\",IF(DR31=\"ปกติ\",SUM(AC31,AD31,AE31,AF31,AG31,AH31,AI31,AJ31,AK31,AL31,AM31,AN31,AO31,AP31,AQ31,AR31,AS31),\"-\")))","v":0},null,"",null,null,null,null,null,null,null,null,null,null,null,null,null,null,null,{"$f":"IF(Sheet1!C26=\"\",\"\",IF(COUNTIF(AZ31:BN31,\"-1\"),\"ร\",IF(DR31=\"ปกติ\",SUM(AZ31,BA31,BB31,BC31,BD31,BE31,BF31,BG31,BH31,BI31,BJ31,BK31,BL31,BM31,BN31),\"-\")))","v":0},null,"",null,null,null,null,null,null,null,null,null,null,null,null,null,null,null,{"$f":"IF(Sheet1!C26=\"\",\"\",IF(COUNTIF(BR31:CF31,\"-1\"),\"ร\",IF(DR31=\"ปกติ\",SUM(BR31,BS31,BT31,BU31,BV31,BW31,BX31,BY31,BZ31,CA31,CB31,CC31,CD31,CE31,CF31),\"-\")))","v":0},null,{"$f":"IF(CG31=\"\",\"\",IF(CG31=\"-\",\"-\",IF(CG31=\"ร\",\"ร\",IF(CG31=0,\"\",IF($CG$5=0,\"\",ROUND(CG31/$CH$5,0))))))","v":""},null,null,null,null,null,{"$f":"IF(Sheet1!C26=\"\",\"\",IF(CJ31=\"\",\"\",(IF(CK31=\"\",\"\",(IF(CL31=\"\",\"\",(IF(CM31=\"\",\"\",(IF(CN31=\"\",\"\",(SUM(CJ31:CN31))))))))))))","v":""},"","",null,null,null,null,null,null,null,null,"","","","",null,{"$f":"IF(Sheet1!C26=\"\",\"\",IF(COUNTIF(DA31:DC31,\"ร\"),\"ร\",IF(DC31=\"ร\",\"ร\",IF(DR31=\"ปกติ\",SUM(DA31:DB31,IF(DD31=\"\",DC31,DD31)),\"-\"))))","v":0},null,"",null,"",null,null,{"$f":"IF([3]Sheet1!D26=\"\",\"\",IF(DE31=\"\",\"\",IF(COUNTIF(DA31:DJ31,\"ร\"),\"ร\",IF(COUNTIF(DA31:DJ31,\"-\"),\"-\",IF(DR31=\"ปกติ\",SUM(DE31,IF(DJ31=\"\",DI31,DJ31)))))))","v":0},null,{"$f":"IF(DL31=\"\",\"\",IF(DR31=\"\",\"\",IF(DR31=\"ย้าย\",\"-\",IF(DR31=\"จำหน่าย\",\"-\",IF(DR31=\"ขาดเรียนนาน\",\"-\",IF(เวลาเรียน!IO33<80,\"มส\",IF(DL31=\"ร\",\"ร\",VLOOKUP(DL31,$DT$19:$DV$26,3))))))))","v":{"$error":"#DIV/0!"}},null,null,null,{"$f":"IF(เวลาเรียน!IP33=\"\",\"\",เวลาเรียน!IP33)","v":"ปกติ"}]
[26,2522,{"$f":"CONCATENATE(Sheet1!B27)","v":"18841"},{"$f":"CONCATENATE(Sheet1!C27&Sheet1!D27&\"       \"&Sheet1!E27)","v":"เด็กหญิงชลิดา       กาญจนพานิช       "},26,null,null,null,null,null,null,null,null,null,null,null,null,null,null,null,null,null,null,null,null,{"$f":"IF(Sheet1!C27=\"\",\"\",IF(COUNTIF(F32:V32,\"-1\"),\"ร\",IF(DR32=\"ปกติ\",SUM(F32,G32,H32,I32,J32,K32,L32,M32,N32,O32,P32,Q32,R32,S32,T32,U32,V32,W32,X32,Y32),\"-\")))","v":0},null,"",null,null,null,null,null,null,null,null,null,null,null,null,null,null,null,null,null,null,null,null,{"$f":"IF(Sheet1!C27=\"\",\"\",IF(COUNTIF(AC32:AS32,\"-1\"),\"ร\",IF(DR32=\"ปกติ\",SUM(AC32,AD32,AE32,AF32,AG32,AH32,AI32,AJ32,AK32,AL32,AM32,AN32,AO32,AP32,AQ32,AR32,AS32),\"-\")))","v":0},null,"",null,null,null,null,null,null,null,null,null,null,null,null,null,null,null,{"$f":"IF(Sheet1!C27=\"\",\"\",IF(COUNTIF(AZ32:BN32,\"-1\"),\"ร\",IF(DR32=\"ปกติ\",SUM(AZ32,BA32,BB32,BC32,BD32,BE32,BF32,BG32,BH32,BI32,BJ32,BK32,BL32,BM32,BN32),\"-\")))","v":0},null,"",null,null,null,null,null,null,null,null,null,null,null,null,null,null,null,{"$f":"IF(Sheet1!C27=\"\",\"\",IF(COUNTIF(BR32:CF32,\"-1\"),\"ร\",IF(DR32=\"ปกติ\",SUM(BR32,BS32,BT32,BU32,BV32,BW32,BX32,BY32,BZ32,CA32,CB32,CC32,CD32,CE32,CF32),\"-\")))","v":0},null,{"$f":"IF(CG32=\"\",\"\",IF(CG32=\"-\",\"-\",IF(CG32=\"ร\",\"ร\",IF(CG32=0,\"\",IF($CG$5=0,\"\",ROUND(CG32/$CH$5,0))))))","v":""},null,null,null,null,null,{"$f":"IF(Sheet1!C27=\"\",\"\",IF(CJ32=\"\",\"\",(IF(CK32=\"\",\"\",(IF(CL32=\"\",\"\",(IF(CM32=\"\",\"\",(IF(CN32=\"\",\"\",(SUM(CJ32:CN32))))))))))))","v":""},"","",null,null,null,null,null,null,null,null,"","","","",null,{"$f":"IF(Sheet1!C27=\"\",\"\",IF(COUNTIF(DA32:DC32,\"ร\"),\"ร\",IF(DC32=\"ร\",\"ร\",IF(DR32=\"ปกติ\",SUM(DA32:DB32,IF(DD32=\"\",DC32,DD32)),\"-\"))))","v":0},null,"",null,"",null,null,{"$f":"IF([3]Sheet1!D27=\"\",\"\",IF(DE32=\"\",\"\",IF(COUNTIF(DA32:DJ32,\"ร\"),\"ร\",IF(COUNTIF(DA32:DJ32,\"-\"),\"-\",IF(DR32=\"ปกติ\",SUM(DE32,IF(DJ32=\"\",DI32,DJ32)))))))","v":0},null,{"$f":"IF(DL32=\"\",\"\",IF(DR32=\"\",\"\",IF(DR32=\"ย้าย\",\"-\",IF(DR32=\"จำหน่าย\",\"-\",IF(DR32=\"ขาดเรียนนาน\",\"-\",IF(เวลาเรียน!IO34<80,\"มส\",IF(DL32=\"ร\",\"ร\",VLOOKUP(DL32,$DT$19:$DV$26,3))))))))","v":{"$error":"#DIV/0!"}},null,null,null,{"$f":"IF(เวลาเรียน!IP34=\"\",\"\",เวลาเรียน!IP34)","v":"ปกติ"}]
[27,2523,{"$f":"CONCATENATE(Sheet1!B28)","v":"18842"},{"$f":"CONCATENATE(Sheet1!C28&Sheet1!D28&\"       \"&Sheet1!E28)","v":"เด็กหญิงณัฐภัทร     เทือกสุบรรณ         "},27,null,null,null,null,null,null,null,null,null,null,null,null,null,null,null,null,null,null,null,null,{"$f":"IF(Sheet1!C28=\"\",\"\",IF(COUNTIF(F33:V33,\"-1\"),\"ร\",IF(DR33=\"ปกติ\",SUM(F33,G33,H33,I33,J33,K33,L33,M33,N33,O33,P33,Q33,R33,S33,T33,U33,V33,W33,X33,Y33),\"-\")))","v":0},null,"",null,null,null,null,null,null,null,null,null,null,null,null,null,null,null,null,null,null,null,null,{"$f":"IF(Sheet1!C28=\"\",\"\",IF(COUNTIF(AC33:AS33,\"-1\"),\"ร\",IF(DR33=\"ปกติ\",SUM(AC33,AD33,AE33,AF33,AG33,AH33,AI33,AJ33,AK33,AL33,AM33,AN33,AO33,AP33,AQ33,AR33,AS33),\"-\")))","v":0},null,"",null,null,null,null,null,null,null,null,null,null,null,null,null,null,null,{"$f":"IF(Sheet1!C28=\"\",\"\",IF(COUNTIF(AZ33:BN33,\"-1\"),\"ร\",IF(DR33=\"ปกติ\",SUM(AZ33,BA33,BB33,BC33,BD33,BE33,BF33,BG33,BH33,BI33,BJ33,BK33,BL33,BM33,BN33),\"-\")))","v":0},null,"",null,null,null,null,null,null,null,null,null,null,null,null,null,null,null,{"$f":"IF(Sheet1!C28=\"\",\"\",IF(COUNTIF(BR33:CF33,\"-1\"),\"ร\",IF(DR33=\"ปกติ\",SUM(BR33,BS33,BT33,BU33,BV33,BW33,BX33,BY33,BZ33,CA33,CB33,CC33,CD33,CE33,CF33),\"-\")))","v":0},null,{"$f":"IF(CG33=\"\",\"\",IF(CG33=\"-\",\"-\",IF(CG33=\"ร\",\"ร\",IF(CG33=0,\"\",IF($CG$5=0,\"\",ROUND(CG33/$CH$5,0))))))","v":""},null,null,null,null,null,{"$f":"IF(Sheet1!C28=\"\",\"\",IF(CJ33=\"\",\"\",(IF(CK33=\"\",\"\",(IF(CL33=\"\",\"\",(IF(CM33=\"\",\"\",(IF(CN33=\"\",\"\",(SUM(CJ33:CN33))))))))))))","v":""},"","",null,null,null,null,null,null,null,null,"","","","",null,{"$f":"IF(Sheet1!C28=\"\",\"\",IF(COUNTIF(DA33:DC33,\"ร\"),\"ร\",IF(DC33=\"ร\",\"ร\",IF(DR33=\"ปกติ\",SUM(DA33:DB33,IF(DD33=\"\",DC33,DD33)),\"-\"))))","v":0},null,"",null,"",null,null,{"$f":"IF([3]Sheet1!D28=\"\",\"\",IF(DE33=\"\",\"\",IF(COUNTIF(DA33:DJ33,\"ร\"),\"ร\",IF(COUNTIF(DA33:DJ33,\"-\"),\"-\",IF(DR33=\"ปกติ\",SUM(DE33,IF(DJ33=\"\",DI33,DJ33)))))))","v":0},null,{"$f":"IF(DL33=\"\",\"\",IF(DR33=\"\",\"\",IF(DR33=\"ย้าย\",\"-\",IF(DR33=\"จำหน่าย\",\"-\",IF(DR33=\"ขาดเรียนนาน\",\"-\",IF(เวลาเรียน!IO35<80,\"มส\",IF(DL33=\"ร\",\"ร\",VLOOKUP(DL33,$DT$19:$DV$26,3))))))))","v":{"$error":"#DIV/0!"}},null,null,null,{"$f":"IF(เวลาเรียน!IP35=\"\",\"\",เวลาเรียน!IP35)","v":"ปกติ"}]
[28,2524,{"$f":"CONCATENATE(Sheet1!B29)","v":"18843"},{"$f":"CONCATENATE(Sheet1!C29&Sheet1!D29&\"       \"&Sheet1!E29)","v":"เด็กหญิงสุกัญญา     สาระทิพย์       "},28,null,null,null,null,null,null,null,null,null,null,null,null,null,null,null,null,null,null,null,null,{"$f":"IF(Sheet1!C29=\"\",\"\",IF(COUNTIF(F34:V34,\"-1\"),\"ร\",IF(DR34=\"ปกติ\",SUM(F34,G34,H34,I34,J34,K34,L34,M34,N34,O34,P34,Q34,R34,S34,T34,U34,V34,W34,X34,Y34),\"-\")))","v":0},null,"",null,null,null,null,null,null,null,null,null,null,null,null,null,null,null,null,null,null,null,null,{"$f":"IF(Sheet1!C29=\"\",\"\",IF(COUNTIF(AC34:AS34,\"-1\"),\"ร\",IF(DR34=\"ปกติ\",SUM(AC34,AD34,AE34,AF34,AG34,AH34,AI34,AJ34,AK34,AL34,AM34,AN34,AO34,AP34,AQ34,AR34,AS34),\"-\")))","v":0},null,"",null,null,null,null,null,null,null,null,null,null,null,null,null,null,null,{"$f":"IF(Sheet1!C29=\"\",\"\",IF(COUNTIF(AZ34:BN34,\"-1\"),\"ร\",IF(DR34=\"ปกติ\",SUM(AZ34,BA34,BB34,BC34,BD34,BE34,BF34,BG34,BH34,BI34,BJ34,BK34,BL34,BM34,BN34),\"-\")))","v":0},null,"",null,null,null,null,null,null,null,null,null,null,null,null,null,null,null,{"$f":"IF(Sheet1!C29=\"\",\"\",IF(COUNTIF(BR34:CF34,\"-1\"),\"ร\",IF(DR34=\"ปกติ\",SUM(BR34,BS34,BT34,BU34,BV34,BW34,BX34,BY34,BZ34,CA34,CB34,CC34,CD34,CE34,CF34),\"-\")))","v":0},null,{"$f":"IF(CG34=\"\",\"\",IF(CG34=\"-\",\"-\",IF(CG34=\"ร\",\"ร\",IF(CG34=0,\"\",IF($CG$5=0,\"\",ROUND(CG34/$CH$5,0))))))","v":""},null,null,null,null,null,{"$f":"IF(Sheet1!C29=\"\",\"\",IF(CJ34=\"\",\"\",(IF(CK34=\"\",\"\",(IF(CL34=\"\",\"\",(IF(CM34=\"\",\"\",(IF(CN34=\"\",\"\",(SUM(CJ34:CN34))))))))))))","v":""},"","",null,null,null,null,null,null,null,null,"","","","",null,{"$f":"IF(Sheet1!C29=\"\",\"\",IF(COUNTIF(DA34:DC34,\"ร\"),\"ร\",IF(DC34=\"ร\",\"ร\",IF(DR34=\"ปกติ\",SUM(DA34:DB34,IF(DD34=\"\",DC34,DD34)),\"-\"))))","v":0},null,"",null,"",null,null,{"$f":"IF([3]Sheet1!D29=\"\",\"\",IF(DE34=\"\",\"\",IF(COUNTIF(DA34:DJ34,\"ร\"),\"ร\",IF(COUNTIF(DA34:DJ34,\"-\"),\"-\",IF(DR34=\"ปกติ\",SUM(DE34,IF(DJ34=\"\",DI34,DJ34)))))))","v":0},null,{"$f":"IF(DL34=\"\",\"\",IF(DR34=\"\",\"\",IF(DR34=\"ย้าย\",\"-\",IF(DR34=\"จำหน่าย\",\"-\",IF(DR34=\"ขาดเรียนนาน\",\"-\",IF(เวลาเรียน!IO36<80,\"มส\",IF(DL34=\"ร\",\"ร\",VLOOKUP(DL34,$DT$19:$DV$26,3))))))))","v":{"$error":"#DIV/0!"}},null,null,null,{"$f":"IF(เวลาเรียน!IP36=\"\",\"\",เวลาเรียน!IP36)","v":"ปกติ"}]
[29,2525,{"$f":"CONCATENATE(Sheet1!B30)","v":"19012"},{"$f":"CONCATENATE(Sheet1!C30&Sheet1!D30&\"       \"&Sheet1!E30)","v":"เด็กหญิงนันท์นภัส   วัชรกาญจน์       "},29,null,null,null,null,null,null,null,null,null,null,null,null,null,null,null,null,null,null,null,null,{"$f":"IF(Sheet1!C30=\"\",\"\",IF(COUNTIF(F35:V35,\"-1\"),\"ร\",IF(DR35=\"ปกติ\",SUM(F35,G35,H35,I35,J35,K35,L35,M35,N35,O35,P35,Q35,R35,S35,T35,U35,V35,W35,X35,Y35),\"-\")))","v":0},null,"",null,null,null,null,null,null,null,null,null,null,null,null,null,null,null,null,null,null,null,null,{"$f":"IF(Sheet1!C30=\"\",\"\",IF(COUNTIF(AC35:AS35,\"-1\"),\"ร\",IF(DR35=\"ปกติ\",SUM(AC35,AD35,AE35,AF35,AG35,AH35,AI35,AJ35,AK35,AL35,AM35,AN35,AO35,AP35,AQ35,AR35,AS35),\"-\")))","v":0},null,"",null,null,null,null,null,null,null,null,null,null,null,null,null,null,null,{"$f":"IF(Sheet1!C30=\"\",\"\",IF(COUNTIF(AZ35:BN35,\"-1\"),\"ร\",IF(DR35=\"ปกติ\",SUM(AZ35,BA35,BB35,BC35,BD35,BE35,BF35,BG35,BH35,BI35,BJ35,BK35,BL35,BM35,BN35),\"-\")))","v":0},null,"",null,null,null,null,null,null,null,null,null,null,null,null,null,null,null,{"$f":"IF(Sheet1!C30=\"\",\"\",IF(COUNTIF(BR35:CF35,\"-1\"),\"ร\",IF(DR35=\"ปกติ\",SUM(BR35,BS35,BT35,BU35,BV35,BW35,BX35,BY35,BZ35,CA35,CB35,CC35,CD35,CE35,CF35),\"-\")))","v":0},null,{"$f":"IF(CG35=\"\",\"\",IF(CG35=\"-\",\"-\",IF(CG35=\"ร\",\"ร\",IF(CG35=0,\"\",IF($BO$5=0,\"\",ROUND(CG35/$BP$5,0))))))","v":""},null,null,null,null,null,{"$f":"IF(Sheet1!C30=\"\",\"\",IF(CJ35=\"\",\"\",(IF(CK35=\"\",\"\",(IF(CL35=\"\",\"\",(IF(CM35=\"\",\"\",(IF(CN35=\"\",\"\",(SUM(CJ35:CN35))))))))))))","v":""},"","",null,null,null,null,null,null,null,null,"","","","",null,{"$f":"IF(Sheet1!C30=\"\",\"\",IF(COUNTIF(DA35:DC35,\"ร\"),\"ร\",IF(DC35=\"ร\",\"ร\",IF(DR35=\"ปกติ\",SUM(DA35:DB35,IF(DD35=\"\",DC35,DD35)),\"-\"))))","v":0},null,"",null,"",null,null,{"$f":"IF([3]Sheet1!D30=\"\",\"\",IF(DE35=\"\",\"\",IF(COUNTIF(DA35:DJ35,\"ร\"),\"ร\",IF(COUNTIF(DA35:DJ35,\"-\"),\"-\",IF(DR35=\"ปกติ\",SUM(DE35,IF(DJ35=\"\",DI35,DJ35)))))))","v":0},null,{"$f":"IF(DL35=\"\",\"\",IF(DR35=\"\",\"\",IF(DR35=\"ย้าย\",\"-\",IF(DR35=\"จำหน่าย\",\"-\",IF(DR35=\"ขาดเรียนนาน\",\"-\",IF(เวลาเรียน!IO37<80,\"มส\",IF(DL35=\"ร\",\"ร\",VLOOKUP(DL35,$DT$19:$DV$26,3))))))))","v":{"$error":"#DIV/0!"}},null,null,null,{"$f":"IF(เวลาเรียน!IP37=\"\",\"\",เวลาเรียน!IP37)","v":"ปกติ"}]
[30,2526,{"$f":"CONCATENATE(Sheet1!B31)","v":"19013"},{"$f":"CONCATENATE(Sheet1!C31&Sheet1!D31&\"       \"&Sheet1!E31)","v":"เด็กชายธนภูมิ        แซ่ด่าน       "},30,null,null,null,null,null,null,null,null,null,null,null,null,null,null,null,null,null,null,null,null,{"$f":"IF(Sheet1!C31=\"\",\"\",IF(COUNTIF(F36:V36,\"-1\"),\"ร\",IF(DR36=\"ปกติ\",SUM(F36,G36,H36,I36,J36,K36,L36,M36,N36,O36,P36,Q36,R36,S36,T36,U36,V36,W36,X36,Y36),\"-\")))","v":0},null,"",null,null,null,null,null,null,null,null,null,null,null,null,null,null,null,null,null,null,null,null,{"$f":"IF(Sheet1!C31=\"\",\"\",IF(COUNTIF(AC36:AS36,\"-1\"),\"ร\",IF(DR36=\"ปกติ\",SUM(AC36,AD36,AE36,AF36,AG36,AH36,AI36,AJ36,AK36,AL36,AM36,AN36,AO36,AP36,AQ36,AR36,AS36),\"-\")))","v":0},null,"",null,null,null,null,null,null,null,null,null,null,null,null,null,null,null,{"$f":"IF(Sheet1!C31=\"\",\"\",IF(COUNTIF(AZ36:BN36,\"-1\"),\"ร\",IF(DR36=\"ปกติ\",SUM(AZ36,BA36,BB36,BC36,BD36,BE36,BF36,BG36,BH36,BI36,BJ36,BK36,BL36,BM36,BN36),\"-\")))","v":0},null,"",null,null,null,null,null,null,null,null,null,null,null,null,null,null,null,{"$f":"IF(Sheet1!C31=\"\",\"\",IF(COUNTIF(BR36:CF36,\"-1\"),\"ร\",IF(DR36=\"ปกติ\",SUM(BR36,BS36,BT36,BU36,BV36,BW36,BX36,BY36,BZ36,CA36,CB36,CC36,CD36,CE36,CF36),\"-\")))","v":0},null,{"$f":"IF(CG36=\"\",\"\",IF(CG36=\"-\",\"-\",IF(CG36=\"ร\",\"ร\",IF(CG36=0,\"\",IF($CG$5=0,\"\",ROUND(CG36/$CH$5,0))))))","v":""},null,null,null,null,null,{"$f":"IF(Sheet1!C31=\"\",\"\",IF(CJ36=\"\",\"\",(IF(CK36=\"\",\"\",(IF(CL36=\"\",\"\",(IF(CM36=\"\",\"\",(IF(CN36=\"\",\"\",(SUM(CJ36:CN36))))))))))))","v":""},"","",null,null,null,null,null,null,null,null,"","","","",null,{"$f":"IF(Sheet1!C31=\"\",\"\",IF(COUNTIF(DA36:DC36,\"ร\"),\"ร\",IF(DC36=\"ร\",\"ร\",IF(DR36=\"ปกติ\",SUM(DA36:DB36,IF(DD36=\"\",DC36,DD36)),\"-\"))))","v":0},null,"",null,"",null,null,{"$f":"IF([3]Sheet1!D31=\"\",\"\",IF(DE36=\"\",\"\",IF(COUNTIF(DA36:DJ36,\"ร\"),\"ร\",IF(COUNTIF(DA36:DJ36,\"-\"),\"-\",IF(DR36=\"ปกติ\",SUM(DE36,IF(DJ36=\"\",DI36,DJ36)))))))","v":0},null,{"$f":"IF(DL36=\"\",\"\",IF(DR36=\"\",\"\",IF(DR36=\"ย้าย\",\"-\",IF(DR36=\"จำหน่าย\",\"-\",IF(DR36=\"ขาดเรียนนาน\",\"-\",IF(เวลาเรียน!IO38<80,\"มส\",IF(DL36=\"ร\",\"ร\",VLOOKUP(DL36,$DT$19:$DV$26,3))))))))","v":{"$error":"#DIV/0!"}},null,null,null,{"$f":"IF(เวลาเรียน!IP38=\"\",\"\",เวลาเรียน!IP38)","v":"ปกติ"}]
[31,2528,{"$f":"CONCATENATE(Sheet1!B32)","v":"19045"},{"$f":"CONCATENATE(Sheet1!C32&Sheet1!D32&\"       \"&Sheet1!E32)","v":"เด็กหญิงสุชานันท์    เลื่องสุนทร       "},31,null,null,null,null,null,null,null,null,null,null,null,null,null,null,null,null,null,null,null,null,{"$f":"IF(Sheet1!C32=\"\",\"\",IF(COUNTIF(F37:V37,\"-1\"),\"ร\",IF(DR37=\"ปกติ\",SUM(F37,G37,H37,I37,J37,K37,L37,M37,N37,O37,P37,Q37,R37,S37,T37,U37,V37,W37,X37,Y37),\"-\")))","v":0},null,"",null,null,null,null,null,null,null,null,null,null,null,null,null,null,null,null,null,null,null,null,{"$f":"IF(Sheet1!C32=\"\",\"\",IF(COUNTIF(AC37:AS37,\"-1\"),\"ร\",IF(DR37=\"ปกติ\",SUM(AC37,AD37,AE37,AF37,AG37,AH37,AI37,AJ37,AK37,AL37,AM37,AN37,AO37,AP37,AQ37,AR37,AS37),\"-\")))","v":0},null,"",null,null,null,null,null,null,null,null,null,null,null,null,null,null,null,{"$f":"IF(Sheet1!C32=\"\",\"\",IF(COUNTIF(AZ37:BN37,\"-1\"),\"ร\",IF(DR37=\"ปกติ\",SUM(AZ37,BA37,BB37,BC37,BD37,BE37,BF37,BG37,BH37,BI37,BJ37,BK37,BL37,BM37,BN37),\"-\")))","v":0},null,"",null,null,null,null,null,null,null,null,null,null,null,null,null,null,null,{"$f":"IF(Sheet1!C32=\"\",\"\",IF(COUNTIF(BR37:CF37,\"-1\"),\"ร\",IF(DR37=\"ปกติ\",SUM(BR37,BS37,BT37,BU37,BV37,BW37,BX37,BY37,BZ37,CA37,CB37,CC37,CD37,CE37,CF37),\"-\")))","v":0},null,{"$f":"IF(CG37=\"\",\"\",IF(CG37=\"-\",\"-\",IF(CG37=\"ร\",\"ร\",IF(CG37=0,\"\",IF($CG$5=0,\"\",ROUND(CG37/$CH$5,0))))))","v":""},null,null,null,null,null,{"$f":"IF(Sheet1!C32=\"\",\"\",IF(CJ37=\"\",\"\",(IF(CK37=\"\",\"\",(IF(CL37=\"\",\"\",(IF(CM37=\"\",\"\",(IF(CN37=\"\",\"\",(SUM(CJ37:CN37))))))))))))","v":""},"","",null,null,null,null,null,null,null,null,"","","","",null,{"$f":"IF(Sheet1!C32=\"\",\"\",IF(COUNTIF(DA37:DC37,\"ร\"),\"ร\",IF(DC37=\"ร\",\"ร\",IF(DR37=\"ปกติ\",SUM(DA37:DB37,IF(DD37=\"\",DC37,DD37)),\"-\"))))","v":0},null,"",null,"",null,null,{"$f":"IF([3]Sheet1!D32=\"\",\"\",IF(DE37=\"\",\"\",IF(COUNTIF(DA37:DJ37,\"ร\"),\"ร\",IF(COUNTIF(DA37:DJ37,\"-\"),\"-\",IF(DR37=\"ปกติ\",SUM(DE37,IF(DJ37=\"\",DI37,DJ37)))))))","v":0},null,{"$f":"IF(DL37=\"\",\"\",IF(DR37=\"\",\"\",IF(DR37=\"ย้าย\",\"-\",IF(DR37=\"จำหน่าย\",\"-\",IF(DR37=\"ขาดเรียนนาน\",\"-\",IF(เวลาเรียน!IO39<80,\"มส\",IF(DL37=\"ร\",\"ร\",VLOOKUP(DL37,$DT$19:$DV$26,3))))))))","v":{"$error":"#DIV/0!"}},null,null,null,{"$f":"IF(เวลาเรียน!IP39=\"\",\"\",เวลาเรียน!IP39)","v":"ปกติ"}]
[32,2529,{"$f":"CONCATENATE(Sheet1!B33)","v":"19635"},{"$f":"CONCATENATE(Sheet1!C33&Sheet1!D33&\"       \"&Sheet1!E33)","v":"เด็กหญิงกันยาวีร์    เกตุสุวรรณ       "},32,null,null,null,null,null,null,null,null,null,null,null,null,null,null,null,null,null,null,null,null,{"$f":"IF(Sheet1!C33=\"\",\"\",IF(COUNTIF(F38:V38,\"-1\"),\"ร\",IF(DR38=\"ปกติ\",SUM(F38,G38,H38,I38,J38,K38,L38,M38,N38,O38,P38,Q38,R38,S38,T38,U38,V38,W38,X38,Y38),\"-\")))","v":0},null,"",null,null,null,null,null,null,null,null,null,null,null,null,null,null,null,null,null,null,null,null,{"$f":"IF(Sheet1!C33=\"\",\"\",IF(COUNTIF(AC38:AS38,\"-1\"),\"ร\",IF(DR38=\"ปกติ\",SUM(AC38,AD38,AE38,AF38,AG38,AH38,AI38,AJ38,AK38,AL38,AM38,AN38,AO38,AP38,AQ38,AR38,AS38),\"-\")))","v":0},null,"",null,null,null,null,null,null,null,null,null,null,null,null,null,null,null,{"$f":"IF(Sheet1!C33=\"\",\"\",IF(COUNTIF(AZ38:BN38,\"-1\"),\"ร\",IF(DR38=\"ปกติ\",SUM(AZ38,BA38,BB38,BC38,BD38,BE38,BF38,BG38,BH38,BI38,BJ38,BK38,BL38,BM38,BN38),\"-\")))","v":0},null,"",null,null,null,null,null,null,null,null,null,null,null,null,null,null,null,{"$f":"IF(Sheet1!C33=\"\",\"\",IF(COUNTIF(BR38:CF38,\"-1\"),\"ร\",IF(DR38=\"ปกติ\",SUM(BR38,BS38,BT38,BU38,BV38,BW38,BX38,BY38,BZ38,CA38,CB38,CC38,CD38,CE38,CF38),\"-\")))","v":0},null,{"$f":"IF(CG38=\"\",\"\",IF(CG38=\"-\",\"-\",IF(CG38=\"ร\",\"ร\",IF(CG38=0,\"\",IF($CG$5=0,\"\",ROUND(CG38/$CH$5,0))))))","v":""},null,null,null,null,null,{"$f":"IF(Sheet1!C33=\"\",\"\",IF(CJ38=\"\",\"\",(IF(CK38=\"\",\"\",(IF(CL38=\"\",\"\",(IF(CM38=\"\",\"\",(IF(CN38=\"\",\"\",(SUM(CJ38:CN38))))))))))))","v":""},"","",null,null,null,null,null,null,null,null,"","","","",null,{"$f":"IF(Sheet1!C33=\"\",\"\",IF(COUNTIF(DA38:DC38,\"ร\"),\"ร\",IF(DC38=\"ร\",\"ร\",IF(DR38=\"ปกติ\",SUM(DA38:DB38,IF(DD38=\"\",DC38,DD38)),\"-\"))))","v":0},null,"",null,"",null,null,{"$f":"IF([3]Sheet1!D33=\"\",\"\",IF(DE38=\"\",\"\",IF(COUNTIF(DA38:DJ38,\"ร\"),\"ร\",IF(COUNTIF(DA38:DJ38,\"-\"),\"-\",IF(DR38=\"ปกติ\",SUM(DE38,IF(DJ38=\"\",DI38,DJ38)))))))","v":0},null,{"$f":"IF(DL38=\"\",\"\",IF(DR38=\"\",\"\",IF(DR38=\"ย้าย\",\"-\",IF(DR38=\"จำหน่าย\",\"-\",IF(DR38=\"ขาดเรียนนาน\",\"-\",IF(เวลาเรียน!IO40<80,\"มส\",IF(DL38=\"ร\",\"ร\",VLOOKUP(DL38,$DT$19:$DV$26,3))))))))","v":{"$error":"#DIV/0!"}},null,null,null,{"$f":"IF(เวลาเรียน!IP40=\"\",\"\",เวลาเรียน!IP40)","v":"ปกติ"}]
[33,0,{"$f":"CONCATENATE(Sheet1!B34)","v":"19636"},{"$f":"CONCATENATE(Sheet1!C34&Sheet1!D34&\"       \"&Sheet1!E34)","v":"เด็กหญิงสิรินุช       ทองปลอด       "},33,null,null,null,null,null,null,null,null,null,null,null,null,null,null,null,null,null,null,null,null,{"$f":"IF(Sheet1!C34=\"\",\"\",IF(COUNTIF(F39:V39,\"-1\"),\"ร\",IF(DR39=\"ปกติ\",SUM(F39,G39,H39,I39,J39,K39,L39,M39,N39,O39,P39,Q39,R39,S39,T39,U39,V39,W39,X39,Y39),\"-\")))","v":0},null,"",null,null,null,null,null,null,null,null,null,null,null,null,null,null,null,null,null,null,null,null,{"$f":"IF(Sheet1!C34=\"\",\"\",IF(COUNTIF(AC39:AS39,\"-1\"),\"ร\",IF(DR39=\"ปกติ\",SUM(AC39,AD39,AE39,AF39,AG39,AH39,AI39,AJ39,AK39,AL39,AM39,AN39,AO39,AP39,AQ39,AR39,AS39),\"-\")))","v":0},null,"",null,null,null,null,null,null,null,null,null,null,null,null,null,null,null,{"$f":"IF(Sheet1!C34=\"\",\"\",IF(COUNTIF(AZ39:BN39,\"-1\"),\"ร\",IF(DR39=\"ปกติ\",SUM(AZ39,BA39,BB39,BC39,BD39,BE39,BF39,BG39,BH39,BI39,BJ39,BK39,BL39,BM39,BN39),\"-\")))","v":0},null,"",null,null,null,null,null,null,null,null,null,null,null,null,null,null,null,{"$f":"IF(Sheet1!C34=\"\",\"\",IF(COUNTIF(BR39:CF39,\"-1\"),\"ร\",IF(DR39=\"ปกติ\",SUM(BR39,BS39,BT39,BU39,BV39,BW39,BX39,BY39,BZ39,CA39,CB39,CC39,CD39,CE39,CF39),\"-\")))","v":0},null,{"$f":"IF(CG39=\"\",\"\",IF(CG39=\"-\",\"-\",IF(CG39=\"ร\",\"ร\",IF(CG39=0,\"\",IF($CG$5=0,\"\",ROUND(CG39/$CH$5,0))))))","v":""},null,null,null,null,null,{"$f":"IF(Sheet1!C34=\"\",\"\",IF(CJ39=\"\",\"\",(IF(CK39=\"\",\"\",(IF(CL39=\"\",\"\",(IF(CM39=\"\",\"\",(IF(CN39=\"\",\"\",(SUM(CJ39:CN39))))))))))))","v":""},{"$f":"IF(CO39=\"\",\"\",IF(CO39=\"-\",\"-\",IF(CO39=\"ร\",\"ร\",IF(CO39=0,0,IF($CO$5=0,\"\",ROUND(CO39/5,0))))))","v":""},{"$f":"IF(CP39=\"\",\"\",(IF(CP39>=2.5,\"ดย\",(IF(CP39>=1.5,\"ด\",(IF(CP39>=0.6,\"ผ\",(IF(CP39<=0.4,\"มผ\")))))))))","v":""},null,null,null,null,null,null,null,null,"","","","",null,{"$f":"IF(Sheet1!C34=\"\",\"\",IF(COUNTIF(DA39:DC39,\"ร\"),\"ร\",IF(DC39=\"ร\",\"ร\",IF(DR39=\"ปกติ\",SUM(DA39:DB39,IF(DD39=\"\",DC39,DD39)),\"-\"))))","v":0},null,"",null,"",null,null,{"$f":"IF([3]Sheet1!D34=\"\",\"\",IF(DE39=\"\",\"\",IF(COUNTIF(DA39:DJ39,\"ร\"),\"ร\",IF(COUNTIF(DA39:DJ39,\"-\"),\"-\",IF(DR39=\"ปกติ\",SUM(DE39,IF(DJ39=\"\",DI39,DJ39)))))))","v":0},null,{"$f":"IF(DL39=\"\",\"\",IF(DR39=\"\",\"\",IF(DR39=\"ย้าย\",\"-\",IF(DR39=\"จำหน่าย\",\"-\",IF(DR39=\"ขาดเรียนนาน\",\"-\",IF(เวลาเรียน!IO41<80,\"มส\",IF(DL39=\"ร\",\"ร\",VLOOKUP(DL39,$DT$19:$DV$26,3))))))))","v":{"$error":"#DIV/0!"}},null,null,null,{"$f":"IF(เวลาเรียน!IP41=\"\",\"\",เวลาเรียน!IP41)","v":"ปกติ"}]
[34,0,{"$f":"CONCATENATE(Sheet1!B35)","v":""},{"$f":"CONCATENATE(Sheet1!C35&Sheet1!D35&\"       \"&Sheet1!E35)","v":"       "},34,null,null,null,null,null,null,null,null,null,null,null,null,null,null,null,null,null,null,null,null,{"$f":"IF(Sheet1!C35=\"\",\"\",IF(COUNTIF(F40:V40,\"-1\"),\"ร\",IF(DR40=\"ปกติ\",SUM(F40,G40,H40,I40,J40,K40,L40,M40,N40,O40,P40,Q40,R40,S40,T40,U40,V40,W40,X40,Y40),\"-\")))","v":""},null,"",null,null,null,null,null,null,null,null,null,null,null,null,null,null,null,null,null,null,null,null,{"$f":"IF(Sheet1!C35=\"\",\"\",IF(COUNTIF(AC40:AS40,\"-1\"),\"ร\",IF(DR40=\"ปกติ\",SUM(AC40,AD40,AE40,AF40,AG40,AH40,AI40,AJ40,AK40,AL40,AM40,AN40,AO40,AP40,AQ40,AR40,AS40),\"-\")))","v":""},null,"",null,null,null,null,null,null,null,null,null,null,null,null,null,null,null,{"$f":"IF(Sheet1!C35=\"\",\"\",IF(COUNTIF(AZ40:BN40,\"-1\"),\"ร\",IF(DR40=\"ปกติ\",SUM(AZ40,BA40,BB40,BC40,BD40,BE40,BF40,BG40,BH40,BI40,BJ40,BK40,BL40,BM40,BN40),\"-\")))","v":""},null,"",null,null,null,null,null,null,null,null,null,null,null,null,null,null,null,{"$f":"IF(Sheet1!C35=\"\",\"\",IF(COUNTIF(BR40:CF40,\"-1\"),\"ร\",IF(DR40=\"ปกติ\",SUM(BR40,BS40,BT40,BU40,BV40,BW40,BX40,BY40,BZ40,CA40,CB40,CC40,CD40,CE40,CF40),\"-\")))","v":""},null,{"$f":"IF(CG40=\"\",\"\",IF(CG40=\"-\",\"-\",IF(CG40=\"ร\",\"ร\",IF(CG40=0,\"\",IF($CG$5=0,\"\",ROUND(CG40/$CH$5,0))))))","v":""},null,null,null,null,null,{"$f":"IF(Sheet1!C35=\"\",\"\",IF(CJ40=\"\",\"\",(IF(CK40=\"\",\"\",(IF(CL40=\"\",\"\",(IF(CM40=\"\",\"\",(IF(CN40=\"\",\"\",(SUM(CJ40:CN40))))))))))))","v":""},"","",null,null,null,null,null,null,null,null,"","","","",null,{"$f":"IF(Sheet1!C35=\"\",\"\",IF(COUNTIF(DA40:DC40,\"ร\"),\"ร\",IF(DC40=\"ร\",\"ร\",IF(DR40=\"ปกติ\",SUM(DA40:DB40,IF(DD40=\"\",DC40,DD40)),\"-\"))))","v":""},null,"",null,"",null,null,{"$f":"IF(Sheet1!D35=\"\",\"\",IF(DE40=\"\",\"\",IF(COUNTIF(DA40:DJ40,\"ร\"),\"ร\",IF(COUNTIF(DA40:DJ40,\"-\"),\"-\",IF(DR40=\"ปกติ\",SUM(DE40,IF(DJ40=\"\",DI40,DJ40)))))))","v":""},null,{"$f":"IF(DL40=\"\",\"\",IF(DR40=\"\",\"\",IF(DR40=\"ย้าย\",\"-\",IF(DR40=\"จำหน่าย\",\"-\",IF(DR40=\"ขาดเรียนนาน\",\"-\",IF(เวลาเรียน!IO42<80,\"มส\",IF(DL40=\"ร\",\"ร\",VLOOKUP(DL40,$DT$19:$DV$26,3))))))))","v":""},null,null,null,{"$f":"IF(เวลาเรียน!IP42=\"\",\"\",เวลาเรียน!IP42)","v":"ปกติ"}]
[35,0,{"$f":"CONCATENATE(Sheet1!B36)","v":""},{"$f":"CONCATENATE(Sheet1!C36&Sheet1!D36&\"       \"&Sheet1!E36)","v":"       "},35,null,null,null,null,null,null,null,null,null,null,null,null,null,null,null,null,null,null,null,null,{"$f":"IF(Sheet1!C36=\"\",\"\",IF(COUNTIF(F41:V41,\"-1\"),\"ร\",IF(DR41=\"ปกติ\",SUM(F41,G41,H41,I41,J41,K41,L41,M41,N41,O41,P41,Q41,R41,S41,T41,U41,V41,W41,X41,Y41),\"-\")))","v":""},null,"",null,null,null,null,null,null,null,null,null,null,null,null,null,null,null,null,null,null,null,null,{"$f":"IF(Sheet1!C36=\"\",\"\",IF(COUNTIF(AC41:AS41,\"-1\"),\"ร\",IF(DR41=\"ปกติ\",SUM(AC41,AD41,AE41,AF41,AG41,AH41,AI41,AJ41,AK41,AL41,AM41,AN41,AO41,AP41,AQ41,AR41,AS41),\"-\")))","v":""},null,"",null,null,null,null,null,null,null,null,null,null,null,null,null,null,null,{"$f":"IF(Sheet1!C36=\"\",\"\",IF(COUNTIF(AZ41:BN41,\"-1\"),\"ร\",IF(DR41=\"ปกติ\",SUM(AZ41,BA41,BB41,BC41,BD41,BE41,BF41,BG41,BH41,BI41,BJ41,BK41,BL41,BM41,BN41),\"-\")))","v":""},null,"",null,null,null,null,null,null,null,null,null,null,null,null,null,null,null,{"$f":"IF(Sheet1!C36=\"\",\"\",IF(COUNTIF(BR41:CF41,\"-1\"),\"ร\",IF(DR41=\"ปกติ\",SUM(BR41,BS41,BT41,BU41,BV41,BW41,BX41,BY41,BZ41,CA41,CB41,CC41,CD41,CE41,CF41),\"-\")))","v":""},null,"",null,null,null,null,null,{"$f":"IF(Sheet1!C36=\"\",\"\",IF(CJ41=\"\",\"\",(IF(CK41=\"\",\"\",(IF(CL41=\"\",\"\",(IF(CM41=\"\",\"\",(IF(CN41=\"\",\"\",(SUM(CJ41:CN41))))))))))))","v":""},"","",null,null,null,null,null,null,null,null,"","","","",null,{"$f":"IF(Sheet1!C36=\"\",\"\",IF(COUNTIF(DA41:DC41,\"ร\"),\"ร\",IF(DC41=\"ร\",\"ร\",IF(DR41=\"ปกติ\",SUM(DA41:DB41,IF(DD41=\"\",DC41,DD41)),\"-\"))))","v":""},null,"",null,"",null,null,{"$f":"IF(Sheet1!D36=\"\",\"\",IF(DE41=\"\",\"\",IF(COUNTIF(DA41:DJ41,\"ร\"),\"ร\",IF(COUNTIF(DA41:DJ41,\"-\"),\"-\",IF(DR41=\"ปกติ\",SUM(DE41,IF(DJ41=\"\",DI41,DJ41)))))))","v":""},null,{"$f":"IF(DL41=\"\",\"\",IF(DR41=\"\",\"\",IF(DR41=\"ย้าย\",\"-\",IF(DR41=\"จำหน่าย\",\"-\",IF(DR41=\"ขาดเรียนนาน\",\"-\",IF(เวลาเรียน!IO43<80,\"มส\",IF(DL41=\"ร\",\"ร\",VLOOKUP(DL41,$DT$19:$DV$26,3))))))))","v":""},null,null,null,{"$f":"IF(เวลาเรียน!IP43=\"\",\"\",เวลาเรียน!IP43)","v":"ปกติ"}]
[36,0,{"$f":"CONCATENATE(Sheet1!B37)","v":""},{"$f":"CONCATENATE(Sheet1!C37&Sheet1!D37&\"       \"&Sheet1!E37)","v":"       "},null,null,null,null,null,null,null,null,null,null,null,null,null,null,null,null,null,null,null,null,null,{"$f":"IF(Sheet1!C37=\"\",\"\",IF(COUNTIF(F42:V42,\"-1\"),\"ร\",IF(DR42=\"ปกติ\",SUM(F42,G42,H42,I42,J42,K42,L42,M42,N42,O42,P42,Q42,R42,S42,T42,U42,V42,W42,X42,Y42),\"-\")))","v":""},null,"",null,null,null,null,null,null,null,null,null,null,null,null,null,null,null,null,null,null,null,null,{"$f":"IF(Sheet1!C37=\"\",\"\",IF(COUNTIF(AC42:AS42,\"-1\"),\"ร\",IF(DR42=\"ปกติ\",SUM(AC42,AD42,AE42,AF42,AG42,AH42,AI42,AJ42,AK42,AL42,AM42,AN42,AO42,AP42,AQ42,AR42,AS42),\"-\")))","v":""},null,"",null,null,null,null,null,null,null,null,null,null,null,null,null,null,null,{"$f":"IF(Sheet1!C37=\"\",\"\",IF(COUNTIF(AZ42:BN42,\"-1\"),\"ร\",IF(DR42=\"ปกติ\",SUM(AZ42,BA42,BB42,BC42,BD42,BE42,BF42,BG42,BH42,BI42,BJ42,BK42,BL42,BM42,BN42),\"-\")))","v":""},null,"",null,null,null,null,null,null,null,null,null,null,null,null,null,null,null,{"$f":"IF(Sheet1!C37=\"\",\"\",IF(COUNTIF(BR42:CF42,\"-1\"),\"ร\",IF(DR42=\"ปกติ\",SUM(BR42,BS42,BT42,BU42,BV42,BW42,BX42,BY42,BZ42,CA42,CB42,CC42,CD42,CE42,CF42),\"-\")))","v":""},null,{"$f":"IF(CG42=\"\",\"\",IF(CG42=\"-\",\"-\",IF(CG42=\"ร\",\"ร\",IF(CG42=0,\"\",IF($CG$5=0,\"\",ROUND(CG42/$CH$5,0))))))","v":""},null,null,null,null,null,{"$f":"IF(Sheet1!C37=\"\",\"\",IF(CJ42=\"\",\"\",(IF(CK42=\"\",\"\",(IF(CL42=\"\",\"\",(IF(CM42=\"\",\"\",(IF(CN42=\"\",\"\",(SUM(CJ42:CN42))))))))))))","v":""},"","",null,null,null,null,null,null,null,null,"","","","",null,{"$f":"IF(Sheet1!C37=\"\",\"\",IF(COUNTIF(DA42:DC42,\"ร\"),\"ร\",IF(DC42=\"ร\",\"ร\",IF(DR42=\"ปกติ\",SUM(DA42:DB42,IF(DD42=\"\",DC42,DD42)),\"-\"))))","v":""},null,"",null,"",null,null,{"$f":"IF([3]Sheet1!D37=\"\",\"\",IF(DE42=\"\",\"\",IF(COUNTIF(DA42:DJ42,\"ร\"),\"ร\",IF(COUNTIF(DA42:DJ42,\"-\"),\"-\",IF(DR42=\"ปกติ\",SUM(DE42,IF(DJ42=\"\",DI42,DJ42)))))))","v":""},null,{"$f":"IF(DL42=\"\",\"\",IF(DR42=\"\",\"\",IF(DR42=\"ย้าย\",\"-\",IF(DR42=\"จำหน่าย\",\"-\",IF(DR42=\"ขาดเรียนนาน\",\"-\",IF(เวลาเรียน!IO44<80,\"มส\",IF(DL42=\"ร\",\"ร\",VLOOKUP(DL42,$DT$19:$DV$26,3))))))))","v":""},null,null,null,{"$f":"IF(เวลาเรียน!IP44=\"\",\"\",เวลาเรียน!IP44)","v":""}]
[37,0,{"$f":"CONCATENATE(Sheet1!B38)","v":""},{"$f":"CONCATENATE(Sheet1!C38&Sheet1!D38&\"       \"&Sheet1!E38)","v":"       "},null,null,null,null,null,null,null,null,null,null,null,null,null,null,null,null,null,null,null,null,null,{"$f":"IF(Sheet1!C38=\"\",\"\",IF(COUNTIF(F43:V43,\"-1\"),\"ร\",IF(DR43=\"ปกติ\",SUM(F43,G43,H43,I43,J43,K43,L43,M43,N43,O43,P43,Q43,R43,S43,T43,U43,V43,W43,X43,Y43),\"-\")))","v":""},null,"",null,null,null,null,null,null,null,null,null,null,null,null,null,null,null,null,null,null,null,null,{"$f":"IF(Sheet1!C38=\"\",\"\",IF(COUNTIF(AC43:AS43,\"-1\"),\"ร\",IF(DR43=\"ปกติ\",SUM(AC43,AD43,AE43,AF43,AG43,AH43,AI43,AJ43,AK43,AL43,AM43,AN43,AO43,AP43,AQ43,AR43,AS43),\"-\")))","v":""},null,"",null,null,null,null,null,null,null,null,null,null,null,null,null,null,null,{"$f":"IF(Sheet1!C38=\"\",\"\",IF(COUNTIF(AZ43:BN43,\"-1\"),\"ร\",IF(DR43=\"ปกติ\",SUM(AZ43,BA43,BB43,BC43,BD43,BE43,BF43,BG43,BH43,BI43,BJ43,BK43,BL43,BM43,BN43),\"-\")))","v":""},null,"",null,null,null,null,null,null,null,null,null,null,null,null,null,null,null,{"$f":"IF(Sheet1!C38=\"\",\"\",IF(COUNTIF(BR43:CF43,\"-1\"),\"ร\",IF(DR43=\"ปกติ\",SUM(BR43,BS43,BT43,BU43,BV43,BW43,BX43,BY43,BZ43,CA43,CB43,CC43,CD43,CE43,CF43),\"-\")))","v":""},null,"",null,null,null,null,null,{"$f":"IF(Sheet1!C38=\"\",\"\",IF(CJ43=\"\",\"\",(IF(CK43=\"\",\"\",(IF(CL43=\"\",\"\",(IF(CM43=\"\",\"\",(IF(CN43=\"\",\"\",(SUM(CJ43:CN43))))))))))))","v":""},"","",null,null,null,null,null,null,null,null,"","","","",null,{"$f":"IF(Sheet1!C38=\"\",\"\",IF(COUNTIF(DA43:DC43,\"ร\"),\"ร\",IF(DC43=\"ร\",\"ร\",IF(DR43=\"ปกติ\",SUM(DA43:DB43,IF(DD43=\"\",DC43,DD43)),\"-\"))))","v":""},null,"",null,"",null,null,{"$f":"IF([3]Sheet1!D38=\"\",\"\",IF(DE43=\"\",\"\",IF(COUNTIF(DA43:DJ43,\"ร\"),\"ร\",IF(COUNTIF(DA43:DJ43,\"-\"),\"-\",IF(DR43=\"ปกติ\",SUM(DE43,IF(DJ43=\"\",DI43,DJ43)))))))","v":""},null,{"$f":"IF(DL43=\"\",\"\",IF(DR43=\"\",\"\",IF(DR43=\"ย้าย\",\"-\",IF(DR43=\"จำหน่าย\",\"-\",IF(DR43=\"ขาดเรียนนาน\",\"-\",IF(เวลาเรียน!IO45<80,\"มส\",IF(DL43=\"ร\",\"ร\",VLOOKUP(DL43,$DT$19:$DV$26,3))))))))","v":""},null,null,null,{"$f":"IF(เวลาเรียน!IP45=\"\",\"\",เวลาเรียน!IP45)","v":""}]
[null,null,{"$f":"CONCATENATE(Sheet1!B39)","v":""},{"$f":"CONCATENATE(Sheet1!C39&Sheet1!D39&\"       \"&Sheet1!E39)","v":"       "},null,null,null,null,null,null,null,null,null,null,null,null,null,null,null,null,null,null,null,null,null,{"$f":"IF(Sheet1!C39=\"\",\"\",IF(COUNTIF(F44:V44,\"-1\"),\"ร\",IF(DR44=\"ปกติ\",SUM(F44,G44,H44,I44,J44,K44,L44,M44,N44,O44,P44,Q44,R44,S44,T44,U44,V44,W44,X44,Y44),\"-\")))","v":""},null,{"$f":"IF(Z44=\"\",\"\",IF(Z44=\"-\",\"-\",IF(Z44=\"ร\",\"ร\",IF(Z44=0,\"\",IF($Z$5=0,\"\",ROUND(Z44/$AA$5,0))))))","v":""},null,null,null,null,null,null,null,null,null,null,null,null,null,null,null,null,null,null,null,null,{"$f":"IF(Sheet1!C39=\"\",\"\",IF(COUNTIF(AC44:AS44,\"-1\"),\"ร\",IF(DR44=\"ปกติ\",SUM(AC44,AD44,AE44,AF44,AG44,AH44,AI44,AJ44,AK44,AL44,AM44,AN44,AO44,AP44,AQ44,AR44,AS44),\"-\")))","v":""},null,{"$f":"IF(AW44=\"\",\"\",IF(AW44=\"-\",\"-\",IF(AW44=\"ร\",\"ร\",IF(AW44=0,\"\",IF($AW$5=0,\"\",ROUND(AW44/$AX$5,0))))))","v":""},null,null,null,null,null,null,null,null,null,null,null,null,null,null,null,{"$f":"IF(Sheet1!C39=\"\",\"\",IF(COUNTIF(AZ44:BN44,\"-1\"),\"ร\",IF(DR44=\"ปกติ\",SUM(AZ44,BA44,BB44,BC44,BD44,BE44,BF44,BG44,BH44,BI44,BJ44,BK44,BL44,BM44,BN44),\"-\")))","v":""},null,{"$f":"IF(BO44=\"\",\"\",IF(BO44=\"-\",\"-\",IF(BO44=\"ร\",\"ร\",IF(BO44=0,\"\",IF($BO$5=0,\"\",ROUND(BO44/$BP$5,0))))))","v":""},null,null,null,null,null,null,null,null,null,null,null,null,null,null,null,{"$f":"IF(Sheet1!C39=\"\",\"\",IF(COUNTIF(BR44:CF44,\"-1\"),\"ร\",IF(DR44=\"ปกติ\",SUM(BR44,BS44,BT44,BU44,BV44,BW44,BX44,BY44,BZ44,CA44,CB44,CC44,CD44,CE44,CF44),\"-\")))","v":""},null,{"$f":"IF(CG44=\"\",\"\",IF(CG44=\"-\",\"-\",IF(CG44=\"ร\",\"ร\",IF(CG44=0,\"\",IF($CG$5=0,\"\",ROUND(CG44/$CH$5,0))))))","v":""},null,null,null,null,null,{"$f":"IF(Sheet1!C39=\"\",\"\",IF(CJ44=\"\",\"\",(IF(CK44=\"\",\"\",(IF(CL44=\"\",\"\",(IF(CM44=\"\",\"\",(IF(CN44=\"\",\"\",(SUM(CJ44:CN44))))))))))))","v":""},{"$f":"IF(CO44=\"\",\"\",IF(CO44=\"-\",\"-\",IF(CO44=\"ร\",\"ร\",IF(CO44=0,0,IF($CO$5=0,\"\",ROUND(CO44/5,0))))))","v":""},{"$f":"IF(CP44=\"\",\"\",(IF(CP44>=2.5,\"ดย\",(IF(CP44>=1.5,\"ด\",(IF(CP44>=0.6,\"ผ\",(IF(CP44<=0.4,\"มผ\")))))))))","v":""},null,null,null,null,null,null,null,null,"",{"$f":"AB44","v":""},{"$f":"AY44","v":""},{"$f":"BQ44","v":""},null,{"$f":"IF(Sheet1!C39=\"\",\"\",IF(COUNTIF(DA44:DC44,\"ร\"),\"ร\",IF(DC44=\"ร\",\"ร\",IF(DR44=\"ปกติ\",SUM(DA44:DB44,IF(DD44=\"\",DC44,DD44)),\"-\"))))","v":""},null,{"$f":"IF(DR44=\"\",\"\",IF(DR44=\"ปกติ\",IF(CI44=\"\",\"\",(CI44*($D$4/100))),\"\"))","v":""},null,{"$f":"IF(DG44=\"\",\"\",SUM(DG44:DH44))","v":""},null,null,{"$f":"IF(Sheet1!D39=\"\",\"\",IF(DE44=\"\",\"\",IF(COUNTIF(DA44:DJ44,\"ร\"),\"ร\",IF(COUNTIF(DA44:DJ44,\"-\"),\"-\",IF(DR44=\"ปกติ\",SUM(DE44,IF(DJ44=\"\",DI44,DJ44)))))))","v":""},null,{"$f":"IF(DL44=\"\",\"\",IF(DR44=\"\",\"\",IF(DR44=\"ย้าย\",\"-\",IF(DR44=\"จำหน่าย\",\"-\",IF(DR44=\"ขาดเรียนนาน\",\"-\",IF(เวลาเรียน!IO46<80,\"มส\",IF(DL44=\"ร\",\"ร\",VLOOKUP(DL44,$DT$19:$DV$26,3))))))))","v":""},null,null,null,{"$f":"IF(เวลาเรียน!IP46=\"\",\"\",เวลาเรียน!IP46)","v":""}]
[null,null,{"$f":"CONCATENATE(Sheet1!B40)","v":""},{"$f":"CONCATENATE(Sheet1!C40&Sheet1!D40&\"       \"&Sheet1!E40)","v":"       "},null,null,null,null,null,null,null,null,null,null,null,null,null,null,null,null,null,null,null,null,null,{"$f":"IF(Sheet1!C40=\"\",\"\",IF(COUNTIF(F45:V45,\"-1\"),\"ร\",IF(DR45=\"ปกติ\",SUM(F45,G45,H45,I45,J45,K45,L45,M45,N45,O45,P45,Q45,R45,S45,T45,U45,V45,W45,X45,Y45),\"-\")))","v":""},null,"",null,null,null,null,null,null,null,null,null,null,null,null,null,null,null,null,null,null,null,null,{"$f":"IF(Sheet1!C40=\"\",\"\",IF(COUNTIF(AC45:AS45,\"-1\"),\"ร\",IF(DR45=\"ปกติ\",SUM(AC45,AD45,AE45,AF45,AG45,AH45,AI45,AJ45,AK45,AL45,AM45,AN45,AO45,AP45,AQ45,AR45,AS45),\"-\")))","v":""},null,"",null,null,null,null,null,null,null,null,null,null,null,null,null,null,null,{"$f":"IF(Sheet1!C40=\"\",\"\",IF(COUNTIF(AZ45:BN45,\"-1\"),\"ร\",IF(DR45=\"ปกติ\",SUM(AZ45,BA45,BB45,BC45,BD45,BE45,BF45,BG45,BH45,BI45,BJ45,BK45,BL45,BM45,BN45),\"-\")))","v":""},null,"",null,null,null,null,null,null,null,null,null,null,null,null,null,null,null,{"$f":"IF(Sheet1!C40=\"\",\"\",IF(COUNTIF(BR45:CF45,\"-1\"),\"ร\",IF(DR45=\"ปกติ\",SUM(BR45,BS45,BT45,BU45,BV45,BW45,BX45,BY45,BZ45,CA45,CB45,CC45,CD45,CE45,CF45),\"-\")))","v":""},null,"",null,null,null,null,null,{"$f":"IF(Sheet1!C40=\"\",\"\",IF(CJ45=\"\",\"\",(IF(CK45=\"\",\"\",(IF(CL45=\"\",\"\",(IF(CM45=\"\",\"\",(IF(CN45=\"\",\"\",(SUM(CJ45:CN45))))))))))))","v":""},"","",null,null,null,null,null,null,null,null,"","","","",null,{"$f":"IF(Sheet1!C40=\"\",\"\",IF(COUNTIF(DA45:DC45,\"ร\"),\"ร\",IF(DC45=\"ร\",\"ร\",IF(DR45=\"ปกติ\",SUM(DA45:DB45,IF(DD45=\"\",DC45,DD45)),\"-\"))))","v":""},null,"",null,"",null,null,{"$f":"IF(Sheet1!D40=\"\",\"\",IF(DE45=\"\",\"\",IF(COUNTIF(DA45:DJ45,\"ร\"),\"ร\",IF(COUNTIF(DA45:DJ45,\"-\"),\"-\",IF(DR45=\"ปกติ\",SUM(DE45,IF(DJ45=\"\",DI45,DJ45)))))))","v":""},null,{"$f":"IF(DL45=\"\",\"\",IF(DR45=\"\",\"\",IF(DR45=\"ย้าย\",\"-\",IF(DR45=\"จำหน่าย\",\"-\",IF(DR45=\"ขาดเรียนนาน\",\"-\",IF(เวลาเรียน!IO47<80,\"มส\",IF(DL45=\"ร\",\"ร\",VLOOKUP(DL45,$DT$19:$DV$26,3))))))))","v":""},null,null,null,{"$f":"IF(เวลาเรียน!IP47=\"\",\"\",เวลาเรียน!IP47)","v":""}]
[null,null,{"$f":"CONCATENATE(Sheet1!B41)","v":""},{"$f":"CONCATENATE(Sheet1!C41&Sheet1!D41&\"       \"&Sheet1!E41)","v":"       "},null,null,null,null,null,null,null,null,null,null,null,null,null,null,null,null,null,null,null,null,null,{"$f":"IF(Sheet1!C41=\"\",\"\",IF(COUNTIF(F46:V46,\"-1\"),\"ร\",IF(DR46=\"ปกติ\",SUM(F46,G46,H46,I46,J46,K46,L46,M46,N46,O46,P46,Q46,R46,S46,T46,U46,V46,W46,X46,Y46),\"-\")))","v":""},null,"",null,null,null,null,null,null,null,null,null,null,null,null,null,null,null,null,null,null,null,null,{"$f":"IF(Sheet1!C41=\"\",\"\",IF(COUNTIF(AC46:AS46,\"-1\"),\"ร\",IF(DR46=\"ปกติ\",SUM(AC46,AD46,AE46,AF46,AG46,AH46,AI46,AJ46,AK46,AL46,AM46,AN46,AO46,AP46,AQ46,AR46,AS46),\"-\")))","v":""},null,"",null,null,null,null,null,null,null,null,null,null,null,null,null,null,null,{"$f":"IF(Sheet1!C41=\"\",\"\",IF(COUNTIF(AZ46:BN46,\"-1\"),\"ร\",IF(DR46=\"ปกติ\",SUM(AZ46,BA46,BB46,BC46,BD46,BE46,BF46,BG46,BH46,BI46,BJ46,BK46,BL46,BM46,BN46),\"-\")))","v":""},null,"",null,null,null,null,null,null,null,null,null,null,null,null,null,null,null,{"$f":"IF(Sheet1!C41=\"\",\"\",IF(COUNTIF(BR46:CF46,\"-1\"),\"ร\",IF(DR46=\"ปกติ\",SUM(BR46,BS46,BT46,BU46,BV46,BW46,BX46,BY46,BZ46,CA46,CB46,CC46,CD46,CE46,CF46),\"-\")))","v":""},null,{"$f":"IF(CG46=\"\",\"\",IF(CG46=\"-\",\"-\",IF(CG46=\"ร\",\"ร\",IF(CG46=0,\"\",IF($CG$5=0,\"\",ROUND(CG46/$CH$5,0))))))","v":""},null,null,null,null,null,{"$f":"IF(Sheet1!C41=\"\",\"\",IF(CJ46=\"\",\"\",(IF(CK46=\"\",\"\",(IF(CL46=\"\",\"\",(IF(CM46=\"\",\"\",(IF(CN46=\"\",\"\",(SUM(CJ46:CN46))))))))))))","v":""},"","",null,null,null,null,null,null,null,null,"","","","",null,{"$f":"IF(Sheet1!C41=\"\",\"\",IF(COUNTIF(DA46:DC46,\"ร\"),\"ร\",IF(DC46=\"ร\",\"ร\",IF(DR46=\"ปกติ\",SUM(DA46:DB46,IF(DD46=\"\",DC46,DD46)),\"-\"))))","v":""},null,"",null,"",null,null,{"$f":"IF(Sheet1!D41=\"\",\"\",IF(DE46=\"\",\"\",IF(COUNTIF(DA46:DJ46,\"ร\"),\"ร\",IF(COUNTIF(DA46:DJ46,\"-\"),\"-\",IF(DR46=\"ปกติ\",SUM(DE46,IF(DJ46=\"\",DI46,DJ46)))))))","v":""},null,null,null,null,null,{"$f":"IF(เวลาเรียน!IP48=\"\",\"\",เวลาเรียน!IP48)","v":""}]
[null,null,{"$f":"CONCATENATE(Sheet1!B42)","v":""},{"$f":"CONCATENATE(Sheet1!C42&Sheet1!D42&\"       \"&Sheet1!E42)","v":"       "},null,null,null,null,null,null,null,null,null,null,null,null,null,null,null,null,null,null,null,null,null,{"$f":"IF(Sheet1!C42=\"\",\"\",IF(COUNTIF(F47:V47,\"-1\"),\"ร\",IF(DR47=\"ปกติ\",SUM(F47,G47,H47,I47,J47,K47,L47,M47,N47,O47,P47,Q47,R47,S47,T47,U47,V47,W47,X47,Y47),\"-\")))","v":""},null,"",null,null,null,null,null,null,null,null,null,null,null,null,null,null,null,null,null,null,null,null,{"$f":"IF(Sheet1!C42=\"\",\"\",IF(COUNTIF(AC47:AS47,\"-1\"),\"ร\",IF(DR47=\"ปกติ\",SUM(AC47,AD47,AE47,AF47,AG47,AH47,AI47,AJ47,AK47,AL47,AM47,AN47,AO47,AP47,AQ47,AR47,AS47),\"-\")))","v":""},null,"",null,null,null,null,null,null,null,null,null,null,null,null,null,null,null,{"$f":"IF(Sheet1!C42=\"\",\"\",IF(COUNTIF(AZ47:BN47,\"-1\"),\"ร\",IF(DR47=\"ปกติ\",SUM(AZ47,BA47,BB47,BC47,BD47,BE47,BF47,BG47,BH47,BI47,BJ47,BK47,BL47,BM47,BN47),\"-\")))","v":""},null,"",null,null,null,null,null,null,null,null,null,null,null,null,null,null,null,{"$f":"IF(Sheet1!C42=\"\",\"\",IF(COUNTIF(BR47:CF47,\"-1\"),\"ร\",IF(DR47=\"ปกติ\",SUM(BR47,BS47,BT47,BU47,BV47,BW47,BX47,BY47,BZ47,CA47,CB47,CC47,CD47,CE47,CF47),\"-\")))","v":""},null,{"$f":"IF(CG47=\"\",\"\",IF(CG47=\"-\",\"-\",IF(CG47=\"ร\",\"ร\",IF(CG47=0,\"\",IF($CG$5=0,\"\",ROUND(CG47/$CH$5,0))))))","v":""},null,null,null,null,null,{"$f":"IF(Sheet1!C42=\"\",\"\",IF(CJ47=\"\",\"\",(IF(CK47=\"\",\"\",(IF(CL47=\"\",\"\",(IF(CM47=\"\",\"\",(IF(CN47=\"\",\"\",(SUM(CJ47:CN47))))))))))))","v":""},"","",null,null,null,null,null,null,null,null,{"$f":"IF(CR47=\"\",\"\",(IF(CS47=\"\",\"\",(IF(CT47=\"\",\"\",(IF(CU47=\"\",\"\",(IF(CV47=\"\",\"\",(IF(CW47=\"\",\"\",IF(CX47=\"\",\"\",(IF(CY47=\"\",\"\",(IF(COUNTIF(CR47:CY47,0)>0,\"มผ\",IF(AND(COUNTIF(CR47:CY47,3)>=5,COUNTIF(CR47:CY47,\"<2\")=0),\"ดย\",IF(OR(AND(AND(COUNTIF(CR47:CY47,3)>=1,COUNTIF(CR47:CY47,3)<=4),COUNTIF(CR47:CY47,\"<2\")=0),COUNTIF(CR47:CY47,2)=8,AND(COUNTIF(CR47:CY47,\">=2\")>=5,COUNTIF(CR47:CY47,1)>0)),\"ด\",IF(OR(COUNTIF(CR47:CY47,1)=8,AND(COUNTIF(CR47:CY47,\">=2\")>=1,COUNTIF(CR47:CY47,\">=2\")<=4)),\"ผ\",\"มผ\")))))))))))))))))))","v":""},"","","",null,{"$f":"IF(Sheet1!C42=\"\",\"\",IF(COUNTIF(DA47:DC47,\"ร\"),\"ร\",IF(DC47=\"ร\",\"ร\",IF(DR47=\"ปกติ\",SUM(DA47:DB47,IF(DD47=\"\",DC47,DD47)),\"-\"))))","v":""},null,"",null,"",null,null,{"$f":"IF([3]Sheet1!D42=\"\",\"\",IF(DE47=\"\",\"\",IF(COUNTIF(DA47:DJ47,\"ร\"),\"ร\",IF(COUNTIF(DA47:DJ47,\"-\"),\"-\",IF(DR47=\"ปกติ\",SUM(DE47,IF(DJ47=\"\",DI47,DJ47)))))))","v":""},null,null,null,null,null,{"$f":"IF(เวลาเรียน!IP49=\"\",\"\",เวลาเรียน!IP49)","v":""}]
[null,null,{"$f":"CONCATENATE(Sheet1!B43)","v":""},{"$f":"CONCATENATE(Sheet1!C43&Sheet1!D43&\"       \"&Sheet1!E43)","v":"       "},null,null,null,null,null,null,null,null,null,null,null,null,null,null,null,null,null,null,null,null,null,{"$f":"IF(Sheet1!C43=\"\",\"\",IF(COUNTIF(F48:V48,\"-1\"),\"ร\",IF(DR48=\"ปกติ\",SUM(F48,G48,H48,I48,J48,K48,L48,M48,N48,O48,P48,Q48,R48,S48,T48,U48,V48,W48,X48,Y48),\"-\")))","v":""},null,"",null,null,null,null,null,null,null,null,null,null,null,null,null,null,null,null,null,null,null,null,{"$f":"IF(Sheet1!C43=\"\",\"\",IF(COUNTIF(AC48:AS48,\"-1\"),\"ร\",IF(DR48=\"ปกติ\",SUM(AC48,AD48,AE48,AF48,AG48,AH48,AI48,AJ48,AK48,AL48,AM48,AN48,AO48,AP48,AQ48,AR48,AS48),\"-\")))","v":""},null,"",null,null,null,null,null,null,null,null,null,null,null,null,null,null,null,{"$f":"IF(Sheet1!C43=\"\",\"\",IF(COUNTIF(AZ48:BN48,\"-1\"),\"ร\",IF(DR48=\"ปกติ\",SUM(AZ48,BA48,BB48,BC48,BD48,BE48,BF48,BG48,BH48,BI48,BJ48,BK48,BL48,BM48,BN48),\"-\")))","v":""},null,"",null,null,null,null,null,null,null,null,null,null,null,null,null,null,null,{"$f":"IF(Sheet1!C43=\"\",\"\",IF(COUNTIF(BR48:CF48,\"-1\"),\"ร\",IF(DR48=\"ปกติ\",SUM(BR48,BS48,BT48,BU48,BV48,BW48,BX48,BY48,BZ48,CA48,CB48,CC48,CD48,CE48,CF48),\"-\")))","v":""},null,{"$f":"IF(CG48=\"\",\"\",IF(CG48=\"-\",\"-\",IF(CG48=\"ร\",\"ร\",IF(CG48=0,\"\",IF($CG$5=0,\"\",ROUND(CG48/$CH$5,0))))))","v":""},null,null,null,null,null,{"$f":"IF(Sheet1!C43=\"\",\"\",IF(CJ48=\"\",\"\",(IF(CK48=\"\",\"\",(IF(CL48=\"\",\"\",(IF(CM48=\"\",\"\",(IF(CN48=\"\",\"\",(SUM(CJ48:CN48))))))))))))","v":""},"","",null,null,null,null,null,null,null,null,"","","","",null,{"$f":"IF(Sheet1!C43=\"\",\"\",IF(COUNTIF(DA48:DC48,\"ร\"),\"ร\",IF(DC48=\"ร\",\"ร\",IF(DR48=\"ปกติ\",SUM(DA48:DB48,IF(DD48=\"\",DC48,DD48)),\"-\"))))","v":""},null,"",null,"",null,null,{"$f":"IF([3]Sheet1!D43=\"\",\"\",IF(DE48=\"\",\"\",IF(COUNTIF(DA48:DJ48,\"ร\"),\"ร\",IF(COUNTIF(DA48:DJ48,\"-\"),\"-\",IF(DR48=\"ปกติ\",SUM(DE48,IF(DJ48=\"\",DI48,DJ48)))))))","v":""},null,null,null,null,null,{"$f":"IF(เวลาเรียน!IP50=\"\",\"\",เวลาเรียน!IP50)","v":""}]
[null,null,{"$f":"CONCATENATE(Sheet1!B44)","v":""},{"$f":"CONCATENATE(Sheet1!C44&Sheet1!D44&\"       \"&Sheet1!E44)","v":"       "},null,null,null,null,null,null,null,null,null,null,null,null,null,null,null,null,null,null,null,null,null,{"$f":"IF(Sheet1!C44=\"\",\"\",IF(COUNTIF(F49:V49,\"-1\"),\"ร\",IF(DR49=\"ปกติ\",SUM(F49,G49,H49,I49,J49,K49,L49,M49,N49,O49,P49,Q49,R49,S49,T49,U49,V49,W49,X49,Y49),\"-\")))","v":""},null,"",null,null,null,null,null,null,null,null,null,null,null,null,null,null,null,null,null,null,null,null,{"$f":"IF(Sheet1!C44=\"\",\"\",IF(COUNTIF(AC49:AS49,\"-1\"),\"ร\",IF(DR49=\"ปกติ\",SUM(AC49,AD49,AE49,AF49,AG49,AH49,AI49,AJ49,AK49,AL49,AM49,AN49,AO49,AP49,AQ49,AR49,AS49),\"-\")))","v":""},null,"",null,null,null,null,null,null,null,null,null,null,null,null,null,null,null,{"$f":"IF(Sheet1!C44=\"\",\"\",IF(COUNTIF(AZ49:BN49,\"-1\"),\"ร\",IF(DR49=\"ปกติ\",SUM(AZ49,BA49,BB49,BC49,BD49,BE49,BF49,BG49,BH49,BI49,BJ49,BK49,BL49,BM49,BN49),\"-\")))","v":""},null,"",null,null,null,null,null,null,null,null,null,null,null,null,null,null,null,{"$f":"IF(Sheet1!C44=\"\",\"\",IF(COUNTIF(BR49:CF49,\"-1\"),\"ร\",IF(DR49=\"ปกติ\",SUM(BR49,BS49,BT49,BU49,BV49,BW49,BX49,BY49,BZ49,CA49,CB49,CC49,CD49,CE49,CF49),\"-\")))","v":""},null,{"$f":"IF(CG49=\"\",\"\",IF(CG49=\"-\",\"-\",IF(CG49=\"ร\",\"ร\",IF(CG49=0,\"\",IF($CG$5=0,\"\",ROUND(CG49/$CH$5,0))))))","v":""},null,null,null,null,null,{"$f":"IF(Sheet1!C44=\"\",\"\",IF(CJ49=\"\",\"\",(IF(CK49=\"\",\"\",(IF(CL49=\"\",\"\",(IF(CM49=\"\",\"\",(IF(CN49=\"\",\"\",(SUM(CJ49:CN49))))))))))))","v":""},"","",null,null,null,null,null,null,null,null,"",{"$f":"AB49","v":""},{"$f":"AY49","v":""},{"$f":"BQ49","v":""},null,{"$f":"IF(Sheet1!C44=\"\",\"\",IF(COUNTIF(DA49:DC49,\"ร\"),\"ร\",IF(DC49=\"ร\",\"ร\",IF(DR49=\"ปกติ\",SUM(DA49:DB49,IF(DD49=\"\",DC49,DD49)),\"-\"))))","v":""},null,{"$f":"IF(DR49=\"\",\"\",IF(DR49=\"ปกติ\",IF(CI49=\"\",\"\",(CI49*($D$4/100))),\"\"))","v":""},null,{"$f":"IF(DG49=\"\",\"\",SUM(DG49:DH49))","v":""},null,null,{"$f":"IF(Sheet1!D44=\"\",\"\",IF(DE49=\"\",\"\",IF(COUNTIF(DA49:DJ49,\"ร\"),\"ร\",IF(COUNTIF(DA49:DJ49,\"-\"),\"-\",IF(DR49=\"ปกติ\",SUM(DE49,IF(DJ49=\"\",DI49,DJ49)))))))","v":""},null,null,null,null,null,{"$f":"IF(เวลาเรียน!IP51=\"\",\"\",เวลาเรียน!IP51)","v":""}]
[null,null,{"$f":"CONCATENATE(Sheet1!B45)","v":""},{"$f":"CONCATENATE(Sheet1!C45&Sheet1!D45&\"       \"&Sheet1!E45)","v":"       "},null,null,null,null,null,null,null,null,null,null,null,null,null,null,null,null,null,null,null,null,null,{"$f":"IF(Sheet1!C45=\"\",\"\",IF(COUNTIF(F50:V50,\"-1\"),\"ร\",IF(DR50=\"ปกติ\",SUM(F50,G50,H50,I50,J50,K50,L50,M50,N50,O50,P50,Q50,R50,S50,T50,U50,V50,W50,X50,Y50),\"-\")))","v":""},null,"",null,null,null,null,null,null,null,null,null,null,null,null,null,null,null,null,null,null,null,null,{"$f":"IF(Sheet1!C45=\"\",\"\",IF(COUNTIF(AC50:AS50,\"-1\"),\"ร\",IF(DR50=\"ปกติ\",SUM(AC50,AD50,AE50,AF50,AG50,AH50,AI50,AJ50,AK50,AL50,AM50,AN50,AO50,AP50,AQ50,AR50,AS50),\"-\")))","v":""},null,"",null,null,null,null,null,null,null,null,null,null,null,null,null,null,null,{"$f":"IF(Sheet1!C45=\"\",\"\",IF(COUNTIF(AZ50:BN50,\"-1\"),\"ร\",IF(DR50=\"ปกติ\",SUM(AZ50,BA50,BB50,BC50,BD50,BE50,BF50,BG50,BH50,BI50,BJ50,BK50,BL50,BM50,BN50),\"-\")))","v":""},null,"",null,null,null,null,null,null,null,null,null,null,null,null,null,null,null,{"$f":"IF(Sheet1!C45=\"\",\"\",IF(COUNTIF(BR50:CF50,\"-1\"),\"ร\",IF(DR50=\"ปกติ\",SUM(BR50,BS50,BT50,BU50,BV50,BW50,BX50,BY50,BZ50,CA50,CB50,CC50,CD50,CE50,CF50),\"-\")))","v":""},null,{"$f":"IF(CG50=\"\",\"\",IF(CG50=\"-\",\"-\",IF(CG50=\"ร\",\"ร\",IF(CG50=0,\"\",IF($CG$5=0,\"\",ROUND(CG50/$CH$5,0))))))","v":""},null,null,null,null,null,{"$f":"IF(Sheet1!C45=\"\",\"\",IF(CJ50=\"\",\"\",(IF(CK50=\"\",\"\",(IF(CL50=\"\",\"\",(IF(CM50=\"\",\"\",(IF(CN50=\"\",\"\",(SUM(CJ50:CN50))))))))))))","v":""},"","",null,null,null,null,null,null,null,null,"","","","",null,{"$f":"IF(Sheet1!C45=\"\",\"\",IF(COUNTIF(DA50:DC50,\"ร\"),\"ร\",IF(DC50=\"ร\",\"ร\",IF(DR50=\"ปกติ\",SUM(DA50:DB50,IF(DD50=\"\",DC50,DD50)),\"-\"))))","v":""},null,"",null,"",null,null,{"$f":"IF(Sheet1!D45=\"\",\"\",IF(DE50=\"\",\"\",IF(COUNTIF(DA50:DJ50,\"ร\"),\"ร\",IF(COUNTIF(DA50:DJ50,\"-\"),\"-\",IF(DR50=\"ปกติ\",SUM(DE50,IF(DJ50=\"\",DI50,DJ50)))))))","v":""},null,null,null,null,null,{"$f":"IF(เวลาเรียน!IP52=\"\",\"\",เวลาเรียน!IP52)","v":""}]
[null,null,{"$f":"CONCATENATE(Sheet1!B46)","v":""},{"$f":"CONCATENATE(Sheet1!C46&Sheet1!D46&\"       \"&Sheet1!E46)","v":"       "},null,null,null,null,null,null,null,null,null,null,null,null,null,null,null,null,null,null,null,null,null,{"$f":"IF(Sheet1!C46=\"\",\"\",IF(COUNTIF(F51:V51,\"-1\"),\"ร\",IF(DR51=\"ปกติ\",SUM(F51,G51,H51,I51,J51,K51,L51,M51,N51,O51,P51,Q51,R51,S51,T51,U51,V51,W51,X51,Y51),\"-\")))","v":""},null,"",null,null,null,null,null,null,null,null,null,null,null,null,null,null,null,null,null,null,null,null,{"$f":"IF(Sheet1!C46=\"\",\"\",IF(COUNTIF(AC51:AS51,\"-1\"),\"ร\",IF(DR51=\"ปกติ\",SUM(AC51,AD51,AE51,AF51,AG51,AH51,AI51,AJ51,AK51,AL51,AM51,AN51,AO51,AP51,AQ51,AR51,AS51),\"-\")))","v":""},null,"",null,null,null,null,null,null,null,null,null,null,null,null,null,null,null,{"$f":"IF(Sheet1!C46=\"\",\"\",IF(COUNTIF(AZ51:BN51,\"-1\"),\"ร\",IF(DR51=\"ปกติ\",SUM(AZ51,BA51,BB51,BC51,BD51,BE51,BF51,BG51,BH51,BI51,BJ51,BK51,BL51,BM51,BN51),\"-\")))","v":""},null,"",null,null,null,null,null,null,null,null,null,null,null,null,null,null,null,{"$f":"IF(Sheet1!C46=\"\",\"\",IF(COUNTIF(BR51:CF51,\"-1\"),\"ร\",IF(DR51=\"ปกติ\",SUM(BR51,BS51,BT51,BU51,BV51,BW51,BX51,BY51,BZ51,CA51,CB51,CC51,CD51,CE51,CF51),\"-\")))","v":""},null,"",null,null,null,null,null,{"$f":"IF(Sheet1!C46=\"\",\"\",IF(CJ51=\"\",\"\",(IF(CK51=\"\",\"\",(IF(CL51=\"\",\"\",(IF(CM51=\"\",\"\",(IF(CN51=\"\",\"\",(SUM(CJ51:CN51))))))))))))","v":""},"","",null,null,null,null,null,null,null,null,"","","","",null,{"$f":"IF(Sheet1!C46=\"\",\"\",IF(COUNTIF(DA51:DC51,\"ร\"),\"ร\",IF(DC51=\"ร\",\"ร\",IF(DR51=\"ปกติ\",SUM(DA51:DB51,IF(DD51=\"\",DC51,DD51)),\"-\"))))","v":""},null,"",null,"",null,null,{"$f":"IF(Sheet1!D46=\"\",\"\",IF(DE51=\"\",\"\",IF(COUNTIF(DA51:DJ51,\"ร\"),\"ร\",IF(COUNTIF(DA51:DJ51,\"-\"),\"-\",IF(DR51=\"ปกติ\",SUM(DE51,IF(DJ51=\"\",DI51,DJ51)))))))","v":""},null,null,null,null,null,{"$f":"IF(เวลาเรียน!IP53=\"\",\"\",เวลาเรียน!IP53)","v":""}]
[]
[]
[38,0,{"$f":"CONCATENATE(Sheet1!B49)","v":""},{"$f":"CONCATENATE(Sheet1!C49&Sheet1!D49&\"       \"&Sheet1!E49)","v":"       "},null,null,null,null,null,null,null,null,null,null,null,null,null,null,null,null,null,null,null,null,null,{"$f":"IF(Sheet1!C49=\"\",\"\",IF(COUNTIF(F54:V54,\"-1\"),\"ร\",IF(DR54=\"ปกติ\",SUM(F54,G54,H54,I54,J54,K54,L54,M54,N54,O54,P54,Q54,R54,S54,T54,U54,V54,W54,X54,Y54),\"-\")))","v":""},null,"",null,null,null,null,null,null,null,null,null,null,null,null,null,null,null,null,null,null,null,null,{"$f":"IF(Sheet1!C49=\"\",\"\",IF(COUNTIF(AC54:AS54,\"-1\"),\"ร\",IF(DR54=\"ปกติ\",SUM(AC54,AD54,AE54,AF54,AG54,AH54,AI54,AJ54,AK54,AL54,AM54,AN54,AO54,AP54,AQ54,AR54,AS54),\"-\")))","v":""},null,"",null,null,null,null,null,null,null,null,null,null,null,null,null,null,null,{"$f":"IF(Sheet1!C49=\"\",\"\",IF(COUNTIF(AZ54:BN54,\"-1\"),\"ร\",IF(DR54=\"ปกติ\",SUM(AZ54,BA54,BB54,BC54,BD54,BE54,BF54,BG54,BH54,BI54,BJ54,BK54,BL54,BM54,BN54),\"-\")))","v":""},null,"",null,null,null,null,null,null,null,null,null,null,null,null,null,null,null,{"$f":"IF(Sheet1!C49=\"\",\"\",IF(COUNTIF(BR54:CF54,\"-1\"),\"ร\",IF(DR54=\"ปกติ\",SUM(BR54,BS54,BT54,BU54,BV54,BW54,BX54,BY54,BZ54,CA54,CB54,CC54,CD54,CE54,CF54),\"-\")))","v":""},null,{"$f":"IF(CG54=\"\",\"\",IF(CG54=\"-\",\"-\",IF(CG54=\"ร\",\"ร\",IF(CG54=0,\"\",IF($BO$5=0,\"\",ROUND(CG54/$BP$5,0))))))","v":""},null,null,null,null,null,{"$f":"IF(Sheet1!C49=\"\",\"\",IF(CJ54=\"\",\"\",(IF(CK54=\"\",\"\",(IF(CL54=\"\",\"\",(IF(CM54=\"\",\"\",(IF(CN54=\"\",\"\",(SUM(CJ54:CN54))))))))))))","v":""},"","",null,null,null,null,null,null,null,null,"","","","",null,{"$f":"IF(Sheet1!C49=\"\",\"\",IF(COUNTIF(DA54:DC54,\"ร\"),\"ร\",IF(DC54=\"ร\",\"ร\",IF(DR54=\"ปกติ\",SUM(DA54:DB54,IF(DD54=\"\",DC54,DD54)),\"-\"))))","v":""},null,"",null,"",null,null,{"$f":"IF([3]Sheet1!D49=\"\",\"\",IF(DE54=\"\",\"\",IF(COUNTIF(DA54:DJ54,\"ร\"),\"ร\",IF(COUNTIF(DA54:DJ54,\"-\"),\"-\",IF(DR54=\"ปกติ\",SUM(DE54,IF(DJ54=\"\",DI54,DJ54)))))))","v":""},null,{"$f":"IF(DL54=\"\",\"\",IF(DR54=\"\",\"\",IF(DR54=\"ย้าย\",\"-\",IF(DR54=\"จำหน่าย\",\"-\",IF(DR54=\"ขาดเรียนนาน\",\"-\",IF(เวลาเรียน!IO56<80,\"มส\",IF(DL54=\"ร\",\"ร\",VLOOKUP(DL54,$DT$19:$DV$26,3))))))))","v":""},null,null,null,{"$f":"IF(เวลาเรียน!IP56=\"\",\"\",เวลาเรียน!IP56)","v":""}]
[39,0,{"$f":"CONCATENATE(Sheet1!B50)","v":""},{"$f":"CONCATENATE(Sheet1!C50&Sheet1!D50&\"       \"&Sheet1!E50)","v":"       "},null,null,null,null,null,null,null,null,null,null,null,null,null,null,null,null,null,null,null,null,null,{"$f":"IF(Sheet1!C50=\"\",\"\",IF(COUNTIF(F55:V55,\"-1\"),\"ร\",IF(DR55=\"ปกติ\",SUM(F55,G55,H55,I55,J55,K55,L55,M55,N55,O55,P55,Q55,R55,S55,T55,U55,V55,W55,X55,Y55),\"-\")))","v":""},null,"",null,null,null,null,null,null,null,null,null,null,null,null,null,null,null,null,null,null,null,null,{"$f":"IF(Sheet1!C50=\"\",\"\",IF(COUNTIF(AC55:AS55,\"-1\"),\"ร\",IF(DR55=\"ปกติ\",SUM(AC55,AD55,AE55,AF55,AG55,AH55,AI55,AJ55,AK55,AL55,AM55,AN55,AO55,AP55,AQ55,AR55,AS55),\"-\")))","v":""},null,"",null,null,null,null,null,null,null,null,null,null,null,null,null,null,null,{"$f":"IF(Sheet1!C50=\"\",\"\",IF(COUNTIF(AZ55:BN55,\"-1\"),\"ร\",IF(DR55=\"ปกติ\",SUM(AZ55,BA55,BB55,BC55,BD55,BE55,BF55,BG55,BH55,BI55,BJ55,BK55,BL55,BM55,BN55),\"-\")))","v":""},null,"",null,null,null,null,null,null,null,null,null,null,null,null,null,null,null,{"$f":"IF(Sheet1!C50=\"\",\"\",IF(COUNTIF(BR55:CF55,\"-1\"),\"ร\",IF(DR55=\"ปกติ\",SUM(BR55,BS55,BT55,BU55,BV55,BW55,BX55,BY55,BZ55,CA55,CB55,CC55,CD55,CE55,CF55),\"-\")))","v":""},null,{"$f":"IF(CG55=\"\",\"\",IF(CG55=\"-\",\"-\",IF(CG55=\"ร\",\"ร\",IF(CG55=0,\"\",IF($BO$5=0,\"\",ROUND(CG55/$BP$5,0))))))","v":""},null,null,null,null,null,{"$f":"IF(Sheet1!C50=\"\",\"\",IF(CJ55=\"\",\"\",(IF(CK55=\"\",\"\",(IF(CL55=\"\",\"\",(IF(CM55=\"\",\"\",(IF(CN55=\"\",\"\",(SUM(CJ55:CN55))))))))))))","v":""},"","",null,null,null,null,null,null,null,null,"","","","",null,{"$f":"IF(Sheet1!C50=\"\",\"\",IF(COUNTIF(DA55:DC55,\"ร\"),\"ร\",IF(DC55=\"ร\",\"ร\",IF(DR55=\"ปกติ\",SUM(DA55:DB55,IF(DD55=\"\",DC55,DD55)),\"-\"))))","v":""},null,"",null,"",null,null,{"$f":"IF([3]Sheet1!D50=\"\",\"\",IF(DE55=\"\",\"\",IF(COUNTIF(DA55:DJ55,\"ร\"),\"ร\",IF(COUNTIF(DA55:DJ55,\"-\"),\"-\",IF(DR55=\"ปกติ\",SUM(DE55,IF(DJ55=\"\",DI55,DJ55)))))))","v":""},null,{"$f":"IF(DL55=\"\",\"\",IF(DR55=\"\",\"\",IF(DR55=\"ย้าย\",\"-\",IF(DR55=\"จำหน่าย\",\"-\",IF(DR55=\"ขาดเรียนนาน\",\"-\",IF(เวลาเรียน!IO57<80,\"มส\",IF(DL55=\"ร\",\"ร\",VLOOKUP(DL55,$DT$19:$DV$26,3))))))))","v":""},null,null,null,{"$f":"IF(เวลาเรียน!IP57=\"\",\"\",เวลาเรียน!IP57)","v":""}]
[40,0,{"$f":"CONCATENATE(Sheet1!B51)","v":""},{"$f":"CONCATENATE(Sheet1!C51&Sheet1!D51&\"       \"&Sheet1!E51)","v":"       "},null,null,null,null,null,null,null,null,null,null,null,null,null,null,null,null,null,null,null,null,null,{"$f":"IF(Sheet1!C51=\"\",\"\",IF(COUNTIF(F56:V56,\"-1\"),\"ร\",IF(DR56=\"ปกติ\",SUM(F56,G56,H56,I56,J56,K56,L56,M56,N56,O56,P56,Q56,R56,S56,T56,U56,V56,W56,X56,Y56),\"-\")))","v":""},null,"",null,null,null,null,null,null,null,null,null,null,null,null,null,null,null,null,null,null,null,null,{"$f":"IF(Sheet1!C51=\"\",\"\",IF(COUNTIF(AC56:AS56,\"-1\"),\"ร\",IF(DR56=\"ปกติ\",SUM(AC56,AD56,AE56,AF56,AG56,AH56,AI56,AJ56,AK56,AL56,AM56,AN56,AO56,AP56,AQ56,AR56,AS56),\"-\")))","v":""},null,"",null,null,null,null,null,null,null,null,null,null,null,null,null,null,null,{"$f":"IF(Sheet1!C51=\"\",\"\",IF(COUNTIF(AZ56:BN56,\"-1\"),\"ร\",IF(DR56=\"ปกติ\",SUM(AZ56,BA56,BB56,BC56,BD56,BE56,BF56,BG56,BH56,BI56,BJ56,BK56,BL56,BM56,BN56),\"-\")))","v":""},null,"",null,null,null,null,null,null,null,null,null,null,null,null,null,null,null,{"$f":"IF(Sheet1!C51=\"\",\"\",IF(COUNTIF(BR56:CF56,\"-1\"),\"ร\",IF(DR56=\"ปกติ\",SUM(BR56,BS56,BT56,BU56,BV56,BW56,BX56,BY56,BZ56,CA56,CB56,CC56,CD56,CE56,CF56),\"-\")))","v":""},null,{"$f":"IF(CG56=\"\",\"\",IF(CG56=\"-\",\"-\",IF(CG56=\"ร\",\"ร\",IF(CG56=0,\"\",IF($BO$5=0,\"\",ROUND(CG56/$BP$5,0))))))","v":""},null,null,null,null,null,{"$f":"IF(Sheet1!C51=\"\",\"\",IF(CJ56=\"\",\"\",(IF(CK56=\"\",\"\",(IF(CL56=\"\",\"\",(IF(CM56=\"\",\"\",(IF(CN56=\"\",\"\",(SUM(CJ56:CN56))))))))))))","v":""},"","",null,null,null,null,null,null,null,null,"","","","",null,{"$f":"IF(Sheet1!C51=\"\",\"\",IF(COUNTIF(DA56:DC56,\"ร\"),\"ร\",IF(DC56=\"ร\",\"ร\",IF(DR56=\"ปกติ\",SUM(DA56:DB56,IF(DD56=\"\",DC56,DD56)),\"-\"))))","v":""},null,"",null,"",null,null,{"$f":"IF([3]Sheet1!D51=\"\",\"\",IF(DE56=\"\",\"\",IF(COUNTIF(DA56:DJ56,\"ร\"),\"ร\",IF(COUNTIF(DA56:DJ56,\"-\"),\"-\",IF(DR56=\"ปกติ\",SUM(DE56,IF(DJ56=\"\",DI56,DJ56)))))))","v":""},null,{"$f":"IF(DL56=\"\",\"\",IF(DR56=\"\",\"\",IF(DR56=\"ย้าย\",\"-\",IF(DR56=\"จำหน่าย\",\"-\",IF(DR56=\"ขาดเรียนนาน\",\"-\",IF(เวลาเรียน!IO58<80,\"มส\",IF(DL56=\"ร\",\"ร\",VLOOKUP(DL56,$DT$19:$DV$26,3))))))))","v":""},null,null,null,{"$f":"IF(เวลาเรียน!IP58=\"\",\"\",เวลาเรียน!IP58)","v":""}]
[null,null,{"$f":"กำหนดอัตราส่วนคะแนน!U4","v":50},null,null,null,null,null,null,null,null,null,null,null,null,null,null,null,null,null,null,null,null,null,null,null,null,null,null,null,null,null,null,null,null,null,null,null,null,null,null,null,null,null,null,null,null,null,null,null,null,null,null,null,null,null,null,null,null,null,null,null,null,null,null,null,null,null,null,null,null,null,null,null,null,null,null,null,null,null,null,null,null,null,null,null,null,{"$f":"COUNTIF($CQ$7:$CQ$56,\"3\")","v":0},{"$f":"COUNTIF($CQ$7:$CQ$56,\"2\")","v":0},{"$f":"COUNTIF($CQ$7:$CQ$56,\"1\")","v":0},{"$f":"COUNTIF($CQ$7:$CQ$56,\"0\")","v":0},null,null,null,null,{"$f":"COUNTIF($CZ$7:$CZ$56,\"3\")","v":0},{"$f":"COUNTIF($CZ$7:$CZ$56,\"2\")","v":0},{"$f":"COUNTIF($CZ$7:$CZ$56,\"1\")","v":0},{"$f":"COUNTIF($CZ$7:$CZ$56,\"0\")","v":0},null,null,null,null,null,null,null,null,null,null,null,null,null,null,null,null,null,null,null,null,null,null,null,null,null,null,null,null,null,null,null,null,null,null,null,null,null,null,null,null,null,{"$f":"กำหนดอัตราส่วนคะแนน!FA4","v":0},null,null,null,null,null,null,null,null,null,null,null,null,null,null,null,null,null,null,null,null,null,null,null,null,null,null,null,null,null,null,null,null,null,null,null,null,null,null,null,null,null,null,null,null,null,null,null,null,null,null,null,null,null,null,null,null,null,null,null,null,null,null,null,null,null,null,null,null,null,null,null,null,null,null,null,null,null,null,null,null,null,null,null,null,{"$f":"COUNTIF($CQ$7:$CQ$56,\"3\")","v":0},{"$f":"COUNTIF($CQ$7:$CQ$56,\"2\")","v":0},{"$f":"COUNTIF($CQ$7:$CQ$56,\"1\")","v":0},{"$f":"COUNTIF($CQ$7:$CQ$56,\"0\")","v":0},null,null,null,null,{"$f":"COUNTIF($CZ$7:$CZ$56,\"3\")","v":0},{"$f":"COUNTIF($CZ$7:$CZ$56,\"2\")","v":0},{"$f":"COUNTIF($CZ$7:$CZ$56,\"1\")","v":0},{"$f":"COUNTIF($CZ$7:$CZ$56,\"0\")","v":0}]
[]
[]
[]
[]
[]
[]
[]
[]
[]
[]
[]
[]
[]
[]
[]
[]
[]
[]
[]
[]
[]
[]
[]
[]
[]
[]
[]
[]
[]
[]
[]
[]
[]
[]
[]
[]
[]
[]
[]
[]
[null,"ท 1.1",null,null,"ม.1/1",null,null,null,null,null,null,null,null,null,null,null,null,null,null,null,null,null,null,null,null,null,null,null,null,null,null,null,null,null,null,null,null,null,null,null,null,null,null,null,null,null,null,null,null,null,null,null,null,null,null,null,null,null,null,null,null,null,null,null,null,null,null,null,null,null,null,null,null,null,null,null,null,null,null,null,null,null,null,null,null,null,null,null,null,null,null,null,null,null,null,null,null,null,null,null,null,null,null,null,null,null,null,null,null,null,null,null,null,null,null,null,null,null,null,null,null,null,null,null,null,null,null,null,null,null,null,null,null,null,null,null,null,null,null,null,null,null,"ม.1/1"]
[null,"ท 2.1",null,null,"ม.1/2",null,null,null,null,null,null,null,null,null,null,null,null,null,null,null,null,null,null,null,null,null,null,null,null,null,null,null,null,null,null,null,null,null,null,null,null,null,null,null,null,null,null,null,null,null,null,null,null,null,null,null,null,null,null,null,null,null,null,null,null,null,null,null,null,null,null,null,null,null,null,null,null,null,null,null,null,null,null,null,null,null,null,null,null,null,null,null,null,null,null,null,null,null,null,null,null,null,null,null,null,null,null,null,null,null,null,null,null,null,null,null,null,null,null,null,null,null,null,null,null,null,null,null,null,null,null,null,null,null,null,null,null,null,null,null,null,null,"ม.1/2"]
[null,"ท 3.1",null,null,"ม.1/3",null,null,null,null,null,null,null,null,null,null,null,null,null,null,null,null,null,null,null,null,null,null,null,null,null,null,null,null,null,null,null,null,null,null,null,null,null,null,null,null,null,null,null,null,null,null,null,null,null,null,null,null,null,null,null,null,null,null,null,null,null,null,null,null,null,null,null,null,null,null,null,null,null,null,null,null,null,null,null,null,null,null,null,null,null,null,null,null,null,null,null,null,null,null,null,null,null,null,null,null,null,null,null,null,null,null,null,null,null,null,null,null,null,null,null,null,null,null,null,null,null,null,null,null,null,null,null,null,null,null,null,null,null,null,null,null,null,"ม.1/3"]
[null,"ท 4.1",null,null,"ม.1/4",null,null,null,null,null,null,null,null,null,null,null,null,null,null,null,null,null,null,null,null,null,null,null,null,null,null,null,null,null,null,null,null,null,null,null,null,null,null,null,null,null,null,null,null,null,null,null,null,null,null,null,null,null,null,null,null,null,null,null,null,null,null,null,null,null,null,null,null,null,null,null,null,null,null,null,null,null,null,null,null,null,null,null,null,null,null,null,null,null,null,null,null,null,null,null,null,null,null,null,null,null,null,null,null,null,null,null,null,null,null,null,null,null,null,null,null,null,null,null,null,null,null,null,null,null,null,null,null,null,null,null,null,null,null,null,null,null,"ม.1/4"]
[null,"ท 5.1",null,null,"ม.1/5",null,null,null,null,null,null,null,null,null,null,null,null,null,null,null,null,null,null,null,null,null,null,null,null,null,null,null,null,null,null,null,null,null,null,null,null,null,null,null,null,null,null,null,null,null,null,null,null,null,null,null,null,null,null,null,null,null,null,null,null,null,null,null,null,null,null,null,null,null,null,null,null,null,null,null,null,null,null,null,null,null,null,null,null,null,null,null,null,null,null,null,null,null,null,null,null,null,null,null,null,null,null,null,null,null,null,null,null,null,null,null,null,null,null,null,null,null,null,null,null,null,null,null,null,null,null,null,null,null,null,null,null,null,null,null,null,null,"ม.1/5"]
[null,"ค 1.1",null,null,"ม.1/6",null,null,null,null,null,null,null,null,null,null,null,null,null,null,null,null,null,null,null,null,null,null,null,null,null,null,null,null,null,null,null,null,null,null,null,null,null,null,null,null,null,null,null,null,null,null,null,null,null,null,null,null,null,null,null,null,null,null,null,null,null,null,null,null,null,null,null,null,null,null,null,null,null,null,null,null,null,null,null,null,null,null,null,null,null,null,null,null,null,null,null,null,null,null,null,null,null,null,null,null,null,null,null,null,null,null,null,null,null,null,null,null,null,null,null,null,null,null,null,null,null,null,null,null,null,null,null,null,null,null,null,null,null,null,null,null,null,"ม.1/6"]
[null,"ค 1.2",null,null,"ม.1/7",null,null,null,null,null,null,null,null,null,null,null,null,null,null,null,null,null,null,null,null,null,null,null,null,null,null,null,null,null,null,null,null,null,null,null,null,null,null,null,null,null,null,null,null,null,null,null,null,null,null,null,null,null,null,null,null,null,null,null,null,null,null,null,null,null,null,null,null,null,null,null,null,null,null,null,null,null,null,null,null,null,null,null,null,null,null,null,null,null,null,null,null,null,null,null,null,null,null,null,null,null,null,null,null,null,null,null,null,null,null,null,null,null,null,null,null,null,null,null,null,null,null,null,null,null,null,null,null,null,null,null,null,null,null,null,null,null,"ม.1/7"]
[null,"ค 1.3",null,null,"ม.1/8",null,null,null,null,null,null,null,null,null,null,null,null,null,null,null,null,null,null,null,null,null,null,null,null,null,null,null,null,null,null,null,null,null,null,null,null,null,null,null,null,null,null,null,null,null,null,null,null,null,null,null,null,null,null,null,null,null,null,null,null,null,null,null,null,null,null,null,null,null,null,null,null,null,null,null,null,null,null,null,null,null,null,null,null,null,null,null,null,null,null,null,null,null,null,null,null,null,null,null,null,null,null,null,null,null,null,null,null,null,null,null,null,null,null,null,null,null,null,null,null,null,null,null,null,null,null,null,null,null,null,null,null,null,null,null,null,null,"ม.1/8"]
[null,"ค 1.4",null,null,"ม.1/9",null,null,null,null,null,null,null,null,null,null,null,null,null,null,null,null,null,null,null,null,null,null,null,null,null,null,null,null,null,null,null,null,null,null,null,null,null,null,null,null,null,null,null,null,null,null,null,null,null,null,null,null,null,null,null,null,null,null,null,null,null,null,null,null,null,null,null,null,null,null,null,null,null,null,null,null,null,null,null,null,null,null,null,null,null,null,null,null,null,null,null,null,null,null,null,null,null,null,null,null,null,null,null,null,null,null,null,null,null,null,null,null,null,null,null,null,null,null,null,null,null,null,null,null,null,null,null,null,null,null,null,null,null,null,null,null,null,"ม.1/9"]
[null,"ค 2.1",null,null,"ม.1/10",null,null,null,null,null,null,null,null,null,null,null,null,null,null,null,null,null,null,null,null,null,null,null,null,null,null,null,null,null,null,null,null,null,null,null,null,null,null,null,null,null,null,null,null,null,null,null,null,null,null,null,null,null,null,null,null,null,null,null,null,null,null,null,null,null,null,null,null,null,null,null,null,null,null,null,null,null,null,null,null,null,null,null,null,null,null,null,null,null,null,null,null,null,null,null,null,null,null,null,null,null,null,null,null,null,null,null,null,null,null,null,null,null,null,null,null,null,null,null,null,null,null,null,null,null,null,null,null,null,null,null,null,null,null,null,null,null,"ม.1/10"]
[null,"ค 2.2",null,null,"ม.2/1",null,null,null,null,null,null,null,null,null,null,null,null,null,null,null,null,null,null,null,null,null,null,null,null,null,null,null,null,null,null,null,null,null,null,null,null,null,null,null,null,null,null,null,null,null,null,null,null,null,null,null,null,null,null,null,null,null,null,null,null,null,null,null,null,null,null,null,null,null,null,null,null,null,null,null,null,null,null,null,null,null,null,null,null,null,null,null,null,null,null,null,null,null,null,null,null,null,null,null,null,null,null,null,null,null,null,null,null,null,null,null,null,null,null,null,null,null,null,null,null,null,null,null,null,null,null,null,null,null,null,null,null,null,null,null,null,null,"ม.2/1"]
[null,"ค 3.1",null,null,"ม.2/2",null,null,null,null,null,null,null,null,null,null,null,null,null,null,null,null,null,null,null,null,null,null,null,null,null,null,null,null,null,null,null,null,null,null,null,null,null,null,null,null,null,null,null,null,null,null,null,null,null,null,null,null,null,null,null,null,null,null,null,null,null,null,null,null,null,null,null,null,null,null,null,null,null,null,null,null,null,null,null,null,null,null,null,null,null,null,null,null,null,null,null,null,null,null,null,null,null,null,null,null,null,null,null,null,null,null,null,null,null,null,null,null,null,null,null,null,null,null,null,null,null,null,null,null,null,null,null,null,null,null,null,null,null,null,null,null,null,"ม.2/2"]
[null,"ค 3.2",null,null,"ม.2/3",null,null,null,null,null,null,null,null,null,null,null,null,null,null,null,null,null,null,null,null,null,null,null,null,null,null,null,null,null,null,null,null,null,null,null,null,null,null,null,null,null,null,null,null,null,null,null,null,null,null,null,null,null,null,null,null,null,null,null,null,null,null,null,null,null,null,null,null,null,null,null,null,null,null,null,null,null,null,null,null,null,null,null,null,null,null,null,null,null,null,null,null,null,null,null,null,null,null,null,null,null,null,null,null,null,null,null,null,null,null,null,null,null,null,null,null,null,null,null,null,null,null,null,null,null,null,null,null,null,null,null,null,null,null,null,null,null,"ม.2/3"]
[null,"ค 4.1",null,null,"ม.2/4",null,null,null,null,null,null,null,null,null,null,null,null,null,null,null,null,null,null,null,null,null,null,null,null,null,null,null,null,null,null,null,null,null,null,null,null,null,null,null,null,null,null,null,null,null,null,null,null,null,null,null,null,null,null,null,null,null,null,null,null,null,null,null,null,null,null,null,null,null,null,null,null,null,null,null,null,null,null,null,null,null,null,null,null,null,null,null,null,null,null,null,null,null,null,null,null,null,null,null,null,null,null,null,null,null,null,null,null,null,null,null,null,null,null,null,null,null,null,null,null,null,null,null,null,null,null,null,null,null,null,null,null,null,null,null,null,null,"ม.2/4"]
[null,"ค 4.2",null,null,"ม.2/5",null,null,null,null,null,null,null,null,null,null,null,null,null,null,null,null,null,null,null,null,null,null,null,null,null,null,null,null,null,null,null,null,null,null,null,null,null,null,null,null,null,null,null,null,null,null,null,null,null,null,null,null,null,null,null,null,null,null,null,null,null,null,null,null,null,null,null,null,null,null,null,null,null,null,null,null,null,null,null,null,null,null,null,null,null,null,null,null,null,null,null,null,null,null,null,null,null,null,null,null,null,null,null,null,null,null,null,null,null,null,null,null,null,null,null,null,null,null,null,null,null,null,null,null,null,null,null,null,null,null,null,null,null,null,null,null,null,"ม.2/5"]
[null,"ค 5.1",null,null,"ม.2/6",null,null,null,null,null,null,null,null,null,null,null,null,null,null,null,null,null,null,null,null,null,null,null,null,null,null,null,null,null,null,null,null,null,null,null,null,null,null,null,null,null,null,null,null,null,null,null,null,null,null,null,null,null,null,null,null,null,null,null,null,null,null,null,null,null,null,null,null,null,null,null,null,null,null,null,null,null,null,null,null,null,null,null,null,null,null,null,null,null,null,null,null,null,null,null,null,null,null,null,null,null,null,null,null,null,null,null,null,null,null,null,null,null,null,null,null,null,null,null,null,null,null,null,null,null,null,null,null,null,null,null,null,null,null,null,null,null,"ม.2/6"]
[null,"ค 5.2",null,null,"ม.2/7",null,null,null,null,null,null,null,null,null,null,null,null,null,null,null,null,null,null,null,null,null,null,null,null,null,null,null,null,null,null,null,null,null,null,null,null,null,null,null,null,null,null,null,null,null,null,null,null,null,null,null,null,null,null,null,null,null,null,null,null,null,null,null,null,null,null,null,null,null,null,null,null,null,null,null,null,null,null,null,null,null,null,null,null,null,null,null,null,null,null,null,null,null,null,null,null,null,null,null,null,null,null,null,null,null,null,null,null,null,null,null,null,null,null,null,null,null,null,null,null,null,null,null,null,null,null,null,null,null,null,null,null,null,null,null,null,null,"ม.2/7"]
[null,"ค 5.3",null,null,"ม.2/8",null,null,null,null,null,null,null,null,null,null,null,null,null,null,null,null,null,null,null,null,null,null,null,null,null,null,null,null,null,null,null,null,null,null,null,null,null,null,null,null,null,null,null,null,null,null,null,null,null,null,null,null,null,null,null,null,null,null,null,null,null,null,null,null,null,null,null,null,null,null,null,null,null,null,null,null,null,null,null,null,null,null,null,null,null,null,null,null,null,null,null,null,null,null,null,null,null,null,null,null,null,null,null,null,null,null,null,null,null,null,null,null,null,null,null,null,null,null,null,null,null,null,null,null,null,null,null,null,null,null,null,null,null,null,null,null,null,"ม.2/8"]
[null,"ค 6.1",null,null,"ม.2/9",null,null,null,null,null,null,null,null,null,null,null,null,null,null,null,null,null,null,null,null,null,null,null,null,null,null,null,null,null,null,null,null,null,null,null,null,null,null,null,null,null,null,null,null,null,null,null,null,null,null,null,null,null,null,null,null,null,null,null,null,null,null,null,null,null,null,null,null,null,null,null,null,null,null,null,null,null,null,null,null,null,null,null,null,null,null,null,null,null,null,null,null,null,null,null,null,null,null,null,null,null,null,null,null,null,null,null,null,null,null,null,null,null,null,null,null,null,null,null,null,null,null,null,null,null,null,null,null,null,null,null,null,null,null,null,null,null,"ม.2/9"]
[null,"ว 1.1",null,null,"ม.2/10",null,null,null,null,null,null,null,null,null,null,null,null,null,null,null,null,null,null,null,null,null,null,null,null,null,null,null,null,null,null,null,null,null,null,null,null,null,null,null,null,null,null,null,null,null,null,null,null,null,null,null,null,null,null,null,null,null,null,null,null,null,null,null,null,null,null,null,null,null,null,null,null,null,null,null,null,null,null,null,null,null,null,null,null,null,null,null,null,null,null,null,null,null,null,null,null,null,null,null,null,null,null,null,null,null,null,null,null,null,null,null,null,null,null,null,null,null,null,null,null,null,null,null,null,null,null,null,null,null,null,null,null,null,null,null,null,null,"ม.2/10"]
[null,"ว 1.2",null,null,"ม.3/1",null,null,null,null,null,null,null,null,null,null,null,null,null,null,null,null,null,null,null,null,null,null,null,null,null,null,null,null,null,null,null,null,null,null,null,null,null,null,null,null,null,null,null,null,null,null,null,null,null,null,null,null,null,null,null,null,null,null,null,null,null,null,null,null,null,null,null,null,null,null,null,null,null,null,null,null,null,null,null,null,null,null,null,null,null,null,null,null,null,null,null,null,null,null,null,null,null,null,null,null,null,null,null,null,null,null,null,null,null,null,null,null,null,null,null,null,null,null,null,null,null,null,null,null,null,null,null,null,null,null,null,null,null,null,null,null,null,"ม.3/1"]
[null,"ว 2.1",null,null,"ม.3/2",null,null,null,null,null,null,null,null,null,null,null,null,null,null,null,null,null,null,null,null,null,null,null,null,null,null,null,null,null,null,null,null,null,null,null,null,null,null,null,null,null,null,null,null,null,null,null,null,null,null,null,null,null,null,null,null,null,null,null,null,null,null,null,null,null,null,null,null,null,null,null,null,null,null,null,null,null,null,null,null,null,null,null,null,null,null,null,null,null,null,null,null,null,null,null,null,null,null,null,null,null,null,null,null,null,null,null,null,null,null,null,null,null,null,null,null,null,null,null,null,null,null,null,null,null,null,null,null,null,null,null,null,null,null,null,null,null,"ม.3/2"]
[null,"ว 2.2",null,null,"ม.3/3",null,null,null,null,null,null,null,null,null,null,null,null,null,null,null,null,null,null,null,null,null,null,null,null,null,null,null,null,null,null,null,null,null,null,null,null,null,null,null,null,null,null,null,null,null,null,null,null,null,null,null,null,null,null,null,null,null,null,null,null,null,null,null,null,null,null,null,null,null,null,null,null,null,null,null,null,null,null,null,null,null,null,null,null,null,null,null,null,null,null,null,null,null,null,null,null,null,null,null,null,null,null,null,null,null,null,null,null,null,null,null,null,null,null,null,null,null,null,null,null,null,null,null,null,null,null,null,null,null,null,null,null,null,null,null,null,null,"ม.3/3"]
[null,"ว 3.1",null,null,"ม.3/4",null,null,null,null,null,null,null,null,null,null,null,null,null,null,null,null,null,null,null,null,null,null,null,null,null,null,null,null,null,null,null,null,null,null,null,null,null,null,null,null,null,null,null,null,null,null,null,null,null,null,null,null,null,null,null,null,null,null,null,null,null,null,null,null,null,null,null,null,null,null,null,null,null,null,null,null,null,null,null,null,null,null,null,null,null,null,null,null,null,null,null,null,null,null,null,null,null,null,null,null,null,null,null,null,null,null,null,null,null,null,null,null,null,null,null,null,null,null,null,null,null,null,null,null,null,null,null,null,null,null,null,null,null,null,null,null,null,"ม.3/4"]
[null,"ว 3.2",null,null,"ม.3/5",null,null,null,null,null,null,null,null,null,null,null,null,null,null,null,null,null,null,null,null,null,null,null,null,null,null,null,null,null,null,null,null,null,null,null,null,null,null,null,null,null,null,null,null,null,null,null,null,null,null,null,null,null,null,null,null,null,null,null,null,null,null,null,null,null,null,null,null,null,null,null,null,null,null,null,null,null,null,null,null,null,null,null,null,null,null,null,null,null,null,null,null,null,null,null,null,null,null,null,null,null,null,null,null,null,null,null,null,null,null,null,null,null,null,null,null,null,null,null,null,null,null,null,null,null,null,null,null,null,null,null,null,null,null,null,null,null,"ม.3/5"]
[null,"ว 4.1",null,null,"ม.3/6",null,null,null,null,null,null,null,null,null,null,null,null,null,null,null,null,null,null,null,null,null,null,null,null,null,null,null,null,null,null,null,null,null,null,null,null,null,null,null,null,null,null,null,null,null,null,null,null,null,null,null,null,null,null,null,null,null,null,null,null,null,null,null,null,null,null,null,null,null,null,null,null,null,null,null,null,null,null,null,null,null,null,null,null,null,null,null,null,null,null,null,null,null,null,null,null,null,null,null,null,null,null,null,null,null,null,null,null,null,null,null,null,null,null,null,null,null,null,null,null,null,null,null,null,null,null,null,null,null,null,null,null,null,null,null,null,null,"ม.3/6"]
[null,"ว 4.2",null,null,"ม.3/7",null,null,null,null,null,null,null,null,null,null,null,null,null,null,null,null,null,null,null,null,null,null,null,null,null,null,null,null,null,null,null,null,null,null,null,null,null,null,null,null,null,null,null,null,null,null,null,null,null,null,null,null,null,null,null,null,null,null,null,null,null,null,null,null,null,null,null,null,null,null,null,null,null,null,null,null,null,null,null,null,null,null,null,null,null,null,null,null,null,null,null,null,null,null,null,null,null,null,null,null,null,null,null,null,null,null,null,null,null,null,null,null,null,null,null,null,null,null,null,null,null,null,null,null,null,null,null,null,null,null,null,null,null,null,null,null,null,"ม.3/7"]
[null,"ว 5.1",null,null,"ม.3/8",null,null,null,null,null,null,null,null,null,null,null,null,null,null,null,null,null,null,null,null,null,null,null,null,null,null,null,null,null,null,null,null,null,null,null,null,null,null,null,null,null,null,null,null,null,null,null,null,null,null,null,null,null,null,null,null,null,null,null,null,null,null,null,null,null,null,null,null,null,null,null,null,null,null,null,null,null,null,null,null,null,null,null,null,null,null,null,null,null,null,null,null,null,null,null,null,null,null,null,null,null,null,null,null,null,null,null,null,null,null,null,null,null,null,null,null,null,null,null,null,null,null,null,null,null,null,null,null,null,null,null,null,null,null,null,null,null,"ม.3/8"]
[null,"ว 6.1",null,null,"ม.3/9",null,null,null,null,null,null,null,null,null,null,null,null,null,null,null,null,null,null,null,null,null,null,null,null,null,null,null,null,null,null,null,null,null,null,null,null,null,null,null,null,null,null,null,null,null,null,null,null,null,null,null,null,null,null,null,null,null,null,null,null,null,null,null,null,null,null,null,null,null,null,null,null,null,null,null,null,null,null,null,null,null,null,null,null,null,null,null,null,null,null,null,null,null,null,null,null,null,null,null,null,null,null,null,null,null,null,null,null,null,null,null,null,null,null,null,null,null,null,null,null,null,null,null,null,null,null,null,null,null,null,null,null,null,null,null,null,null,"ม.3/9"]
[null,"ว 7.1",null,null,"ม.3/10",null,null,null,null,null,null,null,null,null,null,null,null,null,null,null,null,null,null,null,null,null,null,null,null,null,null,null,null,null,null,null,null,null,null,null,null,null,null,null,null,null,null,null,null,null,null,null,null,null,null,null,null,null,null,null,null,null,null,null,null,null,null,null,null,null,null,null,null,null,null,null,null,null,null,null,null,null,null,null,null,null,null,null,null,null,null,null,null,null,null,null,null,null,null,null,null,null,null,null,null,null,null,null,null,null,null,null,null,null,null,null,null,null,null,null,null,null,null,null,null,null,null,null,null,null,null,null,null,null,null,null,null,null,null,null,null,null,"ม.3/10"]
[null,"ว 7.2",null,null,"ม.4-6/1",null,null,null,null,null,null,null,null,null,null,null,null,null,null,null,null,null,null,null,null,null,null,null,null,null,null,null,null,null,null,null,null,null,null,null,null,null,null,null,null,null,null,null,null,null,null,null,null,null,null,null,null,null,null,null,null,null,null,null,null,null,null,null,null,null,null,null,null,null,null,null,null,null,null,null,null,null,null,null,null,null,null,null,null,null,null,null,null,null,null,null,null,null,null,null,null,null,null,null,null,null,null,null,null,null,null,null,null,null,null,null,null,null,null,null,null,null,null,null,null,null,null,null,null,null,null,null,null,null,null,null,null,null,null,null,null,null,"ม.4-6/1"]
[null,"ว 8.1",null,null,"ม.4-6/2",null,null,null,null,null,null,null,null,null,null,null,null,null,null,null,null,null,null,null,null,null,null,null,null,null,null,null,null,null,null,null,null,null,null,null,null,null,null,null,null,null,null,null,null,null,null,null,null,null,null,null,null,null,null,null,null,null,null,null,null,null,null,null,null,null,null,null,null,null,null,null,null,null,null,null,null,null,null,null,null,null,null,null,null,null,null,null,null,null,null,null,null,null,null,null,null,null,null,null,null,null,null,null,null,null,null,null,null,null,null,null,null,null,null,null,null,null,null,null,null,null,null,null,null,null,null,null,null,null,null,null,null,null,null,null,null,null,"ม.4-6/2"]
[null,"ส 1.1",null,null,"ม.4-6/3",null,null,null,null,null,null,null,null,null,null,null,null,null,null,null,null,null,null,null,null,null,null,null,null,null,null,null,null,null,null,null,null,null,null,null,null,null,null,null,null,null,null,null,null,null,null,null,null,null,null,null,null,null,null,null,null,null,null,null,null,null,null,null,null,null,null,null,null,null,null,null,null,null,null,null,null,null,null,null,null,null,null,null,null,null,null,null,null,null,null,null,null,null,null,null,null,null,null,null,null,null,null,null,null,null,null,null,null,null,null,null,null,null,null,null,null,null,null,null,null,null,null,null,null,null,null,null,null,null,null,null,null,null,null,null,null,null,"ม.4-6/3"]
[null,"ส 1.2",null,null,"ม.4-6/4",null,null,null,null,null,null,null,null,null,null,null,null,null,null,null,null,null,null,null,null,null,null,null,null,null,null,null,null,null,null,null,null,null,null,null,null,null,null,null,null,null,null,null,null,null,null,null,null,null,null,null,null,null,null,null,null,null,null,null,null,null,null,null,null,null,null,null,null,null,null,null,null,null,null,null,null,null,null,null,null,null,null,null,null,null,null,null,null,null,null,null,null,null,null,null,null,null,null,null,null,null,null,null,null,null,null,null,null,null,null,null,null,null,null,null,null,null,null,null,null,null,null,null,null,null,null,null,null,null,null,null,null,null,null,null,null,null,"ม.4-6/4"]
[null,"ส 2.1",null,null,"ม.4-6/5",null,null,null,null,null,null,null,null,null,null,null,null,null,null,null,null,null,null,null,null,null,null,null,null,null,null,null,null,null,null,null,null,null,null,null,null,null,null,null,null,null,null,null,null,null,null,null,null,null,null,null,null,null,null,null,null,null,null,null,null,null,null,null,null,null,null,null,null,null,null,null,null,null,null,null,null,null,null,null,null,null,null,null,null,null,null,null,null,null,null,null,null,null,null,null,null,null,null,null,null,null,null,null,null,null,null,null,null,null,null,null,null,null,null,null,null,null,null,null,null,null,null,null,null,null,null,null,null,null,null,null,null,null,null,null,null,null,"ม.4-6/5"]
[null,"ส 2.2",null,null,"ม.4-6/6",null,null,null,null,null,null,null,null,null,null,null,null,null,null,null,null,null,null,null,null,null,null,null,null,null,null,null,null,null,null,null,null,null,null,null,null,null,null,null,null,null,null,null,null,null,null,null,null,null,null,null,null,null,null,null,null,null,null,null,null,null,null,null,null,null,null,null,null,null,null,null,null,null,null,null,null,null,null,null,null,null,null,null,null,null,null,null,null,null,null,null,null,null,null,null,null,null,null,null,null,null,null,null,null,null,null,null,null,null,null,null,null,null,null,null,null,null,null,null,null,null,null,null,null,null,null,null,null,null,null,null,null,null,null,null,null,null,"ม.4-6/6"]
[null,"ส 3.1",null,null,"ม.4-6/7",null,null,null,null,null,null,null,null,null,null,null,null,null,null,null,null,null,null,null,null,null,null,null,null,null,null,null,null,null,null,null,null,null,null,null,null,null,null,null,null,null,null,null,null,null,null,null,null,null,null,null,null,null,null,null,null,null,null,null,null,null,null,null,null,null,null,null,null,null,null,null,null,null,null,null,null,null,null,null,null,null,null,null,null,null,null,null,null,null,null,null,null,null,null,null,null,null,null,null,null,null,null,null,null,null,null,null,null,null,null,null,null,null,null,null,null,null,null,null,null,null,null,null,null,null,null,null,null,null,null,null,null,null,null,null,null,null,"ม.4-6/7"]
[null,"ส 3.2",null,null,"ม.4-6/8",null,null,null,null,null,null,null,null,null,null,null,null,null,null,null,null,null,null,null,null,null,null,null,null,null,null,null,null,null,null,null,null,null,null,null,null,null,null,null,null,null,null,null,null,null,null,null,null,null,null,null,null,null,null,null,null,null,null,null,null,null,null,null,null,null,null,null,null,null,null,null,null,null,null,null,null,null,null,null,null,null,null,null,null,null,null,null,null,null,null,null,null,null,null,null,null,null,null,null,null,null,null,null,null,null,null,null,null,null,null,null,null,null,null,null,null,null,null,null,null,null,null,null,null,null,null,null,null,null,null,null,null,null,null,null,null,null,"ม.4-6/8"]
[null,"ส 4.1",null,null,"ม.4-6/9",null,null,null,null,null,null,null,null,null,null,null,null,null,null,null,null,null,null,null,null,null,null,null,null,null,null,null,null,null,null,null,null,null,null,null,null,null,null,null,null,null,null,null,null,null,null,null,null,null,null,null,null,null,null,null,null,null,null,null,null,null,null,null,null,null,null,null,null,null,null,null,null,null,null,null,null,null,null,null,null,null,null,null,null,null,null,null,null,null,null,null,null,null,null,null,null,null,null,null,null,null,null,null,null,null,null,null,null,null,null,null,null,null,null,null,null,null,null,null,null,null,null,null,null,null,null,null,null,null,null,null,null,null,null,null,null,null,"ม.4-6/9"]
[null,"ส 4.2",null,null,"ม.4-6/10",null,null,null,null,null,null,null,null,null,null,null,null,null,null,null,null,null,null,null,null,null,null,null,null,null,null,null,null,null,null,null,null,null,null,null,null,null,null,null,null,null,null,null,null,null,null,null,null,null,null,null,null,null,null,null,null,null,null,null,null,null,null,null,null,null,null,null,null,null,null,null,null,null,null,null,null,null,null,null,null,null,null,null,null,null,null,null,null,null,null,null,null,null,null,null,null,null,null,null,null,null,null,null,null,null,null,null,null,null,null,null,null,null,null,null,null,null,null,null,null,null,null,null,null,null,null,null,null,null,null,null,null,null,null,null,null,null,"ม.4-6/10"]
[null,"ส 4.2",null,null,"ม.4-6/11",null,null,null,null,null,null,null,null,null,null,null,null,null,null,null,null,null,null,null,null,null,null,null,null,null,null,null,null,null,null,null,null,null,null,null,null,null,null,null,null,null,null,null,null,null,null,null,null,null,null,null,null,null,null,null,null,null,null,null,null,null,null,null,null,null,null,null,null,null,null,null,null,null,null,null,null,null,null,null,null,null,null,null,null,null,null,null,null,null,null,null,null,null,null,null,null,null,null,null,null,null,null,null,null,null,null,null,null,null,null,null,null,null,null,null,null,null,null,null,null,null,null,null,null,null,null,null,null,null,null,null,null,null,null,null,null,null,"ม.4-6/11"]
[null,"ส 5.1",null,null,"ม.4-6/12",null,null,null,null,null,null,null,null,null,null,null,null,null,null,null,null,null,null,null,null,null,null,null,null,null,null,null,null,null,null,null,null,null,null,null,null,null,null,null,null,null,null,null,null,null,null,null,null,null,null,null,null,null,null,null,null,null,null,null,null,null,null,null,null,null,null,null,null,null,null,null,null,null,null,null,null,null,null,null,null,null,null,null,null,null,null,null,null,null,null,null,null,null,null,null,null,null,null,null,null,null,null,null,null,null,null,null,null,null,null,null,null,null,null,null,null,null,null,null,null,null,null,null,null,null,null,null,null,null,null,null,null,null,null,null,null,null,"ม.4-6/12"]
[null,"ส 5.2",null,null,"ม.4-6/13",null,null,null,null,null,null,null,null,null,null,null,null,null,null,null,null,null,null,null,null,null,null,null,null,null,null,null,null,null,null,null,null,null,null,null,null,null,null,null,null,null,null,null,null,null,null,null,null,null,null,null,null,null,null,null,null,null,null,null,null,null,null,null,null,null,null,null,null,null,null,null,null,null,null,null,null,null,null,null,null,null,null,null,null,null,null,null,null,null,null,null,null,null,null,null,null,null,null,null,null,null,null,null,null,null,null,null,null,null,null,null,null,null,null,null,null,null,null,null,null,null,null,null,null,null,null,null,null,null,null,null,null,null,null,null,null,null,"ม.4-6/13"]
[null,"พ 1.1",null,null,"ม.4-6/14",null,null,null,null,null,null,null,null,null,null,null,null,null,null,null,null,null,null,null,null,null,null,null,null,null,null,null,null,null,null,null,null,null,null,null,null,null,null,null,null,null,null,null,null,null,null,null,null,null,null,null,null,null,null,null,null,null,null,null,null,null,null,null,null,null,null,null,null,null,null,null,null,null,null,null,null,null,null,null,null,null,null,null,null,null,null,null,null,null,null,null,null,null,null,null,null,null,null,null,null,null,null,null,null,null,null,null,null,null,null,null,null,null,null,null,null,null,null,null,null,null,null,null,null,null,null,null,null,null,null,null,null,null,null,null,null,null,"ม.4-6/14"]
[null,"พ 2.1",null,null,"ม.4-6/15",null,null,null,null,null,null,null,null,null,null,null,null,null,null,null,null,null,null,null,null,null,null,null,null,null,null,null,null,null,null,null,null,null,null,null,null,null,null,null,null,null,null,null,null,null,null,null,null,null,null,null,null,null,null,null,null,null,null,null,null,null,null,null,null,null,null,null,null,null,null,null,null,null,null,null,null,null,null,null,null,null,null,null,null,null,null,null,null,null,null,null,null,null,null,null,null,null,null,null,null,null,null,null,null,null,null,null,null,null,null,null,null,null,null,null,null,null,null,null,null,null,null,null,null,null,null,null,null,null,null,null,null,null,null,null,null,null,"ม.4-6/15"]
[null,"พ 3.1",null,null,"ม.4-6/16",null,null,null,null,null,null,null,null,null,null,null,null,null,null,null,null,null,null,null,null,null,null,null,null,null,null,null,null,null,null,null,null,null,null,null,null,null,null,null,null,null,null,null,null,null,null,null,null,null,null,null,null,null,null,null,null,null,null,null,null,null,null,null,null,null,null,null,null,null,null,null,null,null,null,null,null,null,null,null,null,null,null,null,null,null,null,null,null,null,null,null,null,null,null,null,null,null,null,null,null,null,null,null,null,null,null,null,null,null,null,null,null,null,null,null,null,null,null,null,null,null,null,null,null,null,null,null,null,null,null,null,null,null,null,null,null,null,"ม.4-6/16"]
[null,"พ 3.2",null,null,"ม.4-6/17",null,null,null,null,null,null,null,null,null,null,null,null,null,null,null,null,null,null,null,null,null,null,null,null,null,null,null,null,null,null,null,null,null,null,null,null,null,null,null,null,null,null,null,null,null,null,null,null,null,null,null,null,null,null,null,null,null,null,null,null,null,null,null,null,null,null,null,null,null,null,null,null,null,null,null,null,null,null,null,null,null,null,null,null,null,null,null,null,null,null,null,null,null,null,null,null,null,null,null,null,null,null,null,null,null,null,null,null,null,null,null,null,null,null,null,null,null,null,null,null,null,null,null,null,null,null,null,null,null,null,null,null,null,null,null,null,null,"ม.4-6/17"]
[null,"พ 4.1",null,null,"ม.4-6/18",null,null,null,null,null,null,null,null,null,null,null,null,null,null,null,null,null,null,null,null,null,null,null,null,null,null,null,null,null,null,null,null,null,null,null,null,null,null,null,null,null,null,null,null,null,null,null,null,null,null,null,null,null,null,null,null,null,null,null,null,null,null,null,null,null,null,null,null,null,null,null,null,null,null,null,null,null,null,null,null,null,null,null,null,null,null,null,null,null,null,null,null,null,null,null,null,null,null,null,null,null,null,null,null,null,null,null,null,null,null,null,null,null,null,null,null,null,null,null,null,null,null,null,null,null,null,null,null,null,null,null,null,null,null,null,null,null,"ม.4-6/18"]
[null,"พ 5.1",null,null,"ม.4-6/19",null,null,null,null,null,null,null,null,null,null,null,null,null,null,null,null,null,null,null,null,null,null,null,null,null,null,null,null,null,null,null,null,null,null,null,null,null,null,null,null,null,null,null,null,null,null,null,null,null,null,null,null,null,null,null,null,null,null,null,null,null,null,null,null,null,null,null,null,null,null,null,null,null,null,null,null,null,null,null,null,null,null,null,null,null,null,null,null,null,null,null,null,null,null,null,null,null,null,null,null,null,null,null,null,null,null,null,null,null,null,null,null,null,null,null,null,null,null,null,null,null,null,null,null,null,null,null,null,null,null,null,null,null,null,null,null,null,"ม.4-6/19"]
[null,"ศ. 1.1",null,null,"ม.4-6/20",null,null,null,null,null,null,null,null,null,null,null,null,null,null,null,null,null,null,null,null,null,null,null,null,null,null,null,null,null,null,null,null,null,null,null,null,null,null,null,null,null,null,null,null,null,null,null,null,null,null,null,null,null,null,null,null,null,null,null,null,null,null,null,null,null,null,null,null,null,null,null,null,null,null,null,null,null,null,null,null,null,null,null,null,null,null,null,null,null,null,null,null,null,null,null,null,null,null,null,null,null,null,null,null,null,null,null,null,null,null,null,null,null,null,null,null,null,null,null,null,null,null,null,null,null,null,null,null,null,null,null,null,null,null,null,null,null,"ม.4-6/20"]
[null,"ศ 1.2",null,null,"ม.4-6/21",null,null,null,null,null,null,null,null,null,null,null,null,null,null,null,null,null,null,null,null,null,null,null,null,null,null,null,null,null,null,null,null,null,null,null,null,null,null,null,null,null,null,null,null,null,null,null,null,null,null,null,null,null,null,null,null,null,null,null,null,null,null,null,null,null,null,null,null,null,null,null,null,null,null,null,null,null,null,null,null,null,null,null,null,null,null,null,null,null,null,null,null,null,null,null,null,null,null,null,null,null,null,null,null,null,null,null,null,null,null,null,null,null,null,null,null,null,null,null,null,null,null,null,null,null,null,null,null,null,null,null,null,null,null,null,null,null,"ม.4-6/21"]
[null,"ศ 2.1",null,null,"ม.4-6/22",null,null,null,null,null,null,null,null,null,null,null,null,null,null,null,null,null,null,null,null,null,null,null,null,null,null,null,null,null,null,null,null,null,null,null,null,null,null,null,null,null,null,null,null,null,null,null,null,null,null,null,null,null,null,null,null,null,null,null,null,null,null,null,null,null,null,null,null,null,null,null,null,null,null,null,null,null,null,null,null,null,null,null,null,null,null,null,null,null,null,null,null,null,null,null,null,null,null,null,null,null,null,null,null,null,null,null,null,null,null,null,null,null,null,null,null,null,null,null,null,null,null,null,null,null,null,null,null,null,null,null,null,null,null,null,null,null,"ม.4-6/22"]
[null,"ศ 2.2",null,null,"ม.4-6/23",null,null,null,null,null,null,null,null,null,null,null,null,null,null,null,null,null,null,null,null,null,null,null,null,null,null,null,null,null,null,null,null,null,null,null,null,null,null,null,null,null,null,null,null,null,null,null,null,null,null,null,null,null,null,null,null,null,null,null,null,null,null,null,null,null,null,null,null,null,null,null,null,null,null,null,null,null,null,null,null,null,null,null,null,null,null,null,null,null,null,null,null,null,null,null,null,null,null,null,null,null,null,null,null,null,null,null,null,null,null,null,null,null,null,null,null,null,null,null,null,null,null,null,null,null,null,null,null,null,null,null,null,null,null,null,null,null,"ม.4-6/23"]
[null,"ศ 3.1",null,null,"ม.4-6/24",null,null,null,null,null,null,null,null,null,null,null,null,null,null,null,null,null,null,null,null,null,null,null,null,null,null,null,null,null,null,null,null,null,null,null,null,null,null,null,null,null,null,null,null,null,null,null,null,null,null,null,null,null,null,null,null,null,null,null,null,null,null,null,null,null,null,null,null,null,null,null,null,null,null,null,null,null,null,null,null,null,null,null,null,null,null,null,null,null,null,null,null,null,null,null,null,null,null,null,null,null,null,null,null,null,null,null,null,null,null,null,null,null,null,null,null,null,null,null,null,null,null,null,null,null,null,null,null,null,null,null,null,null,null,null,null,null,"ม.4-6/24"]
[null,"ศ 3.2",null,null,"ม.4-6/25",null,null,null,null,null,null,null,null,null,null,null,null,null,null,null,null,null,null,null,null,null,null,null,null,null,null,null,null,null,null,null,null,null,null,null,null,null,null,null,null,null,null,null,null,null,null,null,null,null,null,null,null,null,null,null,null,null,null,null,null,null,null,null,null,null,null,null,null,null,null,null,null,null,null,null,null,null,null,null,null,null,null,null,null,null,null,null,null,null,null,null,null,null,null,null,null,null,null,null,null,null,null,null,null,null,null,null,null,null,null,null,null,null,null,null,null,null,null,null,null,null,null,null,null,null,null,null,null,null,null,null,null,null,null,null,null,null,"ม.4-6/25"]
[null,"ง 1.1",null,null,"ม.4-6/26",null,null,null,null,null,null,null,null,null,null,null,null,null,null,null,null,null,null,null,null,null,null,null,null,null,null,null,null,null,null,null,null,null,null,null,null,null,null,null,null,null,null,null,null,null,null,null,null,null,null,null,null,null,null,null,null,null,null,null,null,null,null,null,null,null,null,null,null,null,null,null,null,null,null,null,null,null,null,null,null,null,null,null,null,null,null,null,null,null,null,null,null,null,null,null,null,null,null,null,null,null,null,null,null,null,null,null,null,null,null,null,null,null,null,null,null,null,null,null,null,null,null,null,null,null,null,null,null,null,null,null,null,null,null,null,null,null,"ม.4-6/26"]
[null,"ง 2.1",null,null,"ม.4-6/27",null,null,null,null,null,null,null,null,null,null,null,null,null,null,null,null,null,null,null,null,null,null,null,null,null,null,null,null,null,null,null,null,null,null,null,null,null,null,null,null,null,null,null,null,null,null,null,null,null,null,null,null,null,null,null,null,null,null,null,null,null,null,null,null,null,null,null,null,null,null,null,null,null,null,null,null,null,null,null,null,null,null,null,null,null,null,null,null,null,null,null,null,null,null,null,null,null,null,null,null,null,null,null,null,null,null,null,null,null,null,null,null,null,null,null,null,null,null,null,null,null,null,null,null,null,null,null,null,null,null,null,null,null,null,null,null,null,"ม.4-6/27"]
[null,"ง 3.1",null,null,"ม.4-6/28",null,null,null,null,null,null,null,null,null,null,null,null,null,null,null,null,null,null,null,null,null,null,null,null,null,null,null,null,null,null,null,null,null,null,null,null,null,null,null,null,null,null,null,null,null,null,null,null,null,null,null,null,null,null,null,null,null,null,null,null,null,null,null,null,null,null,null,null,null,null,null,null,null,null,null,null,null,null,null,null,null,null,null,null,null,null,null,null,null,null,null,null,null,null,null,null,null,null,null,null,null,null,null,null,null,null,null,null,null,null,null,null,null,null,null,null,null,null,null,null,null,null,null,null,null,null,null,null,null,null,null,null,null,null,null,null,null,"ม.4-6/28"]
[null,"ง 4.1",null,null,"ม.4-6/29",null,null,null,null,null,null,null,null,null,null,null,null,null,null,null,null,null,null,null,null,null,null,null,null,null,null,null,null,null,null,null,null,null,null,null,null,null,null,null,null,null,null,null,null,null,null,null,null,null,null,null,null,null,null,null,null,null,null,null,null,null,null,null,null,null,null,null,null,null,null,null,null,null,null,null,null,null,null,null,null,null,null,null,null,null,null,null,null,null,null,null,null,null,null,null,null,null,null,null,null,null,null,null,null,null,null,null,null,null,null,null,null,null,null,null,null,null,null,null,null,null,null,null,null,null,null,null,null,null,null,null,null,null,null,null,null,null,"ม.4-6/29"]
[null,"ต 1.1",null,null,"ม.4-6/30",null,null,null,null,null,null,null,null,null,null,null,null,null,null,null,null,null,null,null,null,null,null,null,null,null,null,null,null,null,null,null,null,null,null,null,null,null,null,null,null,null,null,null,null,null,null,null,null,null,null,null,null,null,null,null,null,null,null,null,null,null,null,null,null,null,null,null,null,null,null,null,null,null,null,null,null,null,null,null,null,null,null,null,null,null,null,null,null,null,null,null,null,null,null,null,null,null,null,null,null,null,null,null,null,null,null,null,null,null,null,null,null,null,null,null,null,null,null,null,null,null,null,null,null,null,null,null,null,null,null,null,null,null,null,null,null,null,"ม.4-6/30"]
[null,"ต 1.2"]
[null,"ต 1.3"]
[null,"ต 2.1"]
[null,"ต 2.2"]
[null,"ต 3.1"]
[null,"ต 4.1"]
[null,"ต 4.2"]

{"sheet":"ตัดสินผลการเรียน","index":7,"n_rows":58,"n_cols":31,"rows_kept":58,"cut":false,"hidden":false,"merged":[[2,6,6,6],[1,0,1,15],[8,18,9,18],[8,16,8,17],[2,2,5,2],[2,3,5,3],[2,11,6,11],[2,13,6,13],[2,15,6,15],[2,0,6,0],[2,1,6,1],[2,4,5,4],[2,5,6,5]]}
[null,null,null,"สรุปคะแนนรายวิชา ",null,null,null,null,null,null,null,null,null,null,null,"หน้า 21"]
[{"$f":"\"รายวิชา\"&ปก!AA15&ปก!AC15&\" \"&ใบรายชื่อ!$A$4","v":"รายวิชา{{โปรดกรอกข้อมูลรายวิชา}} รายวิชา{{โปรดกรอกข้อมูลรายวิชา}}    รหัสวิชา {{โปรดกรอกรหัสวิชา}}    ปีการศึกษา 2568"}]
["ชื่อ - ชื่อสกุล","เลขที่","คะแนนภาคเรียนที่ 1","คะแนนภาคเรียนที่ 2","รวมคะแนน\nตลอดปีการศึกษา","ระดับผลการเรียน(เกรด)","แก้ไข",null,null,null,null,"สถานะ\nนักเรียน\nปัจจุบัน",null,"การประมินอ่านคิด วิเคราะห์",null,"การประเมินคุณลักษณะฯ"]
[]
[]
[null,null,null,null,null,null,null,"เก็บ",{"$f":"SUM(C7,D7,#REF!,#REF!,#REF!,#REF!,#REF!,#REF!)","v":{"$error":"#REF!"}}]
[null,null,{"$f":"IF(ประเมินตัวชี้วัดเทอม1!DJ6=\"\",\"\",IF(ประเมินตัวชี้วัดเทอม1!DJ6=\"ERROR\",\"ERROR\",IF(ประเมินตัวชี้วัดเทอม1!DJ6<50,\"ERROR\",CONCATENATE(ประเมินตัวชี้วัดเทอม1!DJ6/2))))","v":"50"},{"$f":"IF(ประเมินตัวชี้วัดเทอม2!DL6=\"\",\"\",IF(ประเมินตัวชี้วัดเทอม2!DL6=\"ERROR\",\"ERROR\",IF(ประเมินตัวชี้วัดเทอม2!DL6<50,\"ERROR\",CONCATENATE(ประเมินตัวชี้วัดเทอม2!DL6/2))))","v":"50"},100,null,null,"กลาง",{"$f":"#REF!","v":{"$error":"#REF!"}}]
[{"$f":"CONCATENATE(Sheet1!C2&Sheet1!D2&\"       \"&Sheet1!E2)","v":"เด็กชายวรชิต      ผึ้งบำรุง       "},1,{"$f":"IF(ประเมินตัวชี้วัดเทอม1!DJ7=\"\",\"\",IF(ประเมินตัวชี้วัดเทอม1!DJ7=\"-\",\"-\",IF(ประเมินตัวชี้วัดเทอม1!DJ7=\"ร\",\"ร\",MAXA(ประเมินตัวชี้วัดเทอม1!DJ7/2,ประเมินตัวชี้วัดเทอม1!DL7/2))))","v":0},{"$f":"IF(ประเมินตัวชี้วัดเทอม2!DL7=\"\",\"\",IF(ประเมินตัวชี้วัดเทอม2!DL7=\"-\",\"-\",IF(ประเมินตัวชี้วัดเทอม2!DL7=\"ร\",\"ร\",CONCATENATE(ประเมินตัวชี้วัดเทอม2!DL7/2))))","v":"0"},{"$f":"ROUND((IF([4]เวลาเรียน!M9=\"\",\"\",IF([4]เวลาเรียน!M9=\"ย้าย\",\"-\",IF([4]เวลาเรียน!M9=\"จำหน่าย\",\"-\",IF([4]เวลาเรียน!M9=\"ขาดเรียนนาน\",\"-\",IF(C8=\"มผ\",\"มผ\",IF(D8=\"มผ\",\"มผ\",SUM(C8+D8)))))))),0)","v":0},{"$f":"IF([4]เวลาเรียน!M9=\"\",\"\",IF([4]เวลาเรียน!M9=\"ย้าย\",\"-\",IF([4]เวลาเรียน!M9=\"จำหน่าย\",\"-\",IF([4]เวลาเรียน!M9=\"ขาดเรียนนาน\",\"-\",IF([4]เวลาเรียน!L9<80,\"มส\",IF(COUNTIF(E8,\"มผ\"),0,VLOOKUP(E8,$Q$20:$S$27,3)))))))","v":0},null,"เก็บ+กลาง",{"$f":"#REF!","v":{"$error":"#REF!"}},null,null,{"$f":"IF(เวลาเรียน!IP9=\"\",\"\",เวลาเรียน!IP9)","v":"ปกติ"},null,{"$f":"IF(ประเมินตัวชี้วัดเทอม2!CQ7=\"\",\"\",ประเมินตัวชี้วัดเทอม2!CQ7)","v":""},null,{"$f":"IF(ประเมินตัวชี้วัดเทอม2!CZ7=\"\",\"\",ประเมินตัวชี้วัดเทอม2!CZ7)","v":""}]
[{"$f":"CONCATENATE(Sheet1!C3&Sheet1!D3&\"       \"&Sheet1!E3)","v":"เด็กชายธนกฤต    ธนัชญาปกรณ์       "},2,{"$f":"IF(ประเมินตัวชี้วัดเทอม1!DJ8=\"\",\"\",IF(ประเมินตัวชี้วัดเทอม1!DJ8=\"-\",\"-\",IF(ประเมินตัวชี้วัดเทอม1!DJ8=\"ร\",\"ร\",MAXA(ประเมินตัวชี้วัดเทอม1!DJ8/2,ประเมินตัวชี้วัดเทอม1!DL8/2))))","v":0},{"$f":"IF(ประเมินตัวชี้วัดเทอม2!DL8=\"\",\"\",IF(ประเมินตัวชี้วัดเทอม2!DL8=\"-\",\"-\",IF(ประเมินตัวชี้วัดเทอม2!DL8=\"ร\",\"ร\",CONCATENATE(ประเมินตัวชี้วัดเทอม2!DL8/2))))","v":"0"},{"$f":"ROUND((IF([4]เวลาเรียน!M10=\"\",\"\",IF([4]เวลาเรียน!M10=\"ย้าย\",\"-\",IF([4]เวลาเรียน!M10=\"จำหน่าย\",\"-\",IF([4]เวลาเรียน!M10=\"ขาดเรียนนาน\",\"-\",IF(C9=\"มผ\",\"มผ\",IF(D9=\"มผ\",\"มผ\",SUM(C9+D9)))))))),0)","v":0},{"$f":"IF([4]เวลาเรียน!M10=\"\",\"\",IF([4]เวลาเรียน!M10=\"ย้าย\",\"-\",IF([4]เวลาเรียน!M10=\"จำหน่าย\",\"-\",IF([4]เวลาเรียน!M10=\"ขาดเรียนนาน\",\"-\",IF([4]เวลาเรียน!L10<80,\"มส\",IF(COUNTIF(E9,\"มผ\"),0,VLOOKUP(E9,$Q$20:$S$27,3)))))))","v":0},null,"ปลาย",{"$f":"#REF!","v":{"$error":"#REF!"}},null,null,{"$f":"IF(เวลาเรียน!IP10=\"\",\"\",เวลาเรียน!IP10)","v":"ปกติ"},null,{"$f":"IF(ประเมินตัวชี้วัดเทอม2!CQ8=\"\",\"\",ประเมินตัวชี้วัดเทอม2!CQ8)","v":""},null,{"$f":"IF(ประเมินตัวชี้วัดเทอม2!CZ8=\"\",\"\",ประเมินตัวชี้วัดเทอม2!CZ8)","v":""},"ช่วงคะแนน",null,"เกรด",null,null,4,3.5,3,2.5,2,1.5,1,0,"ร","มส"]
[{"$f":"CONCATENATE(Sheet1!C4&Sheet1!D4&\"       \"&Sheet1!E4)","v":"เด็กชายณภัทร     กำเหนิดศิลป์       "},3,{"$f":"IF(ประเมินตัวชี้วัดเทอม1!DJ9=\"\",\"\",IF(ประเมินตัวชี้วัดเทอม1!DJ9=\"-\",\"-\",IF(ประเมินตัวชี้วัดเทอม1!DJ9=\"ร\",\"ร\",MAXA(ประเมินตัวชี้วัดเทอม1!DJ9/2,ประเมินตัวชี้วัดเทอม1!DL9/2))))","v":0},{"$f":"IF(ประเมินตัวชี้วัดเทอม2!DL9=\"\",\"\",IF(ประเมินตัวชี้วัดเทอม2!DL9=\"-\",\"-\",IF(ประเมินตัวชี้วัดเทอม2!DL9=\"ร\",\"ร\",CONCATENATE(ประเมินตัวชี้วัดเทอม2!DL9/2))))","v":"0"},{"$f":"ROUND((IF([4]เวลาเรียน!M11=\"\",\"\",IF([4]เวลาเรียน!M11=\"ย้าย\",\"-\",IF([4]เวลาเรียน!M11=\"จำหน่าย\",\"-\",IF([4]เวลาเรียน!M11=\"ขาดเรียนนาน\",\"-\",IF(C10=\"มผ\",\"มผ\",IF(D10=\"มผ\",\"มผ\",SUM(C10+D10)))))))),0)","v":0},{"$f":"IF([4]เวลาเรียน!M11=\"\",\"\",IF([4]เวลาเรียน!M11=\"ย้าย\",\"-\",IF([4]เวลาเรียน!M11=\"จำหน่าย\",\"-\",IF([4]เวลาเรียน!M11=\"ขาดเรียนนาน\",\"-\",IF([4]เวลาเรียน!L11<80,\"มส\",IF(COUNTIF(E10,\"มผ\"),0,VLOOKUP(E10,$Q$20:$S$27,3)))))))","v":0},null,"รวม",{"$f":"SUM(I8+I9)","v":{"$error":"#REF!"}},null,null,{"$f":"IF(เวลาเรียน!IP11=\"\",\"\",เวลาเรียน!IP11)","v":"ปกติ"},null,{"$f":"IF(ประเมินตัวชี้วัดเทอม2!CQ9=\"\",\"\",ประเมินตัวชี้วัดเทอม2!CQ9)","v":""},null,{"$f":"IF(ประเมินตัวชี้วัดเทอม2!CZ9=\"\",\"\",ประเมินตัวชี้วัดเทอม2!CZ9)","v":""},"จาก","ถึง",null,null,null,{"$f":"COUNTIF($F$8:$F$57,V9)","v":0},{"$f":"COUNTIF($F$8:$F$57,W9)","v":0},0,0,0,0,0,33,0,0]
[{"$f":"CONCATENATE(Sheet1!C5&Sheet1!D5&\"       \"&Sheet1!E5)","v":"เด็กหญิงณัฐพัชร์   เผือกทิม       "},4,{"$f":"IF(ประเมินตัวชี้วัดเทอม1!DJ10=\"\",\"\",IF(ประเมินตัวชี้วัดเทอม1!DJ10=\"-\",\"-\",IF(ประเมินตัวชี้วัดเทอม1!DJ10=\"ร\",\"ร\",MAXA(ประเมินตัวชี้วัดเทอม1!DJ10/2,ประเมินตัวชี้วัดเทอม1!DL10/2))))","v":0},{"$f":"IF(ประเมินตัวชี้วัดเทอม2!DL10=\"\",\"\",IF(ประเมินตัวชี้วัดเทอม2!DL10=\"-\",\"-\",IF(ประเมินตัวชี้วัดเทอม2!DL10=\"ร\",\"ร\",CONCATENATE(ประเมินตัวชี้วัดเทอม2!DL10/2))))","v":"0"},{"$f":"ROUND((IF([4]เวลาเรียน!M12=\"\",\"\",IF([4]เวลาเรียน!M12=\"ย้าย\",\"-\",IF([4]เวลาเรียน!M12=\"จำหน่าย\",\"-\",IF([4]เวลาเรียน!M12=\"ขาดเรียนนาน\",\"-\",IF(C11=\"มผ\",\"มผ\",IF(D11=\"มผ\",\"มผ\",SUM(C11+D11)))))))),0)","v":0},{"$f":"IF([4]เวลาเรียน!M12=\"\",\"\",IF([4]เวลาเรียน!M12=\"ย้าย\",\"-\",IF([4]เวลาเรียน!M12=\"จำหน่าย\",\"-\",IF([4]เวลาเรียน!M12=\"ขาดเรียนนาน\",\"-\",IF([4]เวลาเรียน!L12<80,\"มส\",IF(COUNTIF(E11,\"มผ\"),0,VLOOKUP(E11,$Q$20:$S$27,3)))))))","v":0},null,null,null,null,null,{"$f":"IF(เวลาเรียน!IP12=\"\",\"\",เวลาเรียน!IP12)","v":"ปกติ"},null,{"$f":"IF(ประเมินตัวชี้วัดเทอม2!CQ10=\"\",\"\",ประเมินตัวชี้วัดเทอม2!CQ10)","v":""},null,{"$f":"IF(ประเมินตัวชี้วัดเทอม2!CZ10=\"\",\"\",ประเมินตัวชี้วัดเทอม2!CZ10)","v":""},0,49,0]
[{"$f":"CONCATENATE(Sheet1!C6&Sheet1!D6&\"       \"&Sheet1!E6)","v":"เด็กหญิงจิรัชยา    ทัศนสวัสดิ์       "},5,{"$f":"IF(ประเมินตัวชี้วัดเทอม1!DJ11=\"\",\"\",IF(ประเมินตัวชี้วัดเทอม1!DJ11=\"-\",\"-\",IF(ประเมินตัวชี้วัดเทอม1!DJ11=\"ร\",\"ร\",MAXA(ประเมินตัวชี้วัดเทอม1!DJ11/2,ประเมินตัวชี้วัดเทอม1!DL11/2))))","v":0},{"$f":"IF(ประเมินตัวชี้วัดเทอม2!DL11=\"\",\"\",IF(ประเมินตัวชี้วัดเทอม2!DL11=\"-\",\"-\",IF(ประเมินตัวชี้วัดเทอม2!DL11=\"ร\",\"ร\",CONCATENATE(ประเมินตัวชี้วัดเทอม2!DL11/2))))","v":"0"},{"$f":"ROUND((IF([4]เวลาเรียน!M13=\"\",\"\",IF([4]เวลาเรียน!M13=\"ย้าย\",\"-\",IF([4]เวลาเรียน!M13=\"จำหน่าย\",\"-\",IF([4]เวลาเรียน!M13=\"ขาดเรียนนาน\",\"-\",IF(C12=\"มผ\",\"มผ\",IF(D12=\"มผ\",\"มผ\",SUM(C12+D12)))))))),0)","v":0},{"$f":"IF([4]เวลาเรียน!M13=\"\",\"\",IF([4]เวลาเรียน!M13=\"ย้าย\",\"-\",IF([4]เวลาเรียน!M13=\"จำหน่าย\",\"-\",IF([4]เวลาเรียน!M13=\"ขาดเรียนนาน\",\"-\",IF([4]เวลาเรียน!L13<80,\"มส\",IF(COUNTIF(E12,\"มผ\"),0,VLOOKUP(E12,$Q$20:$S$27,3)))))))","v":0},null,null,null,null,null,{"$f":"IF(เวลาเรียน!IP13=\"\",\"\",เวลาเรียน!IP13)","v":"ปกติ"},null,{"$f":"IF(ประเมินตัวชี้วัดเทอม2!CQ11=\"\",\"\",ประเมินตัวชี้วัดเทอม2!CQ11)","v":""},null,{"$f":"IF(ประเมินตัวชี้วัดเทอม2!CZ11=\"\",\"\",ประเมินตัวชี้วัดเทอม2!CZ11)","v":""},50,54,1,null,null,null,{"$f":"COUNTIF($N$8:$N$57,\"ดย\")","v":0},null,{"$f":"COUNTIF($P$8:$P$57,\"ดย\")","v":0}]
[{"$f":"CONCATENATE(Sheet1!C7&Sheet1!D7&\"       \"&Sheet1!E7)","v":"เด็กหญิงธันยกานต์  หาญรัตนปิยพร       "},6,{"$f":"IF(ประเมินตัวชี้วัดเทอม1!DJ12=\"\",\"\",IF(ประเมินตัวชี้วัดเทอม1!DJ12=\"-\",\"-\",IF(ประเมินตัวชี้วัดเทอม1!DJ12=\"ร\",\"ร\",MAXA(ประเมินตัวชี้วัดเทอม1!DJ12/2,ประเมินตัวชี้วัดเทอม1!DL12/2))))","v":0},{"$f":"IF(ประเมินตัวชี้วัดเทอม2!DL12=\"\",\"\",IF(ประเมินตัวชี้วัดเทอม2!DL12=\"-\",\"-\",IF(ประเมินตัวชี้วัดเทอม2!DL12=\"ร\",\"ร\",CONCATENATE(ประเมินตัวชี้วัดเทอม2!DL12/2))))","v":"0"},{"$f":"ROUND((IF([4]เวลาเรียน!M14=\"\",\"\",IF([4]เวลาเรียน!M14=\"ย้าย\",\"-\",IF([4]เวลาเรียน!M14=\"จำหน่าย\",\"-\",IF([4]เวลาเรียน!M14=\"ขาดเรียนนาน\",\"-\",IF(C13=\"มผ\",\"มผ\",IF(D13=\"มผ\",\"มผ\",SUM(C13+D13)))))))),0)","v":0},{"$f":"IF([4]เวลาเรียน!M14=\"\",\"\",IF([4]เวลาเรียน!M14=\"ย้าย\",\"-\",IF([4]เวลาเรียน!M14=\"จำหน่าย\",\"-\",IF([4]เวลาเรียน!M14=\"ขาดเรียนนาน\",\"-\",IF([4]เวลาเรียน!L14<80,\"มส\",IF(COUNTIF(E13,\"มผ\"),0,VLOOKUP(E13,$Q$20:$S$27,3)))))))","v":0},null,null,null,null,null,{"$f":"IF(เวลาเรียน!IP14=\"\",\"\",เวลาเรียน!IP14)","v":"ปกติ"},null,{"$f":"IF(ประเมินตัวชี้วัดเทอม2!CQ12=\"\",\"\",ประเมินตัวชี้วัดเทอม2!CQ12)","v":""},null,{"$f":"IF(ประเมินตัวชี้วัดเทอม2!CZ12=\"\",\"\",ประเมินตัวชี้วัดเทอม2!CZ12)","v":""},55,59,1.5,null,null,null,{"$f":"COUNTIF($N$8:$N$57,\"ด\")","v":0},null,{"$f":"COUNTIF($P$8:$P$57,\"ด\")","v":0}]
[{"$f":"CONCATENATE(Sheet1!C8&Sheet1!D8&\"       \"&Sheet1!E8)","v":"เด็กหญิงกสิณา      ชูเมือง       "},7,{"$f":"IF(ประเมินตัวชี้วัดเทอม1!DJ13=\"\",\"\",IF(ประเมินตัวชี้วัดเทอม1!DJ13=\"-\",\"-\",IF(ประเมินตัวชี้วัดเทอม1!DJ13=\"ร\",\"ร\",MAXA(ประเมินตัวชี้วัดเทอม1!DJ13/2,ประเมินตัวชี้วัดเทอม1!DL13/2))))","v":0},{"$f":"IF(ประเมินตัวชี้วัดเทอม2!DL13=\"\",\"\",IF(ประเมินตัวชี้วัดเทอม2!DL13=\"-\",\"-\",IF(ประเมินตัวชี้วัดเทอม2!DL13=\"ร\",\"ร\",CONCATENATE(ประเมินตัวชี้วัดเทอม2!DL13/2))))","v":"0"},{"$f":"ROUND((IF([4]เวลาเรียน!M15=\"\",\"\",IF([4]เวลาเรียน!M15=\"ย้าย\",\"-\",IF([4]เวลาเรียน!M15=\"จำหน่าย\",\"-\",IF([4]เวลาเรียน!M15=\"ขาดเรียนนาน\",\"-\",IF(C14=\"มผ\",\"มผ\",IF(D14=\"มผ\",\"มผ\",SUM(C14+D14)))))))),0)","v":0},{"$f":"IF([4]เวลาเรียน!M15=\"\",\"\",IF([4]เวลาเรียน!M15=\"ย้าย\",\"-\",IF([4]เวลาเรียน!M15=\"จำหน่าย\",\"-\",IF([4]เวลาเรียน!M15=\"ขาดเรียนนาน\",\"-\",IF([4]เวลาเรียน!L15<80,\"มส\",IF(COUNTIF(E14,\"มผ\"),0,VLOOKUP(E14,$Q$20:$S$27,3)))))))","v":0},null,null,null,null,null,{"$f":"IF(เวลาเรียน!IP15=\"\",\"\",เวลาเรียน!IP15)","v":"ปกติ"},null,{"$f":"IF(ประเมินตัวชี้วัดเทอม2!CQ13=\"\",\"\",ประเมินตัวชี้วัดเทอม2!CQ13)","v":""},null,{"$f":"IF(ประเมินตัวชี้วัดเทอม2!CZ13=\"\",\"\",ประเมินตัวชี้วัดเทอม2!CZ13)","v":""},60,64,2,null,null,null,{"$f":"COUNTIF($N$8:$N$57,\"ผ\")","v":0},null,{"$f":"COUNTIF($P$8:$P$57,\"ผ\")","v":0}]
[{"$f":"CONCATENATE(Sheet1!C9&Sheet1!D9&\"       \"&Sheet1!E9)","v":"เด็กหญิงกานต์สิตา  รัตนโชติ       "},8,{"$f":"IF(ประเมินตัวชี้วัดเทอม1!DJ14=\"\",\"\",IF(ประเมินตัวชี้วัดเทอม1!DJ14=\"-\",\"-\",IF(ประเมินตัวชี้วัดเทอม1!DJ14=\"ร\",\"ร\",MAXA(ประเมินตัวชี้วัดเทอม1!DJ14/2,ประเมินตัวชี้วัดเทอม1!DL14/2))))","v":0},{"$f":"IF(ประเมินตัวชี้วัดเทอม2!DL14=\"\",\"\",IF(ประเมินตัวชี้วัดเทอม2!DL14=\"-\",\"-\",IF(ประเมินตัวชี้วัดเทอม2!DL14=\"ร\",\"ร\",CONCATENATE(ประเมินตัวชี้วัดเทอม2!DL14/2))))","v":"0"},{"$f":"ROUND((IF([4]เวลาเรียน!M16=\"\",\"\",IF([4]เวลาเรียน!M16=\"ย้าย\",\"-\",IF([4]เวลาเรียน!M16=\"จำหน่าย\",\"-\",IF([4]เวลาเรียน!M16=\"ขาดเรียนนาน\",\"-\",IF(C15=\"มผ\",\"มผ\",IF(D15=\"มผ\",\"มผ\",SUM(C15+D15)))))))),0)","v":0},{"$f":"IF([4]เวลาเรียน!M16=\"\",\"\",IF([4]เวลาเรียน!M16=\"ย้าย\",\"-\",IF([4]เวลาเรียน!M16=\"จำหน่าย\",\"-\",IF([4]เวลาเรียน!M16=\"ขาดเรียนนาน\",\"-\",IF([4]เวลาเรียน!L16<80,\"มส\",IF(COUNTIF(E15,\"มผ\"),0,VLOOKUP(E15,$Q$20:$S$27,3)))))))","v":0},null,null,null,null,null,{"$f":"IF(เวลาเรียน!IP16=\"\",\"\",เวลาเรียน!IP16)","v":"ปกติ"},null,{"$f":"IF(ประเมินตัวชี้วัดเทอม2!CQ14=\"\",\"\",ประเมินตัวชี้วัดเทอม2!CQ14)","v":""},null,{"$f":"IF(ประเมินตัวชี้วัดเทอม2!CZ14=\"\",\"\",ประเมินตัวชี้วัดเทอม2!CZ14)","v":""},65,69,2.5,null,null,null,{"$f":"COUNTIF($N$8:$N$57,\"มผ\")","v":0},null,{"$f":"COUNTIF($P$8:$P$57,\"มผ\")","v":0}]
[{"$f":"CONCATENATE(Sheet1!C10&Sheet1!D10&\"       \"&Sheet1!E10)","v":"เด็กหญิงธัญพร      แก้วอินทร์       "},9,{"$f":"IF(ประเมินตัวชี้วัดเทอม1!DJ15=\"\",\"\",IF(ประเมินตัวชี้วัดเทอม1!DJ15=\"-\",\"-\",IF(ประเมินตัวชี้วัดเทอม1!DJ15=\"ร\",\"ร\",MAXA(ประเมินตัวชี้วัดเทอม1!DJ15/2,ประเมินตัวชี้วัดเทอม1!DL15/2))))","v":0},{"$f":"IF(ประเมินตัวชี้วัดเทอม2!DL15=\"\",\"\",IF(ประเมินตัวชี้วัดเทอม2!DL15=\"-\",\"-\",IF(ประเมินตัวชี้วัดเทอม2!DL15=\"ร\",\"ร\",CONCATENATE(ประเมินตัวชี้วัดเทอม2!DL15/2))))","v":"0"},{"$f":"ROUND((IF([4]เวลาเรียน!M17=\"\",\"\",IF([4]เวลาเรียน!M17=\"ย้าย\",\"-\",IF([4]เวลาเรียน!M17=\"จำหน่าย\",\"-\",IF([4]เวลาเรียน!M17=\"ขาดเรียนนาน\",\"-\",IF(C16=\"มผ\",\"มผ\",IF(D16=\"มผ\",\"มผ\",SUM(C16+D16)))))))),0)","v":0},{"$f":"IF([4]เวลาเรียน!M17=\"\",\"\",IF([4]เวลาเรียน!M17=\"ย้าย\",\"-\",IF([4]เวลาเรียน!M17=\"จำหน่าย\",\"-\",IF([4]เวลาเรียน!M17=\"ขาดเรียนนาน\",\"-\",IF([4]เวลาเรียน!L17<80,\"มส\",IF(COUNTIF(E16,\"มผ\"),0,VLOOKUP(E16,$Q$20:$S$27,3)))))))","v":0},null,null,null,null,null,{"$f":"IF(เวลาเรียน!IP17=\"\",\"\",เวลาเรียน!IP17)","v":"ปกติ"},null,{"$f":"IF(ประเมินตัวชี้วัดเทอม2!CQ15=\"\",\"\",ประเมินตัวชี้วัดเทอม2!CQ15)","v":""},null,{"$f":"IF(ประเมินตัวชี้วัดเทอม2!CZ15=\"\",\"\",ประเมินตัวชี้วัดเทอม2!CZ15)","v":""},70,74,3]
[{"$f":"CONCATENATE(Sheet1!C11&Sheet1!D11&\"       \"&Sheet1!E11)","v":"เด็กหญิงกชพร       คล้ายอุดม       "},10,{"$f":"IF(ประเมินตัวชี้วัดเทอม1!DJ16=\"\",\"\",IF(ประเมินตัวชี้วัดเทอม1!DJ16=\"-\",\"-\",IF(ประเมินตัวชี้วัดเทอม1!DJ16=\"ร\",\"ร\",MAXA(ประเมินตัวชี้วัดเทอม1!DJ16/2,ประเมินตัวชี้วัดเทอม1!DL16/2))))","v":0},{"$f":"IF(ประเมินตัวชี้วัดเทอม2!DL16=\"\",\"\",IF(ประเมินตัวชี้วัดเทอม2!DL16=\"-\",\"-\",IF(ประเมินตัวชี้วัดเทอม2!DL16=\"ร\",\"ร\",CONCATENATE(ประเมินตัวชี้วัดเทอม2!DL16/2))))","v":"0"},{"$f":"ROUND((IF([4]เวลาเรียน!M18=\"\",\"\",IF([4]เวลาเรียน!M18=\"ย้าย\",\"-\",IF([4]เวลาเรียน!M18=\"จำหน่าย\",\"-\",IF([4]เวลาเรียน!M18=\"ขาดเรียนนาน\",\"-\",IF(C17=\"มผ\",\"มผ\",IF(D17=\"มผ\",\"มผ\",SUM(C17+D17)))))))),0)","v":0},{"$f":"IF([4]เวลาเรียน!M18=\"\",\"\",IF([4]เวลาเรียน!M18=\"ย้าย\",\"-\",IF([4]เวลาเรียน!M18=\"จำหน่าย\",\"-\",IF([4]เวลาเรียน!M18=\"ขาดเรียนนาน\",\"-\",IF([4]เวลาเรียน!L18<80,\"มส\",IF(COUNTIF(E17,\"มผ\"),0,VLOOKUP(E17,$Q$20:$S$27,3)))))))","v":0},null,null,null,null,null,{"$f":"IF(เวลาเรียน!IP18=\"\",\"\",เวลาเรียน!IP18)","v":"ปกติ"},null,{"$f":"IF(ประเมินตัวชี้วัดเทอม2!CQ16=\"\",\"\",ประเมินตัวชี้วัดเทอม2!CQ16)","v":""},null,{"$f":"IF(ประเมินตัวชี้วัดเทอม2!CZ16=\"\",\"\",ประเมินตัวชี้วัดเทอม2!CZ16)","v":""},75,79,3.5]
[{"$f":"CONCATENATE(Sheet1!C12&Sheet1!D12&\"       \"&Sheet1!E12)","v":"เด็กชายธรณ์ธันย์    อิสรา       "},11,{"$f":"IF(ประเมินตัวชี้วัดเทอม1!DJ17=\"\",\"\",IF(ประเมินตัวชี้วัดเทอม1!DJ17=\"-\",\"-\",IF(ประเมินตัวชี้วัดเทอม1!DJ17=\"ร\",\"ร\",MAXA(ประเมินตัวชี้วัดเทอม1!DJ17/2,ประเมินตัวชี้วัดเทอม1!DL17/2))))","v":0},{"$f":"IF(ประเมินตัวชี้วัดเทอม2!DL17=\"\",\"\",IF(ประเมินตัวชี้วัดเทอม2!DL17=\"-\",\"-\",IF(ประเมินตัวชี้วัดเทอม2!DL17=\"ร\",\"ร\",CONCATENATE(ประเมินตัวชี้วัดเทอม2!DL17/2))))","v":"0"},{"$f":"ROUND((IF([4]เวลาเรียน!M19=\"\",\"\",IF([4]เวลาเรียน!M19=\"ย้าย\",\"-\",IF([4]เวลาเรียน!M19=\"จำหน่าย\",\"-\",IF([4]เวลาเรียน!M19=\"ขาดเรียนนาน\",\"-\",IF(C18=\"มผ\",\"มผ\",IF(D18=\"มผ\",\"มผ\",SUM(C18+D18)))))))),0)","v":0},{"$f":"IF([4]เวลาเรียน!M19=\"\",\"\",IF([4]เวลาเรียน!M19=\"ย้าย\",\"-\",IF([4]เวลาเรียน!M19=\"จำหน่าย\",\"-\",IF([4]เวลาเรียน!M19=\"ขาดเรียนนาน\",\"-\",IF([4]เวลาเรียน!L19<80,\"มส\",IF(COUNTIF(E18,\"มผ\"),0,VLOOKUP(E18,$Q$20:$S$27,3)))))))","v":0},null,null,null,null,null,{"$f":"IF(เวลาเรียน!IP19=\"\",\"\",เวลาเรียน!IP19)","v":"ปกติ"},null,{"$f":"IF(ประเมินตัวชี้วัดเทอม2!CQ17=\"\",\"\",ประเมินตัวชี้วัดเทอม2!CQ17)","v":""},null,{"$f":"IF(ประเมินตัวชี้วัดเทอม2!CZ17=\"\",\"\",ประเมินตัวชี้วัดเทอม2!CZ17)","v":""},80,100,4]
[{"$f":"CONCATENATE(Sheet1!C13&Sheet1!D13&\"       \"&Sheet1!E13)","v":"เด็กหญิงกัลยรัตน์   สารเทพ        "},12,{"$f":"IF(ประเมินตัวชี้วัดเทอม1!DJ18=\"\",\"\",IF(ประเมินตัวชี้วัดเทอม1!DJ18=\"-\",\"-\",IF(ประเมินตัวชี้วัดเทอม1!DJ18=\"ร\",\"ร\",MAXA(ประเมินตัวชี้วัดเทอม1!DJ18/2,ประเมินตัวชี้วัดเทอม1!DL18/2))))","v":0},{"$f":"IF(ประเมินตัวชี้วัดเทอม2!DL18=\"\",\"\",IF(ประเมินตัวชี้วัดเทอม2!DL18=\"-\",\"-\",IF(ประเมินตัวชี้วัดเทอม2!DL18=\"ร\",\"ร\",CONCATENATE(ประเมินตัวชี้วัดเทอม2!DL18/2))))","v":"0"},{"$f":"ROUND((IF([4]เวลาเรียน!M20=\"\",\"\",IF([4]เวลาเรียน!M20=\"ย้าย\",\"-\",IF([4]เวลาเรียน!M20=\"จำหน่าย\",\"-\",IF([4]เวลาเรียน!M20=\"ขาดเรียนนาน\",\"-\",IF(C19=\"มผ\",\"มผ\",IF(D19=\"มผ\",\"มผ\",SUM(C19+D19)))))))),0)","v":0},{"$f":"IF([4]เวลาเรียน!M20=\"\",\"\",IF([4]เวลาเรียน!M20=\"ย้าย\",\"-\",IF([4]เวลาเรียน!M20=\"จำหน่าย\",\"-\",IF([4]เวลาเรียน!M20=\"ขาดเรียนนาน\",\"-\",IF([4]เวลาเรียน!L20<80,\"มส\",IF(COUNTIF(E19,\"มผ\"),0,VLOOKUP(E19,$Q$20:$S$27,3)))))))","v":0},null,null,null,null,null,{"$f":"IF(เวลาเรียน!IP20=\"\",\"\",เวลาเรียน!IP20)","v":"ปกติ"},null,{"$f":"IF(ประเมินตัวชี้วัดเทอม2!CQ18=\"\",\"\",ประเมินตัวชี้วัดเทอม2!CQ18)","v":""},null,{"$f":"IF(ประเมินตัวชี้วัดเทอม2!CZ18=\"\",\"\",ประเมินตัวชี้วัดเทอม2!CZ18)","v":""}]
[{"$f":"CONCATENATE(Sheet1!C14&Sheet1!D14&\"       \"&Sheet1!E14)","v":"เด็กหญิงเขมิกา     ปลื้มใจ        "},13,{"$f":"IF(ประเมินตัวชี้วัดเทอม1!DJ19=\"\",\"\",IF(ประเมินตัวชี้วัดเทอม1!DJ19=\"-\",\"-\",IF(ประเมินตัวชี้วัดเทอม1!DJ19=\"ร\",\"ร\",MAXA(ประเมินตัวชี้วัดเทอม1!DJ19/2,ประเมินตัวชี้วัดเทอม1!DL19/2))))","v":0},{"$f":"IF(ประเมินตัวชี้วัดเทอม2!DL19=\"\",\"\",IF(ประเมินตัวชี้วัดเทอม2!DL19=\"-\",\"-\",IF(ประเมินตัวชี้วัดเทอม2!DL19=\"ร\",\"ร\",CONCATENATE(ประเมินตัวชี้วัดเทอม2!DL19/2))))","v":"0"},{"$f":"ROUND((IF([4]เวลาเรียน!M21=\"\",\"\",IF([4]เวลาเรียน!M21=\"ย้าย\",\"-\",IF([4]เวลาเรียน!M21=\"จำหน่าย\",\"-\",IF([4]เวลาเรียน!M21=\"ขาดเรียนนาน\",\"-\",IF(C20=\"มผ\",\"มผ\",IF(D20=\"มผ\",\"มผ\",SUM(C20+D20)))))))),0)","v":0},{"$f":"IF([4]เวลาเรียน!M21=\"\",\"\",IF([4]เวลาเรียน!M21=\"ย้าย\",\"-\",IF([4]เวลาเรียน!M21=\"จำหน่าย\",\"-\",IF([4]เวลาเรียน!M21=\"ขาดเรียนนาน\",\"-\",IF([4]เวลาเรียน!L21<80,\"มส\",IF(COUNTIF(E20,\"มผ\"),0,VLOOKUP(E20,$Q$20:$S$27,3)))))))","v":0},null,null,null,null,null,{"$f":"IF(เวลาเรียน!IP21=\"\",\"\",เวลาเรียน!IP21)","v":"ปกติ"},null,{"$f":"IF(ประเมินตัวชี้วัดเทอม2!CQ19=\"\",\"\",ประเมินตัวชี้วัดเทอม2!CQ19)","v":""},null,{"$f":"IF(ประเมินตัวชี้วัดเทอม2!CZ19=\"\",\"\",ประเมินตัวชี้วัดเทอม2!CZ19)","v":""},0,50,0]
[{"$f":"CONCATENATE(Sheet1!C15&Sheet1!D15&\"       \"&Sheet1!E15)","v":"เด็กชายกวินท์      นาคสวัสดิ์       "},14,{"$f":"IF(ประเมินตัวชี้วัดเทอม1!DJ20=\"\",\"\",IF(ประเมินตัวชี้วัดเทอม1!DJ20=\"-\",\"-\",IF(ประเมินตัวชี้วัดเทอม1!DJ20=\"ร\",\"ร\",MAXA(ประเมินตัวชี้วัดเทอม1!DJ20/2,ประเมินตัวชี้วัดเทอม1!DL20/2))))","v":0},{"$f":"IF(ประเมินตัวชี้วัดเทอม2!DL20=\"\",\"\",IF(ประเมินตัวชี้วัดเทอม2!DL20=\"-\",\"-\",IF(ประเมินตัวชี้วัดเทอม2!DL20=\"ร\",\"ร\",CONCATENATE(ประเมินตัวชี้วัดเทอม2!DL20/2))))","v":"0"},{"$f":"ROUND((IF([4]เวลาเรียน!M22=\"\",\"\",IF([4]เวลาเรียน!M22=\"ย้าย\",\"-\",IF([4]เวลาเรียน!M22=\"จำหน่าย\",\"-\",IF([4]เวลาเรียน!M22=\"ขาดเรียนนาน\",\"-\",IF(C21=\"มผ\",\"มผ\",IF(D21=\"มผ\",\"มผ\",SUM(C21+D21)))))))),0)","v":0},{"$f":"IF([4]เวลาเรียน!M22=\"\",\"\",IF([4]เวลาเรียน!M22=\"ย้าย\",\"-\",IF([4]เวลาเรียน!M22=\"จำหน่าย\",\"-\",IF([4]เวลาเรียน!M22=\"ขาดเรียนนาน\",\"-\",IF([4]เวลาเรียน!L22<80,\"มส\",IF(COUNTIF(E21,\"มผ\"),0,VLOOKUP(E21,$Q$20:$S$27,3)))))))","v":0},null,null,null,null,null,{"$f":"IF(เวลาเรียน!IP22=\"\",\"\",เวลาเรียน!IP22)","v":"ปกติ"},null,{"$f":"IF(ประเมินตัวชี้วัดเทอม2!CQ20=\"\",\"\",ประเมินตัวชี้วัดเทอม2!CQ20)","v":""},null,{"$f":"IF(ประเมินตัวชี้วัดเทอม2!CZ20=\"\",\"\",ประเมินตัวชี้วัดเทอม2!CZ20)","v":""},50,55,1]
[{"$f":"CONCATENATE(Sheet1!C16&Sheet1!D16&\"       \"&Sheet1!E16)","v":"เด็กชายอธินันท์    บัวเพชร       "},15,{"$f":"IF(ประเมินตัวชี้วัดเทอม1!DJ21=\"\",\"\",IF(ประเมินตัวชี้วัดเทอม1!DJ21=\"-\",\"-\",IF(ประเมินตัวชี้วัดเทอม1!DJ21=\"ร\",\"ร\",MAXA(ประเมินตัวชี้วัดเทอม1!DJ21/2,ประเมินตัวชี้วัดเทอม1!DL21/2))))","v":0},{"$f":"IF(ประเมินตัวชี้วัดเทอม2!DL21=\"\",\"\",IF(ประเมินตัวชี้วัดเทอม2!DL21=\"-\",\"-\",IF(ประเมินตัวชี้วัดเทอม2!DL21=\"ร\",\"ร\",CONCATENATE(ประเมินตัวชี้วัดเทอม2!DL21/2))))","v":"0"},{"$f":"ROUND((IF([4]เวลาเรียน!M23=\"\",\"\",IF([4]เวลาเรียน!M23=\"ย้าย\",\"-\",IF([4]เวลาเรียน!M23=\"จำหน่าย\",\"-\",IF([4]เวลาเรียน!M23=\"ขาดเรียนนาน\",\"-\",IF(C22=\"มผ\",\"มผ\",IF(D22=\"มผ\",\"มผ\",SUM(C22+D22)))))))),0)","v":0},{"$f":"IF([4]เวลาเรียน!M23=\"\",\"\",IF([4]เวลาเรียน!M23=\"ย้าย\",\"-\",IF([4]เวลาเรียน!M23=\"จำหน่าย\",\"-\",IF([4]เวลาเรียน!M23=\"ขาดเรียนนาน\",\"-\",IF([4]เวลาเรียน!L23<80,\"มส\",IF(COUNTIF(E22,\"มผ\"),0,VLOOKUP(E22,$Q$20:$S$27,3)))))))","v":0},null,null,null,null,null,{"$f":"IF(เวลาเรียน!IP23=\"\",\"\",เวลาเรียน!IP23)","v":"ปกติ"},null,{"$f":"IF(ประเมินตัวชี้วัดเทอม2!CQ21=\"\",\"\",ประเมินตัวชี้วัดเทอม2!CQ21)","v":""},null,{"$f":"IF(ประเมินตัวชี้วัดเทอม2!CZ21=\"\",\"\",ประเมินตัวชี้วัดเทอม2!CZ21)","v":""},55,60,1.5]
[{"$f":"CONCATENATE(Sheet1!C17&Sheet1!D17&\"       \"&Sheet1!E17)","v":"เด็กชายปวริศร์     สันตะโร       "},16,{"$f":"IF(ประเมินตัวชี้วัดเทอม1!DJ22=\"\",\"\",IF(ประเมินตัวชี้วัดเทอม1!DJ22=\"-\",\"-\",IF(ประเมินตัวชี้วัดเทอม1!DJ22=\"ร\",\"ร\",MAXA(ประเมินตัวชี้วัดเทอม1!DJ22/2,ประเมินตัวชี้วัดเทอม1!DL22/2))))","v":0},{"$f":"IF(ประเมินตัวชี้วัดเทอม2!DL22=\"\",\"\",IF(ประเมินตัวชี้วัดเทอม2!DL22=\"-\",\"-\",IF(ประเมินตัวชี้วัดเทอม2!DL22=\"ร\",\"ร\",CONCATENATE(ประเมินตัวชี้วัดเทอม2!DL22/2))))","v":"0"},{"$f":"ROUND((IF([4]เวลาเรียน!M24=\"\",\"\",IF([4]เวลาเรียน!M24=\"ย้าย\",\"-\",IF([4]เวลาเรียน!M24=\"จำหน่าย\",\"-\",IF([4]เวลาเรียน!M24=\"ขาดเรียนนาน\",\"-\",IF(C23=\"มผ\",\"มผ\",IF(D23=\"มผ\",\"มผ\",SUM(C23+D23)))))))),0)","v":0},{"$f":"IF([4]เวลาเรียน!M24=\"\",\"\",IF([4]เวลาเรียน!M24=\"ย้าย\",\"-\",IF([4]เวลาเรียน!M24=\"จำหน่าย\",\"-\",IF([4]เวลาเรียน!M24=\"ขาดเรียนนาน\",\"-\",IF([4]เวลาเรียน!L24<80,\"มส\",IF(COUNTIF(E23,\"มผ\"),0,VLOOKUP(E23,$Q$20:$S$27,3)))))))","v":0},null,null,null,null,null,{"$f":"IF(เวลาเรียน!IP24=\"\",\"\",เวลาเรียน!IP24)","v":"ปกติ"},null,{"$f":"IF(ประเมินตัวชี้วัดเทอม2!CQ22=\"\",\"\",ประเมินตัวชี้วัดเทอม2!CQ22)","v":""},null,{"$f":"IF(ประเมินตัวชี้วัดเทอม2!CZ22=\"\",\"\",ประเมินตัวชี้วัดเทอม2!CZ22)","v":""},60,65,2]
[{"$f":"CONCATENATE(Sheet1!C18&Sheet1!D18&\"       \"&Sheet1!E18)","v":"เด็กชายปุณณวิช    ทองคลอด       "},17,{"$f":"IF(ประเมินตัวชี้วัดเทอม1!DJ23=\"\",\"\",IF(ประเมินตัวชี้วัดเทอม1!DJ23=\"-\",\"-\",IF(ประเมินตัวชี้วัดเทอม1!DJ23=\"ร\",\"ร\",MAXA(ประเมินตัวชี้วัดเทอม1!DJ23/2,ประเมินตัวชี้วัดเทอม1!DL23/2))))","v":0},{"$f":"IF(ประเมินตัวชี้วัดเทอม2!DL23=\"\",\"\",IF(ประเมินตัวชี้วัดเทอม2!DL23=\"-\",\"-\",IF(ประเมินตัวชี้วัดเทอม2!DL23=\"ร\",\"ร\",CONCATENATE(ประเมินตัวชี้วัดเทอม2!DL23/2))))","v":"0"},{"$f":"ROUND((IF([4]เวลาเรียน!M25=\"\",\"\",IF([4]เวลาเรียน!M25=\"ย้าย\",\"-\",IF([4]เวลาเรียน!M25=\"จำหน่าย\",\"-\",IF([4]เวลาเรียน!M25=\"ขาดเรียนนาน\",\"-\",IF(C24=\"มผ\",\"มผ\",IF(D24=\"มผ\",\"มผ\",SUM(C24+D24)))))))),0)","v":0},{"$f":"IF([4]เวลาเรียน!M25=\"\",\"\",IF([4]เวลาเรียน!M25=\"ย้าย\",\"-\",IF([4]เวลาเรียน!M25=\"จำหน่าย\",\"-\",IF([4]เวลาเรียน!M25=\"ขาดเรียนนาน\",\"-\",IF([4]เวลาเรียน!L25<80,\"มส\",IF(COUNTIF(E24,\"มผ\"),0,VLOOKUP(E24,$Q$20:$S$27,3)))))))","v":0},null,null,null,null,null,{"$f":"IF(เวลาเรียน!IP25=\"\",\"\",เวลาเรียน!IP25)","v":"ปกติ"},null,{"$f":"IF(ประเมินตัวชี้วัดเทอม2!CQ23=\"\",\"\",ประเมินตัวชี้วัดเทอม2!CQ23)","v":""},null,{"$f":"IF(ประเมินตัวชี้วัดเทอม2!CZ23=\"\",\"\",ประเมินตัวชี้วัดเทอม2!CZ23)","v":""},65,70,2.5]
[{"$f":"CONCATENATE(Sheet1!C19&Sheet1!D19&\"       \"&Sheet1!E19)","v":"เด็กชายภูมิภัทร    เพชรแก้ว       "},18,{"$f":"IF(ประเมินตัวชี้วัดเทอม1!DJ24=\"\",\"\",IF(ประเมินตัวชี้วัดเทอม1!DJ24=\"-\",\"-\",IF(ประเมินตัวชี้วัดเทอม1!DJ24=\"ร\",\"ร\",MAXA(ประเมินตัวชี้วัดเทอม1!DJ24/2,ประเมินตัวชี้วัดเทอม1!DL24/2))))","v":0},{"$f":"IF(ประเมินตัวชี้วัดเทอม2!DL24=\"\",\"\",IF(ประเมินตัวชี้วัดเทอม2!DL24=\"-\",\"-\",IF(ประเมินตัวชี้วัดเทอม2!DL24=\"ร\",\"ร\",CONCATENATE(ประเมินตัวชี้วัดเทอม2!DL24/2))))","v":"0"},{"$f":"ROUND((IF([4]เวลาเรียน!M26=\"\",\"\",IF([4]เวลาเรียน!M26=\"ย้าย\",\"-\",IF([4]เวลาเรียน!M26=\"จำหน่าย\",\"-\",IF([4]เวลาเรียน!M26=\"ขาดเรียนนาน\",\"-\",IF(C25=\"มผ\",\"มผ\",IF(D25=\"มผ\",\"มผ\",SUM(C25+D25)))))))),0)","v":0},{"$f":"IF([4]เวลาเรียน!M26=\"\",\"\",IF([4]เวลาเรียน!M26=\"ย้าย\",\"-\",IF([4]เวลาเรียน!M26=\"จำหน่าย\",\"-\",IF([4]เวลาเรียน!M26=\"ขาดเรียนนาน\",\"-\",IF([4]เวลาเรียน!L26<80,\"มส\",IF(COUNTIF(E25,\"มผ\"),0,VLOOKUP(E25,$Q$20:$S$27,3)))))))","v":0},null,null,null,null,null,{"$f":"IF(เวลาเรียน!IP26=\"\",\"\",เวลาเรียน!IP26)","v":"ปกติ"},null,{"$f":"IF(ประเมินตัวชี้วัดเทอม2!CQ24=\"\",\"\",ประเมินตัวชี้วัดเทอม2!CQ24)","v":""},null,{"$f":"IF(ประเมินตัวชี้วัดเทอม2!CZ24=\"\",\"\",ประเมินตัวชี้วัดเทอม2!CZ24)","v":""},70,75,3]
[{"$f":"CONCATENATE(Sheet1!C20&Sheet1!D20&\"       \"&Sheet1!E20)","v":"เด็กชายชิณณวรรธน์  เพชรอาวุธ       "},19,{"$f":"IF(ประเมินตัวชี้วัดเทอม1!DJ25=\"\",\"\",IF(ประเมินตัวชี้วัดเทอม1!DJ25=\"-\",\"-\",IF(ประเมินตัวชี้วัดเทอม1!DJ25=\"ร\",\"ร\",MAXA(ประเมินตัวชี้วัดเทอม1!DJ25/2,ประเมินตัวชี้วัดเทอม1!DL25/2))))","v":0},{"$f":"IF(ประเมินตัวชี้วัดเทอม2!DL25=\"\",\"\",IF(ประเมินตัวชี้วัดเทอม2!DL25=\"-\",\"-\",IF(ประเมินตัวชี้วัดเทอม2!DL25=\"ร\",\"ร\",CONCATENATE(ประเมินตัวชี้วัดเทอม2!DL25/2))))","v":"0"},{"$f":"ROUND((IF([4]เวลาเรียน!M27=\"\",\"\",IF([4]เวลาเรียน!M27=\"ย้าย\",\"-\",IF([4]เวลาเรียน!M27=\"จำหน่าย\",\"-\",IF([4]เวลาเรียน!M27=\"ขาดเรียนนาน\",\"-\",IF(C26=\"มผ\",\"มผ\",IF(D26=\"มผ\",\"มผ\",SUM(C26+D26)))))))),0)","v":0},{"$f":"IF([4]เวลาเรียน!M27=\"\",\"\",IF([4]เวลาเรียน!M27=\"ย้าย\",\"-\",IF([4]เวลาเรียน!M27=\"จำหน่าย\",\"-\",IF([4]เวลาเรียน!M27=\"ขาดเรียนนาน\",\"-\",IF([4]เวลาเรียน!L27<80,\"มส\",IF(COUNTIF(E26,\"มผ\"),0,VLOOKUP(E26,$Q$20:$S$27,3)))))))","v":0},null,null,null,null,null,{"$f":"IF(เวลาเรียน!IP27=\"\",\"\",เวลาเรียน!IP27)","v":"ปกติ"},null,{"$f":"IF(ประเมินตัวชี้วัดเทอม2!CQ25=\"\",\"\",ประเมินตัวชี้วัดเทอม2!CQ25)","v":""},null,{"$f":"IF(ประเมินตัวชี้วัดเทอม2!CZ25=\"\",\"\",ประเมินตัวชี้วัดเทอม2!CZ25)","v":""},75,80,3.5]
[{"$f":"CONCATENATE(Sheet1!C21&Sheet1!D21&\"       \"&Sheet1!E21)","v":"เด็กชายสิทธินนท์   ขนอม        "},20,{"$f":"IF(ประเมินตัวชี้วัดเทอม1!DJ26=\"\",\"\",IF(ประเมินตัวชี้วัดเทอม1!DJ26=\"-\",\"-\",IF(ประเมินตัวชี้วัดเทอม1!DJ26=\"ร\",\"ร\",MAXA(ประเมินตัวชี้วัดเทอม1!DJ26/2,ประเมินตัวชี้วัดเทอม1!DL26/2))))","v":0},{"$f":"IF(ประเมินตัวชี้วัดเทอม2!DL26=\"\",\"\",IF(ประเมินตัวชี้วัดเทอม2!DL26=\"-\",\"-\",IF(ประเมินตัวชี้วัดเทอม2!DL26=\"ร\",\"ร\",CONCATENATE(ประเมินตัวชี้วัดเทอม2!DL26/2))))","v":"0"},{"$f":"ROUND((IF([4]เวลาเรียน!M28=\"\",\"\",IF([4]เวลาเรียน!M28=\"ย้าย\",\"-\",IF([4]เวลาเรียน!M28=\"จำหน่าย\",\"-\",IF([4]เวลาเรียน!M28=\"ขาดเรียนนาน\",\"-\",IF(C27=\"มผ\",\"มผ\",IF(D27=\"มผ\",\"มผ\",SUM(C27+D27)))))))),0)","v":0},{"$f":"IF([4]เวลาเรียน!M28=\"\",\"\",IF([4]เวลาเรียน!M28=\"ย้าย\",\"-\",IF([4]เวลาเรียน!M28=\"จำหน่าย\",\"-\",IF([4]เวลาเรียน!M28=\"ขาดเรียนนาน\",\"-\",IF([4]เวลาเรียน!L28<80,\"มส\",IF(COUNTIF(E27,\"มผ\"),0,VLOOKUP(E27,$Q$20:$S$27,3)))))))","v":0},null,null,null,null,null,{"$f":"IF(เวลาเรียน!IP28=\"\",\"\",เวลาเรียน!IP28)","v":"ปกติ"},null,{"$f":"IF(ประเมินตัวชี้วัดเทอม2!CQ26=\"\",\"\",ประเมินตัวชี้วัดเทอม2!CQ26)","v":""},null,{"$f":"IF(ประเมินตัวชี้วัดเทอม2!CZ26=\"\",\"\",ประเมินตัวชี้วัดเทอม2!CZ26)","v":""},80,100,4]
[{"$f":"CONCATENATE(Sheet1!C22&Sheet1!D22&\"       \"&Sheet1!E22)","v":"เด็กชายธนเดช      ธนวนิชนาม       "},21,{"$f":"IF(ประเมินตัวชี้วัดเทอม1!DJ27=\"\",\"\",IF(ประเมินตัวชี้วัดเทอม1!DJ27=\"-\",\"-\",IF(ประเมินตัวชี้วัดเทอม1!DJ27=\"ร\",\"ร\",MAXA(ประเมินตัวชี้วัดเทอม1!DJ27/2,ประเมินตัวชี้วัดเทอม1!DL27/2))))","v":0},{"$f":"IF(ประเมินตัวชี้วัดเทอม2!DL27=\"\",\"\",IF(ประเมินตัวชี้วัดเทอม2!DL27=\"-\",\"-\",IF(ประเมินตัวชี้วัดเทอม2!DL27=\"ร\",\"ร\",CONCATENATE(ประเมินตัวชี้วัดเทอม2!DL27/2))))","v":"0"},{"$f":"ROUND((IF([4]เวลาเรียน!M29=\"\",\"\",IF([4]เวลาเรียน!M29=\"ย้าย\",\"-\",IF([4]เวลาเรียน!M29=\"จำหน่าย\",\"-\",IF([4]เวลาเรียน!M29=\"ขาดเรียนนาน\",\"-\",IF(C28=\"มผ\",\"มผ\",IF(D28=\"มผ\",\"มผ\",SUM(C28+D28)))))))),0)","v":0},{"$f":"IF([4]เวลาเรียน!M29=\"\",\"\",IF([4]เวลาเรียน!M29=\"ย้าย\",\"-\",IF([4]เวลาเรียน!M29=\"จำหน่าย\",\"-\",IF([4]เวลาเรียน!M29=\"ขาดเรียนนาน\",\"-\",IF([4]เวลาเรียน!L29<80,\"มส\",IF(COUNTIF(E28,\"มผ\"),0,VLOOKUP(E28,$Q$20:$S$27,3)))))))","v":0},null,null,null,null,null,{"$f":"IF(เวลาเรียน!IP29=\"\",\"\",เวลาเรียน!IP29)","v":"ปกติ"},null,{"$f":"IF(ประเมินตัวชี้วัดเทอม2!CQ27=\"\",\"\",ประเมินตัวชี้วัดเทอม2!CQ27)","v":""},null,{"$f":"IF(ประเมินตัวชี้วัดเทอม2!CZ27=\"\",\"\",ประเมินตัวชี้วัดเทอม2!CZ27)","v":""}]
[{"$f":"CONCATENATE(Sheet1!C23&Sheet1!D23&\"       \"&Sheet1!E23)","v":"เด็กชายนวพล       สิมมาตัน       "},22,{"$f":"IF(ประเมินตัวชี้วัดเทอม1!DJ28=\"\",\"\",IF(ประเมินตัวชี้วัดเทอม1!DJ28=\"-\",\"-\",IF(ประเมินตัวชี้วัดเทอม1!DJ28=\"ร\",\"ร\",MAXA(ประเมินตัวชี้วัดเทอม1!DJ28/2,ประเมินตัวชี้วัดเทอม1!DL28/2))))","v":0},{"$f":"IF(ประเมินตัวชี้วัดเทอม2!DL28=\"\",\"\",IF(ประเมินตัวชี้วัดเทอม2!DL28=\"-\",\"-\",IF(ประเมินตัวชี้วัดเทอม2!DL28=\"ร\",\"ร\",CONCATENATE(ประเมินตัวชี้วัดเทอม2!DL28/2))))","v":"0"},{"$f":"ROUND((IF([4]เวลาเรียน!M30=\"\",\"\",IF([4]เวลาเรียน!M30=\"ย้าย\",\"-\",IF([4]เวลาเรียน!M30=\"จำหน่าย\",\"-\",IF([4]เวลาเรียน!M30=\"ขาดเรียนนาน\",\"-\",IF(C29=\"มผ\",\"มผ\",IF(D29=\"มผ\",\"มผ\",SUM(C29+D29)))))))),0)","v":0},{"$f":"IF([4]เวลาเรียน!M30=\"\",\"\",IF([4]เวลาเรียน!M30=\"ย้าย\",\"-\",IF([4]เวลาเรียน!M30=\"จำหน่าย\",\"-\",IF([4]เวลาเรียน!M30=\"ขาดเรียนนาน\",\"-\",IF([4]เวลาเรียน!L30<80,\"มส\",IF(COUNTIF(E29,\"มผ\"),0,VLOOKUP(E29,$Q$20:$S$27,3)))))))","v":0},null,null,null,null,null,{"$f":"IF(เวลาเรียน!IP30=\"\",\"\",เวลาเรียน!IP30)","v":"ปกติ"},null,{"$f":"IF(ประเมินตัวชี้วัดเทอม2!CQ28=\"\",\"\",ประเมินตัวชี้วัดเทอม2!CQ28)","v":""},null,{"$f":"IF(ประเมินตัวชี้วัดเทอม2!CZ28=\"\",\"\",ประเมินตัวชี้วัดเทอม2!CZ28)","v":""}]
[{"$f":"CONCATENATE(Sheet1!C24&Sheet1!D24&\"       \"&Sheet1!E24)","v":"เด็กชายฟารีส       แซ่โกว       "},23,{"$f":"IF(ประเมินตัวชี้วัดเทอม1!DJ29=\"\",\"\",IF(ประเมินตัวชี้วัดเทอม1!DJ29=\"-\",\"-\",IF(ประเมินตัวชี้วัดเทอม1!DJ29=\"ร\",\"ร\",MAXA(ประเมินตัวชี้วัดเทอม1!DJ29/2,ประเมินตัวชี้วัดเทอม1!DL29/2))))","v":0},{"$f":"IF(ประเมินตัวชี้วัดเทอม2!DL29=\"\",\"\",IF(ประเมินตัวชี้วัดเทอม2!DL29=\"-\",\"-\",IF(ประเมินตัวชี้วัดเทอม2!DL29=\"ร\",\"ร\",CONCATENATE(ประเมินตัวชี้วัดเทอม2!DL29/2))))","v":"0"},{"$f":"ROUND((IF([4]เวลาเรียน!M31=\"\",\"\",IF([4]เวลาเรียน!M31=\"ย้าย\",\"-\",IF([4]เวลาเรียน!M31=\"จำหน่าย\",\"-\",IF([4]เวลาเรียน!M31=\"ขาดเรียนนาน\",\"-\",IF(C30=\"มผ\",\"มผ\",IF(D30=\"มผ\",\"มผ\",SUM(C30+D30)))))))),0)","v":0},{"$f":"IF([4]เวลาเรียน!M31=\"\",\"\",IF([4]เวลาเรียน!M31=\"ย้าย\",\"-\",IF([4]เวลาเรียน!M31=\"จำหน่าย\",\"-\",IF([4]เวลาเรียน!M31=\"ขาดเรียนนาน\",\"-\",IF([4]เวลาเรียน!L31<80,\"มส\",IF(COUNTIF(E30,\"มผ\"),0,VLOOKUP(E30,$Q$20:$S$27,3)))))))","v":0},null,null,null,null,null,{"$f":"IF(เวลาเรียน!IP31=\"\",\"\",เวลาเรียน!IP31)","v":"ปกติ"},null,{"$f":"IF(ประเมินตัวชี้วัดเทอม2!CQ29=\"\",\"\",ประเมินตัวชี้วัดเทอม2!CQ29)","v":""},null,{"$f":"IF(ประเมินตัวชี้วัดเทอม2!CZ29=\"\",\"\",ประเมินตัวชี้วัดเทอม2!CZ29)","v":""}]
[{"$f":"CONCATENATE(Sheet1!C25&Sheet1!D25&\"       \"&Sheet1!E25)","v":"เด็กหญิงจิดาภา      ใจห้าว       "},24,{"$f":"IF(ประเมินตัวชี้วัดเทอม1!DJ30=\"\",\"\",IF(ประเมินตัวชี้วัดเทอม1!DJ30=\"-\",\"-\",IF(ประเมินตัวชี้วัดเทอม1!DJ30=\"ร\",\"ร\",MAXA(ประเมินตัวชี้วัดเทอม1!DJ30/2,ประเมินตัวชี้วัดเทอม1!DL30/2))))","v":0},{"$f":"IF(ประเมินตัวชี้วัดเทอม2!DL30=\"\",\"\",IF(ประเมินตัวชี้วัดเทอม2!DL30=\"-\",\"-\",IF(ประเมินตัวชี้วัดเทอม2!DL30=\"ร\",\"ร\",CONCATENATE(ประเมินตัวชี้วัดเทอม2!DL30/2))))","v":"0"},{"$f":"ROUND((IF([4]เวลาเรียน!M32=\"\",\"\",IF([4]เวลาเรียน!M32=\"ย้าย\",\"-\",IF([4]เวลาเรียน!M32=\"จำหน่าย\",\"-\",IF([4]เวลาเรียน!M32=\"ขาดเรียนนาน\",\"-\",IF(C31=\"มผ\",\"มผ\",IF(D31=\"มผ\",\"มผ\",SUM(C31+D31)))))))),0)","v":0},{"$f":"IF([4]เวลาเรียน!M32=\"\",\"\",IF([4]เวลาเรียน!M32=\"ย้าย\",\"-\",IF([4]เวลาเรียน!M32=\"จำหน่าย\",\"-\",IF([4]เวลาเรียน!M32=\"ขาดเรียนนาน\",\"-\",IF([4]เวลาเรียน!L32<80,\"มส\",IF(COUNTIF(E31,\"มผ\"),0,VLOOKUP(E31,$Q$20:$S$27,3)))))))","v":0},null,null,null,null,null,{"$f":"IF(เวลาเรียน!IP32=\"\",\"\",เวลาเรียน!IP32)","v":"ปกติ"},null,{"$f":"IF(ประเมินตัวชี้วัดเทอม2!CQ30=\"\",\"\",ประเมินตัวชี้วัดเทอม2!CQ30)","v":""},null,{"$f":"IF(ประเมินตัวชี้วัดเทอม2!CZ30=\"\",\"\",ประเมินตัวชี้วัดเทอม2!CZ30)","v":""}]
[{"$f":"CONCATENATE(Sheet1!C26&Sheet1!D26&\"       \"&Sheet1!E26)","v":"เด็กหญิงณัฐนัน      วิโรจน์       "},25,{"$f":"IF(ประเมินตัวชี้วัดเทอม1!DJ31=\"\",\"\",IF(ประเมินตัวชี้วัดเทอม1!DJ31=\"-\",\"-\",IF(ประเมินตัวชี้วัดเทอม1!DJ31=\"ร\",\"ร\",MAXA(ประเมินตัวชี้วัดเทอม1!DJ31/2,ประเมินตัวชี้วัดเทอม1!DL31/2))))","v":0},{"$f":"IF(ประเมินตัวชี้วัดเทอม2!DL31=\"\",\"\",IF(ประเมินตัวชี้วัดเทอม2!DL31=\"-\",\"-\",IF(ประเมินตัวชี้วัดเทอม2!DL31=\"ร\",\"ร\",CONCATENATE(ประเมินตัวชี้วัดเทอม2!DL31/2))))","v":"0"},{"$f":"ROUND((IF([4]เวลาเรียน!M33=\"\",\"\",IF([4]เวลาเรียน!M33=\"ย้าย\",\"-\",IF([4]เวลาเรียน!M33=\"จำหน่าย\",\"-\",IF([4]เวลาเรียน!M33=\"ขาดเรียนนาน\",\"-\",IF(C32=\"มผ\",\"มผ\",IF(D32=\"มผ\",\"มผ\",SUM(C32+D32)))))))),0)","v":0},{"$f":"IF([4]เวลาเรียน!M33=\"\",\"\",IF([4]เวลาเรียน!M33=\"ย้าย\",\"-\",IF([4]เวลาเรียน!M33=\"จำหน่าย\",\"-\",IF([4]เวลาเรียน!M33=\"ขาดเรียนนาน\",\"-\",IF([4]เวลาเรียน!L33<80,\"มส\",IF(COUNTIF(E32,\"มผ\"),0,VLOOKUP(E32,$Q$20:$S$27,3)))))))","v":0},null,null,null,null,null,{"$f":"IF(เวลาเรียน!IP33=\"\",\"\",เวลาเรียน!IP33)","v":"ปกติ"},null,{"$f":"IF(ประเมินตัวชี้วัดเทอม2!CQ31=\"\",\"\",ประเมินตัวชี้วัดเทอม2!CQ31)","v":""},null,{"$f":"IF(ประเมินตัวชี้วัดเทอม2!CZ31=\"\",\"\",ประเมินตัวชี้วัดเทอม2!CZ31)","v":""}]
[{"$f":"CONCATENATE(Sheet1!C27&Sheet1!D27&\"       \"&Sheet1!E27)","v":"เด็กหญิงชลิดา       กาญจนพานิช       "},26,{"$f":"IF(ประเมินตัวชี้วัดเทอม1!DJ32=\"\",\"\",IF(ประเมินตัวชี้วัดเทอม1!DJ32=\"-\",\"-\",IF(ประเมินตัวชี้วัดเทอม1!DJ32=\"ร\",\"ร\",MAXA(ประเมินตัวชี้วัดเทอม1!DJ32/2,ประเมินตัวชี้วัดเทอม1!DL32/2))))","v":0},{"$f":"IF(ประเมินตัวชี้วัดเทอม2!DL32=\"\",\"\",IF(ประเมินตัวชี้วัดเทอม2!DL32=\"-\",\"-\",IF(ประเมินตัวชี้วัดเทอม2!DL32=\"ร\",\"ร\",CONCATENATE(ประเมินตัวชี้วัดเทอม2!DL32/2))))","v":"0"},{"$f":"ROUND((IF([4]เวลาเรียน!M34=\"\",\"\",IF([4]เวลาเรียน!M34=\"ย้าย\",\"-\",IF([4]เวลาเรียน!M34=\"จำหน่าย\",\"-\",IF([4]เวลาเรียน!M34=\"ขาดเรียนนาน\",\"-\",IF(C33=\"มผ\",\"มผ\",IF(D33=\"มผ\",\"มผ\",SUM(C33+D33)))))))),0)","v":0},{"$f":"IF([4]เวลาเรียน!M34=\"\",\"\",IF([4]เวลาเรียน!M34=\"ย้าย\",\"-\",IF([4]เวลาเรียน!M34=\"จำหน่าย\",\"-\",IF([4]เวลาเรียน!M34=\"ขาดเรียนนาน\",\"-\",IF([4]เวลาเรียน!L34<80,\"มส\",IF(COUNTIF(E33,\"มผ\"),0,VLOOKUP(E33,$Q$20:$S$27,3)))))))","v":0},null,null,null,null,null,{"$f":"IF(เวลาเรียน!IP34=\"\",\"\",เวลาเรียน!IP34)","v":"ปกติ"},null,{"$f":"IF(ประเมินตัวชี้วัดเทอม2!CQ32=\"\",\"\",ประเมินตัวชี้วัดเทอม2!CQ32)","v":""},null,{"$f":"IF(ประเมินตัวชี้วัดเทอม2!CZ32=\"\",\"\",ประเมินตัวชี้วัดเทอม2!CZ32)","v":""}]
[{"$f":"CONCATENATE(Sheet1!C28&Sheet1!D28&\"       \"&Sheet1!E28)","v":"เด็กหญิงณัฐภัทร     เทือกสุบรรณ         "},27,{"$f":"IF(ประเมินตัวชี้วัดเทอม1!DJ33=\"\",\"\",IF(ประเมินตัวชี้วัดเทอม1!DJ33=\"-\",\"-\",IF(ประเมินตัวชี้วัดเทอม1!DJ33=\"ร\",\"ร\",MAXA(ประเมินตัวชี้วัดเทอม1!DJ33/2,ประเมินตัวชี้วัดเทอม1!DL33/2))))","v":0},{"$f":"IF(ประเมินตัวชี้วัดเทอม2!DL33=\"\",\"\",IF(ประเมินตัวชี้วัดเทอม2!DL33=\"-\",\"-\",IF(ประเมินตัวชี้วัดเทอม2!DL33=\"ร\",\"ร\",CONCATENATE(ประเมินตัวชี้วัดเทอม2!DL33/2))))","v":"0"},{"$f":"ROUND((IF([4]เวลาเรียน!M35=\"\",\"\",IF([4]เวลาเรียน!M35=\"ย้าย\",\"-\",IF([4]เวลาเรียน!M35=\"จำหน่าย\",\"-\",IF([4]เวลาเรียน!M35=\"ขาดเรียนนาน\",\"-\",IF(C34=\"มผ\",\"มผ\",IF(D34=\"มผ\",\"มผ\",SUM(C34+D34)))))))),0)","v":0},{"$f":"IF([4]เวลาเรียน!M35=\"\",\"\",IF([4]เวลาเรียน!M35=\"ย้าย\",\"-\",IF([4]เวลาเรียน!M35=\"จำหน่าย\",\"-\",IF([4]เวลาเรียน!M35=\"ขาดเรียนนาน\",\"-\",IF([4]เวลาเรียน!L35<80,\"มส\",IF(COUNTIF(E34,\"มผ\"),0,VLOOKUP(E34,$Q$20:$S$27,3)))))))","v":0},null,null,null,null,null,{"$f":"IF(เวลาเรียน!IP35=\"\",\"\",เวลาเรียน!IP35)","v":"ปกติ"},null,{"$f":"IF(ประเมินตัวชี้วัดเทอม2!CQ33=\"\",\"\",ประเมินตัวชี้วัดเทอม2!CQ33)","v":""},null,{"$f":"IF(ประเมินตัวชี้วัดเทอม2!CZ33=\"\",\"\",ประเมินตัวชี้วัดเทอม2!CZ33)","v":""}]
[{"$f":"CONCATENATE(Sheet1!C29&Sheet1!D29&\"       \"&Sheet1!E29)","v":"เด็กหญิงสุกัญญา     สาระทิพย์       "},28,{"$f":"IF(ประเมินตัวชี้วัดเทอม1!DJ34=\"\",\"\",IF(ประเมินตัวชี้วัดเทอม1!DJ34=\"-\",\"-\",IF(ประเมินตัวชี้วัดเทอม1!DJ34=\"ร\",\"ร\",MAXA(ประเมินตัวชี้วัดเทอม1!DJ34/2,ประเมินตัวชี้วัดเทอม1!DL34/2))))","v":0},{"$f":"IF(ประเมินตัวชี้วัดเทอม2!DL34=\"\",\"\",IF(ประเมินตัวชี้วัดเทอม2!DL34=\"-\",\"-\",IF(ประเมินตัวชี้วัดเทอม2!DL34=\"ร\",\"ร\",CONCATENATE(ประเมินตัวชี้วัดเทอม2!DL34/2))))","v":"0"},{"$f":"ROUND((IF([4]เวลาเรียน!M36=\"\",\"\",IF([4]เวลาเรียน!M36=\"ย้าย\",\"-\",IF([4]เวลาเรียน!M36=\"จำหน่าย\",\"-\",IF([4]เวลาเรียน!M36=\"ขาดเรียนนาน\",\"-\",IF(C35=\"มผ\",\"มผ\",IF(D35=\"มผ\",\"มผ\",SUM(C35+D35)))))))),0)","v":0},{"$f":"IF([4]เวลาเรียน!M36=\"\",\"\",IF([4]เวลาเรียน!M36=\"ย้าย\",\"-\",IF([4]เวลาเรียน!M36=\"จำหน่าย\",\"-\",IF([4]เวลาเรียน!M36=\"ขาดเรียนนาน\",\"-\",IF([4]เวลาเรียน!L36<80,\"มส\",IF(COUNTIF(E35,\"มผ\"),0,VLOOKUP(E35,$Q$20:$S$27,3)))))))","v":0},null,null,null,null,null,{"$f":"IF(เวลาเรียน!IP36=\"\",\"\",เวลาเรียน!IP36)","v":"ปกติ"},null,{"$f":"IF(ประเมินตัวชี้วัดเทอม2!CQ34=\"\",\"\",ประเมินตัวชี้วัดเทอม2!CQ34)","v":""},null,{"$f":"IF(ประเมินตัวชี้วัดเทอม2!CZ34=\"\",\"\",ประเมินตัวชี้วัดเทอม2!CZ34)","v":""}]
[{"$f":"CONCATENATE(Sheet1!C30&Sheet1!D30&\"       \"&Sheet1!E30)","v":"เด็กหญิงนันท์นภัส   วัชรกาญจน์       "},29,{"$f":"IF(ประเมินตัวชี้วัดเทอม1!DJ35=\"\",\"\",IF(ประเมินตัวชี้วัดเทอม1!DJ35=\"-\",\"-\",IF(ประเมินตัวชี้วัดเทอม1!DJ35=\"ร\",\"ร\",MAXA(ประเมินตัวชี้วัดเทอม1!DJ35/2,ประเมินตัวชี้วัดเทอม1!DL35/2))))","v":0},{"$f":"IF(ประเมินตัวชี้วัดเทอม2!DL35=\"\",\"\",IF(ประเมินตัวชี้วัดเทอม2!DL35=\"-\",\"-\",IF(ประเมินตัวชี้วัดเทอม2!DL35=\"ร\",\"ร\",CONCATENATE(ประเมินตัวชี้วัดเทอม2!DL35/2))))","v":"0"},{"$f":"ROUND((IF([4]เวลาเรียน!M37=\"\",\"\",IF([4]เวลาเรียน!M37=\"ย้าย\",\"-\",IF([4]เวลาเรียน!M37=\"จำหน่าย\",\"-\",IF([4]เวลาเรียน!M37=\"ขาดเรียนนาน\",\"-\",IF(C36=\"มผ\",\"มผ\",IF(D36=\"มผ\",\"มผ\",SUM(C36+D36)))))))),0)","v":0},{"$f":"IF([4]เวลาเรียน!M37=\"\",\"\",IF([4]เวลาเรียน!M37=\"ย้าย\",\"-\",IF([4]เวลาเรียน!M37=\"จำหน่าย\",\"-\",IF([4]เวลาเรียน!M37=\"ขาดเรียนนาน\",\"-\",IF([4]เวลาเรียน!L37<80,\"มส\",IF(COUNTIF(E36,\"มผ\"),0,VLOOKUP(E36,$Q$20:$S$27,3)))))))","v":0},null,null,null,null,null,{"$f":"IF(เวลาเรียน!IP37=\"\",\"\",เวลาเรียน!IP37)","v":"ปกติ"},null,{"$f":"IF(ประเมินตัวชี้วัดเทอม2!CQ35=\"\",\"\",ประเมินตัวชี้วัดเทอม2!CQ35)","v":""},null,{"$f":"IF(ประเมินตัวชี้วัดเทอม2!CZ35=\"\",\"\",ประเมินตัวชี้วัดเทอม2!CZ35)","v":""}]
[{"$f":"CONCATENATE(Sheet1!C31&Sheet1!D31&\"       \"&Sheet1!E31)","v":"เด็กชายธนภูมิ        แซ่ด่าน       "},30,{"$f":"IF(ประเมินตัวชี้วัดเทอม1!DJ36=\"\",\"\",IF(ประเมินตัวชี้วัดเทอม1!DJ36=\"-\",\"-\",IF(ประเมินตัวชี้วัดเทอม1!DJ36=\"ร\",\"ร\",MAXA(ประเมินตัวชี้วัดเทอม1!DJ36/2,ประเมินตัวชี้วัดเทอม1!DL36/2))))","v":0},{"$f":"IF(ประเมินตัวชี้วัดเทอม2!DL36=\"\",\"\",IF(ประเมินตัวชี้วัดเทอม2!DL36=\"-\",\"-\",IF(ประเมินตัวชี้วัดเทอม2!DL36=\"ร\",\"ร\",CONCATENATE(ประเมินตัวชี้วัดเทอม2!DL36/2))))","v":"0"},{"$f":"ROUND((IF([4]เวลาเรียน!M38=\"\",\"\",IF([4]เวลาเรียน!M38=\"ย้าย\",\"-\",IF([4]เวลาเรียน!M38=\"จำหน่าย\",\"-\",IF([4]เวลาเรียน!M38=\"ขาดเรียนนาน\",\"-\",IF(C37=\"มผ\",\"มผ\",IF(D37=\"มผ\",\"มผ\",SUM(C37+D37)))))))),0)","v":0},{"$f":"IF([4]เวลาเรียน!M38=\"\",\"\",IF([4]เวลาเรียน!M38=\"ย้าย\",\"-\",IF([4]เวลาเรียน!M38=\"จำหน่าย\",\"-\",IF([4]เวลาเรียน!M38=\"ขาดเรียนนาน\",\"-\",IF([4]เวลาเรียน!L38<80,\"มส\",IF(COUNTIF(E37,\"มผ\"),0,VLOOKUP(E37,$Q$20:$S$27,3)))))))","v":0},null,null,null,null,null,{"$f":"IF(เวลาเรียน!IP38=\"\",\"\",เวลาเรียน!IP38)","v":"ปกติ"},null,{"$f":"IF(ประเมินตัวชี้วัดเทอม2!CQ36=\"\",\"\",ประเมินตัวชี้วัดเทอม2!CQ36)","v":""},null,{"$f":"IF(ประเมินตัวชี้วัดเทอม2!CZ36=\"\",\"\",ประเมินตัวชี้วัดเทอม2!CZ36)","v":""}]
[{"$f":"CONCATENATE(Sheet1!C32&Sheet1!D32&\"       \"&Sheet1!E32)","v":"เด็กหญิงสุชานันท์    เลื่องสุนทร       "},31,{"$f":"IF(ประเมินตัวชี้วัดเทอม1!DJ37=\"\",\"\",IF(ประเมินตัวชี้วัดเทอม1!DJ37=\"-\",\"-\",IF(ประเมินตัวชี้วัดเทอม1!DJ37=\"ร\",\"ร\",MAXA(ประเมินตัวชี้วัดเทอม1!DJ37/2,ประเมินตัวชี้วัดเทอม1!DL37/2))))","v":0},{"$f":"IF(ประเมินตัวชี้วัดเทอม2!DL37=\"\",\"\",IF(ประเมินตัวชี้วัดเทอม2!DL37=\"-\",\"-\",IF(ประเมินตัวชี้วัดเทอม2!DL37=\"ร\",\"ร\",CONCATENATE(ประเมินตัวชี้วัดเทอม2!DL37/2))))","v":"0"},{"$f":"ROUND((IF([4]เวลาเรียน!M39=\"\",\"\",IF([4]เวลาเรียน!M39=\"ย้าย\",\"-\",IF([4]เวลาเรียน!M39=\"จำหน่าย\",\"-\",IF([4]เวลาเรียน!M39=\"ขาดเรียนนาน\",\"-\",IF(C38=\"มผ\",\"มผ\",IF(D38=\"มผ\",\"มผ\",SUM(C38+D38)))))))),0)","v":0},{"$f":"IF([4]เวลาเรียน!M39=\"\",\"\",IF([4]เวลาเรียน!M39=\"ย้าย\",\"-\",IF([4]เวลาเรียน!M39=\"จำหน่าย\",\"-\",IF([4]เวลาเรียน!M39=\"ขาดเรียนนาน\",\"-\",IF([4]เวลาเรียน!L39<80,\"มส\",IF(COUNTIF(E38,\"มผ\"),0,VLOOKUP(E38,$Q$20:$S$27,3)))))))","v":0},null,null,null,null,null,{"$f":"IF(เวลาเรียน!IP39=\"\",\"\",เวลาเรียน!IP39)","v":"ปกติ"},null,{"$f":"IF(ประเมินตัวชี้วัดเทอม2!CQ37=\"\",\"\",ประเมินตัวชี้วัดเทอม2!CQ37)","v":""},null,{"$f":"IF(ประเมินตัวชี้วัดเทอม2!CZ37=\"\",\"\",ประเมินตัวชี้วัดเทอม2!CZ37)","v":""}]
[{"$f":"CONCATENATE(Sheet1!C33&Sheet1!D33&\"       \"&Sheet1!E33)","v":"เด็กหญิงกันยาวีร์    เกตุสุวรรณ       "},32,{"$f":"IF(ประเมินตัวชี้วัดเทอม1!DJ38=\"\",\"\",IF(ประเมินตัวชี้วัดเทอม1!DJ38=\"-\",\"-\",IF(ประเมินตัวชี้วัดเทอม1!DJ38=\"ร\",\"ร\",MAXA(ประเมินตัวชี้วัดเทอม1!DJ38/2,ประเมินตัวชี้วัดเทอม1!DL38/2))))","v":0},{"$f":"IF(ประเมินตัวชี้วัดเทอม2!DL38=\"\",\"\",IF(ประเมินตัวชี้วัดเทอม2!DL38=\"-\",\"-\",IF(ประเมินตัวชี้วัดเทอม2!DL38=\"ร\",\"ร\",CONCATENATE(ประเมินตัวชี้วัดเทอม2!DL38/2))))","v":"0"},{"$f":"ROUND((IF([4]เวลาเรียน!M40=\"\",\"\",IF([4]เวลาเรียน!M40=\"ย้าย\",\"-\",IF([4]เวลาเรียน!M40=\"จำหน่าย\",\"-\",IF([4]เวลาเรียน!M40=\"ขาดเรียนนาน\",\"-\",IF(C39=\"มผ\",\"มผ\",IF(D39=\"มผ\",\"มผ\",SUM(C39+D39)))))))),0)","v":0},{"$f":"IF([4]เวลาเรียน!M40=\"\",\"\",IF([4]เวลาเรียน!M40=\"ย้าย\",\"-\",IF([4]เวลาเรียน!M40=\"จำหน่าย\",\"-\",IF([4]เวลาเรียน!M40=\"ขาดเรียนนาน\",\"-\",IF([4]เวลาเรียน!L40<80,\"มส\",IF(COUNTIF(E39,\"มผ\"),0,VLOOKUP(E39,$Q$20:$S$27,3)))))))","v":0},null,null,null,null,null,{"$f":"IF(เวลาเรียน!IP40=\"\",\"\",เวลาเรียน!IP40)","v":"ปกติ"},null,{"$f":"IF(ประเมินตัวชี้วัดเทอม2!CQ38=\"\",\"\",ประเมินตัวชี้วัดเทอม2!CQ38)","v":""},null,{"$f":"IF(ประเมินตัวชี้วัดเทอม2!CZ38=\"\",\"\",ประเมินตัวชี้วัดเทอม2!CZ38)","v":""}]
[{"$f":"CONCATENATE(Sheet1!C34&Sheet1!D34&\"       \"&Sheet1!E34)","v":"เด็กหญิงสิรินุช       ทองปลอด       "},33,{"$f":"IF(ประเมินตัวชี้วัดเทอม1!DJ39=\"\",\"\",IF(ประเมินตัวชี้วัดเทอม1!DJ39=\"-\",\"-\",IF(ประเมินตัวชี้วัดเทอม1!DJ39=\"ร\",\"ร\",MAXA(ประเมินตัวชี้วัดเทอม1!DJ39/2,ประเมินตัวชี้วัดเทอม1!DL39/2))))","v":0},{"$f":"IF(ประเมินตัวชี้วัดเทอม2!DL39=\"\",\"\",IF(ประเมินตัวชี้วัดเทอม2!DL39=\"-\",\"-\",IF(ประเมินตัวชี้วัดเทอม2!DL39=\"ร\",\"ร\",CONCATENATE(ประเมินตัวชี้วัดเทอม2!DL39/2))))","v":"0"},{"$f":"ROUND((IF([5]เวลาเรียน!M41=\"\",\"\",IF([5]เวลาเรียน!M41=\"ย้าย\",\"-\",IF([5]เวลาเรียน!M41=\"จำหน่าย\",\"-\",IF([5]เวลาเรียน!M41=\"ขาดเรียนนาน\",\"-\",IF(C40=\"มผ\",\"มผ\",IF(D40=\"มผ\",\"มผ\",SUM(C40+D40)))))))),0)","v":0},{"$f":"IF([5]เวลาเรียน!M41=\"\",\"\",IF([5]เวลาเรียน!M41=\"ย้าย\",\"-\",IF([5]เวลาเรียน!M41=\"จำหน่าย\",\"-\",IF([5]เวลาเรียน!M41=\"ขาดเรียนนาน\",\"-\",IF([5]เวลาเรียน!L41<80,\"มส\",IF(COUNTIF(E40,\"มผ\"),0,VLOOKUP(E40,$Q$20:$S$27,3)))))))","v":0},null,null,null,null,null,{"$f":"IF(เวลาเรียน!IP41=\"\",\"\",เวลาเรียน!IP41)","v":"ปกติ"},null,{"$f":"IF(ประเมินตัวชี้วัดเทอม2!CQ39=\"\",\"\",ประเมินตัวชี้วัดเทอม2!CQ39)","v":""},null,{"$f":"IF(ประเมินตัวชี้วัดเทอม2!CZ39=\"\",\"\",ประเมินตัวชี้วัดเทอม2!CZ39)","v":""}]
[{"$f":"CONCATENATE(Sheet1!C35&Sheet1!D35&\"       \"&Sheet1!E35)","v":"       "},34,{"$f":"IF(ประเมินตัวชี้วัดเทอม1!DJ40=\"\",\"\",IF(ประเมินตัวชี้วัดเทอม1!DJ40=\"-\",\"-\",IF(ประเมินตัวชี้วัดเทอม1!DJ40=\"ร\",\"ร\",MAXA(ประเมินตัวชี้วัดเทอม1!DJ40/2,ประเมินตัวชี้วัดเทอม1!DL40/2))))","v":""},{"$f":"IF(ประเมินตัวชี้วัดเทอม2!DL40=\"\",\"\",IF(ประเมินตัวชี้วัดเทอม2!DL40=\"-\",\"-\",IF(ประเมินตัวชี้วัดเทอม2!DL40=\"ร\",\"ร\",CONCATENATE(ประเมินตัวชี้วัดเทอม2!DL40/2))))","v":""},{"$f":"ROUND((IF([4]เวลาเรียน!M42=\"\",\"\",IF([4]เวลาเรียน!M42=\"ย้าย\",\"-\",IF([4]เวลาเรียน!M42=\"จำหน่าย\",\"-\",IF([4]เวลาเรียน!M42=\"ขาดเรียนนาน\",\"-\",IF(C41=\"มผ\",\"มผ\",IF(D41=\"มผ\",\"มผ\",SUM(C41+D41)))))))),0)","v":{"$error":"#VALUE!"}},{"$f":"IF([4]เวลาเรียน!M42=\"\",\"\",IF([4]เวลาเรียน!M42=\"ย้าย\",\"-\",IF([4]เวลาเรียน!M42=\"จำหน่าย\",\"-\",IF([4]เวลาเรียน!M42=\"ขาดเรียนนาน\",\"-\",IF([4]เวลาเรียน!L42<80,\"มส\",IF(COUNTIF(E41,\"มผ\"),0,VLOOKUP(E41,$Q$20:$S$27,3)))))))","v":{"$error":"#VALUE!"}},null,null,null,null,null,{"$f":"IF(เวลาเรียน!IP42=\"\",\"\",เวลาเรียน!IP42)","v":"ปกติ"},null,{"$f":"IF(ประเมินตัวชี้วัดเทอม2!CQ40=\"\",\"\",ประเมินตัวชี้วัดเทอม2!CQ40)","v":""},null,{"$f":"IF(ประเมินตัวชี้วัดเทอม2!CZ40=\"\",\"\",ประเมินตัวชี้วัดเทอม2!CZ40)","v":""}]
[{"$f":"CONCATENATE(Sheet1!C36&Sheet1!D36&\"       \"&Sheet1!E36)","v":"       "},35,{"$f":"IF(ประเมินตัวชี้วัดเทอม1!DJ41=\"\",\"\",IF(ประเมินตัวชี้วัดเทอม1!DJ41=\"-\",\"-\",IF(ประเมินตัวชี้วัดเทอม1!DJ41=\"ร\",\"ร\",MAXA(ประเมินตัวชี้วัดเทอม1!DJ41/2,ประเมินตัวชี้วัดเทอม1!DL41/2))))","v":""},{"$f":"IF(ประเมินตัวชี้วัดเทอม2!DL41=\"\",\"\",IF(ประเมินตัวชี้วัดเทอม2!DL41=\"-\",\"-\",IF(ประเมินตัวชี้วัดเทอม2!DL41=\"ร\",\"ร\",CONCATENATE(ประเมินตัวชี้วัดเทอม2!DL41/2))))","v":""},{"$f":"ROUND((IF([4]เวลาเรียน!M43=\"\",\"\",IF([4]เวลาเรียน!M43=\"ย้าย\",\"-\",IF([4]เวลาเรียน!M43=\"จำหน่าย\",\"-\",IF([4]เวลาเรียน!M43=\"ขาดเรียนนาน\",\"-\",IF(C42=\"มผ\",\"มผ\",IF(D42=\"มผ\",\"มผ\",SUM(C42+D42)))))))),0)","v":{"$error":"#VALUE!"}},{"$f":"IF([4]เวลาเรียน!M43=\"\",\"\",IF([4]เวลาเรียน!M43=\"ย้าย\",\"-\",IF([4]เวลาเรียน!M43=\"จำหน่าย\",\"-\",IF([4]เวลาเรียน!M43=\"ขาดเรียนนาน\",\"-\",IF([4]เวลาเรียน!L43<80,\"มส\",IF(COUNTIF(E42,\"มผ\"),0,VLOOKUP(E42,$Q$20:$S$27,3)))))))","v":{"$error":"#VALUE!"}},null,null,null,null,null,{"$f":"IF(เวลาเรียน!IP43=\"\",\"\",เวลาเรียน!IP43)","v":"ปกติ"},null,{"$f":"IF(ประเมินตัวชี้วัดเทอม2!CQ41=\"\",\"\",ประเมินตัวชี้วัดเทอม2!CQ41)","v":""},null,{"$f":"IF(ประเมินตัวชี้วัดเทอม2!CZ41=\"\",\"\",ประเมินตัวชี้วัดเทอม2!CZ41)","v":""}]
[{"$f":"CONCATENATE(Sheet1!C37&Sheet1!D37&\"       \"&Sheet1!E37)","v":"       "},null,{"$f":"IF(ประเมินตัวชี้วัดเทอม1!DJ42=\"\",\"\",IF(ประเมินตัวชี้วัดเทอม1!DJ42=\"-\",\"-\",IF(ประเมินตัวชี้วัดเทอม1!DJ42=\"ร\",\"ร\",MAXA(ประเมินตัวชี้วัดเทอม1!DJ42/2,ประเมินตัวชี้วัดเทอม1!DL42/2))))","v":""},{"$f":"IF(ประเมินตัวชี้วัดเทอม2!DL42=\"\",\"\",IF(ประเมินตัวชี้วัดเทอม2!DL42=\"-\",\"-\",IF(ประเมินตัวชี้วัดเทอม2!DL42=\"ร\",\"ร\",CONCATENATE(ประเมินตัวชี้วัดเทอม2!DL42/2))))","v":""},null,null,null,null,null,null,null,{"$f":"IF(เวลาเรียน!IP44=\"\",\"\",เวลาเรียน!IP44)","v":""},null,{"$f":"IF(ประเมินตัวชี้วัดเทอม2!CQ42=\"\",\"\",ประเมินตัวชี้วัดเทอม2!CQ42)","v":""},null,{"$f":"IF(ประเมินตัวชี้วัดเทอม2!CZ42=\"\",\"\",ประเมินตัวชี้วัดเทอม2!CZ42)","v":""}]
[{"$f":"CONCATENATE(Sheet1!C38&Sheet1!D38&\"       \"&Sheet1!E38)","v":"       "},null,{"$f":"IF(ประเมินตัวชี้วัดเทอม1!DJ43=\"\",\"\",IF(ประเมินตัวชี้วัดเทอม1!DJ43=\"-\",\"-\",IF(ประเมินตัวชี้วัดเทอม1!DJ43=\"ร\",\"ร\",MAXA(ประเมินตัวชี้วัดเทอม1!DJ43/2,ประเมินตัวชี้วัดเทอม1!DL43/2))))","v":""},{"$f":"IF(ประเมินตัวชี้วัดเทอม2!DL43=\"\",\"\",IF(ประเมินตัวชี้วัดเทอม2!DL43=\"-\",\"-\",IF(ประเมินตัวชี้วัดเทอม2!DL43=\"ร\",\"ร\",CONCATENATE(ประเมินตัวชี้วัดเทอม2!DL43/2))))","v":""},null,null,null,null,null,null,null,{"$f":"IF(เวลาเรียน!IP45=\"\",\"\",เวลาเรียน!IP45)","v":""},null,{"$f":"IF(ประเมินตัวชี้วัดเทอม2!CQ43=\"\",\"\",ประเมินตัวชี้วัดเทอม2!CQ43)","v":""},null,{"$f":"IF(ประเมินตัวชี้วัดเทอม2!CZ43=\"\",\"\",ประเมินตัวชี้วัดเทอม2!CZ43)","v":""}]
[{"$f":"CONCATENATE(Sheet1!C39&Sheet1!D39&\"       \"&Sheet1!E39)","v":"       "},null,{"$f":"IF(ประเมินตัวชี้วัดเทอม1!DJ44=\"\",\"\",IF(ประเมินตัวชี้วัดเทอม1!DJ44=\"-\",\"-\",IF(ประเมินตัวชี้วัดเทอม1!DJ44=\"ร\",\"ร\",MAXA(ประเมินตัวชี้วัดเทอม1!DJ44/2,ประเมินตัวชี้วัดเทอม1!DL44/2))))","v":""},{"$f":"IF(ประเมินตัวชี้วัดเทอม2!DL44=\"\",\"\",IF(ประเมินตัวชี้วัดเทอม2!DL44=\"-\",\"-\",IF(ประเมินตัวชี้วัดเทอม2!DL44=\"ร\",\"ร\",CONCATENATE(ประเมินตัวชี้วัดเทอม2!DL44/2))))","v":""},null,null,null,null,null,null,null,{"$f":"IF(เวลาเรียน!IP46=\"\",\"\",เวลาเรียน!IP46)","v":""},null,{"$f":"IF(ประเมินตัวชี้วัดเทอม2!CQ44=\"\",\"\",ประเมินตัวชี้วัดเทอม2!CQ44)","v":""},null,{"$f":"IF(ประเมินตัวชี้วัดเทอม2!CZ44=\"\",\"\",ประเมินตัวชี้วัดเทอม2!CZ44)","v":""}]
[{"$f":"CONCATENATE(Sheet1!C40&Sheet1!D40&\"       \"&Sheet1!E40)","v":"       "},null,{"$f":"IF(ประเมินตัวชี้วัดเทอม1!DJ45=\"\",\"\",IF(ประเมินตัวชี้วัดเทอม1!DJ45=\"-\",\"-\",IF(ประเมินตัวชี้วัดเทอม1!DJ45=\"ร\",\"ร\",MAXA(ประเมินตัวชี้วัดเทอม1!DJ45/2,ประเมินตัวชี้วัดเทอม1!DL45/2))))","v":""},{"$f":"IF(ประเมินตัวชี้วัดเทอม2!DL45=\"\",\"\",IF(ประเมินตัวชี้วัดเทอม2!DL45=\"-\",\"-\",IF(ประเมินตัวชี้วัดเทอม2!DL45=\"ร\",\"ร\",CONCATENATE(ประเมินตัวชี้วัดเทอม2!DL45/2))))","v":""},null,null,null,null,null,null,null,{"$f":"IF(เวลาเรียน!IP47=\"\",\"\",เวลาเรียน!IP47)","v":""},null,{"$f":"IF(ประเมินตัวชี้วัดเทอม2!CQ45=\"\",\"\",ประเมินตัวชี้วัดเทอม2!CQ45)","v":""},null,{"$f":"IF(ประเมินตัวชี้วัดเทอม2!CZ45=\"\",\"\",ประเมินตัวชี้วัดเทอม2!CZ45)","v":""}]
[{"$f":"CONCATENATE(Sheet1!C41&Sheet1!D41&\"       \"&Sheet1!E41)","v":"       "},null,{"$f":"IF(ประเมินตัวชี้วัดเทอม1!DJ46=\"\",\"\",IF(ประเมินตัวชี้วัดเทอม1!DJ46=\"-\",\"-\",IF(ประเมินตัวชี้วัดเทอม1!DJ46=\"ร\",\"ร\",MAXA(ประเมินตัวชี้วัดเทอม1!DJ46/2,ประเมินตัวชี้วัดเทอม1!DL46/2))))","v":""},{"$f":"IF(ประเมินตัวชี้วัดเทอม2!DL46=\"\",\"\",IF(ประเมินตัวชี้วัดเทอม2!DL46=\"-\",\"-\",IF(ประเมินตัวชี้วัดเทอม2!DL46=\"ร\",\"ร\",CONCATENATE(ประเมินตัวชี้วัดเทอม2!DL46/2))))","v":""},null,null,null,null,null,null,null,{"$f":"IF(เวลาเรียน!IP48=\"\",\"\",เวลาเรียน!IP48)","v":""}]
[{"$f":"CONCATENATE(Sheet1!C42&Sheet1!D42&\"       \"&Sheet1!E42)","v":"       "},null,{"$f":"IF(ประเมินตัวชี้วัดเทอม1!DJ47=\"\",\"\",IF(ประเมินตัวชี้วัดเทอม1!DJ47=\"-\",\"-\",IF(ประเมินตัวชี้วัดเทอม1!DJ47=\"ร\",\"ร\",MAXA(ประเมินตัวชี้วัดเทอม1!DJ47/2,ประเมินตัวชี้วัดเทอม1!DL47/2))))","v":""},{"$f":"IF(ประเมินตัวชี้วัดเทอม2!DL47=\"\",\"\",IF(ประเมินตัวชี้วัดเทอม2!DL47=\"-\",\"-\",IF(ประเมินตัวชี้วัดเทอม2!DL47=\"ร\",\"ร\",CONCATENATE(ประเมินตัวชี้วัดเทอม2!DL47/2))))","v":""},null,null,null,null,null,null,null,{"$f":"IF(เวลาเรียน!IP49=\"\",\"\",เวลาเรียน!IP49)","v":""}]
[{"$f":"CONCATENATE(Sheet1!C43&Sheet1!D43&\"       \"&Sheet1!E43)","v":"       "},null,{"$f":"IF(ประเมินตัวชี้วัดเทอม1!DJ48=\"\",\"\",IF(ประเมินตัวชี้วัดเทอม1!DJ48=\"-\",\"-\",IF(ประเมินตัวชี้วัดเทอม1!DJ48=\"ร\",\"ร\",MAXA(ประเมินตัวชี้วัดเทอม1!DJ48/2,ประเมินตัวชี้วัดเทอม1!DL48/2))))","v":""},{"$f":"IF(ประเมินตัวชี้วัดเทอม2!DL48=\"\",\"\",IF(ประเมินตัวชี้วัดเทอม2!DL48=\"-\",\"-\",IF(ประเมินตัวชี้วัดเทอม2!DL48=\"ร\",\"ร\",CONCATENATE(ประเมินตัวชี้วัดเทอม2!DL48/2))))","v":""},null,null,null,null,null,null,null,{"$f":"IF(เวลาเรียน!IP50=\"\",\"\",เวลาเรียน!IP50)","v":""}]
[{"$f":"CONCATENATE(Sheet1!C44&Sheet1!D44&\"       \"&Sheet1!E44)","v":"       "}]
[{"$f":"CONCATENATE(Sheet1!C45&Sheet1!D45&\"       \"&Sheet1!E45)","v":"       "}]
[{"$f":"CONCATENATE(Sheet1!C46&Sheet1!D46&\"       \"&Sheet1!E46)","v":"       "}]
[{"$f":"CONCATENATE(Sheet1!C47&Sheet1!D47&\"       \"&Sheet1!E47)","v":"       "},null,null,null,null,null,null,null,null,null,null,null,null,{"$f":"IF(ประเมินตัวชี้วัดเทอม2!CQ52=\"\",\"\",ประเมินตัวชี้วัดเทอม2!CQ52)","v":""},null,{"$f":"IF(ประเมินตัวชี้วัดเทอม2!CZ52=\"\",\"\",ประเมินตัวชี้วัดเทอม2!CZ52)","v":""}]
[{"$f":"CONCATENATE(Sheet1!C48&Sheet1!D48&\"       \"&Sheet1!E48)","v":"       "},null,null,null,null,null,null,null,null,null,null,null,null,{"$f":"IF(ประเมินตัวชี้วัดเทอม2!CQ53=\"\",\"\",ประเมินตัวชี้วัดเทอม2!CQ53)","v":""},null,{"$f":"IF(ประเมินตัวชี้วัดเทอม2!CZ53=\"\",\"\",ประเมินตัวชี้วัดเทอม2!CZ53)","v":""}]
[{"$f":"CONCATENATE(Sheet1!C49&Sheet1!D49&\"       \"&Sheet1!E49)","v":"       "},null,null,null,null,null,null,null,null,null,null,{"$f":"IF(เวลาเรียน!IP56=\"\",\"\",เวลาเรียน!IP56)","v":""},null,{"$f":"IF(ประเมินตัวชี้วัดเทอม2!CQ54=\"\",\"\",ประเมินตัวชี้วัดเทอม2!CQ54)","v":""},null,{"$f":"IF(ประเมินตัวชี้วัดเทอม2!CZ54=\"\",\"\",ประเมินตัวชี้วัดเทอม2!CZ54)","v":""}]
[{"$f":"CONCATENATE(Sheet1!C50&Sheet1!D50&\"       \"&Sheet1!E50)","v":"       "},null,null,null,null,null,null,null,null,null,null,{"$f":"IF(เวลาเรียน!IP57=\"\",\"\",เวลาเรียน!IP57)","v":""},null,{"$f":"IF(ประเมินตัวชี้วัดเทอม2!CQ55=\"\",\"\",ประเมินตัวชี้วัดเทอม2!CQ55)","v":""},null,{"$f":"IF(ประเมินตัวชี้วัดเทอม2!CZ55=\"\",\"\",ประเมินตัวชี้วัดเทอม2!CZ55)","v":""}]
[{"$f":"CONCATENATE(Sheet1!C51&Sheet1!D51&\"       \"&Sheet1!E51)","v":"       "},null,null,null,null,null,null,null,null,null,null,{"$f":"IF(เวลาเรียน!IP58=\"\",\"\",เวลาเรียน!IP58)","v":""},null,{"$f":"IF(ประเมินตัวชี้วัดเทอม2!CQ56=\"\",\"\",ประเมินตัวชี้วัดเทอม2!CQ56)","v":""},null,{"$f":"IF(ประเมินตัวชี้วัดเทอม2!CZ56=\"\",\"\",ประเมินตัวชี้วัดเทอม2!CZ56)","v":""}]
[null,null,null,null,null,null,null,null,null,null,null,null,null,null,null,null,null,null,null,{"$f":"STDEV(F8:F57)","v":{"$error":"#VALUE!"}}]

{"sheet":"คุณลักษณะอันพึงประสงค์","index":8,"n_rows":54,"n_cols":31,"rows_kept":54,"cut":false,"hidden":true,"merged":[[4,29,4,30],[2,0,3,0],[2,1,3,1],[5,28,6,28],[2,25,3,25],[1,0,1,2],[7,28,11,28],[12,28,14,28],[2,4,2,11],[2,13,3,13],[2,2,3,2],[2,3,3,3],[2,16,3,16],[2,17,2,24],[2,12,3,12],[2,26,3,26]]}
[null,null,"การประเมิน","คุณลักษณะอันพึงประสงค์ ภาคเรียนที่ 1",null,null,null,null,null,null,null,null,null,null,null,null,"คุณลักษณะอันพึงประสงค์"]
[{"$f":"\"นักเรียน\"&ปก!AF11&ปก!AL11","v":"นักเรียนชั้นประถมศึกษาปีที่{{โปรดกรอกข้อมูล}}"},null,null,{"$f":"ใบรายชื่อ!$A$4","v":"รายวิชา{{โปรดกรอกข้อมูลรายวิชา}}    รหัสวิชา {{โปรดกรอกรหัสวิชา}}    ปีการศึกษา 2568"},null,null,null,null,null,null,null,null,null,null,null,null,{"$f":"ใบรายชื่อ!$A$4","v":"รายวิชา{{โปรดกรอกข้อมูลรายวิชา}}    รหัสวิชา {{โปรดกรอกรหัสวิชา}}    ปีการศึกษา 2568"}]
["เลขที่","เลขประจำตัว","ชื่อ - ชื่อสกุล","เลขที่","คุณลักษณะอันพึงประสงค์ข้อที่",null,null,null,null,null,null,null,"ระดับผลการประเมิน","ผลการประเมิน\nภาคเรียนที่ 1",null,null,"เลขที่","คุณลักษณะอันพึงประสงค์ข้อที่",null,null,null,null,null,null,null,"ระดับผลการประเมิน","ผลการประเมิน"]
[null,null,null,null,1,2,3,4,5,6,7,8,null,null,null,null,null,1,2,3,4,5,6,7,8,null,null,null,"เกณฑ์การประเมินคุณลักษณะอันพึงประสงค์"]
[1,{"$f":"Sheet1!B2","v":17008},{"$f":"Sheet1!C2&Sheet1!#REF!&\"    \"&Sheet1!#REF!","v":{"$error":"#REF!"}},1,null,null,null,null,null,null,null,null,{"$f":"IF(N5=\"\",\"\",IF(N5=\"ดีเยี่ยม\",3,IF(N5=\"ดี\",2,IF(N5=\"ผ่าน\",1,IF(N5=\"ไม่ผ่าน\",0)))))","v":""},{"$f":"IF(E5=\"\",\"\",(IF(F5=\"\",\"\",(IF(G5=\"\",\"\",(IF(H5=\"\",\"\",(IF(I5=\"\",\"\",(IF(J5=\"\",\"\",IF(K5=\"\",\"\",(IF(L5=\"\",\"\",(IF(COUNTIF(E5:L5,0)>0,\"ไม่ผ่าน\",IF(AND(COUNTIF(E5:L5,3)>=5,COUNTIF(E5:L5,\"<2\")=0),\"ดีเยี่ยม\",IF(OR(AND(AND(COUNTIF(E5:L5,3)>=1,COUNTIF(E5:L5,3)<=4),COUNTIF(E5:L5,\"<2\")=0),COUNTIF(E5:L5,2)=8,AND(COUNTIF(E5:L5,\">=2\")>=5,COUNTIF(E5:L5,1)>0)),\"ดี\",IF(OR(COUNTIF(E5:L5,1)=8,AND(COUNTIF(E5:L5,\">=2\")>=1,COUNTIF(E5:L5,\">=2\")<=4)),\"ผ่าน\",\"ไม่ผ่าน\")))))))))))))))))))","v":""},"เก็บ+กลาง",{"$f":"SUM(#REF!,#REF!)","v":{"$error":"#REF!"}},1,null,null,null,null,null,null,null,null,{"$f":"IF(AA5=\"\",\"\",IF(AA5=\"ดีเยี่ยม\",3,IF(AA5=\"ดี\",2,IF(AA5=\"ผ่าน\",1,IF(AA5=\"ไม่ผ่าน\",0)))))","v":""},{"$f":"IF(R5=\"\",\"\",(IF(S5=\"\",\"\",(IF(T5=\"\",\"\",(IF(U5=\"\",\"\",(IF(V5=\"\",\"\",(IF(W5=\"\",\"\",IF(X5=\"\",\"\",(IF(Y5=\"\",\"\",(IF(COUNTIF(R5:Y5,0)>0,\"ไม่ผ่าน\",IF(AND(COUNTIF(R5:Y5,3)>=5,COUNTIF(R5:Y5,\"<2\")=0),\"ดีเยี่ยม\",IF(OR(AND(AND(COUNTIF(R5:Y5,3)>=1,COUNTIF(R5:Y5,3)<=4),COUNTIF(R5:Y5,\"<2\")=0),COUNTIF(R5:Y5,2)=8,AND(COUNTIF(R5:Y5,\">=2\")>=5,COUNTIF(R5:Y5,1)>0)),\"ดี\",IF(OR(COUNTIF(R5:Y5,1)=8,AND(COUNTIF(R5:Y5,\">=2\")>=1,COUNTIF(R5:Y5,\">=2\")<=4)),\"ผ่าน\",\"ไม่ผ่าน\")))))))))))))))))))","v":""},null,"ระดับ","เกณฑ์การพิจรณา"]
[2,{"$f":"Sheet1!B3","v":17009},{"$f":"Sheet1!C3&Sheet1!#REF!&\"    \"&Sheet1!#REF!","v":{"$error":"#REF!"}},2,null,null,null,null,null,null,null,null,{"$f":"IF(N6=\"\",\"\",IF(N6=\"ดีเยี่ยม\",3,IF(N6=\"ดี\",2,IF(N6=\"ผ่าน\",1,IF(N6=\"ไม่ผ่าน\",0)))))","v":""},{"$f":"IF(E6=\"\",\"\",(IF(F6=\"\",\"\",(IF(G6=\"\",\"\",(IF(H6=\"\",\"\",(IF(I6=\"\",\"\",(IF(J6=\"\",\"\",IF(K6=\"\",\"\",(IF(L6=\"\",\"\",(IF(COUNTIF(E6:L6,0)>0,\"ไม่ผ่าน\",IF(AND(COUNTIF(E6:L6,3)>=5,COUNTIF(E6:L6,\"<2\")=0),\"ดีเยี่ยม\",IF(OR(AND(AND(COUNTIF(E6:L6,3)>=1,COUNTIF(E6:L6,3)<=4),COUNTIF(E6:L6,\"<2\")=0),COUNTIF(E6:L6,2)=8,AND(COUNTIF(E6:L6,\">=2\")>=5,COUNTIF(E6:L6,1)>0)),\"ดี\",IF(OR(COUNTIF(E6:L6,1)=8,AND(COUNTIF(E6:L6,\">=2\")>=1,COUNTIF(E6:L6,\">=2\")<=4)),\"ผ่าน\",\"ไม่ผ่าน\")))))))))))))))))))","v":""},"ปลาย",{"$f":"#REF!","v":{"$error":"#REF!"}},2,null,null,null,null,null,null,null,null,{"$f":"IF(AA6=\"\",\"\",IF(AA6=\"ดีเยี่ยม\",3,IF(AA6=\"ดี\",2,IF(AA6=\"ผ่าน\",1,IF(AA6=\"ไม่ผ่าน\",0)))))","v":""},{"$f":"IF(R6=\"\",\"\",(IF(S6=\"\",\"\",(IF(T6=\"\",\"\",(IF(U6=\"\",\"\",(IF(V6=\"\",\"\",(IF(W6=\"\",\"\",IF(X6=\"\",\"\",(IF(Y6=\"\",\"\",(IF(COUNTIF(R6:Y6,0)>0,\"ไม่ผ่าน\",IF(AND(COUNTIF(R6:Y6,3)>=5,COUNTIF(R6:Y6,\"<2\")=0),\"ดีเยี่ยม\",IF(OR(AND(AND(COUNTIF(R6:Y6,3)>=1,COUNTIF(R6:Y6,3)<=4),COUNTIF(R6:Y6,\"<2\")=0),COUNTIF(R6:Y6,2)=8,AND(COUNTIF(R6:Y6,\">=2\")>=5,COUNTIF(R6:Y6,1)>0)),\"ดี\",IF(OR(COUNTIF(R6:Y6,1)=8,AND(COUNTIF(R6:Y6,\">=2\")>=1,COUNTIF(R6:Y6,\">=2\")<=4)),\"ผ่าน\",\"ไม่ผ่าน\")))))))))))))))))))","v":""},null,"ดีเยี่ยม(3)",1,"ได้ผลการประเมินระดับดีเยี่ยม จำนวน 5-8 คุณลักษณะ และไม่มีคุณลักษณะใด"]
[3,{"$f":"Sheet1!B4","v":17012},{"$f":"Sheet1!C4&Sheet1!#REF!&\"    \"&Sheet1!#REF!","v":{"$error":"#REF!"}},3,null,null,null,null,null,null,null,null,"",{"$f":"IF(E7=\"\",\"\",(IF(F7=\"\",\"\",(IF(G7=\"\",\"\",(IF(H7=\"\",\"\",(IF(I7=\"\",\"\",(IF(J7=\"\",\"\",IF(K7=\"\",\"\",(IF(L7=\"\",\"\",(IF(COUNTIF(E7:L7,0)>0,\"ไม่ผ่าน\",IF(AND(COUNTIF(E7:L7,3)>=5,COUNTIF(E7:L7,\"<2\")=0),\"ดีเยี่ยม\",IF(OR(AND(AND(COUNTIF(E7:L7,3)>=1,COUNTIF(E7:L7,3)<=4),COUNTIF(E7:L7,\"<2\")=0),COUNTIF(E7:L7,2)=8,AND(COUNTIF(E7:L7,\">=2\")>=5,COUNTIF(E7:L7,1)>0)),\"ดี\",IF(OR(COUNTIF(E7:L7,1)=8,AND(COUNTIF(E7:L7,\">=2\")>=1,COUNTIF(E7:L7,\">=2\")<=4)),\"ผ่าน\",\"ไม่ผ่าน\")))))))))))))))))))","v":""},"รวม",{"$f":"SUM(P5+P6)","v":{"$error":"#REF!"}},3,null,null,null,null,null,null,null,null,"",{"$f":"IF(R7=\"\",\"\",(IF(S7=\"\",\"\",(IF(T7=\"\",\"\",(IF(U7=\"\",\"\",(IF(V7=\"\",\"\",(IF(W7=\"\",\"\",IF(X7=\"\",\"\",(IF(Y7=\"\",\"\",(IF(COUNTIF(R7:Y7,0)>0,\"ไม่ผ่าน\",IF(AND(COUNTIF(R7:Y7,3)>=5,COUNTIF(R7:Y7,\"<2\")=0),\"ดีเยี่ยม\",IF(OR(AND(AND(COUNTIF(R7:Y7,3)>=1,COUNTIF(R7:Y7,3)<=4),COUNTIF(R7:Y7,\"<2\")=0),COUNTIF(R7:Y7,2)=8,AND(COUNTIF(R7:Y7,\">=2\")>=5,COUNTIF(R7:Y7,1)>0)),\"ดี\",IF(OR(COUNTIF(R7:Y7,1)=8,AND(COUNTIF(R7:Y7,\">=2\")>=1,COUNTIF(R7:Y7,\">=2\")<=4)),\"ผ่าน\",\"ไม่ผ่าน\")))))))))))))))))))","v":""},null,null,null,"ได้ผลการประเมินต่ำกว่าระดับดี"]
[4,{"$f":"Sheet1!B5","v":17020},{"$f":"Sheet1!C5&Sheet1!#REF!&\"    \"&Sheet1!#REF!","v":{"$error":"#REF!"}},4,null,null,null,null,null,null,null,null,"","",null,null,4,null,null,null,null,null,null,null,null,"","",null,"ดี(2)",1,"ได้ผลการประเมินระดับดีเยี่ยม จำนวน 1-4 คุณลักษณะ และไม่มีคุณลักษณะใด"]
[5,{"$f":"Sheet1!B6","v":17021},{"$f":"Sheet1!C6&Sheet1!#REF!&\"    \"&Sheet1!#REF!","v":{"$error":"#REF!"}},5,null,null,null,null,null,null,null,null,"","",null,null,5,null,null,null,null,null,null,null,null,"","",null,null,null,"ได้ผลการประเมินต่ำกว่าระดับดี หรือ"]
[6,{"$f":"Sheet1!B7","v":17022},{"$f":"Sheet1!C7&Sheet1!#REF!&\"    \"&Sheet1!#REF!","v":{"$error":"#REF!"}},6,null,null,null,null,null,null,null,null,"","",null,null,6,null,null,null,null,null,null,null,null,"","",null,null,2,"ได้ผลการประเมินระดับดี ทั้ง 8 คุณลักษณะ หรือ"]
[7,{"$f":"Sheet1!B8","v":17026},{"$f":"Sheet1!C8&Sheet1!#REF!&\"    \"&Sheet1!#REF!","v":{"$error":"#REF!"}},7,null,null,null,null,null,null,null,null,"","",null,null,7,null,null,null,null,null,null,null,null,"","",null,null,3,"ได้ผลการประเมินตั้งแต่ระดับดีขึ้นไป จำนวน 5-7 คุณลักษณะ และมีบางคุณลักษณะ"]
[8,{"$f":"Sheet1!B9","v":17035},{"$f":"Sheet1!C9&Sheet1!#REF!&\"    \"&Sheet1!#REF!","v":{"$error":"#REF!"}},8,null,null,null,null,null,null,null,null,"","",null,null,8,null,null,null,null,null,null,null,null,"","",null,null,null,"ได้ผลการประเมินระดับผ่าน"]
[9,{"$f":"Sheet1!B10","v":17038},{"$f":"Sheet1!C10&Sheet1!#REF!&\"    \"&Sheet1!#REF!","v":{"$error":"#REF!"}},9,null,null,null,null,null,null,null,null,"","",null,null,9,null,null,null,null,null,null,null,null,"","",null,"ผ่าน(1)",1,"ได้ผลการประเมินระดับผ่าน ทั้ง 8 คุณลักษณะ หรือ"]
[10,{"$f":"Sheet1!B11","v":17041},{"$f":"Sheet1!C11&Sheet1!#REF!&\"    \"&Sheet1!#REF!","v":{"$error":"#REF!"}},10,null,null,null,null,null,null,null,null,"","",null,null,10,null,null,null,null,null,null,null,null,"","",null,null,2,"ได้ผลการประเมินระดับดีขึ้นไป จำนวน 1-4 คุณลักษณะ และคุณลักษณะที่เหลือ"]
[11,{"$f":"Sheet1!B12","v":18181},{"$f":"Sheet1!C12&Sheet1!#REF!&\"    \"&Sheet1!#REF!","v":{"$error":"#REF!"}},11,null,null,null,null,null,null,null,null,"","",null,null,11,null,null,null,null,null,null,null,null,"","",null,null,null,"ได้ผลการประเมินระดับผ่าน"]
[12,{"$f":"Sheet1!B13","v":18185},{"$f":"Sheet1!C13&Sheet1!#REF!&\"    \"&Sheet1!#REF!","v":{"$error":"#REF!"}},12,null,null,null,null,null,null,null,null,"","",null,null,12,null,null,null,null,null,null,null,null,"","",null,"ไม่ผ่าน(0)",1,"ได้ผลการประเมินระดับไม่ผ่าน ตั้งแต่ 1 คุณลักษณะขึ้นไป"]
[13,{"$f":"Sheet1!B14","v":18270},{"$f":"Sheet1!C14&Sheet1!#REF!&\"    \"&Sheet1!#REF!","v":{"$error":"#REF!"}},13,null,null,null,null,null,null,null,null,"","",null,null,13,null,null,null,null,null,null,null,null,"",""]
[14,{"$f":"Sheet1!B15","v":18475},{"$f":"Sheet1!C15&Sheet1!#REF!&\"    \"&Sheet1!#REF!","v":{"$error":"#REF!"}},14,null,null,null,null,null,null,null,null,"","",null,null,14,null,null,null,null,null,null,null,null,"",""]
[15,{"$f":"Sheet1!B16","v":18521},{"$f":"Sheet1!C16&Sheet1!#REF!&\"    \"&Sheet1!#REF!","v":{"$error":"#REF!"}},15,null,null,null,null,null,null,null,null,"","",null,null,15,null,null,null,null,null,null,null,null,"",""]
[16,{"$f":"Sheet1!B17","v":18831},{"$f":"Sheet1!C17&Sheet1!#REF!&\"    \"&Sheet1!#REF!","v":{"$error":"#REF!"}},16,null,null,null,null,null,null,null,null,"","",null,null,16,null,null,null,null,null,null,null,null,"","",null,null,{"$f":"COUNTIF($AA$5:$AA$54,\"ไม่ผ่าน\")","v":0}]
[17,{"$f":"Sheet1!B18","v":18832},{"$f":"Sheet1!C18&Sheet1!#REF!&\"    \"&Sheet1!#REF!","v":{"$error":"#REF!"}},17,null,null,null,null,null,null,null,null,"","",null,null,17,null,null,null,null,null,null,null,null,"","",null,null,{"$f":"COUNTIF($AA$5:$AA$54,\"ผ่าน\")","v":0}]
[18,{"$f":"Sheet1!B19","v":18833},{"$f":"Sheet1!C19&Sheet1!#REF!&\"    \"&Sheet1!#REF!","v":{"$error":"#REF!"}},18,null,null,null,null,null,null,null,null,"","",null,null,18,null,null,null,null,null,null,null,null,"","",null,null,{"$f":"COUNTIF($AA$5:$AA$54,\"ดี\")","v":0}]
[19,{"$f":"Sheet1!B20","v":18834},{"$f":"Sheet1!C20&Sheet1!#REF!&\"    \"&Sheet1!#REF!","v":{"$error":"#REF!"}},19,null,null,null,null,null,null,null,null,"","",null,null,19,null,null,null,null,null,null,null,null,"","",null,null,{"$f":"COUNTIF($AA$5:$AA$54,\"ดีเยี่ยม\")","v":0}]
[20,{"$f":"Sheet1!B21","v":18835},{"$f":"Sheet1!C21&Sheet1!#REF!&\"    \"&Sheet1!#REF!","v":{"$error":"#REF!"}},20,null,null,null,null,null,null,null,null,"","",null,null,20,null,null,null,null,null,null,null,null,"",""]
[21,{"$f":"Sheet1!B22","v":18836},{"$f":"Sheet1!C22&Sheet1!#REF!&\"    \"&Sheet1!#REF!","v":{"$error":"#REF!"}},21,null,null,null,null,null,null,null,null,"","",null,null,21,null,null,null,null,null,null,null,null,"",""]
[22,{"$f":"Sheet1!B23","v":18837},{"$f":"Sheet1!C23&Sheet1!#REF!&\"    \"&Sheet1!#REF!","v":{"$error":"#REF!"}},22,null,null,null,null,null,null,null,null,"","",null,null,22,null,null,null,null,null,null,null,null,"",""]
[23,{"$f":"Sheet1!B24","v":18838},{"$f":"Sheet1!C24&Sheet1!#REF!&\"    \"&Sheet1!#REF!","v":{"$error":"#REF!"}},23,null,null,null,null,null,null,null,null,"","",null,null,23,null,null,null,null,null,null,null,null,"",""]
[24,{"$f":"Sheet1!B25","v":18839},{"$f":"Sheet1!C25&Sheet1!#REF!&\"    \"&Sheet1!#REF!","v":{"$error":"#REF!"}},24,null,null,null,null,null,null,null,null,"","",null,null,24,null,null,null,null,null,null,null,null,"",""]
[25,{"$f":"Sheet1!B26","v":18840},{"$f":"Sheet1!C26&Sheet1!#REF!&\"    \"&Sheet1!#REF!","v":{"$error":"#REF!"}},25,null,null,null,null,null,null,null,null,"","",null,null,25,null,null,null,null,null,null,null,null,"",""]
[26,{"$f":"Sheet1!B27","v":18841},{"$f":"Sheet1!C27&Sheet1!#REF!&\"    \"&Sheet1!#REF!","v":{"$error":"#REF!"}},26,null,null,null,null,null,null,null,null,"","",null,null,26,null,null,null,null,null,null,null,null,"",""]
[27,{"$f":"Sheet1!B28","v":18842},{"$f":"Sheet1!C28&Sheet1!#REF!&\"    \"&Sheet1!#REF!","v":{"$error":"#REF!"}},27,null,null,null,null,null,null,null,null,"","",null,null,27,null,null,null,null,null,null,null,null,"",""]
[28,{"$f":"Sheet1!B29","v":18843},{"$f":"Sheet1!C29&Sheet1!#REF!&\"    \"&Sheet1!#REF!","v":{"$error":"#REF!"}},28,null,null,null,null,null,null,null,null,"","",null,null,28,null,null,null,null,null,null,null,null,"",""]
[29,{"$f":"Sheet1!B30","v":19012},{"$f":"Sheet1!C30&Sheet1!#REF!&\"    \"&Sheet1!#REF!","v":{"$error":"#REF!"}},29,null,null,null,null,null,null,null,null,"","",null,null,29,null,null,null,null,null,null,null,null,"",""]
[30,{"$f":"Sheet1!B31","v":19013},{"$f":"Sheet1!C31&Sheet1!#REF!&\"    \"&Sheet1!#REF!","v":{"$error":"#REF!"}},30,null,null,null,null,null,null,null,null,"","",null,null,30,null,null,null,null,null,null,null,null,"",""]
[31,{"$f":"Sheet1!B32","v":19045},{"$f":"Sheet1!C32&Sheet1!#REF!&\"    \"&Sheet1!#REF!","v":{"$error":"#REF!"}},31,null,null,null,null,null,null,null,null,"","",null,null,31,null,null,null,null,null,null,null,null,"",""]
[32,{"$f":"Sheet1!B33","v":19635},{"$f":"Sheet1!C33&Sheet1!#REF!&\"    \"&Sheet1!#REF!","v":{"$error":"#REF!"}},32,null,null,null,null,null,null,null,null,"","",null,null,32,null,null,null,null,null,null,null,null,"",""]
[33,{"$f":"Sheet1!B34","v":19636},{"$f":"Sheet1!C34&Sheet1!#REF!&\"    \"&Sheet1!#REF!","v":{"$error":"#REF!"}},33,null,null,null,null,null,null,null,null,"","",null,null,33,null,null,null,null,null,null,null,null,"",""]
[34,{"$f":"Sheet1!B35","v":0},{"$f":"Sheet1!C35&Sheet1!#REF!&\"    \"&Sheet1!#REF!","v":{"$error":"#REF!"}},34,null,null,null,null,null,null,null,null,"","",null,null,34,null,null,null,null,null,null,null,null,"",""]
[35,{"$f":"Sheet1!B36","v":0},{"$f":"Sheet1!C36&Sheet1!#REF!&\"    \"&Sheet1!#REF!","v":{"$error":"#REF!"}},35,null,null,null,null,null,null,null,null,"","",null,null,35,null,null,null,null,null,null,null,null,"",""]
[36,{"$f":"Sheet1!B37","v":0},{"$f":"Sheet1!C37&Sheet1!#REF!&\"    \"&Sheet1!#REF!","v":{"$error":"#REF!"}},36,null,null,null,null,null,null,null,null,"","",null,null,36,null,null,null,null,null,null,null,null,"",""]
[37,{"$f":"Sheet1!B38","v":0},{"$f":"Sheet1!C38&Sheet1!#REF!&\"    \"&Sheet1!#REF!","v":{"$error":"#REF!"}},37,null,null,null,null,null,null,null,null,"","",null,null,37,null,null,null,null,null,null,null,null,"",""]
[38,{"$f":"Sheet1!B39","v":0},{"$f":"Sheet1!C39&Sheet1!#REF!&\"    \"&Sheet1!#REF!","v":{"$error":"#REF!"}},38,null,null,null,null,null,null,null,null,"","",null,null,38,null,null,null,null,null,null,null,null,"",""]
[39,{"$f":"Sheet1!B40","v":0},{"$f":"Sheet1!C40&Sheet1!#REF!&\"    \"&Sheet1!#REF!","v":{"$error":"#REF!"}},39,null,null,null,null,null,null,null,null,"","",null,null,39,null,null,null,null,null,null,null,null,"",""]
[40,{"$f":"Sheet1!B41","v":0},{"$f":"Sheet1!C41&Sheet1!#REF!&\"    \"&Sheet1!#REF!","v":{"$error":"#REF!"}},40,null,null,null,null,null,null,null,null,"","",null,null,40,null,null,null,null,null,null,null,null,"",""]
[41,{"$f":"Sheet1!B42","v":0},{"$f":"Sheet1!C42&Sheet1!#REF!&\"    \"&Sheet1!#REF!","v":{"$error":"#REF!"}},41,null,null,null,null,null,null,null,null,"","",null,null,41,null,null,null,null,null,null,null,null,"",""]
[42,{"$f":"Sheet1!B43","v":0},{"$f":"Sheet1!C43&Sheet1!#REF!&\"    \"&Sheet1!#REF!","v":{"$error":"#REF!"}},42,null,null,null,null,null,null,null,null,"","",null,null,42,null,null,null,null,null,null,null,null,"",""]
[43,{"$f":"Sheet1!B44","v":0},{"$f":"Sheet1!C44&Sheet1!#REF!&\"    \"&Sheet1!#REF!","v":{"$error":"#REF!"}},43,null,null,null,null,null,null,null,null,"","",null,null,43,null,null,null,null,null,null,null,null,"",""]
[44,{"$f":"Sheet1!B45","v":0},{"$f":"Sheet1!C45&Sheet1!#REF!&\"    \"&Sheet1!#REF!","v":{"$error":"#REF!"}},44,null,null,null,null,null,null,null,null,"","",null,null,44,null,null,null,null,null,null,null,null,"",""]
[45,{"$f":"Sheet1!B46","v":0},{"$f":"Sheet1!C46&Sheet1!#REF!&\"    \"&Sheet1!#REF!","v":{"$error":"#REF!"}},45,null,null,null,null,null,null,null,null,"","",null,null,45,null,null,null,null,null,null,null,null,"",""]
[46,{"$f":"Sheet1!B47","v":0},{"$f":"Sheet1!C47&Sheet1!#REF!&\"    \"&Sheet1!#REF!","v":{"$error":"#REF!"}},46,null,null,null,null,null,null,null,null,"","",null,null,46,null,null,null,null,null,null,null,null,"",""]
[47,{"$f":"Sheet1!B48","v":0},{"$f":"Sheet1!C48&Sheet1!#REF!&\"    \"&Sheet1!#REF!","v":{"$error":"#REF!"}},47,null,null,null,null,null,null,null,null,"","",null,null,47,null,null,null,null,null,null,null,null,"",""]
[48,{"$f":"Sheet1!B49","v":0},{"$f":"Sheet1!C49&Sheet1!#REF!&\"    \"&Sheet1!#REF!","v":{"$error":"#REF!"}},48,null,null,null,null,null,null,null,null,"","",null,null,48,null,null,null,null,null,null,null,null,"",""]
[49,{"$f":"Sheet1!B50","v":0},{"$f":"Sheet1!C50&Sheet1!#REF!&\"    \"&Sheet1!#REF!","v":{"$error":"#REF!"}},49,null,null,null,null,null,null,null,null,"","",null,null,49,null,null,null,null,null,null,null,null,"",""]
[50,{"$f":"Sheet1!B51","v":0},{"$f":"Sheet1!C51&Sheet1!#REF!&\"    \"&Sheet1!#REF!","v":{"$error":"#REF!"}},50,null,null,null,null,null,null,null,null,"","",null,null,50,null,null,null,null,null,null,null,null,"",""]

{"sheet":"อ่าน คิด วิเคราะห์","index":9,"n_rows":54,"n_cols":26,"rows_kept":54,"cut":false,"hidden":true,"merged":[[3,22,3,25],[4,24,4,25],[5,23,6,23],[2,0,3,0],[2,1,3,1],[2,2,3,2],[2,4,2,8],[2,9,3,10],[2,13,3,13],[2,3,3,3],[2,14,2,18],[2,19,3,20],[5,25,6,25],[7,23,8,23],[9,23,10,23],[11,23,13,23],[7,25,8,25],[9,25,10,25],[11,25,13,25],[15,22,16,25],[21,23,22,25],[23,23,24,25],[25,23,26,25],[17,22,18,22],[19,22,20,22],[21,22,22,22],[23,22,24,22],[25,22,26,22],[19,23,20,25],[17,23,18,25]]}
[null,null,"การประเมินความสามารถ","ในการอ่าน คิดวิเคราะห์ และเขียน ภาคเรียนที่ 1",null,null,null,null,null,null,null,null,null,"ในการอ่าน คิดวิเคราะห์ และเขียน"]
[null,null,{"$f":"\"นักเรียน\"&ปก!AF11&ปก!AL11&\" \"","v":"นักเรียนชั้นประถมศึกษาปีที่{{โปรดกรอกข้อมูล}} "},{"$f":"ใบรายชื่อ!$A$4","v":"รายวิชา{{โปรดกรอกข้อมูลรายวิชา}}    รหัสวิชา {{โปรดกรอกรหัสวิชา}}    ปีการศึกษา 2568"},null,null,null,null,null,null,null,null,null,{"$f":"ใบรายชื่อ!$A$4","v":"รายวิชา{{โปรดกรอกข้อมูลรายวิชา}}    รหัสวิชา {{โปรดกรอกรหัสวิชา}}    ปีการศึกษา 2568"}]
["เลขที่","เลขประจำตัว","ชื่อ - ชื่อสกุล","เลขที่","ตัวชี้วัดความสามารถในการอ่าน คิดวิเคราะห์ และเขียน",null,null,null,null,"ผลการประเมิน\nภาคเรียนที่ 1",null,null,null,"เลขที่","ตัวชี้วัดความสามารถในการอ่าน คิดวิเคราะห์ และเขียน",null,null,null,null,"ผลการประเมิน"]
[null,null,null,null,1,2,3,4,5,null,null,null,null,null,1,2,3,4,5,null,null,null,"เกณฑ์การประเมินความสามารถในการอ่าน คิดวิเคราะห์ และเขียน"]
[1,{"$f":"Sheet1!B2","v":17008},{"$f":"Sheet1!C2&Sheet1!#REF!&\"   \"&Sheet1!#REF!","v":{"$error":"#REF!"}},1,null,null,null,null,null,{"$f":"IF(E5=\"\",\"\",(IF(F5=\"\",\"\",(IF(G5=\"\",\"\",(IF(H5=\"\",\"\",(IF(I5=\"\",\"\",(SUM(E5:I5)/5))))))))))","v":""},{"$f":"IF(J5=\"\",\"\",(IF(J5>=2.5,\"ดีเยี่ยม\",(IF(J5>=1.5,\"ดี\",(IF(J5>=0.6,\"ผ่าน\",(IF(J5<=0.4,\"ไม่ผ่าน\")))))))))","v":""},"เก็บ+กลาง",{"$f":"SUM(#REF!,#REF!)","v":{"$error":"#REF!"}},1,null,null,null,null,null,{"$f":"IF(O5=\"\",\"\",(IF(P5=\"\",\"\",(IF(Q5=\"\",\"\",(IF(R5=\"\",\"\",(IF(S5=\"\",\"\",(SUM(O5:S5)/5))))))))))","v":""},{"$f":"IF(T5=\"\",\"\",(IF(T5>=2.5,\"ดีเยี่ยม\",(IF(T5>=1.5,\"ดี\",(IF(T5>=0.6,\"ผ่าน\",(IF(T5<=0.4,\"ไม่ผ่าน\")))))))))","v":""},null,null,"ระดับ","เกณฑ์การพิจรณา"]
[2,{"$f":"Sheet1!B3","v":17009},{"$f":"Sheet1!C3&Sheet1!#REF!&\"   \"&Sheet1!#REF!","v":{"$error":"#REF!"}},2,null,null,null,null,null,{"$f":"IF(E6=\"\",\"\",(IF(F6=\"\",\"\",(IF(G6=\"\",\"\",(IF(H6=\"\",\"\",(IF(I6=\"\",\"\",(SUM(E6:I6)/5))))))))))","v":""},{"$f":"IF(J6=\"\",\"\",(IF(J6>=2.5,\"ดีเยี่ยม\",(IF(J6>=1.5,\"ดี\",(IF(J6>=0.6,\"ผ่าน\",(IF(J6<=0.4,\"ไม่ผ่าน\")))))))))","v":""},"ปลาย",{"$f":"#REF!","v":{"$error":"#REF!"}},2,null,null,null,null,null,{"$f":"IF(O6=\"\",\"\",(IF(P6=\"\",\"\",(IF(Q6=\"\",\"\",(IF(R6=\"\",\"\",(IF(S6=\"\",\"\",(SUM(O6:S6)/5))))))))))","v":""},{"$f":"IF(T6=\"\",\"\",(IF(T6>=2.5,\"ดีเยี่ยม\",(IF(T6>=1.5,\"ดี\",(IF(T6>=0.6,\"ผ่าน\",(IF(T6<=0.4,\"ไม่ผ่าน\")))))))))","v":""},null,null,"ดีเยี่ยม(3)",null,"มีผลงานที่แสดงถึงความสามารถในการอ่าน คิดวิเคราะห์ และเขียน ที่มีคุณภาพดีเลิศอยู่เสมอ"]
[3,{"$f":"Sheet1!B4","v":17012},{"$f":"Sheet1!C4&Sheet1!#REF!&\"   \"&Sheet1!#REF!","v":{"$error":"#REF!"}},3,null,null,null,null,null,{"$f":"IF(E7=\"\",\"\",(IF(F7=\"\",\"\",(IF(G7=\"\",\"\",(IF(H7=\"\",\"\",(IF(I7=\"\",\"\",(SUM(E7:I7)/5))))))))))","v":""},"","รวม",{"$f":"SUM(M5+M6)","v":{"$error":"#REF!"}},3,null,null,null,null,null,{"$f":"IF(O7=\"\",\"\",(IF(P7=\"\",\"\",(IF(Q7=\"\",\"\",(IF(R7=\"\",\"\",(IF(S7=\"\",\"\",(SUM(O7:S7)/5))))))))))","v":""},""]
[4,{"$f":"Sheet1!B5","v":17020},{"$f":"Sheet1!C5&Sheet1!#REF!&\"   \"&Sheet1!#REF!","v":{"$error":"#REF!"}},4,null,null,null,null,null,"","",null,null,4,null,null,null,null,null,"","",null,null,"ดี(2)",null,"มีผลงานที่แสดงถึงความสามารถในการอ่าน คิดวิเคราะห์ และเขียน เป็นที่ยอมรับ"]
[5,{"$f":"Sheet1!B6","v":17021},{"$f":"Sheet1!C6&Sheet1!#REF!&\"   \"&Sheet1!#REF!","v":{"$error":"#REF!"}},5,null,null,null,null,null,"","",null,null,5,null,null,null,null,null,"",""]
[6,{"$f":"Sheet1!B7","v":17022},{"$f":"Sheet1!C7&Sheet1!#REF!&\"   \"&Sheet1!#REF!","v":{"$error":"#REF!"}},6,null,null,null,null,null,"","",null,null,6,null,null,null,null,null,"","",null,null,"ผ่าน(1)",null,"มีผลงานที่แสดงถึงความสามารถในการอ่าน คิดวิเคราะห์ และเขียน ทีมีข้อบกพร่องบางประการ"]
[7,{"$f":"Sheet1!B8","v":17026},{"$f":"Sheet1!C8&Sheet1!#REF!&\"   \"&Sheet1!#REF!","v":{"$error":"#REF!"}},7,null,null,null,null,null,"","",null,null,7,null,null,null,null,null,"",""]
[8,{"$f":"Sheet1!B9","v":17035},{"$f":"Sheet1!C9&Sheet1!#REF!&\"   \"&Sheet1!#REF!","v":{"$error":"#REF!"}},8,null,null,null,null,null,"","",null,null,8,null,null,null,null,null,"","",null,null,"ไม่ผ่าน(0)",null,"ไม่มีผลงานที่แสดงถึงความสามารถในการอ่าน คิดวิเคราะห์ และเขียนหรือถ้ามีผลงาน\nผลงานนั้นยังมีข้อบกพร่องที่ต้องได้รับการปรับปรุงแก้ไขหลายประการ"]
[9,{"$f":"Sheet1!B10","v":17038},{"$f":"Sheet1!C10&Sheet1!#REF!&\"   \"&Sheet1!#REF!","v":{"$error":"#REF!"}},9,null,null,null,null,null,"","",null,null,9,null,null,null,null,null,"",""]
[10,{"$f":"Sheet1!B11","v":17041},{"$f":"Sheet1!C11&Sheet1!#REF!&\"   \"&Sheet1!#REF!","v":{"$error":"#REF!"}},10,null,null,null,null,null,"","",null,null,10,null,null,null,null,null,"",""]
[11,{"$f":"Sheet1!B12","v":18181},{"$f":"Sheet1!C12&Sheet1!#REF!&\"   \"&Sheet1!#REF!","v":{"$error":"#REF!"}},11,null,null,null,null,null,"","",null,null,11,null,null,null,null,null,"",""]
[12,{"$f":"Sheet1!B13","v":18185},{"$f":"Sheet1!C13&Sheet1!#REF!&\"   \"&Sheet1!#REF!","v":{"$error":"#REF!"}},12,null,null,null,null,null,"","",null,null,12,null,null,null,null,null,"","",null,{"$f":"\" \"&\"ตัวชี้วัดความสามารถในการอ่าน คิดวิคราะห์ และเขียน \"&\"ระดับชั้น\"&ปก!AN11&\" \"&IF(ปก!C19=3,\"(ม.1-3)\",IF(ปก!C19=4,\"(ม.4-6)\"))","v":" ตัวชี้วัดความสามารถในการอ่าน คิดวิคราะห์ และเขียน ระดับชั้นระดับประถมศึกษาตอนต้น(ป.1-3) FALSE"}]
[13,{"$f":"Sheet1!B14","v":18270},{"$f":"Sheet1!C14&Sheet1!#REF!&\"   \"&Sheet1!#REF!","v":{"$error":"#REF!"}},13,null,null,null,null,null,"","",null,null,13,null,null,null,null,null,"",""]
[14,{"$f":"Sheet1!B15","v":18475},{"$f":"Sheet1!C15&Sheet1!#REF!&\"   \"&Sheet1!#REF!","v":{"$error":"#REF!"}},14,null,null,null,null,null,"","",null,null,14,null,null,null,null,null,"","",null,"1.",{"$f":"IF(ปก!BA2=\"บ\",\"สามารถคัดสรรสื่อที่ต้องการอ่านเพื่อหาข้อมูลสารสนเทศได้ตามวัตถุประสงค์ สามารถสร้างความเข้าใจและประยุกต์ใช้ความรู้จากการอ่าน \",IF(ปก!BA2=\"พ\",\"สามารถอ่านเพื่อการศึกษาค้นคว้า เพิ่มพูนความรู้ ประสบการณ์ และการประยุกต์ใช้ในชีวิตประจำวัน\"))","v":false}]
[15,{"$f":"Sheet1!B16","v":18521},{"$f":"Sheet1!C16&Sheet1!#REF!&\"   \"&Sheet1!#REF!","v":{"$error":"#REF!"}},15,null,null,null,null,null,"","",null,null,15,null,null,null,null,null,"",""]
[16,{"$f":"Sheet1!B17","v":18831},{"$f":"Sheet1!C17&Sheet1!#REF!&\"   \"&Sheet1!#REF!","v":{"$error":"#REF!"}},16,null,null,null,null,null,"","",null,null,16,null,null,null,null,null,"","",null,"2.",{"$f":"IF(ปก!BA2=\"บ\",\"สามารถจับประเด็นสำคัญและประเด็นสนับสนุน โต้แย้ง\",IF(ปก!BA2=\"พ\",\"สามารถจับประเด็นสำคัญ ลำดับเหตุการณ์จากการอ่านสื่อที่มีความซับซ้อน\"))","v":false}]
[17,{"$f":"Sheet1!B18","v":18832},{"$f":"Sheet1!C18&Sheet1!#REF!&\"   \"&Sheet1!#REF!","v":{"$error":"#REF!"}},17,null,null,null,null,null,"","",null,null,17,null,null,null,null,null,"",""]
[18,{"$f":"Sheet1!B19","v":18833},{"$f":"Sheet1!C19&Sheet1!#REF!&\"   \"&Sheet1!#REF!","v":{"$error":"#REF!"}},18,null,null,null,null,null,"","",null,null,18,null,null,null,null,null,"","",null,"3.",{"$f":"IF(ปก!BA2=\"บ\",\"สามารถวิเคราะห์ วิจารณ์ ความสมเหตุสมผล ความน่าเชื่อถือ ลำดับความเป็นไปได้ของเรื่องที่อ่าน\",IF(ปก!BA2=\"พ\",\"สามารถวิเคราะห์สิ่งที่ผู้เขียนต้องการสื่อสารกับผู้อ่าน และสามารถวิพากษ์ ให้ข้อเสนอแนะในแง่มุมต่างๆ\"))","v":false}]
[19,{"$f":"Sheet1!B20","v":18834},{"$f":"Sheet1!C20&Sheet1!#REF!&\"   \"&Sheet1!#REF!","v":{"$error":"#REF!"}},19,null,null,null,null,null,"","",null,null,19,null,null,null,null,null,"",""]
[20,{"$f":"Sheet1!B21","v":18835},{"$f":"Sheet1!C21&Sheet1!#REF!&\"   \"&Sheet1!#REF!","v":{"$error":"#REF!"}},20,null,null,null,null,null,"","",null,null,20,null,null,null,null,null,"","",null,"4.",{"$f":"IF(ปก!BA2=\"บ\",\"สามารถสรุปคุณค่า แนวคิด แง่คิดที่ได้จากการอ่าน\",IF(ปก!BA2=\"พ\",\"สามารถประเมินความน่าเชื่อถือ คุณค่า แนวคิดที่ได้จากสิ่งที่อ่านอย่างหลากหลาย\"))","v":false}]
[21,{"$f":"Sheet1!B22","v":18836},{"$f":"Sheet1!C22&Sheet1!#REF!&\"   \"&Sheet1!#REF!","v":{"$error":"#REF!"}},21,null,null,null,null,null,"","",null,null,21,null,null,null,null,null,"",""]
[22,{"$f":"Sheet1!B23","v":18837},{"$f":"Sheet1!C23&Sheet1!#REF!&\"   \"&Sheet1!#REF!","v":{"$error":"#REF!"}},22,null,null,null,null,null,"","",null,null,22,null,null,null,null,null,"","",null,"5.",{"$f":"IF(ปก!BA2=\"บ\",\"สามารถสรุป อภิปราย ขยายความ แสดงความคิดเห็น โต้แย้ง สนันสนุน โน้มน้าว โดยการเขียนสื่อสารในรูปแบบต่างๆ เช่น ผังความคิด เป็นต้น\",IF(ปก!BA2=\"พ\",\"สามารถเขียนแสดงความคิดเห็น โต้แย้ง สรุป โดยมีข้อมูลอธิบายสนับสนุนอย่างเพียงพอ และสมเหตุสมผล\"))","v":false}]
[23,{"$f":"Sheet1!B24","v":18838},{"$f":"Sheet1!C24&Sheet1!#REF!&\"   \"&Sheet1!#REF!","v":{"$error":"#REF!"}},23,null,null,null,null,null,"","",null,null,23,null,null,null,null,null,"",""]
[24,{"$f":"Sheet1!B25","v":18839},{"$f":"Sheet1!C25&Sheet1!#REF!&\"   \"&Sheet1!#REF!","v":{"$error":"#REF!"}},24,null,null,null,null,null,"","",null,null,24,null,null,null,null,null,"",""]
[25,{"$f":"Sheet1!B26","v":18840},{"$f":"Sheet1!C26&Sheet1!#REF!&\"   \"&Sheet1!#REF!","v":{"$error":"#REF!"}},25,null,null,null,null,null,"","",null,null,25,null,null,null,null,null,"",""]
[26,{"$f":"Sheet1!B27","v":18841},{"$f":"Sheet1!C27&Sheet1!#REF!&\"   \"&Sheet1!#REF!","v":{"$error":"#REF!"}},26,null,null,null,null,null,"","",null,null,26,null,null,null,null,null,"","",null,null,{"$f":"COUNTIF($U$5:$U$54,\"ไม่ผ่าน\")","v":0}]
[27,{"$f":"Sheet1!B28","v":18842},{"$f":"Sheet1!C28&Sheet1!#REF!&\"   \"&Sheet1!#REF!","v":{"$error":"#REF!"}},27,null,null,null,null,null,"","",null,null,27,null,null,null,null,null,"","",null,null,{"$f":"COUNTIF($U$5:$U$54,\"ผ่าน\")","v":0}]
[28,{"$f":"Sheet1!B29","v":18843},{"$f":"Sheet1!C29&Sheet1!#REF!&\"   \"&Sheet1!#REF!","v":{"$error":"#REF!"}},28,null,null,null,null,null,"","",null,null,28,null,null,null,null,null,"","",null,null,{"$f":"COUNTIF($U$5:$U$54,\"ดี\")","v":0}]
[29,{"$f":"Sheet1!B30","v":19012},{"$f":"Sheet1!C30&Sheet1!#REF!&\"   \"&Sheet1!#REF!","v":{"$error":"#REF!"}},29,null,null,null,null,null,"","",null,null,29,null,null,null,null,null,"","",null,null,{"$f":"COUNTIF($U$5:$U$54,\"ดีเยี่ยม\")","v":0}]
[30,{"$f":"Sheet1!B31","v":19013},{"$f":"Sheet1!C31&Sheet1!#REF!&\"   \"&Sheet1!#REF!","v":{"$error":"#REF!"}},30,null,null,null,null,null,"","",null,null,30,null,null,null,null,null,"",""]
[31,{"$f":"Sheet1!B32","v":19045},{"$f":"Sheet1!C32&Sheet1!#REF!&\"   \"&Sheet1!#REF!","v":{"$error":"#REF!"}},31,null,null,null,null,null,"","",null,null,31,null,null,null,null,null,"",""]
[32,{"$f":"Sheet1!B33","v":19635},{"$f":"Sheet1!C33&Sheet1!#REF!&\"   \"&Sheet1!#REF!","v":{"$error":"#REF!"}},32,null,null,null,null,null,"","",null,null,32,null,null,null,null,null,"",""]
[33,{"$f":"Sheet1!B34","v":19636},{"$f":"Sheet1!C34&Sheet1!#REF!&\"   \"&Sheet1!#REF!","v":{"$error":"#REF!"}},33,null,null,null,null,null,"",{"$f":"IF(J37=\"\",\"\",(IF(J37>=2.5,\"ดีเยี่ยม\",(IF(J37>=1.5,\"ดี\",(IF(J37>=0.6,\"ผ่าน\",(IF(J37<=0.4,\"ไม่ผ่าน\")))))))))","v":""},null,null,33,null,null,null,null,null,"",{"$f":"IF(T37=\"\",\"\",(IF(T37>=2.5,\"ดีเยี่ยม\",(IF(T37>=1.5,\"ดี\",(IF(T37>=0.6,\"ผ่าน\",(IF(T37<=0.4,\"ไม่ผ่าน\")))))))))","v":""}]
[34,{"$f":"Sheet1!B35","v":0},{"$f":"Sheet1!C35&Sheet1!#REF!&\"   \"&Sheet1!#REF!","v":{"$error":"#REF!"}},34,null,null,null,null,null,"","",null,null,34,null,null,null,null,null,"",{"$f":"IF(T38=\"\",\"\",(IF(T38>=2.5,\"ดีเยี่ยม\",(IF(T38>=1.5,\"ดี\",(IF(T38>=0.6,\"ผ่าน\",(IF(T38<=0.4,\"ไม่ผ่าน\")))))))))","v":""}]
[35,{"$f":"Sheet1!B36","v":0},{"$f":"Sheet1!C36&Sheet1!#REF!&\"   \"&Sheet1!#REF!","v":{"$error":"#REF!"}},35,null,null,null,null,null,"","",null,null,35,null,null,null,null,null,"",""]
[36,{"$f":"Sheet1!B37","v":0},{"$f":"Sheet1!C37&Sheet1!#REF!&\"   \"&Sheet1!#REF!","v":{"$error":"#REF!"}},36,null,null,null,null,null,"","",null,null,36,null,null,null,null,null,"",""]
[37,{"$f":"Sheet1!B38","v":0},{"$f":"Sheet1!C38&Sheet1!#REF!&\"   \"&Sheet1!#REF!","v":{"$error":"#REF!"}},37,null,null,null,null,null,"","",null,null,37,null,null,null,null,null,"",""]
[38,{"$f":"Sheet1!B39","v":0},{"$f":"Sheet1!C39&Sheet1!#REF!&\"   \"&Sheet1!#REF!","v":{"$error":"#REF!"}},38,null,null,null,null,null,"","",null,null,38,null,null,null,null,null,"",""]
[39,{"$f":"Sheet1!B40","v":0},{"$f":"Sheet1!C40&Sheet1!#REF!&\"   \"&Sheet1!#REF!","v":{"$error":"#REF!"}},39,null,null,null,null,null,"","",null,null,39,null,null,null,null,null,"",""]
[40,{"$f":"Sheet1!B41","v":0},{"$f":"Sheet1!C41&Sheet1!#REF!&\"   \"&Sheet1!#REF!","v":{"$error":"#REF!"}},40,null,null,null,null,null,"","",null,null,40,null,null,null,null,null,"",""]
[41,{"$f":"Sheet1!B42","v":0},{"$f":"Sheet1!C42&Sheet1!#REF!&\"   \"&Sheet1!#REF!","v":{"$error":"#REF!"}},41,null,null,null,null,null,{"$f":"IF(E45=\"\",\"\",(IF(F45=\"\",\"\",(IF(G45=\"\",\"\",(IF(H45=\"\",\"\",(IF(I45=\"\",\"\",(SUM(E45:I45)/5))))))))))","v":""},{"$f":"IF(J45=\"\",\"\",(IF(J45>=2.5,\"ดีเยี่ยม\",(IF(J45>=1.5,\"ดี\",(IF(J45>=0.6,\"ผ่าน\",(IF(J45<=0.4,\"ไม่ผ่าน\")))))))))","v":""},null,null,41,null,null,null,null,null,{"$f":"IF(O45=\"\",\"\",(IF(P45=\"\",\"\",(IF(Q45=\"\",\"\",(IF(R45=\"\",\"\",(IF(S45=\"\",\"\",(SUM(O45:S45)/5))))))))))","v":""},{"$f":"IF(T45=\"\",\"\",(IF(T45>=2.5,\"ดีเยี่ยม\",(IF(T45>=1.5,\"ดี\",(IF(T45>=0.6,\"ผ่าน\",(IF(T45<=0.4,\"ไม่ผ่าน\")))))))))","v":""}]
[42,{"$f":"Sheet1!B43","v":0},{"$f":"Sheet1!C43&Sheet1!#REF!&\"   \"&Sheet1!#REF!","v":{"$error":"#REF!"}},42,null,null,null,null,null,"","",null,null,42,null,null,null,null,null,"",""]
[43,{"$f":"Sheet1!B44","v":0},{"$f":"Sheet1!C44&Sheet1!#REF!&\"   \"&Sheet1!#REF!","v":{"$error":"#REF!"}},43,null,null,null,null,null,"","",null,null,43,null,null,null,null,null,"",""]
[44,{"$f":"Sheet1!B45","v":0},{"$f":"Sheet1!C45&Sheet1!#REF!&\"   \"&Sheet1!#REF!","v":{"$error":"#REF!"}},44,null,null,null,null,null,"","",null,null,44,null,null,null,null,null,"",""]
[45,{"$f":"Sheet1!B46","v":0},{"$f":"Sheet1!C46&Sheet1!#REF!&\"   \"&Sheet1!#REF!","v":{"$error":"#REF!"}},45,null,null,null,null,null,"","",null,null,45,null,null,null,null,null,"",""]
[46,{"$f":"Sheet1!B47","v":0},{"$f":"Sheet1!C47&Sheet1!#REF!&\"   \"&Sheet1!#REF!","v":{"$error":"#REF!"}},46,null,null,null,null,null,"","",null,null,46,null,null,null,null,null,"",""]
[47,{"$f":"Sheet1!B48","v":0},{"$f":"Sheet1!C48&Sheet1!#REF!&\"   \"&Sheet1!#REF!","v":{"$error":"#REF!"}},47,null,null,null,null,null,"","",null,null,47,null,null,null,null,null,"",""]
[48,{"$f":"Sheet1!B49","v":0},{"$f":"Sheet1!C49&Sheet1!#REF!&\"   \"&Sheet1!#REF!","v":{"$error":"#REF!"}},48,null,null,null,null,null,"","",null,null,48,null,null,null,null,null,"",""]
[49,{"$f":"Sheet1!B50","v":0},{"$f":"Sheet1!C50&Sheet1!#REF!&\"   \"&Sheet1!#REF!","v":{"$error":"#REF!"}},49,null,null,null,null,null,"","",null,null,49,null,null,null,null,null,"",""]
[50,{"$f":"Sheet1!B51","v":0},{"$f":"Sheet1!C51&Sheet1!#REF!&\"   \"&Sheet1!#REF!","v":{"$error":"#REF!"}},50,null,null,null,null,null,"","",null,null,50,null,null,null,null,null,"",""]

{"sheet":"โครงสร้างรายวิชา","index":10,"n_rows":196,"n_cols":31,"rows_kept":196,"cut":false,"hidden":false,"merged":[[79,6,79,7],[80,6,80,7],[83,4,83,5],[0,0,0,5],[0,6,0,7],[1,6,2,6],[1,7,2,7],[79,0,79,1],[1,2,1,5],[48,0,48,5],[48,6,48,7],[1,0,2,0],[1,1,2,1],[50,0,50,5],[51,0,52,0],[51,1,52,1],[51,2,51,5],[0,26,0,31],[1,26,2,26],[1,27,2,27],[1,28,1,31],[48,26,48,31],[50,26,50,31],[51,26,52,26],[51,27,52,27],[51,28,51,31],[51,6,52,6],[51,7,52,7],[50,6,50,7],[80,26,80,27],[79,26,79,27],[96,26,96,31],[91,4,91,5],[91,30,91,31],[96,0,96,7],[85,4,85,5],[87,4,87,5],[86,4,86,5],[87,30,87,31],[85,30,85,31],[86,30,86,31],[80,0,80,1],[83,30,83,31],[84,30,84,31],[84,4,84,5]]}
[{"$f":"\"โครงสร้างรายวิชา \"&ปก!AC15&\"  \"&\"รหัสวิชา\"&\" \"&ปก!AS15","v":"โครงสร้างรายวิชา {{โปรดกรอกข้อมูลรายวิชา}}  รหัสวิชา {{โปรดกรอกรหัสวิชา}}"}]
["ข้อที่",{"$f":"IF(ปก!C25=\"\",\"\",IF(ปก!C25=\"พื้นฐาน\",\"ตัวชี้วัด\",IF(ปก!C25=\"เพิ่มเติม\",\"ผลการเรียนรู้\")))","v":""},"คะแนนประเมินผลรายภาค",null,null,null,"P","A"]
[null,null,"ก่อน\nกลาง\nภาค","หลัง\nกลาง\nภาค","สอบ\nกลาง\nภาค","สอบ\nปลาย\nภาค"]
[null,null,null,null,null,null,5,5]
[]
[]
[]
[]
[]
[]
[]
[]
[]
[]
[]
[]
[]
[]
[]
[]
[]
[]
[]
[]
[]
[]
[]
[]
[]
[]
[]
[]
[]
[]
[]
[]
[]
[]
[]
[]
[]
[]
[]
[]
[]
[]
[null,null,null,null,null,null,{"$f":"SUM(G3:G46)","v":5},{"$f":"SUM(H3:H46)","v":5}]
[]
[{"$f":"\"เวลาเรียน  \"&ปก!AC16&\"  \"&ปก!AE16","v":"เวลาเรียน  0  ชั่วโมงต่อปี"}]
[]
[{"$f":"\"โครงสร้างรายวิชา \"&ปก!AC15&\"  \"&\"รหัสวิชา\"&\" \"&ปก!AS15&\"  (หน้า 2)\"","v":"โครงสร้างรายวิชา {{โปรดกรอกข้อมูลรายวิชา}}  รหัสวิชา {{โปรดกรอกรหัสวิชา}}  (หน้า 2)"}]
["ข้อที่",{"$f":"IF(ปก!C25=\"\",\"\",IF(ปก!C25=\"พื้นฐาน\",\"ตัวชี้วัด\",IF(ปก!C25=\"เพิ่มเติม\",\"ผลการเรียนรู้\")))","v":""},"คะแนนประเมินผลรายภาค",null,null,null,"P","A"]
[null,null,"ก่อน\nกลาง\nภาค","หลัง\nกลาง\nภาค","สอบ\nกลาง\nภาค","สอบ\nปลาย\nภาค"]
[]
[]
[]
[]
[]
[]
[]
[]
[]
[]
[]
[]
[]
[]
[]
[]
[]
[]
[]
[]
[]
[]
[]
[]
[]
[]
["คะแนนรวม",null,{"$f":"SUM(C4:C48,C54:C79)","v":0},{"$f":"SUM(D4:D48,D54:D79)","v":0},{"$f":"SUM(E4:E48,E54:E79)","v":0},{"$f":"SUM(F4:F48,F54:F79)","v":0}]
["คะแนนจริง (100 คะแนน)",null,{"$f":"ประเมินตัวชี้วัดเทอม1!DA6","v":20},{"$f":"ประเมินตัวชี้วัดเทอม1!DB6","v":20},{"$f":"ประเมินตัวชี้วัดเทอม1!DC6","v":30},{"$f":"ประเมินตัวชี้วัดเทอม1!DG6","v":30}]
["ข้อที่","การอ่าน คิด วิเคราะห์ และเขียน","คะแนน"]
[1,{"$f":"IF([6]ปก!C25=\"\",\"\",IF([6]ปก!C18=\"ประถมศึกษาตอนต้น(ป.1-3)\",\"สามารถอ่านและหาประสบการณ์จากสื่อที่หลากหลาย\",IF([6]ปก!C18=\"ประถมศึกษาตอนปลาย(ป.4-6)\",\"สามารถอ่านเพื่อหาข้อมูลสารสนเทศเสริมประสบการณ์จากสื่อประเภทต่างๆ\")))","v":"สามารถอ่านเพื่อหาข้อมูลสารสนเทศเสริมประสบการณ์จากสื่อประเภทต่างๆ"},"0-3"]
[2,{"$f":"IF([6]ปก!C25=\"\",\"\",IF([6]ปก!C18=\"ประถมศึกษาตอนต้น(ป.1-3)\",\"สามารถจับประเด็นสำคัญ ข้อเท็จจริง ความคิดเห็นเรื่องที่อ่าน\",IF([6]ปก!C18=\"ประถมศึกษาตอนปลาย(ป.4-6)\",\"สามารถจับประเด็นสำคัญ เปรียบเทียบ เชื่อมโยงความเป็นเหตุเป็นผลจากเรื่องที่อ่าน\")))","v":"สามารถจับประเด็นสำคัญ เปรียบเทียบ เชื่อมโยงความเป็นเหตุเป็นผลจากเรื่องที่อ่าน"},"0-3",3," = ดีเยี่ยม (ดย)"]
[3,{"$f":"IF([6]ปก!C25=\"\",\"\",IF([6]ปก!C18=\"ประถมศึกษาตอนต้น(ป.1-3)\",\"สามารถเปรียบเทียบแง่มุมต่างๆ เช่น ข้อดี ข้อเสีย ประโยชน์ โทษ ความเหมาะสม ไม่เหมาะสม\",IF([6]ปก!C18=\"ประถมศึกษาตอนปลาย(ป.4-6)\",\"สามารถเชื่อมโยงความสัมพันธ์ของเรื่องราว เหตุการณ์ของเรื่องที่อ่าน\")))","v":"สามารถเชื่อมโยงความสัมพันธ์ของเรื่องราว เหตุการณ์ของเรื่องที่อ่าน"},"0-3",2," = ดี (ด)"]
[4,{"$f":"IF([6]ปก!C25=\"\",\"\",IF([6]ปก!C18=\"ประถมศึกษาตอนต้น(ป.1-3)\",\"สามารถแสดงความคิดเห็นต่อเรื่องที่อ่าน โดยมีเหตุผลประกอบ\",IF([6]ปก!C18=\"ประถมศึกษาตอนปลาย(ป.4-6)\",\"สามารถแสดงความคิดเห็นต่อเรื่องที่อ่าน โดยมีเหตุผลสนับสนุน\")))","v":"สามารถแสดงความคิดเห็นต่อเรื่องที่อ่าน โดยมีเหตุผลสนับสนุน"},"0-3",1," = ผ่าน (ผ)"]
[5,{"$f":"IF([6]ปก!C25=\"\",\"\",IF([6]ปก!C18=\"ประถมศึกษาตอนต้น(ป.1-3)\",\"สามารถถ่ายทอดความคิดเห็น ความรู้สึกจากเรื่องที่อ่านโดยการเขียน\",IF([6]ปก!C18=\"ประถมศึกษาตอนปลาย(ป.4-6)\",\"สามารถถ่ายทอดความเข้าใจ ความคิดเห็น คุณค่าจากเรื่องที่อ่านโดยการเขียน\")))","v":"สามารถถ่ายทอดความเข้าใจ ความคิดเห็น คุณค่าจากเรื่องที่อ่านโดยการเขียน"},"0-3",0," = ไม่ผ่าน"]
["ข้อที่","คุณลักษณะอันพึงประสงค์","คะแนน"]
[1,"รักชาติ ศาสตร์ กษัตริย์","0-3"]
[2,"ชื่อสัตย์สุจริต","0-3"]
[3,"มีวินัย","0-3"]
[4,"ใฝ่เรียนรู้","0-3"]
[5,"อยู่อย่างพอเพียง","0-3"]
[6,"มุ่งมันในการทำงาน","0-3"]
[7,"รักความเป็นไทย","0-3"]
[8,"มีจิตสาธารณะ","0-3",null,null,null,{"$f":"SUM(G53:G95)","v":0},{"$f":"SUM(H53:H95)","v":0}]
[]
[]
[]
[]
[]
[]
[]
[]
[]
[]
[null,null,null,null,"ม.1/1",null,null,null,null,null,null,null,null,null,null,null,null,null,null,null,null,null,null,null,null,null,null,null,null,null,"ม.1/1"]
[null,null,null,null,"ม.1/2",null,null,null,null,null,null,null,null,null,null,null,null,null,null,null,null,null,null,null,null,null,null,null,null,null,"ม.1/2"]
[null,null,null,null,"ม.1/3",null,null,null,null,null,null,null,null,null,null,null,null,null,null,null,null,null,null,null,null,null,null,null,null,null,"ม.1/3"]
[null,null,null,null,"ม.1/4",null,null,null,null,null,null,null,null,null,null,null,null,null,null,null,null,null,null,null,null,null,null,null,null,null,"ม.1/4"]
[null,null,null,null,"ม.1/5",null,null,null,null,null,null,null,null,null,null,null,null,null,null,null,null,null,null,null,null,null,null,null,null,null,"ม.1/5"]
[null,null,null,null,"ม.1/6",null,null,null,null,null,null,null,null,null,null,null,null,null,null,null,null,null,null,null,null,null,null,null,null,null,"ม.1/6"]
[null,null,null,null,"ม.1/7",null,null,null,null,null,null,null,null,null,null,null,null,null,null,null,null,null,null,null,null,null,null,null,null,null,"ม.1/7"]
[null,null,null,null,"ม.1/8",null,null,null,null,null,null,null,null,null,null,null,null,null,null,null,null,null,null,null,null,null,null,null,null,null,"ม.1/8"]
[null,null,null,null,"ม.1/9",null,null,null,null,null,null,null,null,null,null,null,null,null,null,null,null,null,null,null,null,null,null,null,null,null,"ม.1/9"]
[null,null,null,null,"ม.1/10",null,null,null,null,null,null,null,null,null,null,null,null,null,null,null,null,null,null,null,null,null,null,null,null,null,"ม.1/10"]
[null,null,null,null,"ม.2/1",null,null,null,null,null,null,null,null,null,null,null,null,null,null,null,null,null,null,null,null,null,null,null,null,null,"ม.2/1"]
[null,null,null,null,"ม.2/2",null,null,null,null,null,null,null,null,null,null,null,null,null,null,null,null,null,null,null,null,null,null,null,null,null,"ม.2/2"]
[null,null,null,null,"ม.2/3",null,null,null,null,null,null,null,null,null,null,null,null,null,null,null,null,null,null,null,null,null,null,null,null,null,"ม.2/3"]
[null,null,null,null,"ม.2/4",null,null,null,null,null,null,null,null,null,null,null,null,null,null,null,null,null,null,null,null,null,null,null,null,null,"ม.2/4"]
[null,null,null,null,"ม.2/5",null,null,null,null,null,null,null,null,null,null,null,null,null,null,null,null,null,null,null,null,null,null,null,null,null,"ม.2/5"]
[null,null,null,null,"ม.2/6",null,null,null,null,null,null,null,null,null,null,null,null,null,null,null,null,null,null,null,null,null,null,null,null,null,"ม.2/6"]
[null,null,null,null,"ม.2/7",null,null,null,null,null,null,null,null,null,null,null,null,null,null,null,null,null,null,null,null,null,null,null,null,null,"ม.2/7"]
[null,null,null,null,"ม.2/8",null,null,null,null,null,null,null,null,null,null,null,null,null,null,null,null,null,null,null,null,null,null,null,null,null,"ม.2/8"]
[null,null,null,null,"ม.2/9",null,null,null,null,null,null,null,null,null,null,null,null,null,null,null,null,null,null,null,null,null,null,null,null,null,"ม.2/9"]
[null,null,null,null,"ม.2/10",null,null,null,null,null,null,null,null,null,null,null,null,null,null,null,null,null,null,null,null,null,null,null,null,null,"ม.2/10"]
[null,null,null,null,"ม.3/1",null,null,null,null,null,null,null,null,null,null,null,null,null,null,null,null,null,null,null,null,null,null,null,null,null,"ม.3/1"]
[null,null,null,null,"ม.3/2",null,null,null,null,null,null,null,null,null,null,null,null,null,null,null,null,null,null,null,null,null,null,null,null,null,"ม.3/2"]
[null,null,null,null,"ม.3/3",null,null,null,null,null,null,null,null,null,null,null,null,null,null,null,null,null,null,null,null,null,null,null,null,null,"ม.3/3"]
[null,null,null,null,"ม.3/4",null,null,null,null,null,null,null,null,null,null,null,null,null,null,null,null,null,null,null,null,null,null,null,null,null,"ม.3/4"]
[null,null,null,null,"ม.3/5",null,null,null,null,null,null,null,null,null,null,null,null,null,null,null,null,null,null,null,null,null,null,null,null,null,"ม.3/5"]
[null,null,null,null,"ม.3/6",null,null,null,null,null,null,null,null,null,null,null,null,null,null,null,null,null,null,null,null,null,null,null,null,null,"ม.3/6"]
[null,null,null,null,"ม.3/7",null,null,null,null,null,null,null,null,null,null,null,null,null,null,null,null,null,null,null,null,null,null,null,null,null,"ม.3/7"]
[null,null,null,null,"ม.3/8",null,null,null,null,null,null,null,null,null,null,null,null,null,null,null,null,null,null,null,null,null,null,null,null,null,"ม.3/8"]
[null,null,null,null,"ม.3/9",null,null,null,null,null,null,null,null,null,null,null,null,null,null,null,null,null,null,null,null,null,null,null,null,null,"ม.3/9"]
[null,null,null,null,"ม.3/10",null,null,null,null,null,null,null,null,null,null,null,null,null,null,null,null,null,null,null,null,null,null,null,null,null,"ม.3/10"]
[null,null,null,null,"ม.4-6/1",null,null,null,null,null,null,null,null,null,null,null,null,null,null,null,null,null,null,null,null,null,null,null,null,null,"ม.4-6/1"]
[null,null,null,null,"ม.4-6/2",null,null,null,null,null,null,null,null,null,null,null,null,null,null,null,null,null,null,null,null,null,null,null,null,null,"ม.4-6/2"]
[null,null,null,null,"ม.4-6/3",null,null,null,null,null,null,null,null,null,null,null,null,null,null,null,null,null,null,null,null,null,null,null,null,null,"ม.4-6/3"]
[null,null,null,null,"ม.4-6/4",null,null,null,null,null,null,null,null,null,null,null,null,null,null,null,null,null,null,null,null,null,null,null,null,null,"ม.4-6/4"]
[null,null,null,null,"ม.4-6/5",null,null,null,null,null,null,null,null,null,null,null,null,null,null,null,null,null,null,null,null,null,null,null,null,null,"ม.4-6/5"]
[null,null,null,null,"ม.4-6/6",null,null,null,null,null,null,null,null,null,null,null,null,null,null,null,null,null,null,null,null,null,null,null,null,null,"ม.4-6/6"]
[null,null,null,null,"ม.4-6/7",null,null,null,null,null,null,null,null,null,null,null,null,null,null,null,null,null,null,null,null,null,null,null,null,null,"ม.4-6/7"]
[null,null,null,null,"ม.4-6/8",null,null,null,null,null,null,null,null,null,null,null,null,null,null,null,null,null,null,null,null,null,null,null,null,null,"ม.4-6/8"]
[null,null,null,null,"ม.4-6/9",null,null,null,null,null,null,null,null,null,null,null,null,null,null,null,null,null,null,null,null,null,null,null,null,null,"ม.4-6/9"]
[null,null,null,null,"ม.4-6/10",null,null,null,null,null,null,null,null,null,null,null,null,null,null,null,null,null,null,null,null,null,null,null,null,null,"ม.4-6/10"]
[null,null,null,null,"ม.4-6/11",null,null,null,null,null,null,null,null,null,null,null,null,null,null,null,null,null,null,null,null,null,null,null,null,null,"ม.4-6/11"]
[null,null,null,null,"ม.4-6/12",null,null,null,null,null,null,null,null,null,null,null,null,null,null,null,null,null,null,null,null,null,null,null,null,null,"ม.4-6/12"]
[null,null,null,null,"ม.4-6/13",null,null,null,null,null,null,null,null,null,null,null,null,null,null,null,null,null,null,null,null,null,null,null,null,null,"ม.4-6/13"]
[null,null,null,null,"ม.4-6/14",null,null,null,null,null,null,null,null,null,null,null,null,null,null,null,null,null,null,null,null,null,null,null,null,null,"ม.4-6/14"]
[null,null,null,null,"ม.4-6/15",null,null,null,null,null,null,null,null,null,null,null,null,null,null,null,null,null,null,null,null,null,null,null,null,null,"ม.4-6/15"]
[null,null,null,null,"ม.4-6/16",null,null,null,null,null,null,null,null,null,null,null,null,null,null,null,null,null,null,null,null,null,null,null,null,null,"ม.4-6/16"]
[null,null,null,null,"ม.4-6/17",null,null,null,null,null,null,null,null,null,null,null,null,null,null,null,null,null,null,null,null,null,null,null,null,null,"ม.4-6/17"]
[null,null,null,null,"ม.4-6/18",null,null,null,null,null,null,null,null,null,null,null,null,null,null,null,null,null,null,null,null,null,null,null,null,null,"ม.4-6/18"]
[null,null,null,null,"ม.4-6/19",null,null,null,null,null,null,null,null,null,null,null,null,null,null,null,null,null,null,null,null,null,null,null,null,null,"ม.4-6/19"]
[null,null,null,null,"ม.4-6/20",null,null,null,null,null,null,null,null,null,null,null,null,null,null,null,null,null,null,null,null,null,null,null,null,null,"ม.4-6/20"]
[null,null,null,null,"ม.4-6/21",null,null,null,null,null,null,null,null,null,null,null,null,null,null,null,null,null,null,null,null,null,null,null,null,null,"ม.4-6/21"]
[null,null,null,null,"ม.4-6/22",null,null,null,null,null,null,null,null,null,null,null,null,null,null,null,null,null,null,null,null,null,null,null,null,null,"ม.4-6/22"]
[null,null,null,null,"ม.4-6/23",null,null,null,null,null,null,null,null,null,null,null,null,null,null,null,null,null,null,null,null,null,null,null,null,null,"ม.4-6/23"]
[null,null,null,null,"ม.4-6/24",null,null,null,null,null,null,null,null,null,null,null,null,null,null,null,null,null,null,null,null,null,null,null,null,null,"ม.4-6/24"]
[null,null,null,null,"ม.4-6/25",null,null,null,null,null,null,null,null,null,null,null,null,null,null,null,null,null,null,null,null,null,null,null,null,null,"ม.4-6/25"]
[null,null,null,null,"ม.4-6/26",null,null,null,null,null,null,null,null,null,null,null,null,null,null,null,null,null,null,null,null,null,null,null,null,null,"ม.4-6/26"]
[null,null,null,null,"ม.4-6/27",null,null,null,null,null,null,null,null,null,null,null,null,null,null,null,null,null,null,null,null,null,null,null,null,null,"ม.4-6/27"]
[null,null,null,null,"ม.4-6/28",null,null,null,null,null,null,null,null,null,null,null,null,null,null,null,null,null,null,null,null,null,null,null,null,null,"ม.4-6/28"]
[null,null,null,null,"ม.4-6/29",null,null,null,null,null,null,null,null,null,null,null,null,null,null,null,null,null,null,null,null,null,null,null,null,null,"ม.4-6/29"]
[null,null,null,null,"ม.4-6/30",null,null,null,null,null,null,null,null,null,null,null,null,null,null,null,null,null,null,null,null,null,null,null,null,null,"ม.4-6/30"]
[null,null,null,null,"ข้อ 1",null,null,null,null,null,null,null,null,null,null,null,null,null,null,null,null,null,null,null,null,null,null,null,null,null,"ข้อ 1"]
[null,null,null,null,"ข้อ 2",null,null,null,null,null,null,null,null,null,null,null,null,null,null,null,null,null,null,null,null,null,null,null,null,null,"ข้อ 2"]
[null,null,null,null,"ข้อ 3",null,null,null,null,null,null,null,null,null,null,null,null,null,null,null,null,null,null,null,null,null,null,null,null,null,"ข้อ 3"]
[null,null,null,null,"ข้อ 4",null,null,null,null,null,null,null,null,null,null,null,null,null,null,null,null,null,null,null,null,null,null,null,null,null,"ข้อ 4"]
[null,null,null,null,"ข้อ 5",null,null,null,null,null,null,null,null,null,null,null,null,null,null,null,null,null,null,null,null,null,null,null,null,null,"ข้อ 5"]
[null,null,null,null,"ข้อ 6",null,null,null,null,null,null,null,null,null,null,null,null,null,null,null,null,null,null,null,null,null,null,null,null,null,"ข้อ 6"]
[null,null,null,null,"ข้อ 7",null,null,null,null,null,null,null,null,null,null,null,null,null,null,null,null,null,null,null,null,null,null,null,null,null,"ข้อ 7"]
[null,null,null,null,"ข้อ 8",null,null,null,null,null,null,null,null,null,null,null,null,null,null,null,null,null,null,null,null,null,null,null,null,null,"ข้อ 8"]
[null,null,null,null,"ข้อ 9",null,null,null,null,null,null,null,null,null,null,null,null,null,null,null,null,null,null,null,null,null,null,null,null,null,"ข้อ 9"]
[null,null,null,null,"ข้อ 10",null,null,null,null,null,null,null,null,null,null,null,null,null,null,null,null,null,null,null,null,null,null,null,null,null,"ข้อ 10"]
[null,null,null,null,"ข้อ 11",null,null,null,null,null,null,null,null,null,null,null,null,null,null,null,null,null,null,null,null,null,null,null,null,null,"ข้อ 11"]
[null,null,null,null,"ข้อ 12",null,null,null,null,null,null,null,null,null,null,null,null,null,null,null,null,null,null,null,null,null,null,null,null,null,"ข้อ 12"]
[null,null,null,null,"ข้อ 13",null,null,null,null,null,null,null,null,null,null,null,null,null,null,null,null,null,null,null,null,null,null,null,null,null,"ข้อ 13"]
[null,null,null,null,"ข้อ 14",null,null,null,null,null,null,null,null,null,null,null,null,null,null,null,null,null,null,null,null,null,null,null,null,null,"ข้อ 14"]
[null,null,null,null,"ข้อ 15",null,null,null,null,null,null,null,null,null,null,null,null,null,null,null,null,null,null,null,null,null,null,null,null,null,"ข้อ 15"]
[null,null,null,null,"ข้อ 16",null,null,null,null,null,null,null,null,null,null,null,null,null,null,null,null,null,null,null,null,null,null,null,null,null,"ข้อ 16"]
[null,null,null,null,"ข้อ 17",null,null,null,null,null,null,null,null,null,null,null,null,null,null,null,null,null,null,null,null,null,null,null,null,null,"ข้อ 17"]
[null,null,null,null,"ข้อ 18",null,null,null,null,null,null,null,null,null,null,null,null,null,null,null,null,null,null,null,null,null,null,null,null,null,"ข้อ 18"]
[null,null,null,null,"ข้อ 19",null,null,null,null,null,null,null,null,null,null,null,null,null,null,null,null,null,null,null,null,null,null,null,null,null,"ข้อ 19"]
[null,null,null,null,"ข้อ 20",null,null,null,null,null,null,null,null,null,null,null,null,null,null,null,null,null,null,null,null,null,null,null,null,null,"ข้อ 20"]
[null,null,null,null,"ข้อ 21",null,null,null,null,null,null,null,null,null,null,null,null,null,null,null,null,null,null,null,null,null,null,null,null,null,"ข้อ 21"]
[null,null,null,null,"ข้อ 22",null,null,null,null,null,null,null,null,null,null,null,null,null,null,null,null,null,null,null,null,null,null,null,null,null,"ข้อ 22"]
[null,null,null,null,"ข้อ 23",null,null,null,null,null,null,null,null,null,null,null,null,null,null,null,null,null,null,null,null,null,null,null,null,null,"ข้อ 23"]
[null,null,null,null,"ข้อ 24",null,null,null,null,null,null,null,null,null,null,null,null,null,null,null,null,null,null,null,null,null,null,null,null,null,"ข้อ 24"]
[null,null,null,null,"ข้อ 25",null,null,null,null,null,null,null,null,null,null,null,null,null,null,null,null,null,null,null,null,null,null,null,null,null,"ข้อ 25"]
[null,null,null,null,"ข้อ 26",null,null,null,null,null,null,null,null,null,null,null,null,null,null,null,null,null,null,null,null,null,null,null,null,null,"ข้อ 26"]
[null,null,null,null,"ข้อ 27",null,null,null,null,null,null,null,null,null,null,null,null,null,null,null,null,null,null,null,null,null,null,null,null,null,"ข้อ 27"]
[null,null,null,null,"ข้อ 28",null,null,null,null,null,null,null,null,null,null,null,null,null,null,null,null,null,null,null,null,null,null,null,null,null,"ข้อ 28"]
[null,null,null,null,"ข้อ 29",null,null,null,null,null,null,null,null,null,null,null,null,null,null,null,null,null,null,null,null,null,null,null,null,null,"ข้อ 29"]
[null,null,null,null,"ข้อ 30",null,null,null,null,null,null,null,null,null,null,null,null,null,null,null,null,null,null,null,null,null,null,null,null,null,"ข้อ 30"]

{"sheet":"แผนภูมิสรุป","index":11,"n_rows":39,"n_cols":13,"rows_kept":39,"cut":false,"hidden":false,"merged":[[1,0,1,9],[13,0,13,9],[25,0,25,9]]}
[]
[{"$f":"\"แผนภูมิแสดงจำนวนนักเรียนที่ได้ระดับผลการเรียน รายวิชา \"&ปก!C26&\" รหัสวิชา \"&ปก!C27","v":"แผนภูมิแสดงจำนวนนักเรียนที่ได้ระดับผลการเรียน รายวิชา  รหัสวิชา "}]
[]
[]
[]
[]
[]
[]
[]
[]
[]
[]
[]
["แผนภูมิแสดงร้อยละของนักเรียนที่ได้ระดับผลการเรียนแต่ละระดับ"]
[]
[]
[]
[]
[]
[]
[]
[]
[]
[]
[]
["แผนภูมิแสดงร้อยละของนักเรียนที่ได้ผลการเรียนระดับดี(3) ขึ้นไป"]
[]
[]
[]
[]
[]
[]
[]
[]
[]
[]
[null,null,null,null,null,null,null,null,null,null,null,null,{"$f":"SUM(ปก!AD25:AI25)","v":0}]
[null,null,null,null,null,null,null,null,null,null,null,null,{"$f":"SUM(ปก!AJ25:AQ25)","v":0}]
[null,null,null,null,null,null,null,null,null,null,null,null,{"$f":"SUM(ปก!AR25:AW25)","v":100}]

{"sheet":"ประเมินผลสัมฤทธิ์","index":12,"n_rows":57,"n_cols":19,"rows_kept":57,"cut":false,"hidden":false,"merged":[[55,14,55,16],[56,14,56,16],[38,14,38,16],[44,14,44,16],[47,14,47,16],[52,14,52,16],[53,14,53,16],[54,14,54,16],[32,14,32,16],[4,11,6,11],[4,12,6,12],[4,13,6,13],[4,14,6,16],[7,14,7,16],[8,14,8,16],[9,14,9,16],[10,14,10,16],[11,14,11,16],[12,14,12,16],[19,14,19,16],[0,0,0,15],[1,0,1,15],[2,0,2,15],[4,0,6,0],[4,1,6,1],[4,2,6,2],[4,3,4,5],[4,6,4,8],[4,9,5,9],[4,10,6,10]]}
[{"$f":"\"แบบประเมินผลคุณภาพผู้เรียน   \"&\"รายวิชา \"&ปก!C26&\"  (\"&ปก!C27&\")\"","v":"แบบประเมินผลคุณภาพผู้เรียน   รายวิชา   ()"}]
[{"$f":"\"ชั้นประถมศึกษาปีที่ \"&ปก!C21&\"/\"&ปก!C22&\"    ปีการศึกษา \"&ปก!C16","v":"ชั้นประถมศึกษาปีที่ /    ปีการศึกษา 2568"}]
[{"$f":"ปก!C5&\"  สังกัด\"&ปก!C8&\"  อำเภอ\"&ปก!C6&\"  จังหวัด\"&ปก!C7","v":"โรงเรียนเทศบาล ๕  สังกัดเทศบาลนครสุราษฎร์ธานี  อำเภอเมือง  จังหวัดสุราษฎร์ธานี"}]
[]
["ที่","ชื่อ - สกุล","เวลา\nเรียน\nร้อยละ","ภาคเรียนที่ 1",null,null,"ภาคเรียนที่ 2",null,null,"รวมเฉลี่ย","ผลการเรียน","ระดับคุณภาพ","อ่าน คิด วิเคราะห์และเขียน","คุณลักษณะ\nอันพึงประสงค์","หมายเหตุ"]
[null,null,null,"กลางภาค","ปลายภาค","รวม","กลางภาค","ปลายภาค","รวม"]
[null,null,null,{"$f":"ประเมินตัวชี้วัดเทอม1!DE6","v":70},{"$f":"ประเมินตัวชี้วัดเทอม1!DG6","v":30},{"$f":"SUM(D7:E7)","v":100},{"$f":"ประเมินตัวชี้วัดเทอม1!DE6","v":70},{"$f":"ประเมินตัวชี้วัดเทอม1!DG6","v":30},{"$f":"SUM(G7:H7)","v":100},100]
[1,{"$f":"เวลาเรียน!C9","v":"เด็กชายวรชิต      ผึ้งบำรุง       "},{"$f":"IF(เวลาเรียน!IO9=0,\"\",เวลาเรียน!IO9)","v":{"$error":"#DIV/0!"}},{"$f":"IF(ประเมินตัวชี้วัดเทอม1!DE7=\"\",\"\",ประเมินตัวชี้วัดเทอม1!DE7)","v":0},{"$f":"IF(C8=\"\",\"\",IF(C8=\"-\",\"-\",SUM(ประเมินตัวชี้วัดเทอม1!DG7:DH7)))","v":{"$error":"#DIV/0!"}},{"$f":"ประเมินตัวชี้วัดเทอม1!DJ7","v":0},{"$f":"ประเมินตัวชี้วัดเทอม2!DE7","v":0},{"$f":"IF(C8=\"\",\"\",IF(C8=\"-\",\"-\",SUM(ประเมินตัวชี้วัดเทอม2!DI7:DJ7)))","v":{"$error":"#DIV/0!"}},{"$f":"ประเมินตัวชี้วัดเทอม2!DL7","v":0},{"$f":"IF(K8=\"\",\"\",IF(K8=\"-\",\"-\",SUM(F8,I8)/2))","v":0},{"$f":"ตัดสินผลการเรียน!F8","v":0},{"$f":"IF(K8=\"\",\"\",IF(K8=\"-\",\"-\",IF(J8>75,\"ดีมาก\",IF(J8>50,\"ดี\",IF(J8>25,\"พอใช้\",\"ปรับปรุง\")))))","v":"ปรับปรุง"},{"$f":"IF(K8=\"-\",\"-\",IF(K8=\"\",\"\",IF(ตัดสินผลการเรียน!N8=\"\",\"มผ\",ตัดสินผลการเรียน!N8)))","v":"มผ"},{"$f":"IF(K8=\"-\",\"-\",IF(K8=\"\",\"\",IF(ตัดสินผลการเรียน!P8=\"\",\"มผ\",ตัดสินผลการเรียน!P8)))","v":"มผ"},"เกณฑ์การประเมินระดับคุณภาพ"]
[2,{"$f":"เวลาเรียน!C10","v":"เด็กชายธนกฤต    ธนัชญาปกรณ์       "},{"$f":"IF(เวลาเรียน!IO10=0,\"\",เวลาเรียน!IO10)","v":{"$error":"#DIV/0!"}},{"$f":"IF(ประเมินตัวชี้วัดเทอม1!DE8=\"\",\"\",ประเมินตัวชี้วัดเทอม1!DE8)","v":0},{"$f":"IF(C9=\"\",\"\",IF(C9=\"-\",\"-\",SUM(ประเมินตัวชี้วัดเทอม1!DG8:DH8)))","v":{"$error":"#DIV/0!"}},{"$f":"ประเมินตัวชี้วัดเทอม1!DJ8","v":0},{"$f":"ประเมินตัวชี้วัดเทอม2!DE8","v":0},{"$f":"IF(C9=\"\",\"\",IF(C9=\"-\",\"-\",SUM(ประเมินตัวชี้วัดเทอม2!DI8:DJ8)))","v":{"$error":"#DIV/0!"}},{"$f":"ประเมินตัวชี้วัดเทอม2!DL8","v":0},{"$f":"IF(K9=\"\",\"\",IF(K9=\"-\",\"-\",SUM(F9,I9)/2))","v":0},{"$f":"ตัดสินผลการเรียน!F9","v":0},{"$f":"IF(K9=\"\",\"\",IF(K9=\"-\",\"-\",IF(J9>75,\"ดีมาก\",IF(J9>50,\"ดี\",IF(J9>25,\"พอใช้\",\"ปรับปรุง\")))))","v":"ปรับปรุง"},{"$f":"IF(K9=\"-\",\"-\",IF(K9=\"\",\"\",IF(ตัดสินผลการเรียน!N9=\"\",\"มผ\",ตัดสินผลการเรียน!N9)))","v":"มผ"},{"$f":"IF(K9=\"-\",\"-\",IF(K9=\"\",\"\",IF(ตัดสินผลการเรียน!P9=\"\",\"มผ\",ตัดสินผลการเรียน!P9)))","v":"มผ"},"ร้อยละ 76 - 100  =  ดีมาก"]
[3,{"$f":"เวลาเรียน!C11","v":"เด็กชายณภัทร     กำเหนิดศิลป์       "},{"$f":"IF(เวลาเรียน!IO11=0,\"\",เวลาเรียน!IO11)","v":{"$error":"#DIV/0!"}},{"$f":"IF(ประเมินตัวชี้วัดเทอม1!DE9=\"\",\"\",ประเมินตัวชี้วัดเทอม1!DE9)","v":0},{"$f":"IF(C10=\"\",\"\",IF(C10=\"-\",\"-\",SUM(ประเมินตัวชี้วัดเทอม1!DG9:DH9)))","v":{"$error":"#DIV/0!"}},{"$f":"ประเมินตัวชี้วัดเทอม1!DJ9","v":0},{"$f":"ประเมินตัวชี้วัดเทอม2!DE9","v":0},{"$f":"IF(C10=\"\",\"\",IF(C10=\"-\",\"-\",SUM(ประเมินตัวชี้วัดเทอม2!DI9:DJ9)))","v":{"$error":"#DIV/0!"}},{"$f":"ประเมินตัวชี้วัดเทอม2!DL9","v":0},0,{"$f":"ตัดสินผลการเรียน!F10","v":0},"ปรับปรุง",{"$f":"IF(K10=\"-\",\"-\",IF(K10=\"\",\"\",IF(ตัดสินผลการเรียน!N10=\"\",\"มผ\",ตัดสินผลการเรียน!N10)))","v":"มผ"},{"$f":"IF(K10=\"-\",\"-\",IF(K10=\"\",\"\",IF(ตัดสินผลการเรียน!P10=\"\",\"มผ\",ตัดสินผลการเรียน!P10)))","v":"มผ"},"ร้อยละ 51 - 75  =  ดี"]
[4,{"$f":"เวลาเรียน!C12","v":"เด็กหญิงณัฐพัชร์   เผือกทิม       "},{"$f":"IF(เวลาเรียน!IO12=0,\"\",เวลาเรียน!IO12)","v":{"$error":"#DIV/0!"}},{"$f":"IF(ประเมินตัวชี้วัดเทอม1!DE10=\"\",\"\",ประเมินตัวชี้วัดเทอม1!DE10)","v":0},{"$f":"IF(C11=\"\",\"\",IF(C11=\"-\",\"-\",SUM(ประเมินตัวชี้วัดเทอม1!DG10:DH10)))","v":{"$error":"#DIV/0!"}},{"$f":"ประเมินตัวชี้วัดเทอม1!DJ10","v":0},{"$f":"ประเมินตัวชี้วัดเทอม2!DE10","v":0},{"$f":"IF(C11=\"\",\"\",IF(C11=\"-\",\"-\",SUM(ประเมินตัวชี้วัดเทอม2!DI10:DJ10)))","v":{"$error":"#DIV/0!"}},{"$f":"ประเมินตัวชี้วัดเทอม2!DL10","v":0},0,{"$f":"ตัดสินผลการเรียน!F11","v":0},"ปรับปรุง",{"$f":"IF(K11=\"-\",\"-\",IF(K11=\"\",\"\",IF(ตัดสินผลการเรียน!N11=\"\",\"มผ\",ตัดสินผลการเรียน!N11)))","v":"มผ"},{"$f":"IF(K11=\"-\",\"-\",IF(K11=\"\",\"\",IF(ตัดสินผลการเรียน!P11=\"\",\"มผ\",ตัดสินผลการเรียน!P11)))","v":"มผ"},"ร้อยละ 26 - 50  =  พอใช้"]
[5,{"$f":"เวลาเรียน!C13","v":"เด็กหญิงจิรัชยา    ทัศนสวัสดิ์       "},{"$f":"IF(เวลาเรียน!IO13=0,\"\",เวลาเรียน!IO13)","v":{"$error":"#DIV/0!"}},{"$f":"IF(ประเมินตัวชี้วัดเทอม1!DE11=\"\",\"\",ประเมินตัวชี้วัดเทอม1!DE11)","v":0},{"$f":"IF(C12=\"\",\"\",IF(C12=\"-\",\"-\",SUM(ประเมินตัวชี้วัดเทอม1!DG11:DH11)))","v":{"$error":"#DIV/0!"}},{"$f":"ประเมินตัวชี้วัดเทอม1!DJ11","v":0},{"$f":"ประเมินตัวชี้วัดเทอม2!DE11","v":0},{"$f":"IF(C12=\"\",\"\",IF(C12=\"-\",\"-\",SUM(ประเมินตัวชี้วัดเทอม2!DI11:DJ11)))","v":{"$error":"#DIV/0!"}},{"$f":"ประเมินตัวชี้วัดเทอม2!DL11","v":0},0,{"$f":"ตัดสินผลการเรียน!F12","v":0},"ปรับปรุง",{"$f":"IF(K12=\"-\",\"-\",IF(K12=\"\",\"\",IF(ตัดสินผลการเรียน!N12=\"\",\"มผ\",ตัดสินผลการเรียน!N12)))","v":"มผ"},{"$f":"IF(K12=\"-\",\"-\",IF(K12=\"\",\"\",IF(ตัดสินผลการเรียน!P12=\"\",\"มผ\",ตัดสินผลการเรียน!P12)))","v":"มผ"},"ร้อยละ 0 - 25  =  ปรับปรุง"]
[6,{"$f":"เวลาเรียน!C14","v":"เด็กหญิงธันยกานต์  หาญรัตนปิยพร       "},{"$f":"IF(เวลาเรียน!IO14=0,\"\",เวลาเรียน!IO14)","v":{"$error":"#DIV/0!"}},{"$f":"IF(ประเมินตัวชี้วัดเทอม1!DE12=\"\",\"\",ประเมินตัวชี้วัดเทอม1!DE12)","v":0},{"$f":"IF(C13=\"\",\"\",IF(C13=\"-\",\"-\",SUM(ประเมินตัวชี้วัดเทอม1!DG12:DH12)))","v":{"$error":"#DIV/0!"}},{"$f":"ประเมินตัวชี้วัดเทอม1!DJ12","v":0},{"$f":"ประเมินตัวชี้วัดเทอม2!DE12","v":0},{"$f":"IF(C13=\"\",\"\",IF(C13=\"-\",\"-\",SUM(ประเมินตัวชี้วัดเทอม2!DI12:DJ12)))","v":{"$error":"#DIV/0!"}},{"$f":"ประเมินตัวชี้วัดเทอม2!DL12","v":0},0,{"$f":"ตัดสินผลการเรียน!F13","v":0},"ปรับปรุง",{"$f":"IF(K13=\"-\",\"-\",IF(K13=\"\",\"\",IF(ตัดสินผลการเรียน!N13=\"\",\"มผ\",ตัดสินผลการเรียน!N13)))","v":"มผ"},{"$f":"IF(K13=\"-\",\"-\",IF(K13=\"\",\"\",IF(ตัดสินผลการเรียน!P13=\"\",\"มผ\",ตัดสินผลการเรียน!P13)))","v":"มผ"},"สรุปผลการประเมินระดับคุณภาพ"]
[7,{"$f":"เวลาเรียน!C15","v":"เด็กหญิงกสิณา      ชูเมือง       "},{"$f":"IF(เวลาเรียน!IO15=0,\"\",เวลาเรียน!IO15)","v":{"$error":"#DIV/0!"}},{"$f":"IF(ประเมินตัวชี้วัดเทอม1!DE13=\"\",\"\",ประเมินตัวชี้วัดเทอม1!DE13)","v":0},{"$f":"IF(C14=\"\",\"\",IF(C14=\"-\",\"-\",SUM(ประเมินตัวชี้วัดเทอม1!DG13:DH13)))","v":{"$error":"#DIV/0!"}},{"$f":"ประเมินตัวชี้วัดเทอม1!DJ13","v":0},{"$f":"ประเมินตัวชี้วัดเทอม2!DE13","v":0},{"$f":"IF(C14=\"\",\"\",IF(C14=\"-\",\"-\",SUM(ประเมินตัวชี้วัดเทอม2!DI13:DJ13)))","v":{"$error":"#DIV/0!"}},{"$f":"ประเมินตัวชี้วัดเทอม2!DL13","v":0},0,{"$f":"ตัดสินผลการเรียน!F14","v":0},"ปรับปรุง",{"$f":"IF(K14=\"-\",\"-\",IF(K14=\"\",\"\",IF(ตัดสินผลการเรียน!N14=\"\",\"มผ\",ตัดสินผลการเรียน!N14)))","v":"มผ"},{"$f":"IF(K14=\"-\",\"-\",IF(K14=\"\",\"\",IF(ตัดสินผลการเรียน!P14=\"\",\"มผ\",ตัดสินผลการเรียน!P14)))","v":"มผ"},"เกณฑ์","จำนวน","ร้อยละ"]
[8,{"$f":"เวลาเรียน!C16","v":"เด็กหญิงกานต์สิตา  รัตนโชติ       "},{"$f":"IF(เวลาเรียน!IO16=0,\"\",เวลาเรียน!IO16)","v":{"$error":"#DIV/0!"}},{"$f":"IF(ประเมินตัวชี้วัดเทอม1!DE14=\"\",\"\",ประเมินตัวชี้วัดเทอม1!DE14)","v":0},{"$f":"IF(C15=\"\",\"\",IF(C15=\"-\",\"-\",SUM(ประเมินตัวชี้วัดเทอม1!DG14:DH14)))","v":{"$error":"#DIV/0!"}},{"$f":"ประเมินตัวชี้วัดเทอม1!DJ14","v":0},{"$f":"ประเมินตัวชี้วัดเทอม2!DE14","v":0},{"$f":"IF(C15=\"\",\"\",IF(C15=\"-\",\"-\",SUM(ประเมินตัวชี้วัดเทอม2!DI14:DJ14)))","v":{"$error":"#DIV/0!"}},{"$f":"ประเมินตัวชี้วัดเทอม2!DL14","v":0},0,{"$f":"ตัดสินผลการเรียน!F15","v":0},"ปรับปรุง",{"$f":"IF(K15=\"-\",\"-\",IF(K15=\"\",\"\",IF(ตัดสินผลการเรียน!N15=\"\",\"มผ\",ตัดสินผลการเรียน!N15)))","v":"มผ"},{"$f":"IF(K15=\"-\",\"-\",IF(K15=\"\",\"\",IF(ตัดสินผลการเรียน!P15=\"\",\"มผ\",ตัดสินผลการเรียน!P15)))","v":"มผ"},"ดีมาก",{"$f":"COUNTIF($L$8:$L$57,\"ดีมาก\")","v":0},{"$f":"P15*100/R$19","v":0}]
[9,{"$f":"เวลาเรียน!C17","v":"เด็กหญิงธัญพร      แก้วอินทร์       "},{"$f":"IF(เวลาเรียน!IO17=0,\"\",เวลาเรียน!IO17)","v":{"$error":"#DIV/0!"}},{"$f":"IF(ประเมินตัวชี้วัดเทอม1!DE15=\"\",\"\",ประเมินตัวชี้วัดเทอม1!DE15)","v":0},{"$f":"IF(C16=\"\",\"\",IF(C16=\"-\",\"-\",SUM(ประเมินตัวชี้วัดเทอม1!DG15:DH15)))","v":{"$error":"#DIV/0!"}},{"$f":"ประเมินตัวชี้วัดเทอม1!DJ15","v":0},{"$f":"ประเมินตัวชี้วัดเทอม2!DE15","v":0},{"$f":"IF(C16=\"\",\"\",IF(C16=\"-\",\"-\",SUM(ประเมินตัวชี้วัดเทอม2!DI15:DJ15)))","v":{"$error":"#DIV/0!"}},{"$f":"ประเมินตัวชี้วัดเทอม2!DL15","v":0},0,{"$f":"ตัดสินผลการเรียน!F16","v":0},"ปรับปรุง",{"$f":"IF(K16=\"-\",\"-\",IF(K16=\"\",\"\",IF(ตัดสินผลการเรียน!N16=\"\",\"มผ\",ตัดสินผลการเรียน!N16)))","v":"มผ"},{"$f":"IF(K16=\"-\",\"-\",IF(K16=\"\",\"\",IF(ตัดสินผลการเรียน!P16=\"\",\"มผ\",ตัดสินผลการเรียน!P16)))","v":"มผ"},"ดี",{"$f":"COUNTIF($L$8:$L$57,\"ดี\")","v":0},{"$f":"P16*100/R$19","v":0}]
[10,{"$f":"เวลาเรียน!C18","v":"เด็กหญิงกชพร       คล้ายอุดม       "},{"$f":"IF(เวลาเรียน!IO18=0,\"\",เวลาเรียน!IO18)","v":{"$error":"#DIV/0!"}},{"$f":"IF(ประเมินตัวชี้วัดเทอม1!DE16=\"\",\"\",ประเมินตัวชี้วัดเทอม1!DE16)","v":0},{"$f":"IF(C17=\"\",\"\",IF(C17=\"-\",\"-\",SUM(ประเมินตัวชี้วัดเทอม1!DG16:DH16)))","v":{"$error":"#DIV/0!"}},{"$f":"ประเมินตัวชี้วัดเทอม1!DJ16","v":0},{"$f":"ประเมินตัวชี้วัดเทอม2!DE16","v":0},{"$f":"IF(C17=\"\",\"\",IF(C17=\"-\",\"-\",SUM(ประเมินตัวชี้วัดเทอม2!DI16:DJ16)))","v":{"$error":"#DIV/0!"}},{"$f":"ประเมินตัวชี้วัดเทอม2!DL16","v":0},0,{"$f":"ตัดสินผลการเรียน!F17","v":0},"ปรับปรุง",{"$f":"IF(K17=\"-\",\"-\",IF(K17=\"\",\"\",IF(ตัดสินผลการเรียน!N17=\"\",\"มผ\",ตัดสินผลการเรียน!N17)))","v":"มผ"},{"$f":"IF(K17=\"-\",\"-\",IF(K17=\"\",\"\",IF(ตัดสินผลการเรียน!P17=\"\",\"มผ\",ตัดสินผลการเรียน!P17)))","v":"มผ"},"พอใช้",{"$f":"COUNTIF($L$8:$L$57,\"พอใช้\")","v":0},0]
[11,{"$f":"เวลาเรียน!C19","v":"เด็กชายธรณ์ธันย์    อิสรา       "},{"$f":"IF(เวลาเรียน!IO19=0,\"\",เวลาเรียน!IO19)","v":{"$error":"#DIV/0!"}},{"$f":"IF(ประเมินตัวชี้วัดเทอม1!DE17=\"\",\"\",ประเมินตัวชี้วัดเทอม1!DE17)","v":0},{"$f":"IF(C18=\"\",\"\",IF(C18=\"-\",\"-\",SUM(ประเมินตัวชี้วัดเทอม1!DG17:DH17)))","v":{"$error":"#DIV/0!"}},{"$f":"ประเมินตัวชี้วัดเทอม1!DJ17","v":0},{"$f":"ประเมินตัวชี้วัดเทอม2!DE17","v":0},{"$f":"IF(C18=\"\",\"\",IF(C18=\"-\",\"-\",SUM(ประเมินตัวชี้วัดเทอม2!DI17:DJ17)))","v":{"$error":"#DIV/0!"}},{"$f":"ประเมินตัวชี้วัดเทอม2!DL17","v":0},0,{"$f":"ตัดสินผลการเรียน!F18","v":0},"ปรับปรุง",{"$f":"IF(K18=\"-\",\"-\",IF(K18=\"\",\"\",IF(ตัดสินผลการเรียน!N18=\"\",\"มผ\",ตัดสินผลการเรียน!N18)))","v":"มผ"},{"$f":"IF(K18=\"-\",\"-\",IF(K18=\"\",\"\",IF(ตัดสินผลการเรียน!P18=\"\",\"มผ\",ตัดสินผลการเรียน!P18)))","v":"มผ"},"ปรับปรุง",{"$f":"COUNTIF($L$8:$L$57,\"ปรับปรุง\")","v":33},100]
[12,{"$f":"เวลาเรียน!C20","v":"เด็กหญิงกัลยรัตน์   สารเทพ        "},{"$f":"IF(เวลาเรียน!IO20=0,\"\",เวลาเรียน!IO20)","v":{"$error":"#DIV/0!"}},{"$f":"IF(ประเมินตัวชี้วัดเทอม1!DE18=\"\",\"\",ประเมินตัวชี้วัดเทอม1!DE18)","v":0},{"$f":"IF(C19=\"\",\"\",IF(C19=\"-\",\"-\",SUM(ประเมินตัวชี้วัดเทอม1!DG18:DH18)))","v":{"$error":"#DIV/0!"}},{"$f":"ประเมินตัวชี้วัดเทอม1!DJ18","v":0},{"$f":"ประเมินตัวชี้วัดเทอม2!DE18","v":0},{"$f":"IF(C19=\"\",\"\",IF(C19=\"-\",\"-\",SUM(ประเมินตัวชี้วัดเทอม2!DI18:DJ18)))","v":{"$error":"#DIV/0!"}},{"$f":"ประเมินตัวชี้วัดเทอม2!DL18","v":0},0,{"$f":"ตัดสินผลการเรียน!F19","v":0},"ปรับปรุง",{"$f":"IF(K19=\"-\",\"-\",IF(K19=\"\",\"\",IF(ตัดสินผลการเรียน!N19=\"\",\"มผ\",ตัดสินผลการเรียน!N19)))","v":"มผ"},{"$f":"IF(K19=\"-\",\"-\",IF(K19=\"\",\"\",IF(ตัดสินผลการเรียน!P19=\"\",\"มผ\",ตัดสินผลการเรียน!P19)))","v":"มผ"},"-",{"$f":"COUNTIF($L$8:$L$57,\"-\")","v":0},"-",{"$f":"SUM(P15:P18)","v":33},{"$f":"SUM(Q15:Q19)","v":100}]
[13,{"$f":"เวลาเรียน!C21","v":"เด็กหญิงเขมิกา     ปลื้มใจ        "},{"$f":"IF(เวลาเรียน!IO21=0,\"\",เวลาเรียน!IO21)","v":{"$error":"#DIV/0!"}},{"$f":"IF(ประเมินตัวชี้วัดเทอม1!DE19=\"\",\"\",ประเมินตัวชี้วัดเทอม1!DE19)","v":0},{"$f":"IF(C20=\"\",\"\",IF(C20=\"-\",\"-\",SUM(ประเมินตัวชี้วัดเทอม1!DG19:DH19)))","v":{"$error":"#DIV/0!"}},{"$f":"ประเมินตัวชี้วัดเทอม1!DJ19","v":0},{"$f":"ประเมินตัวชี้วัดเทอม2!DE19","v":0},{"$f":"IF(C20=\"\",\"\",IF(C20=\"-\",\"-\",SUM(ประเมินตัวชี้วัดเทอม2!DI19:DJ19)))","v":{"$error":"#DIV/0!"}},{"$f":"ประเมินตัวชี้วัดเทอม2!DL19","v":0},0,{"$f":"ตัดสินผลการเรียน!F20","v":0},"ปรับปรุง",{"$f":"IF(K20=\"-\",\"-\",IF(K20=\"\",\"\",IF(ตัดสินผลการเรียน!N20=\"\",\"มผ\",ตัดสินผลการเรียน!N20)))","v":"มผ"},{"$f":"IF(K20=\"-\",\"-\",IF(K20=\"\",\"\",IF(ตัดสินผลการเรียน!P20=\"\",\"มผ\",ตัดสินผลการเรียน!P20)))","v":"มผ"},"สรุปผลการเรียน"]
[14,{"$f":"เวลาเรียน!C22","v":"เด็กชายกวินท์      นาคสวัสดิ์       "},{"$f":"IF(เวลาเรียน!IO22=0,\"\",เวลาเรียน!IO22)","v":{"$error":"#DIV/0!"}},{"$f":"IF(ประเมินตัวชี้วัดเทอม1!DE20=\"\",\"\",ประเมินตัวชี้วัดเทอม1!DE20)","v":0},{"$f":"IF(C21=\"\",\"\",IF(C21=\"-\",\"-\",SUM(ประเมินตัวชี้วัดเทอม1!DG20:DH20)))","v":{"$error":"#DIV/0!"}},{"$f":"ประเมินตัวชี้วัดเทอม1!DJ20","v":0},{"$f":"ประเมินตัวชี้วัดเทอม2!DE20","v":0},{"$f":"IF(C21=\"\",\"\",IF(C21=\"-\",\"-\",SUM(ประเมินตัวชี้วัดเทอม2!DI20:DJ20)))","v":{"$error":"#DIV/0!"}},{"$f":"ประเมินตัวชี้วัดเทอม2!DL20","v":0},0,{"$f":"ตัดสินผลการเรียน!F21","v":0},"ปรับปรุง",{"$f":"IF(K21=\"-\",\"-\",IF(K21=\"\",\"\",IF(ตัดสินผลการเรียน!N21=\"\",\"มผ\",ตัดสินผลการเรียน!N21)))","v":"มผ"},{"$f":"IF(K21=\"-\",\"-\",IF(K21=\"\",\"\",IF(ตัดสินผลการเรียน!P21=\"\",\"มผ\",ตัดสินผลการเรียน!P21)))","v":"มผ"},"เกรด","จำนวน","ร้อยละ"]
[15,{"$f":"เวลาเรียน!C23","v":"เด็กชายอธินันท์    บัวเพชร       "},{"$f":"IF(เวลาเรียน!IO23=0,\"\",เวลาเรียน!IO23)","v":{"$error":"#DIV/0!"}},{"$f":"IF(ประเมินตัวชี้วัดเทอม1!DE21=\"\",\"\",ประเมินตัวชี้วัดเทอม1!DE21)","v":0},{"$f":"IF(C22=\"\",\"\",IF(C22=\"-\",\"-\",SUM(ประเมินตัวชี้วัดเทอม1!DG21:DH21)))","v":{"$error":"#DIV/0!"}},{"$f":"ประเมินตัวชี้วัดเทอม1!DJ21","v":0},{"$f":"ประเมินตัวชี้วัดเทอม2!DE21","v":0},{"$f":"IF(C22=\"\",\"\",IF(C22=\"-\",\"-\",SUM(ประเมินตัวชี้วัดเทอม2!DI21:DJ21)))","v":{"$error":"#DIV/0!"}},{"$f":"ประเมินตัวชี้วัดเทอม2!DL21","v":0},0,{"$f":"ตัดสินผลการเรียน!F22","v":0},"ปรับปรุง",{"$f":"IF(K22=\"-\",\"-\",IF(K22=\"\",\"\",IF(ตัดสินผลการเรียน!N22=\"\",\"มผ\",ตัดสินผลการเรียน!N22)))","v":"มผ"},{"$f":"IF(K22=\"-\",\"-\",IF(K22=\"\",\"\",IF(ตัดสินผลการเรียน!P22=\"\",\"มผ\",ตัดสินผลการเรียน!P22)))","v":"มผ"},4,{"$f":"COUNTIF($K$8:$K$57,4)","v":0},{"$f":"P22*100/R$19","v":0}]
[16,{"$f":"เวลาเรียน!C24","v":"เด็กชายปวริศร์     สันตะโร       "},{"$f":"IF(เวลาเรียน!IO24=0,\"\",เวลาเรียน!IO24)","v":{"$error":"#DIV/0!"}},{"$f":"IF(ประเมินตัวชี้วัดเทอม1!DE22=\"\",\"\",ประเมินตัวชี้วัดเทอม1!DE22)","v":0},{"$f":"IF(C23=\"\",\"\",IF(C23=\"-\",\"-\",SUM(ประเมินตัวชี้วัดเทอม1!DG22:DH22)))","v":{"$error":"#DIV/0!"}},{"$f":"ประเมินตัวชี้วัดเทอม1!DJ22","v":0},{"$f":"ประเมินตัวชี้วัดเทอม2!DE22","v":0},{"$f":"IF(C23=\"\",\"\",IF(C23=\"-\",\"-\",SUM(ประเมินตัวชี้วัดเทอม2!DI22:DJ22)))","v":{"$error":"#DIV/0!"}},{"$f":"ประเมินตัวชี้วัดเทอม2!DL22","v":0},0,{"$f":"ตัดสินผลการเรียน!F23","v":0},"ปรับปรุง",{"$f":"IF(K23=\"-\",\"-\",IF(K23=\"\",\"\",IF(ตัดสินผลการเรียน!N23=\"\",\"มผ\",ตัดสินผลการเรียน!N23)))","v":"มผ"},{"$f":"IF(K23=\"-\",\"-\",IF(K23=\"\",\"\",IF(ตัดสินผลการเรียน!P23=\"\",\"มผ\",ตัดสินผลการเรียน!P23)))","v":"มผ"},3.5,{"$f":"COUNTIF($K$8:$K$57,3.5)","v":0},{"$f":"P23*100/R$19","v":0}]
[17,{"$f":"เวลาเรียน!C25","v":"เด็กชายปุณณวิช    ทองคลอด       "},{"$f":"IF(เวลาเรียน!IO25=0,\"\",เวลาเรียน!IO25)","v":{"$error":"#DIV/0!"}},{"$f":"IF(ประเมินตัวชี้วัดเทอม1!DE23=\"\",\"\",ประเมินตัวชี้วัดเทอม1!DE23)","v":0},{"$f":"IF(C24=\"\",\"\",IF(C24=\"-\",\"-\",SUM(ประเมินตัวชี้วัดเทอม1!DG23:DH23)))","v":{"$error":"#DIV/0!"}},{"$f":"ประเมินตัวชี้วัดเทอม1!DJ23","v":0},{"$f":"ประเมินตัวชี้วัดเทอม2!DE23","v":0},{"$f":"IF(C24=\"\",\"\",IF(C24=\"-\",\"-\",SUM(ประเมินตัวชี้วัดเทอม2!DI23:DJ23)))","v":{"$error":"#DIV/0!"}},{"$f":"ประเมินตัวชี้วัดเทอม2!DL23","v":0},0,{"$f":"ตัดสินผลการเรียน!F24","v":0},"ปรับปรุง",{"$f":"IF(K24=\"-\",\"-\",IF(K24=\"\",\"\",IF(ตัดสินผลการเรียน!N24=\"\",\"มผ\",ตัดสินผลการเรียน!N24)))","v":"มผ"},{"$f":"IF(K24=\"-\",\"-\",IF(K24=\"\",\"\",IF(ตัดสินผลการเรียน!P24=\"\",\"มผ\",ตัดสินผลการเรียน!P24)))","v":"มผ"},3,{"$f":"COUNTIF($K$8:$K$57,3)","v":0},0]
[18,{"$f":"เวลาเรียน!C26","v":"เด็กชายภูมิภัทร    เพชรแก้ว       "},{"$f":"IF(เวลาเรียน!IO26=0,\"\",เวลาเรียน!IO26)","v":{"$error":"#DIV/0!"}},{"$f":"IF(ประเมินตัวชี้วัดเทอม1!DE24=\"\",\"\",ประเมินตัวชี้วัดเทอม1!DE24)","v":0},{"$f":"IF(C25=\"\",\"\",IF(C25=\"-\",\"-\",SUM(ประเมินตัวชี้วัดเทอม1!DG24:DH24)))","v":{"$error":"#DIV/0!"}},{"$f":"ประเมินตัวชี้วัดเทอม1!DJ24","v":0},{"$f":"ประเมินตัวชี้วัดเทอม2!DE24","v":0},{"$f":"IF(C25=\"\",\"\",IF(C25=\"-\",\"-\",SUM(ประเมินตัวชี้วัดเทอม2!DI24:DJ24)))","v":{"$error":"#DIV/0!"}},{"$f":"ประเมินตัวชี้วัดเทอม2!DL24","v":0},0,{"$f":"ตัดสินผลการเรียน!F25","v":0},"ปรับปรุง",{"$f":"IF(K25=\"-\",\"-\",IF(K25=\"\",\"\",IF(ตัดสินผลการเรียน!N25=\"\",\"มผ\",ตัดสินผลการเรียน!N25)))","v":"มผ"},{"$f":"IF(K25=\"-\",\"-\",IF(K25=\"\",\"\",IF(ตัดสินผลการเรียน!P25=\"\",\"มผ\",ตัดสินผลการเรียน!P25)))","v":"มผ"},2.5,{"$f":"COUNTIF($K$8:$K$57,2.5)","v":0},0]
[19,{"$f":"เวลาเรียน!C27","v":"เด็กชายชิณณวรรธน์  เพชรอาวุธ       "},{"$f":"IF(เวลาเรียน!IO27=0,\"\",เวลาเรียน!IO27)","v":{"$error":"#DIV/0!"}},{"$f":"IF(ประเมินตัวชี้วัดเทอม1!DE25=\"\",\"\",ประเมินตัวชี้วัดเทอม1!DE25)","v":0},{"$f":"IF(C26=\"\",\"\",IF(C26=\"-\",\"-\",SUM(ประเมินตัวชี้วัดเทอม1!DG25:DH25)))","v":{"$error":"#DIV/0!"}},{"$f":"ประเมินตัวชี้วัดเทอม1!DJ25","v":0},{"$f":"ประเมินตัวชี้วัดเทอม2!DE25","v":0},{"$f":"IF(C26=\"\",\"\",IF(C26=\"-\",\"-\",SUM(ประเมินตัวชี้วัดเทอม2!DI25:DJ25)))","v":{"$error":"#DIV/0!"}},{"$f":"ประเมินตัวชี้วัดเทอม2!DL25","v":0},{"$f":"IF(K26=\"\",\"\",IF(K26=\"-\",\"-\",SUM(F26,I26)/2))","v":0},{"$f":"ตัดสินผลการเรียน!F26","v":0},{"$f":"IF(K26=\"\",\"\",IF(K26=\"-\",\"-\",IF(J26>75,\"ดีมาก\",IF(J26>50,\"ดี\",IF(J26>25,\"พอใช้\",\"ปรับปรุง\")))))","v":"ปรับปรุง"},{"$f":"IF(K26=\"-\",\"-\",IF(K26=\"\",\"\",IF(ตัดสินผลการเรียน!N26=\"\",\"มผ\",ตัดสินผลการเรียน!N26)))","v":"มผ"},{"$f":"IF(K26=\"-\",\"-\",IF(K26=\"\",\"\",IF(ตัดสินผลการเรียน!P26=\"\",\"มผ\",ตัดสินผลการเรียน!P26)))","v":"มผ"},2,{"$f":"COUNTIF($K$8:$K$57,2)","v":0},0]
[20,{"$f":"เวลาเรียน!C28","v":"เด็กชายสิทธินนท์   ขนอม        "},{"$f":"IF(เวลาเรียน!IO28=0,\"\",เวลาเรียน!IO28)","v":{"$error":"#DIV/0!"}},{"$f":"IF(ประเมินตัวชี้วัดเทอม1!DE26=\"\",\"\",ประเมินตัวชี้วัดเทอม1!DE26)","v":0},{"$f":"IF(C27=\"\",\"\",IF(C27=\"-\",\"-\",SUM(ประเมินตัวชี้วัดเทอม1!DG26:DH26)))","v":{"$error":"#DIV/0!"}},{"$f":"ประเมินตัวชี้วัดเทอม1!DJ26","v":0},{"$f":"ประเมินตัวชี้วัดเทอม2!DE26","v":0},{"$f":"IF(C27=\"\",\"\",IF(C27=\"-\",\"-\",SUM(ประเมินตัวชี้วัดเทอม2!DI26:DJ26)))","v":{"$error":"#DIV/0!"}},{"$f":"ประเมินตัวชี้วัดเทอม2!DL26","v":0},0,{"$f":"ตัดสินผลการเรียน!F27","v":0},"ปรับปรุง",{"$f":"IF(K27=\"-\",\"-\",IF(K27=\"\",\"\",IF(ตัดสินผลการเรียน!N27=\"\",\"มผ\",ตัดสินผลการเรียน!N27)))","v":"มผ"},{"$f":"IF(K27=\"-\",\"-\",IF(K27=\"\",\"\",IF(ตัดสินผลการเรียน!P27=\"\",\"มผ\",ตัดสินผลการเรียน!P27)))","v":"มผ"},1.5,{"$f":"COUNTIF($K$8:$K$57,1.5)","v":0},0]
[21,{"$f":"เวลาเรียน!C29","v":"เด็กชายธนเดช      ธนวนิชนาม       "},{"$f":"IF(เวลาเรียน!IO29=0,\"\",เวลาเรียน!IO29)","v":{"$error":"#DIV/0!"}},{"$f":"IF(ประเมินตัวชี้วัดเทอม1!DE27=\"\",\"\",ประเมินตัวชี้วัดเทอม1!DE27)","v":0},{"$f":"IF(C28=\"\",\"\",IF(C28=\"-\",\"-\",SUM(ประเมินตัวชี้วัดเทอม1!DG27:DH27)))","v":{"$error":"#DIV/0!"}},{"$f":"ประเมินตัวชี้วัดเทอม1!DJ27","v":0},{"$f":"ประเมินตัวชี้วัดเทอม2!DE27","v":0},{"$f":"IF(C28=\"\",\"\",IF(C28=\"-\",\"-\",SUM(ประเมินตัวชี้วัดเทอม2!DI27:DJ27)))","v":{"$error":"#DIV/0!"}},{"$f":"ประเมินตัวชี้วัดเทอม2!DL27","v":0},0,{"$f":"ตัดสินผลการเรียน!F28","v":0},"ปรับปรุง",{"$f":"IF(K28=\"-\",\"-\",IF(K28=\"\",\"\",IF(ตัดสินผลการเรียน!N28=\"\",\"มผ\",ตัดสินผลการเรียน!N28)))","v":"มผ"},{"$f":"IF(K28=\"-\",\"-\",IF(K28=\"\",\"\",IF(ตัดสินผลการเรียน!P28=\"\",\"มผ\",ตัดสินผลการเรียน!P28)))","v":"มผ"},1,{"$f":"COUNTIF($K$8:$K$57,1)","v":0},0]
[22,{"$f":"เวลาเรียน!C30","v":"เด็กชายนวพล       สิมมาตัน       "},{"$f":"IF(เวลาเรียน!IO30=0,\"\",เวลาเรียน!IO30)","v":{"$error":"#DIV/0!"}},{"$f":"IF(ประเมินตัวชี้วัดเทอม1!DE28=\"\",\"\",ประเมินตัวชี้วัดเทอม1!DE28)","v":0},{"$f":"IF(C29=\"\",\"\",IF(C29=\"-\",\"-\",SUM(ประเมินตัวชี้วัดเทอม1!DG28:DH28)))","v":{"$error":"#DIV/0!"}},{"$f":"ประเมินตัวชี้วัดเทอม1!DJ28","v":0},{"$f":"ประเมินตัวชี้วัดเทอม2!DE28","v":0},{"$f":"IF(C29=\"\",\"\",IF(C29=\"-\",\"-\",SUM(ประเมินตัวชี้วัดเทอม2!DI28:DJ28)))","v":{"$error":"#DIV/0!"}},{"$f":"ประเมินตัวชี้วัดเทอม2!DL28","v":0},0,{"$f":"ตัดสินผลการเรียน!F29","v":0},"ปรับปรุง",{"$f":"IF(K29=\"-\",\"-\",IF(K29=\"\",\"\",IF(ตัดสินผลการเรียน!N29=\"\",\"มผ\",ตัดสินผลการเรียน!N29)))","v":"มผ"},{"$f":"IF(K29=\"-\",\"-\",IF(K29=\"\",\"\",IF(ตัดสินผลการเรียน!P29=\"\",\"มผ\",ตัดสินผลการเรียน!P29)))","v":"มผ"},0,{"$f":"COUNTIF($K$8:$K$57,0)","v":33},100]
[23,{"$f":"เวลาเรียน!C31","v":"เด็กชายฟารีส       แซ่โกว       "},{"$f":"IF(เวลาเรียน!IO31=0,\"\",เวลาเรียน!IO31)","v":{"$error":"#DIV/0!"}},{"$f":"IF(ประเมินตัวชี้วัดเทอม1!DE29=\"\",\"\",ประเมินตัวชี้วัดเทอม1!DE29)","v":0},{"$f":"IF(C30=\"\",\"\",IF(C30=\"-\",\"-\",SUM(ประเมินตัวชี้วัดเทอม1!DG29:DH29)))","v":{"$error":"#DIV/0!"}},{"$f":"ประเมินตัวชี้วัดเทอม1!DJ29","v":0},{"$f":"ประเมินตัวชี้วัดเทอม2!DE29","v":0},{"$f":"IF(C30=\"\",\"\",IF(C30=\"-\",\"-\",SUM(ประเมินตัวชี้วัดเทอม2!DI29:DJ29)))","v":{"$error":"#DIV/0!"}},{"$f":"ประเมินตัวชี้วัดเทอม2!DL29","v":0},0,{"$f":"ตัดสินผลการเรียน!F30","v":0},"ปรับปรุง",{"$f":"IF(K30=\"-\",\"-\",IF(K30=\"\",\"\",IF(ตัดสินผลการเรียน!N30=\"\",\"มผ\",ตัดสินผลการเรียน!N30)))","v":"มผ"},{"$f":"IF(K30=\"-\",\"-\",IF(K30=\"\",\"\",IF(ตัดสินผลการเรียน!P30=\"\",\"มผ\",ตัดสินผลการเรียน!P30)))","v":"มผ"},"ร",{"$f":"COUNTIF($K$8:$K$57,\"ร\")","v":0},0]
[24,{"$f":"เวลาเรียน!C32","v":"เด็กหญิงจิดาภา      ใจห้าว       "},{"$f":"IF(เวลาเรียน!IO32=0,\"\",เวลาเรียน!IO32)","v":{"$error":"#DIV/0!"}},{"$f":"IF(ประเมินตัวชี้วัดเทอม1!DE30=\"\",\"\",ประเมินตัวชี้วัดเทอม1!DE30)","v":0},{"$f":"IF(C31=\"\",\"\",IF(C31=\"-\",\"-\",SUM(ประเมินตัวชี้วัดเทอม1!DG30:DH30)))","v":{"$error":"#DIV/0!"}},{"$f":"ประเมินตัวชี้วัดเทอม1!DJ30","v":0},{"$f":"ประเมินตัวชี้วัดเทอม2!DE30","v":0},{"$f":"IF(C31=\"\",\"\",IF(C31=\"-\",\"-\",SUM(ประเมินตัวชี้วัดเทอม2!DI30:DJ30)))","v":{"$error":"#DIV/0!"}},{"$f":"ประเมินตัวชี้วัดเทอม2!DL30","v":0},0,{"$f":"ตัดสินผลการเรียน!F31","v":0},"ปรับปรุง",{"$f":"IF(K31=\"-\",\"-\",IF(K31=\"\",\"\",IF(ตัดสินผลการเรียน!N31=\"\",\"มผ\",ตัดสินผลการเรียน!N31)))","v":"มผ"},{"$f":"IF(K31=\"-\",\"-\",IF(K31=\"\",\"\",IF(ตัดสินผลการเรียน!P31=\"\",\"มผ\",ตัดสินผลการเรียน!P31)))","v":"มผ"},"มส",{"$f":"COUNTIF($K$8:$K$57,\"มส\")","v":0},0,{"$f":"SUM(P22:P31)","v":33},{"$f":"SUM(Q22:Q31)","v":100}]
[25,{"$f":"เวลาเรียน!C33","v":"เด็กหญิงณัฐนัน      วิโรจน์       "},{"$f":"IF(เวลาเรียน!IO33=0,\"\",เวลาเรียน!IO33)","v":{"$error":"#DIV/0!"}},{"$f":"IF(ประเมินตัวชี้วัดเทอม1!DE31=\"\",\"\",ประเมินตัวชี้วัดเทอม1!DE31)","v":0},{"$f":"IF(C32=\"\",\"\",IF(C32=\"-\",\"-\",SUM(ประเมินตัวชี้วัดเทอม1!DG31:DH31)))","v":{"$error":"#DIV/0!"}},{"$f":"ประเมินตัวชี้วัดเทอม1!DJ31","v":0},{"$f":"ประเมินตัวชี้วัดเทอม2!DE31","v":0},{"$f":"IF(C32=\"\",\"\",IF(C32=\"-\",\"-\",SUM(ประเมินตัวชี้วัดเทอม2!DI31:DJ31)))","v":{"$error":"#DIV/0!"}},{"$f":"ประเมินตัวชี้วัดเทอม2!DL31","v":0},0,{"$f":"ตัดสินผลการเรียน!F32","v":0},"ปรับปรุง",{"$f":"IF(K32=\"-\",\"-\",IF(K32=\"\",\"\",IF(ตัดสินผลการเรียน!N32=\"\",\"มผ\",ตัดสินผลการเรียน!N32)))","v":"มผ"},{"$f":"IF(K32=\"-\",\"-\",IF(K32=\"\",\"\",IF(ตัดสินผลการเรียน!P32=\"\",\"มผ\",ตัดสินผลการเรียน!P32)))","v":"มผ"},"-",{"$f":"COUNTIF($K$8:$K$57,\"-\")","v":0},"-"]
[26,{"$f":"เวลาเรียน!C34","v":"เด็กหญิงชลิดา       กาญจนพานิช       "},{"$f":"IF(เวลาเรียน!IO34=0,\"\",เวลาเรียน!IO34)","v":{"$error":"#DIV/0!"}},{"$f":"IF(ประเมินตัวชี้วัดเทอม1!DE32=\"\",\"\",ประเมินตัวชี้วัดเทอม1!DE32)","v":0},{"$f":"IF(C33=\"\",\"\",IF(C33=\"-\",\"-\",SUM(ประเมินตัวชี้วัดเทอม1!DG32:DH32)))","v":{"$error":"#DIV/0!"}},{"$f":"ประเมินตัวชี้วัดเทอม1!DJ32","v":0},{"$f":"ประเมินตัวชี้วัดเทอม2!DE32","v":0},{"$f":"IF(C33=\"\",\"\",IF(C33=\"-\",\"-\",SUM(ประเมินตัวชี้วัดเทอม2!DI32:DJ32)))","v":{"$error":"#DIV/0!"}},{"$f":"ประเมินตัวชี้วัดเทอม2!DL32","v":0},0,{"$f":"ตัดสินผลการเรียน!F33","v":0},"ปรับปรุง",{"$f":"IF(K33=\"-\",\"-\",IF(K33=\"\",\"\",IF(ตัดสินผลการเรียน!N33=\"\",\"มผ\",ตัดสินผลการเรียน!N33)))","v":"มผ"},{"$f":"IF(K33=\"-\",\"-\",IF(K33=\"\",\"\",IF(ตัดสินผลการเรียน!P33=\"\",\"มผ\",ตัดสินผลการเรียน!P33)))","v":"มผ"},"การอ่าน คิด วิเคราะห์และเขียน"]
[27,{"$f":"เวลาเรียน!C35","v":"เด็กหญิงณัฐภัทร     เทือกสุบรรณ         "},{"$f":"IF(เวลาเรียน!IO35=0,\"\",เวลาเรียน!IO35)","v":{"$error":"#DIV/0!"}},{"$f":"IF(ประเมินตัวชี้วัดเทอม1!DE33=\"\",\"\",ประเมินตัวชี้วัดเทอม1!DE33)","v":0},{"$f":"IF(C34=\"\",\"\",IF(C34=\"-\",\"-\",SUM(ประเมินตัวชี้วัดเทอม1!DG33:DH33)))","v":{"$error":"#DIV/0!"}},{"$f":"ประเมินตัวชี้วัดเทอม1!DJ33","v":0},{"$f":"ประเมินตัวชี้วัดเทอม2!DE33","v":0},{"$f":"IF(C34=\"\",\"\",IF(C34=\"-\",\"-\",SUM(ประเมินตัวชี้วัดเทอม2!DI33:DJ33)))","v":{"$error":"#DIV/0!"}},{"$f":"ประเมินตัวชี้วัดเทอม2!DL33","v":0},0,{"$f":"ตัดสินผลการเรียน!F34","v":0},"ปรับปรุง",{"$f":"IF(K34=\"-\",\"-\",IF(K34=\"\",\"\",IF(ตัดสินผลการเรียน!N34=\"\",\"มผ\",ตัดสินผลการเรียน!N34)))","v":"มผ"},{"$f":"IF(K34=\"-\",\"-\",IF(K34=\"\",\"\",IF(ตัดสินผลการเรียน!P34=\"\",\"มผ\",ตัดสินผลการเรียน!P34)))","v":"มผ"},"ผลประเมิน","จำนวน","ร้อยละ"]
[28,{"$f":"เวลาเรียน!C36","v":"เด็กหญิงสุกัญญา     สาระทิพย์       "},{"$f":"IF(เวลาเรียน!IO36=0,\"\",เวลาเรียน!IO36)","v":{"$error":"#DIV/0!"}},{"$f":"IF(ประเมินตัวชี้วัดเทอม1!DE34=\"\",\"\",ประเมินตัวชี้วัดเทอม1!DE34)","v":0},{"$f":"IF(C35=\"\",\"\",IF(C35=\"-\",\"-\",SUM(ประเมินตัวชี้วัดเทอม1!DG34:DH34)))","v":{"$error":"#DIV/0!"}},{"$f":"ประเมินตัวชี้วัดเทอม1!DJ34","v":0},{"$f":"ประเมินตัวชี้วัดเทอม2!DE34","v":0},{"$f":"IF(C35=\"\",\"\",IF(C35=\"-\",\"-\",SUM(ประเมินตัวชี้วัดเทอม2!DI34:DJ34)))","v":{"$error":"#DIV/0!"}},{"$f":"ประเมินตัวชี้วัดเทอม2!DL34","v":0},0,{"$f":"ตัดสินผลการเรียน!F35","v":0},"ปรับปรุง",{"$f":"IF(K35=\"-\",\"-\",IF(K35=\"\",\"\",IF(ตัดสินผลการเรียน!N35=\"\",\"มผ\",ตัดสินผลการเรียน!N35)))","v":"มผ"},{"$f":"IF(K35=\"-\",\"-\",IF(K35=\"\",\"\",IF(ตัดสินผลการเรียน!P35=\"\",\"มผ\",ตัดสินผลการเรียน!P35)))","v":"มผ"},"ดีเยี่ยม",{"$f":"COUNTIF($M$8:$M$57,\"ดย\")","v":0},{"$f":"P35*100/R$37","v":0}]
[29,{"$f":"เวลาเรียน!C37","v":"เด็กหญิงนันท์นภัส   วัชรกาญจน์       "},{"$f":"IF(เวลาเรียน!IO37=0,\"\",เวลาเรียน!IO37)","v":{"$error":"#DIV/0!"}},{"$f":"IF(ประเมินตัวชี้วัดเทอม1!DE35=\"\",\"\",ประเมินตัวชี้วัดเทอม1!DE35)","v":0},{"$f":"IF(C36=\"\",\"\",IF(C36=\"-\",\"-\",SUM(ประเมินตัวชี้วัดเทอม1!DG35:DH35)))","v":{"$error":"#DIV/0!"}},{"$f":"ประเมินตัวชี้วัดเทอม1!DJ35","v":0},{"$f":"ประเมินตัวชี้วัดเทอม2!DE35","v":0},{"$f":"IF(C36=\"\",\"\",IF(C36=\"-\",\"-\",SUM(ประเมินตัวชี้วัดเทอม2!DI35:DJ35)))","v":{"$error":"#DIV/0!"}},{"$f":"ประเมินตัวชี้วัดเทอม2!DL35","v":0},0,{"$f":"ตัดสินผลการเรียน!F36","v":0},"ปรับปรุง",{"$f":"IF(K36=\"-\",\"-\",IF(K36=\"\",\"\",IF(ตัดสินผลการเรียน!N36=\"\",\"มผ\",ตัดสินผลการเรียน!N36)))","v":"มผ"},{"$f":"IF(K36=\"-\",\"-\",IF(K36=\"\",\"\",IF(ตัดสินผลการเรียน!P36=\"\",\"มผ\",ตัดสินผลการเรียน!P36)))","v":"มผ"},"ดี",{"$f":"COUNTIF($M$8:$M$57,\"ด\")","v":0},{"$f":"P36*100/R$37","v":0}]
[30,{"$f":"เวลาเรียน!C38","v":"เด็กชายธนภูมิ        แซ่ด่าน       "},{"$f":"IF(เวลาเรียน!IO38=0,\"\",เวลาเรียน!IO38)","v":{"$error":"#DIV/0!"}},{"$f":"IF(ประเมินตัวชี้วัดเทอม1!DE36=\"\",\"\",ประเมินตัวชี้วัดเทอม1!DE36)","v":0},{"$f":"IF(C37=\"\",\"\",IF(C37=\"-\",\"-\",SUM(ประเมินตัวชี้วัดเทอม1!DG36:DH36)))","v":{"$error":"#DIV/0!"}},{"$f":"ประเมินตัวชี้วัดเทอม1!DJ36","v":0},{"$f":"ประเมินตัวชี้วัดเทอม2!DE36","v":0},{"$f":"IF(C37=\"\",\"\",IF(C37=\"-\",\"-\",SUM(ประเมินตัวชี้วัดเทอม2!DI36:DJ36)))","v":{"$error":"#DIV/0!"}},{"$f":"ประเมินตัวชี้วัดเทอม2!DL36","v":0},{"$f":"IF(K37=\"\",\"\",IF(K37=\"-\",\"-\",SUM(F37,I37)/2))","v":0},{"$f":"ตัดสินผลการเรียน!F37","v":0},{"$f":"IF(K37=\"\",\"\",IF(K37=\"-\",\"-\",IF(J37>75,\"ดีมาก\",IF(J37>50,\"ดี\",IF(J37>25,\"พอใช้\",\"ปรับปรุง\")))))","v":"ปรับปรุง"},{"$f":"IF(K37=\"-\",\"-\",IF(K37=\"\",\"\",IF(ตัดสินผลการเรียน!N37=\"\",\"มผ\",ตัดสินผลการเรียน!N37)))","v":"มผ"},{"$f":"IF(K37=\"-\",\"-\",IF(K37=\"\",\"\",IF(ตัดสินผลการเรียน!P37=\"\",\"มผ\",ตัดสินผลการเรียน!P37)))","v":"มผ"},"ผ่าน",{"$f":"COUNTIF($M$8:$M$57,\"ผ\")","v":0},0,{"$f":"SUM(P35:P38)","v":33},{"$f":"SUM(Q35:Q38)","v":100}]
[31,{"$f":"เวลาเรียน!C39","v":"เด็กหญิงสุชานันท์    เลื่องสุนทร       "},{"$f":"IF(เวลาเรียน!IO39=0,\"\",เวลาเรียน!IO39)","v":{"$error":"#DIV/0!"}},{"$f":"IF(ประเมินตัวชี้วัดเทอม1!DE37=\"\",\"\",ประเมินตัวชี้วัดเทอม1!DE37)","v":0},{"$f":"IF(C38=\"\",\"\",IF(C38=\"-\",\"-\",SUM(ประเมินตัวชี้วัดเทอม1!DG37:DH37)))","v":{"$error":"#DIV/0!"}},{"$f":"ประเมินตัวชี้วัดเทอม1!DJ37","v":0},{"$f":"ประเมินตัวชี้วัดเทอม2!DE37","v":0},{"$f":"IF(C38=\"\",\"\",IF(C38=\"-\",\"-\",SUM(ประเมินตัวชี้วัดเทอม2!DI37:DJ37)))","v":{"$error":"#DIV/0!"}},{"$f":"ประเมินตัวชี้วัดเทอม2!DL37","v":0},0,{"$f":"ตัดสินผลการเรียน!F38","v":0},"ปรับปรุง",{"$f":"IF(K38=\"-\",\"-\",IF(K38=\"\",\"\",IF(ตัดสินผลการเรียน!N38=\"\",\"มผ\",ตัดสินผลการเรียน!N38)))","v":"มผ"},{"$f":"IF(K38=\"-\",\"-\",IF(K38=\"\",\"\",IF(ตัดสินผลการเรียน!P38=\"\",\"มผ\",ตัดสินผลการเรียน!P38)))","v":"มผ"},"ไม่ผ่าน",{"$f":"COUNTIF($M$8:$M$57,\"มผ\")","v":33},100]
[32,{"$f":"เวลาเรียน!C40","v":"เด็กหญิงกันยาวีร์    เกตุสุวรรณ       "},{"$f":"IF(เวลาเรียน!IO40=0,\"\",เวลาเรียน!IO40)","v":{"$error":"#DIV/0!"}},{"$f":"IF(ประเมินตัวชี้วัดเทอม1!DE38=\"\",\"\",ประเมินตัวชี้วัดเทอม1!DE38)","v":0},{"$f":"IF(C39=\"\",\"\",IF(C39=\"-\",\"-\",SUM(ประเมินตัวชี้วัดเทอม1!DG38:DH38)))","v":{"$error":"#DIV/0!"}},{"$f":"ประเมินตัวชี้วัดเทอม1!DJ38","v":0},{"$f":"ประเมินตัวชี้วัดเทอม2!DE38","v":0},{"$f":"IF(C39=\"\",\"\",IF(C39=\"-\",\"-\",SUM(ประเมินตัวชี้วัดเทอม2!DI38:DJ38)))","v":{"$error":"#DIV/0!"}},{"$f":"ประเมินตัวชี้วัดเทอม2!DL38","v":0},0,{"$f":"ตัดสินผลการเรียน!F39","v":0},"ปรับปรุง",{"$f":"IF(K39=\"-\",\"-\",IF(K39=\"\",\"\",IF(ตัดสินผลการเรียน!N39=\"\",\"มผ\",ตัดสินผลการเรียน!N39)))","v":"มผ"},{"$f":"IF(K39=\"-\",\"-\",IF(K39=\"\",\"\",IF(ตัดสินผลการเรียน!P39=\"\",\"มผ\",ตัดสินผลการเรียน!P39)))","v":"มผ"},"คุณลักษณะอันพึงประสงค์"]
[33,{"$f":"เวลาเรียน!C41","v":"เด็กหญิงสิรินุช       ทองปลอด       "},{"$f":"IF(เวลาเรียน!IO41=0,\"\",เวลาเรียน!IO41)","v":{"$error":"#DIV/0!"}},{"$f":"IF(ประเมินตัวชี้วัดเทอม1!DE39=\"\",\"\",ประเมินตัวชี้วัดเทอม1!DE39)","v":0},{"$f":"IF(C40=\"\",\"\",IF(C40=\"-\",\"-\",SUM(ประเมินตัวชี้วัดเทอม1!DG39:DH39)))","v":{"$error":"#DIV/0!"}},{"$f":"ประเมินตัวชี้วัดเทอม1!DJ39","v":0},{"$f":"ประเมินตัวชี้วัดเทอม2!DE39","v":0},{"$f":"IF(C40=\"\",\"\",IF(C40=\"-\",\"-\",SUM(ประเมินตัวชี้วัดเทอม2!DI39:DJ39)))","v":{"$error":"#DIV/0!"}},{"$f":"ประเมินตัวชี้วัดเทอม2!DL39","v":0},{"$f":"IF(K40=\"\",\"\",IF(K40=\"-\",\"-\",SUM(F40,I40)/2))","v":0},{"$f":"ตัดสินผลการเรียน!F40","v":0},{"$f":"IF(K40=\"\",\"\",IF(K40=\"-\",\"-\",IF(J40>75,\"ดีมาก\",IF(J40>50,\"ดี\",IF(J40>25,\"พอใช้\",\"ปรับปรุง\")))))","v":"ปรับปรุง"},{"$f":"IF(K40=\"-\",\"-\",IF(K40=\"\",\"\",IF(ตัดสินผลการเรียน!N40=\"\",\"มผ\",ตัดสินผลการเรียน!N40)))","v":"มผ"},{"$f":"IF(K40=\"-\",\"-\",IF(K40=\"\",\"\",IF(ตัดสินผลการเรียน!P40=\"\",\"มผ\",ตัดสินผลการเรียน!P40)))","v":"มผ"},"ผลประเมิน","จำนวน","ร้อยละ"]
[34,{"$f":"เวลาเรียน!C42","v":"       "},{"$f":"IF(เวลาเรียน!IO42=0,\"\",เวลาเรียน!IO42)","v":{"$error":"#DIV/0!"}},{"$f":"IF(ประเมินตัวชี้วัดเทอม1!DE40=\"\",\"\",ประเมินตัวชี้วัดเทอม1!DE40)","v":""},{"$f":"IF(C41=\"\",\"\",IF(C41=\"-\",\"-\",SUM(ประเมินตัวชี้วัดเทอม1!DG40:DH40)))","v":{"$error":"#DIV/0!"}},{"$f":"ประเมินตัวชี้วัดเทอม1!DJ40","v":""},{"$f":"ประเมินตัวชี้วัดเทอม2!DE40","v":""},{"$f":"IF(C41=\"\",\"\",IF(C41=\"-\",\"-\",SUM(ประเมินตัวชี้วัดเทอม2!DI40:DJ40)))","v":{"$error":"#DIV/0!"}},{"$f":"ประเมินตัวชี้วัดเทอม2!DL40","v":""},{"$f":"IF(K41=\"\",\"\",IF(K41=\"-\",\"-\",SUM(F41,I41)/2))","v":{"$error":"#VALUE!"}},{"$f":"ตัดสินผลการเรียน!F41","v":{"$error":"#VALUE!"}},{"$f":"IF(K41=\"\",\"\",IF(K41=\"-\",\"-\",IF(J41>75,\"ดีมาก\",IF(J41>50,\"ดี\",IF(J41>25,\"พอใช้\",\"ปรับปรุง\")))))","v":{"$error":"#VALUE!"}},{"$f":"IF(K41=\"-\",\"-\",IF(K41=\"\",\"\",IF(ตัดสินผลการเรียน!N41=\"\",\"มผ\",ตัดสินผลการเรียน!N41)))","v":{"$error":"#VALUE!"}},{"$f":"IF(K41=\"-\",\"-\",IF(K41=\"\",\"\",IF(ตัดสินผลการเรียน!P41=\"\",\"มผ\",ตัดสินผลการเรียน!P41)))","v":{"$error":"#VALUE!"}},"ดีเยี่ยม",{"$f":"COUNTIF($N$8:$N$57,\"ดย\")","v":0},{"$f":"P41*100/R$43","v":0}]
[35,{"$f":"เวลาเรียน!C43","v":"       "},{"$f":"IF(เวลาเรียน!IO43=0,\"\",เวลาเรียน!IO43)","v":{"$error":"#DIV/0!"}},{"$f":"IF(ประเมินตัวชี้วัดเทอม1!DE41=\"\",\"\",ประเมินตัวชี้วัดเทอม1!DE41)","v":""},{"$f":"IF(C42=\"\",\"\",IF(C42=\"-\",\"-\",SUM(ประเมินตัวชี้วัดเทอม1!DG41:DH41)))","v":{"$error":"#DIV/0!"}},{"$f":"ประเมินตัวชี้วัดเทอม1!DJ41","v":""},{"$f":"ประเมินตัวชี้วัดเทอม2!DE41","v":""},{"$f":"IF(C42=\"\",\"\",IF(C42=\"-\",\"-\",SUM(ประเมินตัวชี้วัดเทอม2!DI41:DJ41)))","v":{"$error":"#DIV/0!"}},{"$f":"ประเมินตัวชี้วัดเทอม2!DL41","v":""},{"$error":"#VALUE!"},{"$f":"ตัดสินผลการเรียน!F42","v":{"$error":"#VALUE!"}},{"$error":"#VALUE!"},{"$f":"IF(K42=\"-\",\"-\",IF(K42=\"\",\"\",IF(ตัดสินผลการเรียน!N42=\"\",\"มผ\",ตัดสินผลการเรียน!N42)))","v":{"$error":"#VALUE!"}},{"$f":"IF(K42=\"-\",\"-\",IF(K42=\"\",\"\",IF(ตัดสินผลการเรียน!P42=\"\",\"มผ\",ตัดสินผลการเรียน!P42)))","v":{"$error":"#VALUE!"}},"ดี",{"$f":"COUNTIF($N$8:$N$57,\"ด\")","v":0},{"$f":"P42*100/R$43","v":0}]
[null,{"$f":"เวลาเรียน!C44","v":"       "},{"$f":"IF(เวลาเรียน!IO44=0,\"\",เวลาเรียน!IO44)","v":""},{"$f":"IF(ประเมินตัวชี้วัดเทอม1!DE42=\"\",\"\",ประเมินตัวชี้วัดเทอม1!DE42)","v":""},{"$f":"IF(C43=\"\",\"\",IF(C43=\"-\",\"-\",SUM(ประเมินตัวชี้วัดเทอม1!DG42:DH42)))","v":""},{"$f":"ประเมินตัวชี้วัดเทอม1!DJ42","v":""},{"$f":"ประเมินตัวชี้วัดเทอม2!DE42","v":""},{"$f":"IF(C43=\"\",\"\",IF(C43=\"-\",\"-\",SUM(ประเมินตัวชี้วัดเทอม2!DI42:DJ42)))","v":""},{"$f":"ประเมินตัวชี้วัดเทอม2!DL42","v":""},null,null,null,null,null,"ผ่าน",{"$f":"COUNTIF($N$8:$N$57,\"ผ\")","v":0},0,{"$f":"SUM(P41:P44)","v":33},{"$f":"SUM(Q41:Q44)","v":100}]
[null,{"$f":"เวลาเรียน!C45","v":"       "},{"$f":"IF(เวลาเรียน!IO45=0,\"\",เวลาเรียน!IO45)","v":""},{"$f":"IF(ประเมินตัวชี้วัดเทอม1!DE43=\"\",\"\",ประเมินตัวชี้วัดเทอม1!DE43)","v":""},{"$f":"IF(C44=\"\",\"\",IF(C44=\"-\",\"-\",SUM(ประเมินตัวชี้วัดเทอม1!DG43:DH43)))","v":""},{"$f":"ประเมินตัวชี้วัดเทอม1!DJ43","v":""},{"$f":"ประเมินตัวชี้วัดเทอม2!DE43","v":""},{"$f":"IF(C44=\"\",\"\",IF(C44=\"-\",\"-\",SUM(ประเมินตัวชี้วัดเทอม2!DI43:DJ43)))","v":""},{"$f":"ประเมินตัวชี้วัดเทอม2!DL43","v":""},null,null,null,null,null,"ไม่ผ่าน",{"$f":"COUNTIF($N$8:$N$57,\"มผ\")","v":33},100]
[null,{"$f":"เวลาเรียน!C46","v":"       "},{"$f":"IF(เวลาเรียน!IO46=0,\"\",เวลาเรียน!IO46)","v":""},{"$f":"IF(ประเมินตัวชี้วัดเทอม1!DE44=\"\",\"\",ประเมินตัวชี้วัดเทอม1!DE44)","v":""},{"$f":"IF(C45=\"\",\"\",IF(C45=\"-\",\"-\",SUM(ประเมินตัวชี้วัดเทอม1!DG44:DH44)))","v":""},{"$f":"ประเมินตัวชี้วัดเทอม1!DJ44","v":""},{"$f":"ประเมินตัวชี้วัดเทอม2!DE44","v":""},{"$f":"IF(C45=\"\",\"\",IF(C45=\"-\",\"-\",SUM(ประเมินตัวชี้วัดเทอม2!DI44:DJ44)))","v":""},{"$f":"ประเมินตัวชี้วัดเทอม2!DL44","v":""},null,null,null,null,null,"คะแนนรวม ภาค 1+2"]
[null,{"$f":"เวลาเรียน!C47","v":"       "},{"$f":"IF(เวลาเรียน!IO47=0,\"\",เวลาเรียน!IO47)","v":""},{"$f":"IF(ประเมินตัวชี้วัดเทอม1!DE45=\"\",\"\",ประเมินตัวชี้วัดเทอม1!DE45)","v":""},{"$f":"IF(C46=\"\",\"\",IF(C46=\"-\",\"-\",SUM(ประเมินตัวชี้วัดเทอม1!DG45:DH45)))","v":""},{"$f":"ประเมินตัวชี้วัดเทอม1!DJ45","v":""},{"$f":"ประเมินตัวชี้วัดเทอม2!DE45","v":""},{"$f":"IF(C46=\"\",\"\",IF(C46=\"-\",\"-\",SUM(ประเมินตัวชี้วัดเทอม2!DI45:DJ45)))","v":""},{"$f":"ประเมินตัวชี้วัดเทอม2!DL45","v":""},null,null,null,null,null,"กลางภาค","ปลายภาค","รวม"]
[null,{"$f":"เวลาเรียน!C48","v":"       "},{"$f":"IF(เวลาเรียน!IO48=0,\"\",เวลาเรียน!IO48)","v":""},{"$f":"IF(ประเมินตัวชี้วัดเทอม1!DE46=\"\",\"\",ประเมินตัวชี้วัดเทอม1!DE46)","v":""},{"$f":"IF(C47=\"\",\"\",IF(C47=\"-\",\"-\",SUM(ประเมินตัวชี้วัดเทอม1!DG46:DH46)))","v":""},{"$f":"ประเมินตัวชี้วัดเทอม1!DJ46","v":""},{"$f":"ประเมินตัวชี้วัดเทอม2!DE46","v":""},{"$f":"IF(C47=\"\",\"\",IF(C47=\"-\",\"-\",SUM(ประเมินตัวชี้วัดเทอม2!DI46:DJ46)))","v":""},{"$f":"ประเมินตัวชี้วัดเทอม2!DL46","v":""},null,null,null,null,null,{"$f":"SUM(D8:D57,G8:G57)/2","v":0},{"$f":"SUM(E8:E57,H8:H57)/2","v":{"$error":"#DIV/0!"}},{"$f":"SUM(F8:F57,I8:I57)/2","v":0}]
[null,{"$f":"เวลาเรียน!C49","v":"       "},{"$f":"IF(เวลาเรียน!IO49=0,\"\",เวลาเรียน!IO49)","v":""},{"$f":"IF(ประเมินตัวชี้วัดเทอม1!DE47=\"\",\"\",ประเมินตัวชี้วัดเทอม1!DE47)","v":""},{"$f":"IF(C48=\"\",\"\",IF(C48=\"-\",\"-\",SUM(ประเมินตัวชี้วัดเทอม1!DG47:DH47)))","v":""},{"$f":"ประเมินตัวชี้วัดเทอม1!DJ47","v":""},{"$f":"ประเมินตัวชี้วัดเทอม2!DE47","v":""},{"$f":"IF(C48=\"\",\"\",IF(C48=\"-\",\"-\",SUM(ประเมินตัวชี้วัดเทอม2!DI47:DJ47)))","v":""},{"$f":"ประเมินตัวชี้วัดเทอม2!DL47","v":""},null,null,null,null,null,"ค่าเฉลี่ย ภาค 1+2"]
[null,{"$f":"เวลาเรียน!C50","v":"       "},{"$f":"IF(เวลาเรียน!IO50=0,\"\",เวลาเรียน!IO50)","v":""},{"$f":"IF(ประเมินตัวชี้วัดเทอม1!DE48=\"\",\"\",ประเมินตัวชี้วัดเทอม1!DE48)","v":""},{"$f":"IF(C49=\"\",\"\",IF(C49=\"-\",\"-\",SUM(ประเมินตัวชี้วัดเทอม1!DG48:DH48)))","v":""},{"$f":"ประเมินตัวชี้วัดเทอม1!DJ48","v":""},{"$f":"ประเมินตัวชี้วัดเทอม2!DE48","v":""},{"$f":"IF(C49=\"\",\"\",IF(C49=\"-\",\"-\",SUM(ประเมินตัวชี้วัดเทอม2!DI48:DJ48)))","v":""},{"$f":"ประเมินตัวชี้วัดเทอม2!DL48","v":""},null,null,null,null,null,"กลางภาค","ปลายภาค","เฉลี่ย"]
[null,null,null,null,null,null,null,null,null,null,null,null,null,null,{"$f":"AVERAGE(D8:D57,G8:G57)","v":0},{"$f":"AVERAGE(E8:E57,H8:H57)","v":{"$error":"#DIV/0!"}},{"$f":"AVERAGE(F8:F57,I8:I57)","v":0}]
[]
[]
[null,null,null,null,null,null,null,null,null,null,null,null,null,null,{"$f":"ปก!C29","v":0}]
[null,null,null,null,null,null,null,null,null,null,null,null,null,null,"ครูผู้สอน"]
[null,null,null,null,null,null,null,null,null,null,null,null,null,null,"หัวหน้ากลุ่มสาระ ......................................."]
[null,null,null,null,null,null,null,null,null,null,null,null,null,null,"หัวหน้างานวัดผล ......................................."]
[null,null,null,null,null,null,null,null,null,null,null,null,null,null,"หัวหน้าวิชาการ .................................."]