{"text_format":"1","workbook":"xlsx","n_sheets":13,"sheets":["Sheet1","ใบรายชื่อ","ปก","กำหนดอัตราส่วนคะแนน","เวลาเรียน","ประเมินตัวชี้วัด","ประเมินตัวชี้วัดเทอม2","ตัดสินผลการเรียน","คุณลักษณะอันพึงประสงค์","อ่าน คิด วิเคราะห์","โครงสร้างรายวิชา","แผนภูมิสรุป","ประเมินผลสัมฤทธิ์"],"not_rendered":{"charts":3,"images":53,"macros":1,"external_links":1,"defined_names":18,"comments":2,"pivot_tables":0},"unopened":[],"bounds":{"document_bytes":16777216,"sheet_cells":100000,"rows_first":2000,"rows_last":500,"rows_between":2000,"halvings":0,"cell_chars":16384,"cell_head_chars":4096},"cells_cut":0,"cells_raw":0,"read":"whole","date_system":"1900"}

{"sheet":"Sheet1","index":0,"n_rows":51,"n_cols":11,"rows_kept":51,"cut":false,"hidden":false,"merged":[]}
["StudentID","รหัส","คำนำหน้า","ชื่อ","นามสกุล","คะแนน","เกรด"]
[null,12886,"เด็กหญิง","ปุญญิศา","วอทอง",{"$f":"ประเมินตัวชี้วัด!DL7","v":"-"},{"$f":"ประเมินตัวชี้วัด!DN7","v":""}]
[null,12896,"เด็กหญิง","ศิริขวัญ","กุญชรินทร์",{"$f":"ประเมินตัวชี้วัด!DL8","v":"-"},{"$f":"ประเมินตัวชี้วัด!DN8","v":""},null,{"$f":"COUNTIF($C$2:$C$51,\"นาย\")","v":0},{"$f":"COUNTIF($C$2:$C$51,\"นางสาว\")","v":0}]
[null,12914,"เด็กหญิง","อรนลิน","เพชรรักษ์",{"$f":"ประเมินตัวชี้วัด!DL9","v":"-"},{"$f":"ประเมินตัวชี้วัด!DN9","v":""},null,{"$f":"COUNTIF($C$2:$C$51,\"เด็กชาย\")","v":22},{"$f":"COUNTIF($C$2:$C$51,\"เด็กหญิง\")","v":15}]
[null,12920,"เด็กหญิง","กีรติกา","ไพฑูรย์",{"$f":"ประเมินตัวชี้วัด!DL10","v":"-"},{"$f":"ประเมินตัวชี้วัด!DN10","v":""},null,{"$f":"SUM(I3:I4)","v":22},{"$f":"SUM(J3:J4)","v":15},{"$f":"SUM(I5:J5)","v":37}]
[null,12924,"เด็กหญิง","ไปรยา","ณ นคร",{"$f":"ประเมินตัวชี้วัด!DL11","v":"-"},{"$f":"ประเมินตัวชี้วัด!DN11","v":""}]
[null,12926,"เด็กหญิง","กวินธิดา","ขาวอรุณ",{"$f":"ประเมินตัวชี้วัด!DL12","v":"-"},{"$f":"ประเมินตัวชี้วัด!DN12","v":""}]
[null,12938,"เด็กชาย","อภิสิทธิ์","บัวทอง",{"$f":"ประเมินตัวชี้วัด!DL13","v":"-"},{"$f":"ประเมินตัวชี้วัด!DN13","v":""}]
[null,12942,"เด็กหญิง","วริสรา","ราชวงษ์",{"$f":"ประเมินตัวชี้วัด!DL14","v":"-"},{"$f":"ประเมินตัวชี้วัด!DN14","v":""}]
[null,14067,"เด็กชาย","เมธัส","นุชพานิช",{"$f":"ประเมินตัวชี้วัด!DL15","v":"-"},{"$f":"ประเมินตัวชี้วัด!DN15","v":""}]
[null,14070,"เด็กชาย","สรายุทธ","หนูชัยแก้ว",{"$f":"ประเมินตัวชี้วัด!DL16","v":"-"},{"$f":"ประเมินตัวชี้วัด!DN16","v":""}]
[null,14073,"เด็กหญิง","อัยลดา","รักอรุณ",{"$f":"ประเมินตัวชี้วัด!DL17","v":"-"},{"$f":"ประเมินตัวชี้วัด!DN17","v":""}]
[null,14090,"เด็กชาย","สิงหา","วงศ์ศราวิทย์",{"$f":"ประเมินตัวชี้วัด!DL18","v":"-"},{"$f":"ประเมินตัวชี้วัด!DN18","v":""}]
[null,14096,"เด็กชาย","อภิชัย","วิลาศลักษณ์",{"$f":"ประเมินตัวชี้วัด!DL19","v":"-"},{"$f":"ประเมินตัวชี้วัด!DN19","v":""}]
[null,14099,"เด็กชาย","ภูมิพัฒน์","โกสิยพันธ์",{"$f":"ประเมินตัวชี้วัด!DL20","v":"-"},{"$f":"ประเมินตัวชี้วัด!DN20","v":""}]
[null,14107,"เด็กหญิง","นงณภัทร","ศรแก้วดารา",{"$f":"ประเมินตัวชี้วัด!DL21","v":"-"},{"$f":"ประเมินตัวชี้วัด!DN21","v":""}]
[null,14112,"เด็กหญิง","ชนัญชิดา","เทียนชัย",{"$f":"ประเมินตัวชี้วัด!DL22","v":"-"},{"$f":"ประเมินตัวชี้วัด!DN22","v":""}]
[null,14118,"เด็กชาย","นนทกร","วรรณภัณฑ์พินิจ",{"$f":"ประเมินตัวชี้วัด!DL23","v":"-"},{"$f":"ประเมินตัวชี้วัด!DN23","v":""}]
[null,14120,"เด็กชาย","ภัคพล","พรมฉิม",{"$f":"ประเมินตัวชี้วัด!DL24","v":"-"},{"$f":"ประเมินตัวชี้วัด!DN24","v":""}]
[null,14123,"เด็กชาย","กรวิชญ์","ฤทธิคง",{"$f":"ประเมินตัวชี้วัด!DL25","v":"-"},{"$f":"ประเมินตัวชี้วัด!DN25","v":""}]
[null,14126,"เด็กชาย","กรกช","สุจจิต",{"$f":"ประเมินตัวชี้วัด!DL26","v":"-"},{"$f":"ประเมินตัวชี้วัด!DN26","v":""}]
[null,14127,"เด็กชาย","วรัญญู","แก้วพรัด",{"$f":"ประเมินตัวชี้วัด!DL27","v":"-"},{"$f":"ประเมินตัวชี้วัด!DN27","v":""}]
[null,14142,"เด็กชาย","ภูรินทร์","วงษ์ถาวร",{"$f":"ประเมินตัวชี้วัด!DL28","v":"-"},{"$f":"ประเมินตัวชี้วัด!DN28","v":""}]
[null,14434,"เด็กหญิง","ลลิตภัทร","ขุ้ยด้วง",{"$f":"ประเมินตัวชี้วัด!DL29","v":"-"},{"$f":"ประเมินตัวชี้วัด!DN29","v":""}]
[null,14445,"เด็กหญิง","ศวรรยา","ปิยบรรพต",{"$f":"ประเมินตัวชี้วัด!DL30","v":"-"},{"$f":"ประเมินตัวชี้วัด!DN30","v":""}]
[null,14924,"เด็กหญิง","ณัฐฌญา","สุวรรณมณี",{"$f":"ประเมินตัวชี้วัด!DL31","v":"-"},{"$f":"ประเมินตัวชี้วัด!DN31","v":""}]
[null,15041,"เด็กชาย","ปฐมมงคล","เทพสุวรรณ",{"$f":"ประเมินตัวชี้วัด!DL32","v":"-"},{"$f":"ประเมินตัวชี้วัด!DN32","v":""}]
[null,15720,"เด็กชาย","ภูริณัฐ","โรยอุตระ",{"$f":"ประเมินตัวชี้วัด!DL33","v":"-"},{"$f":"ประเมินตัวชี้วัด!DN33","v":""}]
[null,15727,"เด็กชาย","ภานุวัฒน์","เรืองรักษ์",{"$f":"ประเมินตัวชี้วัด!DL34","v":"-"},{"$f":"ประเมินตัวชี้วัด!DN34","v":""}]
[null,18137,"เด็กชาย","ธนาทิป","อรุณไทย",{"$f":"ประเมินตัวชี้วัด!DL35","v":"-"},{"$f":"ประเมินตัวชี้วัด!DN35","v":""}]
[null,18157,"เด็กหญิง","เมย์ชญา","นาคพัฒน์",{"$f":"ประเมินตัวชี้วัด!DL36","v":"-"},{"$f":"ประเมินตัวชี้วัด!DN36","v":""}]
[null,18158,"เด็กชาย","พีรณัฐ","จามพัฒน์",{"$f":"ประเมินตัวชี้วัด!DL37","v":"-"},{"$f":"ประเมินตัวชี้วัด!DN37","v":""}]
[null,18159,"เด็กชาย","ปิยภัทร","พรหมดำ",{"$f":"ประเมินตัวชี้วัด!DL38","v":"-"},{"$f":"ประเมินตัวชี้วัด!DN38","v":""}]
[null,18160,"เด็กชาย","ธีรดนย์","คณะเสาวชัย",{"$f":"ประเมินตัวชี้วัด!DL39","v":"-"},{"$f":"ประเมินตัวชี้วัด!DN39","v":""}]
[null,18161,"เด็กชาย","ชิษณุพงศ์","เสถียรธนฉัตร์",{"$f":"ประเมินตัวชี้วัด!DL40","v":"-"},{"$f":"ประเมินตัวชี้วัด!DN40","v":""}]
[null,18163,"เด็กชาย","ทัชชกร","นาคพล",{"$f":"ประเมินตัวชี้วัด!DL41","v":"-"},{"$f":"ประเมินตัวชี้วัด!DN41","v":""}]
[null,18417,"เด็กชาย","ธนภัทร","สถิตย์วงศ์วรากุล",{"$f":"ประเมินตัวชี้วัด!DL42","v":"-"},{"$f":"ประเมินตัวชี้วัด!DN42","v":""}]
[null,18806,"เด็กหญิง","ญาณิศา","ชัยมา",{"$f":"ประเมินตัวชี้วัด!DL43","v":"-"},{"$f":"ประเมินตัวชี้วัด!DN43","v":""}]
[null,null,null,null,null,{"$f":"ประเมินตัวชี้วัด!DL44","v":""},{"$f":"ประเมินตัวชี้วัด!DN44","v":""}]
[null,null,null,null,null,{"$f":"ประเมินตัวชี้วัด!DL45","v":""},{"$f":"ประเมินตัวชี้วัด!DN45","v":""}]
[null,null,null,null,null,{"$f":"ประเมินตัวชี้วัด!DL46","v":""},{"$f":"ประเมินตัวชี้วัด!DN46","v":""}]
[null,null,null,null,null,{"$f":"ประเมินตัวชี้วัด!DL47","v":""},{"$f":"ประเมินตัวชี้วัด!DN47","v":""}]
[null,null,null,null,null,{"$f":"ประเมินตัวชี้วัด!DL48","v":""},{"$f":"ประเมินตัวชี้วัด!DN48","v":""}]
[null,null,null,null,null,{"$f":"ประเมินตัวชี้วัด!DL49","v":""},{"$f":"ประเมินตัวชี้วัด!DN49","v":""}]
[null,null,null,null,null,{"$f":"ประเมินตัวชี้วัด!DL50","v":""},{"$f":"ประเมินตัวชี้วัด!DN50","v":""}]
[null,null,null,null,null,{"$f":"ประเมินตัวชี้วัด!DL51","v":""},{"$f":"ประเมินตัวชี้วัด!DN51","v":""}]
[null,null,null,null,null,{"$f":"ประเมินตัวชี้วัด!DL52","v":""},{"$f":"ประเมินตัวชี้วัด!DN52","v":""}]
[null,null,null,null,null,{"$f":"ประเมินตัวชี้วัด!DL53","v":""},{"$f":"ประเมินตัวชี้วัด!DN53","v":""}]
[null,null,null,null,null,{"$f":"ประเมินตัวชี้วัด!DL54","v":""},{"$f":"ประเมินตัวชี้วัด!DN54","v":""}]
[null,null,null,null,null,{"$f":"ประเมินตัวชี้วัด!DL55","v":""},{"$f":"ประเมินตัวชี้วัด!DN55","v":""}]
[null,null,null,null,null,{"$f":"ประเมินตัวชี้วัด!DL56","v":""},{"$f":"ประเมินตัวชี้วัด!DN56","v":""}]

{"sheet":"ใบรายชื่อ","index":1,"n_rows":57,"n_cols":24,"rows_kept":57,"cut":false,"hidden":false,"merged":[[1,0,1,23],[4,0,4,23],[2,0,2,23],[5,38,5,61],[3,0,3,23]]}
[]
[{"$f":"\"รายชื่อนักเรียน\"&ปก!AF11","v":"รายชื่อนักเรียน"}]
[{"$f":"ปก!C5&\"  \"&\"สังกัด\"&ปก!C8","v":"โรงเรียนเทศบาล ๕  สังกัดเทศบาลนครสุราษฎร์ธานี"}]
[{"$f":"\"รายวิชา\"&ปก!AC15&\"    \"&\"รหัสวิชา\"&\" \"&ปก!AS15&\"  \"&\"  \"&\"ปีการศึกษา\"&\" \"&ปก!C16","v":"รายวิชา{{โปรดกรอกข้อมูลรายวิชา}}    รหัสวิชา {{โปรดกรอกรหัสวิชา}}    ปีการศึกษา 2566"}]
[{"$f":"\"ครูที่ปรึกษา : \"&ปก!AF19&\"  \"&ปก!AQ19","v":"ครูที่ปรึกษา : นางณัฐติกาญจน์  เกิดสม    นางสาวศิรินทร์  นงค์เยาว์  "}]
["เลขที่","เลขประจำตัว","ชื่อ-นามสกุล"]
[1,{"$f":"Sheet1!B2","v":12886},{"$f":"CONCATENATE(Sheet1!C2,Sheet1!D2&\"    \"&Sheet1!E2)","v":"เด็กหญิงปุญญิศา    วอทอง"}]
[2,{"$f":"Sheet1!B3","v":12896},{"$f":"CONCATENATE(Sheet1!C3,Sheet1!D3&\"    \"&Sheet1!E3)","v":"เด็กหญิงศิริขวัญ    กุญชรินทร์"}]
[3,{"$f":"Sheet1!B4","v":12914},{"$f":"CONCATENATE(Sheet1!C4,Sheet1!D4&\"    \"&Sheet1!E4)","v":"เด็กหญิงอรนลิน    เพชรรักษ์"}]
[4,{"$f":"Sheet1!B5","v":12920},{"$f":"CONCATENATE(Sheet1!C5,Sheet1!D5&\"    \"&Sheet1!E5)","v":"เด็กหญิงกีรติกา    ไพฑูรย์"}]
[5,{"$f":"Sheet1!B6","v":12924},{"$f":"CONCATENATE(Sheet1!C6,Sheet1!D6&\"    \"&Sheet1!E6)","v":"เด็กหญิงไปรยา    ณ นคร"}]
[6,{"$f":"Sheet1!B7","v":12926},{"$f":"CONCATENATE(Sheet1!C7,Sheet1!D7&\"    \"&Sheet1!E7)","v":"เด็กหญิงกวินธิดา    ขาวอรุณ"}]
[7,{"$f":"Sheet1!B8","v":12938},{"$f":"CONCATENATE(Sheet1!C8,Sheet1!D8&\"    \"&Sheet1!E8)","v":"เด็กชายอภิสิทธิ์    บัวทอง"}]
[8,{"$f":"Sheet1!B9","v":12942},{"$f":"CONCATENATE(Sheet1!C9,Sheet1!D9&\"    \"&Sheet1!E9)","v":"เด็กหญิงวริสรา    ราชวงษ์"}]
[9,{"$f":"Sheet1!B10","v":14067},{"$f":"CONCATENATE(Sheet1!C10,Sheet1!D10&\"    \"&Sheet1!E10)","v":"เด็กชายเมธัส    นุชพานิช"}]
[10,{"$f":"Sheet1!B11","v":14070},{"$f":"CONCATENATE(Sheet1!C11,Sheet1!D11&\"    \"&Sheet1!E11)","v":"เด็กชายสรายุทธ    หนูชัยแก้ว"}]
[11,{"$f":"Sheet1!B12","v":14073},{"$f":"CONCATENATE(Sheet1!C12,Sheet1!D12&\"    \"&Sheet1!E12)","v":"เด็กหญิงอัยลดา    รักอรุณ"}]
[12,{"$f":"Sheet1!B13","v":14090},{"$f":"CONCATENATE(Sheet1!C13,Sheet1!D13&\"    \"&Sheet1!E13)","v":"เด็กชายสิงหา    วงศ์ศราวิทย์"}]
[13,{"$f":"Sheet1!B14","v":14096},{"$f":"CONCATENATE(Sheet1!C14,Sheet1!D14&\"    \"&Sheet1!E14)","v":"เด็กชายอภิชัย    วิลาศลักษณ์"}]
[14,{"$f":"Sheet1!B15","v":14099},{"$f":"CONCATENATE(Sheet1!C15,Sheet1!D15&\"    \"&Sheet1!E15)","v":"เด็กชายภูมิพัฒน์    โกสิยพันธ์"}]
[15,{"$f":"Sheet1!B16","v":14107},{"$f":"CONCATENATE(Sheet1!C16,Sheet1!D16&\"    \"&Sheet1!E16)","v":"เด็กหญิงนงณภัทร    ศรแก้วดารา"}]
[16,{"$f":"Sheet1!B17","v":14112},{"$f":"CONCATENATE(Sheet1!C17,Sheet1!D17&\"    \"&Sheet1!E17)","v":"เด็กหญิงชนัญชิดา    เทียนชัย"}]
[17,{"$f":"Sheet1!B18","v":14118},{"$f":"CONCATENATE(Sheet1!C18,Sheet1!D18&\"    \"&Sheet1!E18)","v":"เด็กชายนนทกร    วรรณภัณฑ์พินิจ"}]
[18,{"$f":"Sheet1!B19","v":14120},{"$f":"CONCATENATE(Sheet1!C19,Sheet1!D19&\"    \"&Sheet1!E19)","v":"เด็กชายภัคพล    พรมฉิม"}]
[19,{"$f":"Sheet1!B20","v":14123},{"$f":"CONCATENATE(Sheet1!C20,Sheet1!D20&\"    \"&Sheet1!E20)","v":"เด็กชายกรวิชญ์    ฤทธิคง"}]
[20,{"$f":"Sheet1!B21","v":14126},{"$f":"CONCATENATE(Sheet1!C21,Sheet1!D21&\"    \"&Sheet1!E21)","v":"เด็กชายกรกช    สุจจิต"}]
[21,{"$f":"Sheet1!B22","v":14127},{"$f":"CONCATENATE(Sheet1!C22,Sheet1!D22&\"    \"&Sheet1!E22)","v":"เด็กชายวรัญญู    แก้วพรัด"}]
[22,{"$f":"Sheet1!B23","v":14142},{"$f":"CONCATENATE(Sheet1!C23,Sheet1!D23&\"    \"&Sheet1!E23)","v":"เด็กชายภูรินทร์    วงษ์ถาวร"}]
[23,{"$f":"Sheet1!B24","v":14434},{"$f":"CONCATENATE(Sheet1!C24,Sheet1!D24&\"    \"&Sheet1!E24)","v":"เด็กหญิงลลิตภัทร    ขุ้ยด้วง"}]
[24,{"$f":"Sheet1!B25","v":14445},{"$f":"CONCATENATE(Sheet1!C25,Sheet1!D25&\"    \"&Sheet1!E25)","v":"เด็กหญิงศวรรยา    ปิยบรรพต"}]
[25,{"$f":"Sheet1!B26","v":14924},{"$f":"CONCATENATE(Sheet1!C26,Sheet1!D26&\"    \"&Sheet1!E26)","v":"เด็กหญิงณัฐฌญา    สุวรรณมณี"}]
[26,{"$f":"Sheet1!B27","v":15041},{"$f":"CONCATENATE(Sheet1!C27,Sheet1!D27&\"    \"&Sheet1!E27)","v":"เด็กชายปฐมมงคล    เทพสุวรรณ"}]
[27,{"$f":"Sheet1!B28","v":15720},{"$f":"CONCATENATE(Sheet1!C28,Sheet1!D28&\"    \"&Sheet1!E28)","v":"เด็กชายภูริณัฐ    โรยอุตระ"}]
[28,{"$f":"Sheet1!B29","v":15727},{"$f":"CONCATENATE(Sheet1!C29,Sheet1!D29&\"    \"&Sheet1!E29)","v":"เด็กชายภานุวัฒน์    เรืองรักษ์"}]
[29,{"$f":"Sheet1!B30","v":18137},{"$f":"CONCATENATE(Sheet1!C30,Sheet1!D30&\"    \"&Sheet1!E30)","v":"เด็กชายธนาทิป    อรุณไทย"}]
[30,{"$f":"Sheet1!B31","v":18157},{"$f":"CONCATENATE(Sheet1!C31,Sheet1!D31&\"    \"&Sheet1!E31)","v":"เด็กหญิงเมย์ชญา    นาคพัฒน์"}]
[31,{"$f":"Sheet1!B32","v":18158},{"$f":"CONCATENATE(Sheet1!C32,Sheet1!D32&\"    \"&Sheet1!E32)","v":"เด็กชายพีรณัฐ    จามพัฒน์"}]
[32,{"$f":"Sheet1!B33","v":18159},{"$f":"CONCATENATE(Sheet1!C33,Sheet1!D33&\"    \"&Sheet1!E33)","v":"เด็กชายปิยภัทร    พรหมดำ"}]
[33,{"$f":"Sheet1!B34","v":18160},{"$f":"CONCATENATE(Sheet1!C34,Sheet1!D34&\"    \"&Sheet1!E34)","v":"เด็กชายธีรดนย์    คณะเสาวชัย"}]
[34,{"$f":"Sheet1!B35","v":18161},{"$f":"CONCATENATE(Sheet1!C35,Sheet1!D35&\"    \"&Sheet1!E35)","v":"เด็กชายชิษณุพงศ์    เสถียรธนฉัตร์"}]
[35,{"$f":"Sheet1!B36","v":18163},{"$f":"CONCATENATE(Sheet1!C36,Sheet1!D36&\"    \"&Sheet1!E36)","v":"เด็กชายทัชชกร    นาคพล"}]
[36,{"$f":"Sheet1!B37","v":18417},{"$f":"CONCATENATE(Sheet1!C37,Sheet1!D37&\"    \"&Sheet1!E37)","v":"เด็กชายธนภัทร    สถิตย์วงศ์วรากุล"}]
[37,{"$f":"Sheet1!B38","v":18806},{"$f":"CONCATENATE(Sheet1!C38,Sheet1!D38&\"    \"&Sheet1!E38)","v":"เด็กหญิงญาณิศา    ชัยมา"}]
[null,{"$f":"Sheet1!B39","v":0},{"$f":"CONCATENATE(Sheet1!C39,Sheet1!D39&\"    \"&Sheet1!E39)","v":"    "}]
[null,{"$f":"Sheet1!B40","v":0},{"$f":"CONCATENATE(Sheet1!C40,Sheet1!D40&\"    \"&Sheet1!E40)","v":"    "}]
[null,{"$f":"Sheet1!B41","v":0},{"$f":"CONCATENATE(Sheet1!C41,Sheet1!D41&\"    \"&Sheet1!E41)","v":"    "}]
[null,{"$f":"Sheet1!B42","v":0},{"$f":"CONCATENATE(Sheet1!C42,Sheet1!D42&\"    \"&Sheet1!E42)","v":"    "}]
[null,{"$f":"Sheet1!B43","v":0},{"$f":"CONCATENATE(Sheet1!C43,Sheet1!D43&\"    \"&Sheet1!E43)","v":"    "}]
[null,{"$f":"Sheet1!B44","v":0},{"$f":"CONCATENATE(Sheet1!C44,Sheet1!D44&\"    \"&Sheet1!E44)","v":"    "}]
[null,{"$f":"Sheet1!B45","v":0},{"$f":"CONCATENATE(Sheet1!C45,Sheet1!D45&\"    \"&Sheet1!E45)","v":"    "}]
[null,{"$f":"Sheet1!B46","v":0},{"$f":"CONCATENATE(Sheet1!C46,Sheet1!D46&\"    \"&Sheet1!E46)","v":"    "}]
[null,{"$f":"Sheet1!B47","v":0},{"$f":"CONCATENATE(Sheet1!C47,Sheet1!D47&\"    \"&Sheet1!E47)","v":"    "}]
[null,{"$f":"Sheet1!B48","v":0},{"$f":"CONCATENATE(Sheet1!C48,Sheet1!D48&\"    \"&Sheet1!E48)","v":"    "}]
[null,{"$f":"Sheet1!B49","v":0},{"$f":"CONCATENATE(Sheet1!C49,Sheet1!D49&\"    \"&Sheet1!E49)","v":"    "}]
[null,{"$f":"Sheet1!B50","v":0},{"$f":"CONCATENATE(Sheet1!C50,Sheet1!D50&\"    \"&Sheet1!E50)","v":"    "}]
[null,{"$f":"Sheet1!B51","v":0},{"$f":"CONCATENATE(Sheet1!C51,Sheet1!D51&\"    \"&Sheet1!E51)","v":"    "}]
[null,null,null,null,null,null,null,null,null,null,null,null,null,null,null,null,null,null,null,null,null,null,null,{"$f":"\"จำนวนนักเรียน\"&\"  \"&\"ชาย\"&\" \"&Sheet1!I5&\" \"&\"คน\"&\",\"&\" \"&\"หญิง\"&\" \"&Sheet1!J5&\" \"&\"คน\"&\" \"&\"รวม\"&\" \"&Sheet1!K5&\" \"&\"คน\"","v":"จำนวนนักเรียน  ชาย 22 คน, หญิง 15 คน รวม 37 คน"}]

{"sheet":"ปก","index":2,"n_rows":42,"n_cols":53,"rows_kept":42,"cut":false,"hidden":false,"merged":[[40,26,40,32],[40,40,40,47],[29,17,29,22],[30,17,30,22],[24,16,24,22],[27,2,27,5],[24,2,24,13],[26,2,26,13],[25,47,25,48],[24,31,24,32],[29,34,29,36],[30,43,30,45],[30,46,30,48],[30,31,30,33],[30,34,30,36],[30,37,30,39],[33,1,36,22],[40,1,40,22],[32,24,32,52],[30,28,30,30],[29,25,29,27],[25,49,25,51],[26,49,26,51],[26,47,26,48],[20,2,20,13],[21,2,21,13],[16,2,16,13],[17,2,17,13],[27,17,27,22],[28,17,28,22],[28,28,28,30],[13,31,13,40],[14,28,14,40],[22,29,22,30],[22,31,22,32],[15,28,15,29],[26,25,26,36],[27,25,27,27],[25,17,25,22],[25,37,25,38],[28,31,28,33],[28,34,28,36],[28,37,28,39],[2,1,3,13],[12,2,12,13],[7,1,8,1],[25,2,25,13],[28,2,28,13],[4,2,4,13],[5,2,5,13],[6,2,6,13],[9,2,9,13],[10,2,10,13],[11,2,11,13],[7,2,8,13],[16,1,17,1],[18,2,19,13],[18,1,19,1],[12,1,13,1],[14,2,14,13],[15,2,15,13],[22,2,22,3],[22,8,22,13],[22,4,22,7],[23,2,23,13],[13,2,13,13],[27,6,27,13],[5,24,5,52],[6,24,6,52],[7,24,7,52],[23,29,23,30],[15,44,15,45],[9,33,9,36],[9,42,9,44],[17,31,17,40],[20,25,22,28],[20,29,20,48],[21,29,21,48],[22,45,22,46],[22,47,22,48],[22,37,22,38],[22,39,22,40],[22,41,22,42],[20,49,22,51],[22,33,22,34],[22,35,22,36],[22,43,22,44],[23,31,23,32],[23,49,23,51],[29,49,29,51],[23,41,23,42],[23,43,23,44],[25,39,25,46],[26,39,26,46],[29,31,29,33],[24,47,24,48],[28,46,28,48],[28,49,28,51],[23,39,23,40],[24,45,24,46],[24,43,24,44],[30,25,30,27],[29,28,29,30],[25,25,25,36],[23,47,23,48],[24,29,24,30],[23,33,23,34],[23,35,23,36],[23,25,23,28],[23,37,23,38],[30,40,30,42],[24,25,24,28],[23,45,23,46],[28,25,28,27],[37,1,39,22],[30,2,30,13],[29,2,29,13],[26,17,26,22],[30,49,30,51],[1,49,1,51],[41,40,41,46],[29,37,29,39],[29,40,29,42],[29,43,29,45],[29,46,29,48],[39,25,39,38],[39,39,39,51],[28,40,28,42],[27,40,27,51],[28,43,28,45],[24,49,24,51],[26,37,26,38],[27,28,27,39],[24,35,24,36],[24,33,24,34],[24,37,24,38],[24,39,24,40],[24,41,24,42]]}
["                           "]
[null,null,null,null,null,null,null,null,null,null,null,null,null,null,null,null,null,null,null,"MENU",null,null,null,null,null,null,null,null,null,null,null,null,null,null,null,null,null,null,null,null,null,null,null,null,null,null,null,null,null,"ปถ.05:",null,null,{"$f":"IF($C$18=0,\"\",IF(COUNTIF($C$18,\"มัธยมศึกษาตอนต้น\"),\"บ\",IF(COUNTIF($C$18,\"มัธยมศึกษาตอนปลาย\"),\"พ\")))","v":"บ"}]
[null,"ข้อมูลพื้นฐานสถานศึกษา"]
[]
[null,"ชื่อสถานศึกษา :","โรงเรียนเทศบาล ๕"]
[null,"อำเภอ :","เมือง",null,null,null,null,null,null,null,null,null,null,null,null,null,null,null,null,null,null,null,null,null,"แบบบันทึกผลการพัฒนาคุณภาพผู้เรียนรายวิชา"]
[null,"จังหวัด :","สุราษฎร์ธานี",null,null,null,null,null,null,null,null,null,null,null,null,null,null,null,null,null,null,null,null,null,{"$f":"IF(C5=\"\",\"\",C5)","v":"โรงเรียนเทศบาล ๕"}]
[null,"สังกัด (ชื่อ อปท.) :","เทศบาลนครสุราษฎร์ธานี",null,null,null,null,null,null,null,null,null,null,null,null,null,null,null,null,null,null,null,null,null,{"$f":"IF(COUNTIF(C6:C8,\"\"),\"{{โปรดกรอกข้อมูลที่อยู่และต้นสังกัดให้ครบถ้วน}}\",\"อำเภอ\"&C6&\"  \"&\"จังหวัด\"&C7&\"   สังกัด\"&C8)","v":"อำเภอเมือง  จังหวัดสุราษฎร์ธานี   สังกัดเทศบาลนครสุราษฎร์ธานี"}]
[]
[null,"ชื่อผู้อำนวยการฯ :","นางธนัชพร  โอวรารินท์",null,null,null,null,null,null,null,null,null,null,null,null,null,null,null,null,null,null,null,null,null,null,null,null,null,null,null,null,null,null,"ภาคเรียนที่ ",null,null,null,{"$f":"IF(C15=\"\",\"\",C15)","v":2},null,"ปีการศึกษา",null,null,{"$f":"IF(C16=\"\",\"\",C16)","v":2566}]
[null,"ชื่อรองผู้อำนวยการฯ :","นางสาวสิริมา  งามศุภกร",null,null,null,null,null,null,null,null,null,null,null,null,null,null,null,null,null,null,null,null,null,null,null,null,null,null,null,null,null,null,null,null,null,null,{"$f":"IF(C21=\"\",\"ชั้นมัธยมศึกษาปีที่{{โปรดกรอกข้อมูล}}\",\"ชั้นมัธยมศึกษาปีที่ \"&C21&\"/\"&C22)","v":"ชั้นมัธยมศึกษาปีที่ 3/5"},null,{"$f":"IF(C18=\"\",\"ระดับ{{โปรดเลือกข้อมูล}}\",\"ระดับ\"&ปก!C18)","v":"ระดับมัธยมศึกษาตอนต้น"}]
[null,"ตำแหน่งครูวัดผล :","หัวหน้างานวัดผลและประเมินผล",null,null,null,null,null,null,null,null,null,null,null,null,null,null,null,null,null,null,null,null,null,null,null,null,null,null,null,null,null,null,null,null,null,null,{"$f":"IF(I23=\"\",\"\",\"แผนการเรียน\")","v":""},null,{"$f":"IF(I23=\"\",\"\",I23)","v":""}]
[null,"ตำแหน่งครูฝ่ายวิชาการ :"]
[null,null,"หัวหน้าฝ่ายวิชาการ",null,null,null,null,null,null,null,null,null,null,null,null,null,null,null,null,null,null,null,null,null,null,"กลุ่มสาระการเรียนรู้",null,null,null,null,null,{"$f":"IF(C24=\"\",\"{{โปรดเลือกกลุ่มสาระการเรียนรู้}}\",C24)","v":"{{โปรดเลือกกลุ่มสาระการเรียนรู้}}"},null,null,null,null,null,null,null,null,null,{"$f":"IF(C25=\"\",\"สาระการเรียนรู้{{โปรดเลือกข้อมูล}}\",\"สาระการเรียนรู้\"&C25)","v":"สาระการเรียนรู้{{โปรดเลือกข้อมูล}}"}]
[null,"ภาคเรียนที่",2,null,null,null,null,null,null,null,null,null,null,null,null,null,null,{"$f":"IF(C31=\"\",\"\",IF(COUNTA(C31),\",\"))","v":","},null,null,null,null,null,null,null,"รายวิชา",null,null,{"$f":"IF(C26=\"\",\"{{โปรดกรอกข้อมูลรายวิชา}}\",C26)","v":"{{โปรดกรอกข้อมูลรายวิชา}}"},null,null,null,null,null,null,null,null,null,null,null,null,"รหัสวิชา",null,null,{"$f":"IF(C27=\"\",\"{{โปรดกรอกรหัสวิชา}}\",C27)","v":"{{โปรดกรอกรหัสวิชา}}"}]
[null,"ปีการศึกษา :",2566,null,null,null,null,null,null,null,null,null,null,null,null,null,null,null,null,null,null,null,null,null,null,"เวลาเรียน",null,null,{"$f":"C28","v":0},null,"ชั่วโมงต่อภาคเรียน",null,null,null,null,null,null,null,null,null,null,"เวลาเรียน",null,null,{"$f":"IF(AC16=0,\"\",IF(COUNTIF($AC$16,\"20\"),1,IF(COUNTIF($AC$16,\"40\"),2,IF(COUNTIF($AC$16,\"60\"),3,IF(COUNTIF($AC$16,\"80\"),4,IF(COUNTIF($AC$16,\"100\"),5,IF(COUNTIF($AC$16,\"120\"),6)))))))","v":""},null,"ชั่วโมงต่อสัปดาห์"]
[null,"ระดับ :"]
[null,null,"มัธยมศึกษาตอนต้น",null,null,null,null,null,null,null,null,null,null,null,null,null,null,null,null,null,null,null,null,null,null,null,null,"ครูผู้สอน",null,null,null,{"$f":"IF(C29=\"\",\"{{โปรดกรอกข้อมูลครูผู้สอน}}\",C29)","v":"{{โปรดกรอกข้อมูลครูผู้สอน}}"}]
[null,null,null,null,null,null,null,null,null,null,null,null,null,null,null,null,null,null,null,null,null,null,null,null,null,null,null,"ครูที่ปรึกษา",null,null,null,{"$f":"IF(C30=\"\",\"{{โปรดกรอกข้อมลครูประจำชั้น}}\",C30&O30&\"    \"&C31)","v":"นางณัฐติกาญจน์  เกิดสม    นางสาวศิรินทร์  นงค์เยาว์"}]
[]
[null,"ชั้นมัธยมศึกษาปีที่ :",3,null,null,null,null,null,null,null,null,null,null,null,null,null,null,null,null,null,null,null,null,null,null,"จำนวนนักเรียนทั้งหมด",null,null,null,"สรุปผลการพัฒนาคุณภาพผู้เรียน",null,null,null,null,null,null,null,null,null,null,null,null,null,null,null,null,null,null,null,"หมายเหตุ"]
[null,"ห้อง / ทับ :",5,null,null,null,null,null,null,null,null,null,null,null,null,null,null,null,null,null,null,null,null,null,null,null,null,null,null,"จำนวนนักเรียนที่ได้ระดับผลการเรียน"]
[null,"แผนการเรียน :",null,null,"ชื่อแผนการเรียน",null,null,null,null,null,null,null,null,null,null,null,null,null,null,null,null,null,null,null,null,null,null,null,null,4,null,3.5,null,3,null,2.5,null,2,null,1.5,null,1,null,0,null,"ร",null,"มส"]
[null,"กลุ่มสาระการเรียนรู้ :",null,null,null,null,null,null,null,null,null,null,null,null,null,null,null,null,null,null,null,null,null,null,null,{"$f":"SUM(AD24:AW24)","v":0},null,null,null,{"$f":"ประเมินตัวชี้วัด!DX9","v":0},null,{"$f":"ประเมินตัวชี้วัด!DY9","v":0},null,{"$f":"ประเมินตัวชี้วัด!DZ9","v":0},null,{"$f":"ประเมินตัวชี้วัด!EA9","v":0},null,{"$f":"ประเมินตัวชี้วัด!EB9","v":0},null,{"$f":"ประเมินตัวชี้วัด!EC9","v":0},null,{"$f":"ประเมินตัวชี้วัด!ED9","v":0},null,{"$f":"ประเมินตัวชี้วัด!EE9","v":0},null,{"$f":"ประเมินตัวชี้วัด!EF9","v":0},null,{"$f":"ประเมินตัวชี้วัด!EG9","v":0}]
[null,"ประเภทวิชา :",null,null,null,null,null,null,null,null,null,null,null,null,null,null,null,null,null,null,null,null,null,null,null,"คิดเป็นร้อยละ",null,null,null,{"$f":"IF(AD24=0,\"\",(AD24*100)/$Z$24)","v":""},null,{"$f":"IF(AF24=0,\"\",(AF24*100)/$Z$24)","v":""},null,{"$f":"IF(AH24=0,\"\",(AH24*100)/$Z$24)","v":""},null,{"$f":"IF(AJ24=0,\"\",(AJ24*100)/$Z$24)","v":""},null,{"$f":"IF(AL24=0,\"\",(AL24*100)/$Z$24)","v":""},null,{"$f":"IF(AN24=0,\"\",(AN24*100)/$Z$24)","v":""},null,{"$f":"IF(AP24=0,\"\",(AP24*100)/$Z$24)","v":""},null,{"$f":"IF(AR24=0,\"\",(AR24*100)/$Z$24)","v":""},null,{"$f":"IF(AT24=0,\"\",(AT24*100)/$Z$24)","v":""},null,{"$f":"IF(AV24=0,\"\",(AV24*100)/$Z$24)","v":""}]
[null,"ชื่อวิชา :",null,null,null,null,null,null,null,null,null,null,null,null,null,null,null,null,null,null,null,null,null,null,null,"ร้อยละของนักเรียนที่ได้ผลการเรียนระดับดี(3) ขึ้นไป",null,null,null,null,null,null,null,null,null,null,null,{"$f":"SUM(AD25:AI25)","v":0},null,"ผลการเรียนเฉลี่ยของรายวิชา",null,null,null,null,null,null,null,null,null,{"$f":"IF(Z24=0,\"\",((AD24*4)+(AF24*3.5)+(AH24*3)+(AJ24*2.5)+(AL24*2)+(AN24*1.5)+(AP24*1)+(AR24*0))/Z24)","v":""}]
[null,"รหัสวิชา :",null,null,null,null,null,null,null,null,null,null,null,null,null,null,null,null,null,null,null,null,null,null,null,"ร้อยละของนักเรียนที่ไม่ผ่านการประเมิน",null,null,null,null,null,null,null,null,null,null,null,{"$f":"SUM(AR25:AW25)","v":0},null,"ส่วนเบี่ยงเบนมาตรฐาน",null,null,null,null,null,null,null,null,null,{"$f":"IF(Z24=0,\"\",STDEV(ประเมินตัวชี้วัด!DN7:DN56))","v":""}]
[null,"เวลาเรียน",null,null,null,null,"ชั่วโมงต่อภาคเรียน",null,null,null,null,null,null,null,null,null,null,null,null,null,null,null,null,null,null,null,null,null,"ผลการประเมินการอ่าน คิด วิเคราะห์ และเขียน",null,null,null,null,null,null,null,null,null,null,null,"ผลการประเมินคุณลักษณะอันพึงประสงค์"]
[null,"ชื่อครูผู้สอน :",null,null,null,null,null,null,null,null,null,null,null,null,null,null,null,null,null,null,null,null,null,null,null,"ผลการประเมิน",null,null,"ดีเยี่ยม",null,null,"ดี",null,null,"ผ่าน",null,null,"ไม่ผ่าน",null,null,"ดีเยี่ยม",null,null,"ดี",null,null,"ผ่าน",null,null,"ไม่ผ่าน"]
[null,"ชื่อครูที่ปรึกษาคนที่ 1:","นางณัฐติกาญจน์  เกิดสม",null,null,null,null,null,null,null,null,null,null,null,null,null,null,null,null,null,null,null,null,null,null,"จำนวนที่ได้",null,null,{"$f":"ประเมินตัวชี้วัด!CJ57","v":0},null,null,{"$f":"ประเมินตัวชี้วัด!CK57","v":0},null,null,{"$f":"ประเมินตัวชี้วัด!CL57","v":0},null,null,{"$f":"ประเมินตัวชี้วัด!CM57","v":0},null,null,{"$f":"ประเมินตัวชี้วัด!CR57","v":0},null,null,{"$f":"ประเมินตัวชี้วัด!CS57","v":0},null,null,{"$f":"ประเมินตัวชี้วัด!CT57","v":0},null,null,{"$f":"ประเมินตัวชี้วัด!CU57","v":0}]
[null,"ชื่อครูที่ปรึกษาคนที่ 2:","นางสาวศิรินทร์  นงค์เยาว์",null,null,null,null,null,null,null,null,null,null,null,null,null,null,null,null,null,null,null,null,null,null,"คิดเป็นร้อยละ",null,null,{"$f":"IF(Z24=0,\"\",IF(AC30=0,\"\",(AC30*100)/$Z$24))","v":""},null,null,{"$f":"IF(Z24=0,\"\",IF(AF30=0,\"\",(AF30*100)/$Z$24))","v":""},null,null,{"$f":"IF(Z24=0,\"\",IF(AI30=0,\"\",(AI30*100)/$Z$24))","v":""},null,null,{"$f":"IF(Z24=0,\"\",IF(AL30=0,\"\",(AL30*100)/$Z$24))","v":""},null,null,{"$f":"IF(Z24=0,\"\",IF(AO30=0,\"\",(AO30*100)/$Z$24))","v":""},null,null,{"$f":"IF(Z24=0,\"\",IF(AR30=0,\"\",(AR30*100)/$Z$24))","v":""},null,null,{"$f":"IF(Z24=0,\"\",IF(AU30=0,\"\",(AU30*100)/$Z$24))","v":""},null,null,{"$f":"IF(Z24=0,\"\",IF(AX30=0,\"\",(AX30*100)/$Z$24))","v":""}]
[]
[null,null,null,null,null,null,null,null,null,null,null,null,null,null,null,null,null,null,null,null,null,null,null,null,"การอนุมัติผลการพัฒนาคุณภาพผู้เรียน"]
[null,"โปรแกรมจัดทำแบบบันทึกผลการพัฒนาคุณภาพผู้เรียนรายวิชา (ระดับมัธยมศึกษา)  YEAR2559\nหลักสูตรแกนกลางการศึกษาขั้นพื้นฐาน 2551  สำหรับโอนผลการเรียนลงโปรมแกรม  Local School\n(ระดับชั้นมัธยมศึกษา สำหรับนักเรียนไม่เกิน 50 คน ใช้กระดาษA4) รองรับผลสอบมาตรฐานกลาง",null,null,null,null,null,null,null,null,null,null,null,null,null,null,null,null,null,null,null,null,null,null,null,"ลงชื่อ..............................................ครูผู้สอน",null,null,null,null,null,null,null,null,null,null,null,null,null,"ลงชื่อ...........................................หัวหน้ากลุ่มสาระการเรียนรู้"]
[null,null,null,null,null,null,null,null,null,null,null,null,null,null,null,null,null,null,null,null,null,null,null,null,null,{"$f":"IF(C12=\"\",\"ลงชื่อ..............................................{{ใส่ข้อมูลครูวัดผล}}\",\"ลงชื่อ..............................................\"&C12)","v":"ลงชื่อ..............................................หัวหน้างานวัดผลและประเมินผล"},null,null,null,null,null,null,null,null,null,null,null,null,null,"ลงชื่อ...........................................หัวหน้างานวิชาการ"]
[]
[null,null,null,null,null,null,null,null,null,null,null,null,null,null,null,null,null,null,null,null,null,null,null,null,null,"เรียนเสนอเพื่อโปรดพิจารณา",null,null,null,null,null,null,null,null,null,null,null,null,null,"การพิจารณา/สั่งการ"]
[null,"จัดทำและพัฒนาโดย : นายพุทธรัตน์ นัยวิกุล ผู้อำนวยการสถานศึกษาโรงเรียนมัธยมนครรังสิตร่วมปรับปรุงและทดสอบข้อมูลโดยว่าที่ ร.ต.ชัยยุทธ  ถนอมวงษ์ ครู โรงเรียนเทศบาล ๕ (กระดาษไทยอนุเคราะห์) ทม.กาญจนบุรี",null,null,null,null,null,null,null,null,null,null,null,null,null,null,null,null,null,null,null,null,null,null,null,"m","เห็นควรควรอนุมัติ",null,null,null,null,"m","เห็นควรนำไปปรับปรุงแก้ไข",null,null,null,null,null,null,"m","อนุมัติ",null,null,"m","ไม่อนุมัติ/ให้นำไปปรับปรุงแก้ไข"]
[]
[null,null,null,null,null,null,null,null,null,null,null,null,null,null,null,null,null,null,null,null,null,null,null,null,null,"ลงชื่อ...........................................หัวหน้าฝ่ายวิชาการ",null,null,null,null,null,null,null,null,null,null,null,null,null," ลงชื่อ...........................................ผู้อำนวยการสถานศึกษา"]
[null,"สอบถามและเสนอแนะได้ที่ : https://www.facebook.com/Rongpum\n\n\n\n\n\n\n\n\n\n\n\n\n\n\n\n\n\n\n\n\n  /  facebook : แบบปถ.05 โรงเรียนสังกัด อปท.",null,null,null,null,null,null,null,null,null,null,null,null,null,null,null,null,null,null,null,null,null,null,null,"  ",{"$f":"IF(C11=\"\",\"{{กรอกชื่อ-สกุลรองผู้อำนวยการ}}\",\"(\"&C11&\")\")","v":"(นางสาวสิริมา  งามศุภกร)"},null,null,null,null,null,null,null,null,null,null,null,null,null,{"$f":"IF(C10=\"\",\"{{กรอกชื่อ-สกุลผู้อำนวยการ}}\",\"(\"&C10&\")\")","v":"(นางธนัชพร  โอวรารินท์)"}]
[null,{"$f":"\"ม.\"&C21&\"0\"&C22","v":"ม.305"},{"$f":"IF(C23=\"มัธยมศึกษาตอนต้นทั่วไป\",1,IF(C23=\"วิทย์-คณิต\",1,IF(C23=\"ภาษา-สังคม\",2,IF(C23=\"วิชาชีพ(หลักสูตรคู่ขนาน)\",3))))","v":false},"UPDATE By Chaiyut : 24 June 2020  สงวนลิขสิทธิ์@2016",null,null,null,null,null,null,null,null,null,null,null,null,null,null,null,null,null,null,null,null,null,null,null,null,null,null,null,null,null,null,null,null,null,null,null,null,"   ........../.........../.........."]

{"sheet":"กำหนดอัตราส่วนคะแนน","index":3,"n_rows":257,"n_cols":23,"rows_kept":257,"cut":false,"hidden":true,"merged":[[152,1,152,5],[19,1,19,3],[21,1,21,3],[19,7,21,7],[25,0,25,8],[152,14,152,18],[12,23,17,23],[19,23,21,23],[25,13,25,21],[8,1,8,7],[8,14,8,20],[10,1,10,7],[14,1,14,3],[12,1,12,3],[12,7,14,7],[10,14,10,20],[12,14,12,16],[12,20,14,20],[14,14,14,16],[17,1,17,7],[19,10,21,10],[1,14,1,23],[27,7,28,7],[27,20,28,20],[19,20,21,20],[21,14,21,16],[12,10,17,10],[17,14,17,20],[19,14,19,16],[3,14,3,19]]}
[]
[null,null,null,null,null,null,null,null,null,null,null,null,null,null,{"$f":"IF(ปก!C25=\"พื้นฐาน\",\"กำหนดเกณฑ์การประเมินผ่านตัวชี้วัดของสถานศึกษา\",IF(ปก!C25=\"เพิ่มเติม\",\"กำหนดเกณฑ์การประเมินผ่านผลการเรียนรู้ของสถานศึกษา\"))","v":false}]
[]
[null,null,null,null,null,null,null,null,null,null,null,null,null,null,{"$f":"IF(ปก!C25=\"พื้นฐาน\",\"ผู้เรียนต้องได้คะแนนแต่ละตัวชี้วัดคิดเป็นร้อยละ\",IF(ปก!C25=\"เพิ่มเติม\",\"ผู้เรียนต้องได้คะแนนแต่ละผลการเรียนรู้คิดเป็นร้อยละ\"))","v":false},null,null,null,null,null,50,null,"ของคะแนนเต็ม"]
[]
[]
[]
[]
[null,{"$f":"IF(ปก!C15=1,\"คะแนนภาคเรียนที่ 1\",IF(ปก!C15=2,\"คะแนนภาคเรียนที่ 2\"))","v":"คะแนนภาคเรียนที่ 2"}]
[]
[null,"กำหนดคะแนนระหว่างภาค"]
[]
[null,{"$f":"IF(ปก!C25=\"พื้นฐาน\",\"คะแนนเก็บ(ตัวชี้วัด)\",IF(ปก!C25=\"เพิ่มเติม\",\"คะแนนเก็บ(ผลการเรียนรู้)\"))","v":false},null,null,null,null,null,{"$f":"SUM(F13,F15)","v":0},null,null,"คะแนนรวม\nตลอดภาคเรียน\nต้องได้=100"]
[]
[null,"คะแนนสอบกลางภาค"]
[]
[]
[null,"กำหนดคะแนนสอบปลายภาค"]
[]
[null,"คะแนนสอบปรนัย",null,null,null,null,null,{"$f":"SUM(F20,F22)","v":0},null,null,{"$f":"H13+H20","v":0}]
[]
[null,"คะแนนสอบอัตนัย"]
[]
[]
[]
[{"$f":"IF(ปก!C25=\"พื้นฐาน\",\"กำหนดคะแนนตัวชี้วัด\",IF(ปก!C25=\"เพิ่มเติม\",\"กำหนดคะแนนผลการเรียนรู้\"))","v":false}]
[]
[null,{"$f":"IF(ปก!C25=\"พื้นฐาน\",\"ตัวชี้วัด\",IF(ปก!C25=\"เพิ่มเติม\",\"ผลการเรียนรู้\"))","v":false},null,"สาระ",null,{"$f":"IF(ปก!C25=\"พื้นฐาน\",\"\",IF(ปก!C25=\"เพิ่มเติม\",\"ผลการ\"))","v":false},null,"คะแนนเต็ม"]
[null,"ที่",null,"มาตรฐาน",null,{"$f":"IF(ปก!C25=\"พื้นฐาน\",\"ตัวชี้วัด\",IF(ปก!C25=\"เพิ่มเติม\",\"เรียนรู้\"))","v":false}]
[]
[]
[]
[]
[]
[]
[]
[]
[]
[]
[]
[]
[]
[]
[]
[]
[]
[]
[]
[]
[]
[]
[]
[]
[]
[]
[]
[]
[]
[]
[]
[]
[]
[]
[]
[]
[]
[]
[]
[]
[]
[]
[]
[]
[]
[]
[]
[]
[]
[]
[]
[]
[]
[]
[]
[]
[]
[]
[]
[]
[]
[]
[]
[]
[]
[]
[]
[]
[]
[]
[]
[]
[]
[]
[]
[]
[]
[]
[]
[]
[]
[]
[]
[]
[]
[]
[]
[]
[]
[]
[]
[]
[]
[]
[]
[]
[]
[]
[]
[]
[]
[]
[]
[]
[]
[]
[]
[]
[]
[]
[]
[]
[]
[]
[]
[]
[]
[]
[]
[]
[]
[]
[]
[null,{"$f":"IF(ปก!C25=\"พื้นฐาน\",\"รวมตัวชี้วัด\",IF(ปก!C25=\"เพิ่มเติม\",\"รวมผลการเรียนรู้\"))","v":false},null,null,null,null,null,{"$f":"COUNT(B31,B33,B35,B37,B39,B41,B43,B45,B47,B49,B51,B53,B55,B57,B59,B61,B63,B65,B67,B69,B71,B73,B75,B77,B79,B81,B83,B85,B87,B89,B91,B93,B95,B97,B99,B101,B103,B105,B107,B109,B111,B113,B115,B117,B119,B121,B123,B125,B127,B129,B131,B133,B135,B137,B139,B141,B143,B145,B147,B149)","v":0}]
[]
[]
[]
[]
[null,null,null,"ท 1.1",null,"ป.1/1",null,null,null,null,null,null,null,null,null,null,"ท 1.1",null,"ม.1/1"]
[null,null,null,"ท 2.1",null,"ป.1/2",null,null,null,null,null,null,null,null,null,null,"ท 2.1",null,"ม.1/2"]
[null,null,null,"ท 3.1",null,"ป.1/3",null,null,null,null,null,null,null,null,null,null,"ท 3.1",null,"ม.1/3"]
[null,null,null,"ท 4.1",null,"ป.1/4",null,null,null,null,null,null,null,null,null,null,"ท 4.1",null,"ม.1/4"]
[null,null,null,"ท 5.1",null,"ป.1/5",null,null,null,null,null,null,null,null,null,null,"ท 5.1",null,"ม.1/5"]
[null,null,null,"ค 1.1",null,"ป.1/6",null,null,null,null,null,null,null,null,null,null,"ค 1.1",null,"ม.1/6"]
[null,null,null,"ค 1.2",null,"ป.1/7",null,null,null,null,null,null,null,null,null,null,"ค 1.2",null,"ม.1/7"]
[null,null,null,"ค 1.3",null,"ป.1/8",null,null,null,null,null,null,null,null,null,null,"ค 1.3",null,"ม.1/8"]
[null,null,null,"ค 1.4",null,"ป.1/9",null,null,null,null,null,null,null,null,null,null,"ค 1.4",null,"ม.1/9"]
[null,null,null,"ค 2.1",null,"ป.1/10",null,null,null,null,null,null,null,null,null,null,"ค 2.1",null,"ม.1/10"]
[null,null,null,"ค 2.2",null,"ป.2/1",null,null,null,null,null,null,null,null,null,null,"ค 2.2",null,"ม.2/1"]
[null,null,null,"ค 3.1",null,"ป.2/2",null,null,null,null,null,null,null,null,null,null,"ค 3.1",null,"ม.2/2"]
[null,null,null,"ค 3.2",null,"ป.2/3",null,null,null,null,null,null,null,null,null,null,"ค 3.2",null,"ม.2/3"]
[null,null,null,"ค 4.1",null,"ป.2/4",null,null,null,null,null,null,null,null,null,null,"ค 4.1",null,"ม.2/4"]
[null,null,null,"ค 4.2",null,"ป.2/5",null,null,null,null,null,null,null,null,null,null,"ค 4.2",null,"ม.2/5"]
[null,null,null,"ค 5.1",null,"ป.2/6",null,null,null,null,null,null,null,null,null,null,"ค 5.1",null,"ม.2/6"]
[null,null,null,"ค 5.2",null,"ป.2/7",null,null,null,null,null,null,null,null,null,null,"ค 5.2",null,"ม.2/7"]
[null,null,null,"ค 5.3",null,"ป.2/8",null,null,null,null,null,null,null,null,null,null,"ค 5.3",null,"ม.2/8"]
[null,null,null,"ค 6.1",null,"ป.2/9",null,null,null,null,null,null,null,null,null,null,"ค 6.1",null,"ม.2/9"]
[null,null,null,"ว 1.1",null,"ป.2/10",null,null,null,null,null,null,null,null,null,null,"ว 1.1",null,"ม.2/10"]
[null,null,null,"ว 1.2",null,"ป.3/1",null,null,null,null,null,null,null,null,null,null,"ว 1.2",null,"ม.3/1"]
[null,null,null,"ว 2.1",null,"ป.3/2",null,null,null,null,null,null,null,null,null,null,"ว 2.1",null,"ม.3/2"]
[null,null,null,"ว 2.2",null,"ป.3/3",null,null,null,null,null,null,null,null,null,null,"ว 2.2",null,"ม.3/3"]
[null,null,null,"ว 3.1",null,"ป.3/4",null,null,null,null,null,null,null,null,null,null,"ว 3.1",null,"ม.3/4"]
[null,null,null,"ว 3.2",null,"ป.3/5",null,null,null,null,null,null,null,null,null,null,"ว 3.2",null,"ม.3/5"]
[null,null,null,"ว 4.1",null,"ป.3/6",null,null,null,null,null,null,null,null,null,null,"ว 4.1",null,"ม.3/6"]
[null,null,null,"ว 4.2",null,"ป.3/7",null,null,null,null,null,null,null,null,null,null,"ว 4.2",null,"ม.3/7"]
[null,null,null,"ว 5.1",null,"ป.3/8",null,null,null,null,null,null,null,null,null,null,"ว 5.1",null,"ม.3/8"]
[null,null,null,"ว 6.1",null,"ป.3/9",null,null,null,null,null,null,null,null,null,null,"ว 6.1",null,"ม.3/9"]
[null,null,null,"ว 7.1",null,"ป.3/10",null,null,null,null,null,null,null,null,null,null,"ว 7.1",null,"ม.3/10"]
[null,null,null,"ว 7.2",null,"ป.4/1",null,null,null,null,null,null,null,null,null,null,"ว 7.2",null,"ม.4-6/1"]
[null,null,null,"ว 8.1",null,"ป.4/2",null,null,null,null,null,null,null,null,null,null,"ว 8.1",null,"ม.4-6/2"]
[null,null,null,"ส 1.1",null,"ป.4/3",null,null,null,null,null,null,null,null,null,null,"ส 1.1",null,"ม.4-6/3"]
[null,null,null,"ส 1.2",null,"ป.4/4",null,null,null,null,null,null,null,null,null,null,"ส 1.2",null,"ม.4-6/4"]
[null,null,null,"ส 2.1",null,"ป.4/5",null,null,null,null,null,null,null,null,null,null,"ส 2.1",null,"ม.4-6/5"]
[null,null,null,"ส 2.2",null,"ป.4/6",null,null,null,null,null,null,null,null,null,null,"ส 2.2",null,"ม.4-6/6"]
[null,null,null,"ส 3.1",null,"ป.4/7",null,null,null,null,null,null,null,null,null,null,"ส 3.1",null,"ม.4-6/7"]
[null,null,null,"ส 3.2",null,"ป.4/8",null,null,null,null,null,null,null,null,null,null,"ส 3.2",null,"ม.4-6/8"]
[null,null,null,"ส 4.1",null,"ป.4/9",null,null,null,null,null,null,null,null,null,null,"ส 4.1",null,"ม.4-6/9"]
[null,null,null,"ส 4.2",null,"ป.4/10",null,null,null,null,null,null,null,null,null,null,"ส 4.2",null,"ม.4-6/10"]
[null,null,null,"ส 4.2",null,"ป.5/1",null,null,null,null,null,null,null,null,null,null,"ส 4.2",null,"ม.4-6/11"]
[null,null,null,"ส 5.1",null,"ป.5/2",null,null,null,null,null,null,null,null,null,null,"ส 5.1",null,"ม.4-6/12"]
[null,null,null,"ส 5.2",null,"ป.5/3",null,null,null,null,null,null,null,null,null,null,"ส 5.2",null,"ม.4-6/13"]
[null,null,null,"พ 1.1",null,"ป.5/4",null,null,null,null,null,null,null,null,null,null,"พ 1.1",null,"ม.4-6/14"]
[null,null,null,"พ 2.1",null,"ป.5/5",null,null,null,null,null,null,null,null,null,null,"พ 2.1",null,"ม.4-6/15"]
[null,null,null,"พ 3.1",null,"ป.5/6",null,null,null,null,null,null,null,null,null,null,"พ 3.1",null,"ม.4-6/16"]
[null,null,null,"พ 3.2",null,"ป.5/7",null,null,null,null,null,null,null,null,null,null,"พ 3.2",null,"ม.4-6/17"]
[null,null,null,"พ 4.1",null,"ป.5/8",null,null,null,null,null,null,null,null,null,null,"พ 4.1",null,"ม.4-6/18"]
[null,null,null,"พ 5.1",null,"ป.5/9",null,null,null,null,null,null,null,null,null,null,"พ 5.1",null,"ม.4-6/19"]
[null,null,null,"ศ. 1.1",null,"ป.5/10",null,null,null,null,null,null,null,null,null,null,"ศ. 1.1",null,"ม.4-6/20"]
[null,null,null,"ศ 1.2",null,"ม.6/1",null,null,null,null,null,null,null,null,null,null,"ศ 1.2",null,"ม.4-6/21"]
[null,null,null,"ศ 2.1",null,"ม.6/2",null,null,null,null,null,null,null,null,null,null,"ศ 2.1",null,"ม.4-6/22"]
[null,null,null,"ศ 2.2",null,"ม.6/3",null,null,null,null,null,null,null,null,null,null,"ศ 2.2",null,"ม.4-6/23"]
[null,null,null,"ศ 3.1",null,"ม.6/4",null,null,null,null,null,null,null,null,null,null,"ศ 3.1",null,"ม.4-6/24"]
[null,null,null,"ศ 3.2",null,"ม.6/5",null,null,null,null,null,null,null,null,null,null,"ศ 3.2",null,"ม.4-6/25"]
[null,null,null,"ง 1.1",null,"ม.6/6",null,null,null,null,null,null,null,null,null,null,"ง 1.1",null,"ม.4-6/26"]
[null,null,null,"ง 2.1",null,"ม.6/7",null,null,null,null,null,null,null,null,null,null,"ง 2.1",null,"ม.4-6/27"]
[null,null,null,"ง 3.1",null,"ม.6/8",null,null,null,null,null,null,null,null,null,null,"ง 3.1",null,"ม.4-6/28"]
[null,null,null,"ง 4.1",null,"ม.6/9",null,null,null,null,null,null,null,null,null,null,"ง 4.1",null,"ม.4-6/29"]
[null,null,null,"ต 1.1",null,"ม.6/10",null,null,null,null,null,null,null,null,null,null,"ต 1.1",null,"ม.4-6/30"]
[null,null,null,"ต 1.2",null,"ข้อ 1",null,null,null,null,null,null,null,null,null,null,"ต 1.2",null,"ข้อ 1"]
[null,null,null,"ต 1.3",null,"ข้อ 2",null,null,null,null,null,null,null,null,null,null,"ต 1.3",null,"ข้อ 2"]
[null,null,null,"ต 2.1",null,"ข้อ 3",null,null,null,null,null,null,null,null,null,null,"ต 2.1",null,"ข้อ 3"]
[null,null,null,"ต 2.2",null,"ข้อ 4",null,null,null,null,null,null,null,null,null,null,"ต 2.2",null,"ข้อ 4"]
[null,null,null,"ต 3.1",null,"ข้อ 5",null,null,null,null,null,null,null,null,null,null,"ต 3.1",null,"ข้อ 5"]
[null,null,null,"ต 4.1",null,"ข้อ 6",null,null,null,null,null,null,null,null,null,null,"ต 4.1",null,"ข้อ 6"]
[null,null,null,"ต 4.2",null,"ข้อ 7",null,null,null,null,null,null,null,null,null,null,"ต 4.2",null,"ข้อ 7"]
[null,null,null,null,null,"ข้อ 8",null,null,null,null,null,null,null,null,null,null," -",null,"ข้อ 8"]
[null,null,null,null,null,"ข้อ 9",null,null,null,null,null,null,null,null,null,null,null,null,"ข้อ 9"]
[null,null,null,null,null,"ข้อ 10",null,null,null,null,null,null,null,null,null,null,null,null,"ข้อ 10"]
[null,null,null,null,null,"ข้อ 11",null,null,null,null,null,null,null,null,null,null,null,null,"ข้อ 11"]
[null,null,null,null,null,"ข้อ 12",null,null,null,null,null,null,null,null,null,null,null,null,"ข้อ 12"]
[null,null,null,null,null,"ข้อ 13",null,null,null,null,null,null,null,null,null,null,null,null,"ข้อ 13"]
[null,null,null,null,null,"ข้อ 14",null,null,null,null,null,null,null,null,null,null,null,null,"ข้อ 14"]
[null,null,null,null,null,"ข้อ 15",null,null,null,null,null,null,null,null,null,null,null,null,"ข้อ 15"]
[null,null,null,null,null,"ข้อ 16",null,null,null,null,null,null,null,null,null,null,null,null,"ข้อ 16"]
[null,null,null,null,null,"ข้อ 17",null,null,null,null,null,null,null,null,null,null,null,null,"ข้อ 17"]
[null,null,null,null,null,"ข้อ 18",null,null,null,null,null,null,null,null,null,null,null,null,"ข้อ 18"]
[null,null,null,null,null,"ข้อ 19",null,null,null,null,null,null,null,null,null,null,null,null,"ข้อ 19"]
[null,null,null,null,null,"ข้อ 20",null,null,null,null,null,null,null,null,null,null,null,null,"ข้อ 20"]
[null,null,null,null,null,"ข้อ 21",null,null,null,null,null,null,null,null,null,null,null,null,"ข้อ 21"]
[null,null,null,null,null,"ข้อ 22",null,null,null,null,null,null,null,null,null,null,null,null,"ข้อ 22"]
[null,null,null,null,null,"ข้อ 23",null,null,null,null,null,null,null,null,null,null,null,null,"ข้อ 23"]
[null,null,null,null,null,"ข้อ 24",null,null,null,null,null,null,null,null,null,null,null,null,"ข้อ 24"]
[null,null,null,null,null,"ข้อ 25",null,null,null,null,null,null,null,null,null,null,null,null,"ข้อ 25"]
[null,null,null,null,null,"ข้อ 26",null,null,null,null,null,null,null,null,null,null,null,null,"ข้อ 26"]
[null,null,null,null,null,"ข้อ 27",null,null,null,null,null,null,null,null,null,null,null,null,"ข้อ 27"]
[null,null,null,null,null,"ข้อ 28",null,null,null,null,null,null,null,null,null,null,null,null,"ข้อ 28"]
[null,null,null,null,null,"ข้อ 29",null,null,null,null,null,null,null,null,null,null,null,null,"ข้อ 29"]
[null,null,null,null,null,"ข้อ 30",null,null,null,null,null,null,null,null,null,null,null,null,"ข้อ 30"]
[null,null,null,null,null,null,null,null,null,null,null,null,null,null,null,null,null,null,"ข้อ 31"]
[null,null,null,null,null,null,null,null,null,null,null,null,null,null,null,null,null,null,"ข้อ 32"]
[null,null,null,null,null,null,null,null,null,null,null,null,null,null,null,null,null,null,"ข้อ 33"]
[null,null,null,null,null,null,null,null,null,null,null,null,null,null,null,null,null,null,"ข้อ 34"]
[null,null,null,null,null,null,null,null,null,null,null,null,null,null,null,null,null,null,"ข้อ 35"]
[null,null,null,null,null,null,null,null,null,null,null,null,null,null,null,null,null,null,"ข้อ 36"]
[null,null,null,null,null,null,null,null,null,null,null,null,null,null,null,null,null,null,"ข้อ 37"]
[null,null,null,null,null,null,null,null,null,null,null,null,null,null,null,null,null,null,"ข้อ 38"]
[null,null,null,null,null,null,null,null,null,null,null,null,null,null,null,null,null,null,"ข้อ 39"]
[null,null,null,null,null,null,null,null,null,null,null,null,null,null,null,null,null,null,"ข้อ 40"]

{"sheet":"เวลาเรียน","index":4,"n_rows":59,"n_cols":285,"rows_kept":59,"cut":false,"hidden":false,"merged":[[3,184,3,189],[3,190,3,195],[3,196,3,201],[3,202,3,207],[3,238,3,243],[3,208,3,213],[3,214,3,219],[3,220,3,225],[3,226,3,231],[3,232,3,237],[3,268,3,273],[3,274,3,279],[2,244,2,249],[2,250,2,255],[2,256,2,261],[2,262,2,267],[2,268,2,273],[2,274,2,279],[3,244,3,249],[3,250,3,255],[2,280,4,283],[2,284,6,284],[2,285,6,285],[5,280,6,280],[5,281,6,281],[5,282,6,282],[5,283,6,283],[2,184,2,189],[2,129,6,129],[3,256,3,261],[3,262,3,267],[2,190,2,195],[2,196,2,201],[2,202,2,207],[2,208,2,213],[2,214,2,219],[2,220,2,225],[2,226,2,231],[2,232,2,237],[2,238,2,243],[3,160,3,165],[3,166,3,171],[3,172,3,177],[5,125,6,125],[2,64,2,69],[5,126,6,126],[5,127,6,127],[2,124,4,127],[3,118,3,123],[2,106,2,111],[2,112,2,117],[2,118,2,123],[3,106,3,111],[5,124,6,124],[3,82,3,87],[3,100,3,105],[2,88,2,93],[2,94,2,99],[3,112,3,117],[2,160,2,165],[2,166,2,171],[2,172,2,177],[2,178,2,183],[2,128,6,128],[3,178,3,183],[3,94,3,99],[3,40,3,45],[3,46,3,51],[3,52,3,57],[2,16,2,21],[2,22,2,27],[3,22,3,27],[2,34,2,39],[2,40,2,45],[2,46,2,51],[3,58,3,63],[2,52,2,57],[0,0,0,2],[1,0,1,2],[3,88,3,93],[2,0,7,0],[2,1,7,1],[2,2,7,2],[2,100,2,105],[3,4,3,9],[3,10,3,15],[3,16,3,21],[2,4,2,9],[2,10,2,15],[3,28,3,33],[3,34,3,39],[2,76,2,81],[2,82,2,87],[2,28,2,33],[2,70,2,75],[3,64,3,69],[3,70,3,75],[3,76,3,81],[2,58,2,63]]}
[{"$f":"\"บันทึกเวลาเรียน รายวิชา\"&ปก!AC15","v":"บันทึกเวลาเรียน รายวิชา{{โปรดกรอกข้อมูลรายวิชา}}"},null,null,null,{"$f":"\"รหัสวิชา\"&\"  \"&ปก!AS15&\"  (เวลาเรียน\"&\"  \"&\"\"&ปก!AC16&\" \"&\"ชั่วโมง : ภาคเรียน)\"","v":"รหัสวิชา  {{โปรดกรอกรหัสวิชา}}  (เวลาเรียน  0 ชั่วโมง : ภาคเรียน)"},null,null,null,null,null,null,null,null,null,null,null,null,null,null,null,null,null,null,null,null,null,null,null,{"$f":"\"บันทึกเวลาเรียน   รายวิชา\"&ปก!$AC$15&\"     \"&\"รหัสวิชา\"&\"  \"&ปก!$AS$15","v":"บันทึกเวลาเรียน   รายวิชา{{โปรดกรอกข้อมูลรายวิชา}}     รหัสวิชา  {{โปรดกรอกรหัสวิชา}}"},null,null,null,null,null,null,null,null,null,null,null,null,null,null,null,null,null,null,null,null,null,null,null,null,null,null,null,null,null,null,null,null,null,null,null,null,null,null,null,null,null,{"$f":"\"บันทึกเวลาเรียน   รายวิชา\"&ปก!$AC$15&\"     \"&\"รหัสวิชา\"&\"  \"&ปก!$AS$15","v":"บันทึกเวลาเรียน   รายวิชา{{โปรดกรอกข้อมูลรายวิชา}}     รหัสวิชา  {{โปรดกรอกรหัสวิชา}}"},null,null,null,null,null,null,null,null,null,null,null,null,null,null,null,null,null,null,null,null,null,null,null,null,null,null,null,null,null,null,null,null,null,null,null,null,null,null,null,null,null,{"$f":"\"บันทึกเวลาเรียน   รายวิชา\"&ปก!$AC$15&\"     \"&\"รหัสวิชา\"&\"  \"&ปก!$AS$15","v":"บันทึกเวลาเรียน   รายวิชา{{โปรดกรอกข้อมูลรายวิชา}}     รหัสวิชา  {{โปรดกรอกรหัสวิชา}}"}]
[{"$f":"ปก!AF11","v":0},null,null,null,{"$f":"\"ปีการศึกษา\"&ปก!$C$16","v":"ปีการศึกษา2566"},null,null,null,null,null,null,null,null,null,null,null,null,null,null,null,null,null,null,null,null,null,null,"หน้า 2",{"$f":"ปก!$AF$11&\"    \"&\"ปีการศึกษา\"&ปก!$C$16","v":"    ปีการศึกษา2566"},null,null,null,null,null,null,null,null,null,null,null,null,null,null,null,null,null,null,null,null,null,null,null,null,null,null,null,null,null,null,null,null,null,null,null,null,null,null,null,null,"หน้า 3",{"$f":"ปก!$AF$11&\"    \"&\"ปีการศึกษา\"&ปก!$C$16","v":"    ปีการศึกษา2566"},null,null,null,null,null,null,null,null,null,null,null,null,null,null,null,null,null,null,null,null,null,null,null,null,null,null,null,null,null,null,null,null,null,null,null,null,null,null,null,null,"หน้า 4",{"$f":"ปก!$AF$11&\"    \"&\"ปีการศึกษา\"&ปก!$C$16","v":"    ปีการศึกษา2566"},null,null,null,null,null,null,null,null,null,null,null,null,null,null,null,null,"หน้า 5"]
["เลขที่","เลขประจำตัว","ชื่อ - ชื่อสกุล","สัปดาห์ที่",1,null,null,null,null,null,2,null,null,null,null,null,3,null,null,null,null,null,4,null,null,null,null,null,5,null,null,null,null,null,6,null,null,null,null,null,7,null,null,null,null,null,8,null,null,null,null,null,9,null,null,null,null,null,10,null,null,null,null,null,11,null,null,null,null,null,12,null,null,null,null,null,13,null,null,null,null,null,14,null,null,null,null,null,15,null,null,null,null,null,16,null,null,null,null,null,17,null,null,null,null,null,18,null,null,null,null,null,19,null,null,null,null,null,20,null,null,null,null,null,"รวมเวลาเรียนตลอดปีการศึกษา(ชั่วโมง)",null,null,null,"มาเรียน\nร้อยละ\n(เวลาเรียน)","สถานะ\nนักเรียน\nปัจจุบัน"]
[null,null,null,"เดือน"]
[null,null,null,"วันที่"]
[null,null,null,"ชั่วโมงที่",null,null,null,null,null,null,null,null,null,null,null,null,null,null,null,null,null,null,null,null,null,null,null,null,null,null,null,null,null,null,null,null,null,null,null,null,null,null,null,null,null,null,null,null,null,null,null,null,null,null,null,null,null,null,null,null,null,null,null,null,null,null,null,null,null,null,null,null,null,null,null,null,null,null,null,null,null,null,null,null,null,null,null,null,null,null,null,null,null,null,null,null,null,null,null,null,null,null,null,null,null,null,null,null,null,null,null,null,null,null,null,null,null,null,null,null,null,null,null,null,"มา","ขาด","ลา","ป่วย"]
[null,null,null,"เลขที่"]
[null,null,null,"จำนวนชั่วโมง/ครั้ง",1,2,2,2,2,2,2,2,2,2,2,2,2,2,2,2,2,2,2,2,2,2,2,2,2,2,2,2,2,2,2,2,2,2,2,2,2,2,2,2,2,2,2,2,2,2,2,2,2,2,2,2,2,2,2,2,2,2,2,2,2,2,2,2,2,2,2,2,2,2,2,2,2,2,2,2,2,2,2,2,2,2,2,2,2,2,2,2,2,2,2,2,2,2,2,2,2,2,2,2,2,2,2,2,2,2,2,2,2,2,2,2,2,2,2,2,2,2,2,2]
[1,{"$f":"Sheet1!B2","v":12886},{"$f":"CONCATENATE(Sheet1!C2&Sheet1!D2&\"    \"&Sheet1!E2)","v":"เด็กหญิงปุญญิศา    วอทอง"},1,null,null,null,null,null,null,null,null,null,null,null,null,null,null,null,null,null,null,null,null,null,null,null,null,null,null,null,null,null,null,null,null,null,null,null,null,null,null,null,null,null,null,null,null,null,null,null,null,null,null,null,null,null,null,null,null,null,null,null,null,null,null,null,null,null,null,null,null,null,null,null,null,null,null,null,null,null,null,null,null,null,null,null,null,null,null,null,null,null,null,null,null,null,null,null,null,null,null,null,null,null,null,null,null,null,null,null,null,null,null,null,null,null,null,null,null,null,null,null,null,{"$f":"IF(C9=\"\",0,IF(DZ9<>\"ปกติ\",0,$DU$59-DV9-DW9-DX9))","v":0},{"$f":"COUNTIF(E9:DT9,\"ข\")","v":0},{"$f":"COUNTIF(E9:DT9,\"ล\")","v":0},{"$f":"COUNTIF(E9:DT9,\"ป\")","v":0},{"$f":"IF(ปก!$C$28=0,\"-\",SUM(DU9*100)/ปก!$C$28)","v":"-"}]
[2,{"$f":"Sheet1!B3","v":12896},{"$f":"CONCATENATE(Sheet1!C3&Sheet1!D3&\"    \"&Sheet1!E3)","v":"เด็กหญิงศิริขวัญ    กุญชรินทร์"},2,null,null,null,null,null,null,null,null,null,null,null,null,null,null,null,null,null,null,null,null,null,null,null,null,null,null,null,null,null,null,null,null,null,null,null,null,null,null,null,null,null,null,null,null,null,null,null,null,null,null,null,null,null,null,null,null,null,null,null,null,null,null,null,null,null,null,null,null,null,null,null,null,null,null,null,null,null,null,null,null,null,null,null,null,null,null,null,null,null,null,null,null,null,null,null,null,null,null,null,null,null,null,null,null,null,null,null,null,null,null,null,null,null,null,null,null,null,null,null,null,0,0,0,0,{"$f":"IF(ปก!$C$28=0,\"-\",SUM(DU10*100)/ปก!$C$28)","v":"-"}]
[3,{"$f":"Sheet1!B4","v":12914},{"$f":"CONCATENATE(Sheet1!C4&Sheet1!D4&\"    \"&Sheet1!E4)","v":"เด็กหญิงอรนลิน    เพชรรักษ์"},3,null,null,null,null,null,null,null,null,null,null,null,null,null,null,null,null,null,null,null,null,null,null,null,null,null,null,null,null,null,null,null,null,null,null,null,null,null,null,null,null,null,null,null,null,null,null,null,null,null,null,null,null,null,null,null,null,null,null,null,null,null,null,null,null,null,null,null,null,null,null,null,null,null,null,null,null,null,null,null,null,null,null,null,null,null,null,null,null,null,null,null,null,null,null,null,null,null,null,null,null,null,null,null,null,null,null,null,null,null,null,null,null,null,null,null,null,null,null,null,null,0,0,0,0,{"$f":"IF(ปก!$C$28=0,\"-\",SUM(DU11*100)/ปก!$C$28)","v":"-"}]
[4,{"$f":"Sheet1!B5","v":12920},{"$f":"CONCATENATE(Sheet1!C5&Sheet1!D5&\"    \"&Sheet1!E5)","v":"เด็กหญิงกีรติกา    ไพฑูรย์"},4,null,null,null,null,null,null,null,null,null,null,null,null,null,null,null,null,null,null,null,null,null,null,null,null,null,null,null,null,null,null,null,null,null,null,null,null,null,null,null,null,null,null,null,null,null,null,null,null,null,null,null,null,null,null,null,null,null,null,null,null,null,null,null,null,null,null,null,null,null,null,null,null,null,null,null,null,null,null,null,null,null,null,null,null,null,null,null,null,null,null,null,null,null,null,null,null,null,null,null,null,null,null,null,null,null,null,null,null,null,null,null,null,null,null,null,null,null,null,null,null,0,0,0,0,{"$f":"IF(ปก!$C$28=0,\"-\",SUM(DU12*100)/ปก!$C$28)","v":"-"}]
[5,{"$f":"Sheet1!B6","v":12924},{"$f":"CONCATENATE(Sheet1!C6&Sheet1!D6&\"    \"&Sheet1!E6)","v":"เด็กหญิงไปรยา    ณ นคร"},5,null,null,null,null,null,null,null,null,null,null,null,null,null,null,null,null,null,null,null,null,null,null,null,null,null,null,null,null,null,null,null,null,null,null,null,null,null,null,null,null,null,null,null,null,null,null,null,null,null,null,null,null,null,null,null,null,null,null,null,null,null,null,null,null,null,null,null,null,null,null,null,null,null,null,null,null,null,null,null,null,null,null,null,null,null,null,null,null,null,null,null,null,null,null,null,null,null,null,null,null,null,null,null,null,null,null,null,null,null,null,null,null,null,null,null,null,null,null,null,null,0,0,0,0,{"$f":"IF(ปก!$C$28=0,\"-\",SUM(DU13*100)/ปก!$C$28)","v":"-"}]
[6,{"$f":"Sheet1!B7","v":12926},{"$f":"CONCATENATE(Sheet1!C7&Sheet1!D7&\"    \"&Sheet1!E7)","v":"เด็กหญิงกวินธิดา    ขาวอรุณ"},6,null,null,null,null,null,null,null,null,null,null,null,null,null,null,null,null,null,null,null,null,null,null,null,null,null,null,null,null,null,null,null,null,null,null,null,null,null,null,null,null,null,null,null,null,null,null,null,null,null,null,null,null,null,null,null,null,null,null,null,null,null,null,null,null,null,null,null,null,null,null,null,null,null,null,null,null,null,null,null,null,null,null,null,null,null,null,null,null,null,null,null,null,null,null,null,null,null,null,null,null,null,null,null,null,null,null,null,null,null,null,null,null,null,null,null,null,null,null,null,null,0,0,0,0,{"$f":"IF(ปก!$C$28=0,\"-\",SUM(DU14*100)/ปก!$C$28)","v":"-"}]
[7,{"$f":"Sheet1!B8","v":12938},{"$f":"CONCATENATE(Sheet1!C8&Sheet1!D8&\"    \"&Sheet1!E8)","v":"เด็กชายอภิสิทธิ์    บัวทอง"},7,null,null,null,null,null,null,null,null,null,null,null,null,null,null,null,null,null,null,null,null,null,null,null,null,null,null,null,null,null,null,null,null,null,null,null,null,null,null,null,null,null,null,null,null,null,null,null,null,null,null,null,null,null,null,null,null,null,null,null,null,null,null,null,null,null,null,null,null,null,null,null,null,null,null,null,null,null,null,null,null,null,null,null,null,null,null,null,null,null,null,null,null,null,null,null,null,null,null,null,null,null,null,null,null,null,null,null,null,null,null,null,null,null,null,null,null,null,null,null,null,0,0,0,0,{"$f":"IF(ปก!$C$28=0,\"-\",SUM(DU15*100)/ปก!$C$28)","v":"-"}]
[8,{"$f":"Sheet1!B9","v":12942},{"$f":"CONCATENATE(Sheet1!C9&Sheet1!D9&\"    \"&Sheet1!E9)","v":"เด็กหญิงวริสรา    ราชวงษ์"},8,null,null,null,null,null,null,null,null,null,null,null,null,null,null,null,null,null,null,null,null,null,null,null,null,null,null,null,null,null,null,null,null,null,null,null,null,null,null,null,null,null,null,null,null,null,null,null,null,null,null,null,null,null,null,null,null,null,null,null,null,null,null,null,null,null,null,null,null,null,null,null,null,null,null,null,null,null,null,null,null,null,null,null,null,null,null,null,null,null,null,null,null,null,null,null,null,null,null,null,null,null,null,null,null,null,null,null,null,null,null,null,null,null,null,null,null,null,null,null,null,0,0,0,0,{"$f":"IF(ปก!$C$28=0,\"-\",SUM(DU16*100)/ปก!$C$28)","v":"-"}]
[9,{"$f":"Sheet1!B10","v":14067},{"$f":"CONCATENATE(Sheet1!C10&Sheet1!D10&\"    \"&Sheet1!E10)","v":"เด็กชายเมธัส    นุชพานิช"},9,null,null,null,null,null,null,null,null,null,null,null,null,null,null,null,null,null,null,null,null,null,null,null,null,null,null,null,null,null,null,null,null,null,null,null,null,null,null,null,null,null,null,null,null,null,null,null,null,null,null,null,null,null,null,null,null,null,null,null,null,null,null,null,null,null,null,null,null,null,null,null,null,null,null,null,null,null,null,null,null,null,null,null,null,null,null,null,null,null,null,null,null,null,null,null,null,null,null,null,null,null,null,null,null,null,null,null,null,null,null,null,null,null,null,null,null,null,null,null,null,0,0,0,0,{"$f":"IF(ปก!$C$28=0,\"-\",SUM(DU17*100)/ปก!$C$28)","v":"-"}]
[10,{"$f":"Sheet1!B11","v":14070},{"$f":"CONCATENATE(Sheet1!C11&Sheet1!D11&\"    \"&Sheet1!E11)","v":"เด็กชายสรายุทธ    หนูชัยแก้ว"},10,null,null,null,null,null,null,null,null,null,null,null,null,null,null,null,null,null,null,null,null,null,null,null,null,null,null,null,null,null,null,null,null,null,null,null,null,null,null,null,null,null,null,null,null,null,null,null,null,null,null,null,null,null,null,null,null,null,null,null,null,null,null,null,null,null,null,null,null,null,null,null,null,null,null,null,null,null,null,null,null,null,null,null,null,null,null,null,null,null,null,null,null,null,null,null,null,null,null,null,null,null,null,null,null,null,null,null,null,null,null,null,null,null,null,null,null,null,null,null,null,0,0,0,0,{"$f":"IF(ปก!$C$28=0,\"-\",SUM(DU18*100)/ปก!$C$28)","v":"-"}]
[11,{"$f":"Sheet1!B12","v":14073},{"$f":"CONCATENATE(Sheet1!C12&Sheet1!D12&\"    \"&Sheet1!E12)","v":"เด็กหญิงอัยลดา    รักอรุณ"},11,null,null,null,null,null,null,null,null,null,null,null,null,null,null,null,null,null,null,null,null,null,null,null,null,null,null,null,null,null,null,null,null,null,null,null,null,null,null,null,null,null,null,null,null,null,null,null,null,null,null,null,null,null,null,null,null,null,null,null,null,null,null,null,null,null,null,null,null,null,null,null,null,null,null,null,null,null,null,null,null,null,null,null,null,null,null,null,null,null,null,null,null,null,null,null,null,null,null,null,null,null,null,null,null,null,null,null,null,null,null,null,null,null,null,null,null,null,null,null,null,0,0,0,0,{"$f":"IF(ปก!$C$28=0,\"-\",SUM(DU19*100)/ปก!$C$28)","v":"-"}]
[12,{"$f":"Sheet1!B13","v":14090},{"$f":"CONCATENATE(Sheet1!C13&Sheet1!D13&\"    \"&Sheet1!E13)","v":"เด็กชายสิงหา    วงศ์ศราวิทย์"},12,null,null,null,null,null,null,null,null,null,null,null,null,null,null,null,null,null,null,null,null,null,null,null,null,null,null,null,null,null,null,null,null,null,null,null,null,null,null,null,null,null,null,null,null,null,null,null,null,null,null,null,null,null,null,null,null,null,null,null,null,null,null,null,null,null,null,null,null,null,null,null,null,null,null,null,null,null,null,null,null,null,null,null,null,null,null,null,null,null,null,null,null,null,null,null,null,null,null,null,null,null,null,null,null,null,null,null,null,null,null,null,null,null,null,null,null,null,null,null,null,0,0,0,0,{"$f":"IF(ปก!$C$28=0,\"-\",SUM(DU20*100)/ปก!$C$28)","v":"-"}]
[13,{"$f":"Sheet1!B14","v":14096},{"$f":"CONCATENATE(Sheet1!C14&Sheet1!D14&\"    \"&Sheet1!E14)","v":"เด็กชายอภิชัย    วิลาศลักษณ์"},13,null,null,null,null,null,null,null,null,null,null,null,null,null,null,null,null,null,null,null,null,null,null,null,null,null,null,null,null,null,null,null,null,null,null,null,null,null,null,null,null,null,null,null,null,null,null,null,null,null,null,null,null,null,null,null,null,null,null,null,null,null,null,null,null,null,null,null,null,null,null,null,null,null,null,null,null,null,null,null,null,null,null,null,null,null,null,null,null,null,null,null,null,null,null,null,null,null,null,null,null,null,null,null,null,null,null,null,null,null,null,null,null,null,null,null,null,null,null,null,null,0,0,0,0,{"$f":"IF(ปก!$C$28=0,\"-\",SUM(DU21*100)/ปก!$C$28)","v":"-"}]
[14,{"$f":"Sheet1!B15","v":14099},{"$f":"CONCATENATE(Sheet1!C15&Sheet1!D15&\"    \"&Sheet1!E15)","v":"เด็กชายภูมิพัฒน์    โกสิยพันธ์"},14,null,null,null,null,null,null,null,null,null,null,null,null,null,null,null,null,null,null,null,null,null,null,null,null,null,null,null,null,null,null,null,null,null,null,null,null,null,null,null,null,null,null,null,null,null,null,null,null,null,null,null,null,null,null,null,null,null,null,null,null,null,null,null,null,null,null,null,null,null,null,null,null,null,null,null,null,null,null,null,null,null,null,null,null,null,null,null,null,null,null,null,null,null,null,null,null,null,null,null,null,null,null,null,null,null,null,null,null,null,null,null,null,null,null,null,null,null,null,null,null,0,0,0,0,{"$f":"IF(ปก!$C$28=0,\"-\",SUM(DU22*100)/ปก!$C$28)","v":"-"}]
[15,{"$f":"Sheet1!B16","v":14107},{"$f":"CONCATENATE(Sheet1!C16&Sheet1!D16&\"    \"&Sheet1!E16)","v":"เด็กหญิงนงณภัทร    ศรแก้วดารา"},15,null,null,null,null,null,null,null,null,null,null,null,null,null,null,null,null,null,null,null,null,null,null,null,null,null,null,null,null,null,null,null,null,null,null,null,null,null,null,null,null,null,null,null,null,null,null,null,null,null,null,null,null,null,null,null,null,null,null,null,null,null,null,null,null,null,null,null,null,null,null,null,null,null,null,null,null,null,null,null,null,null,null,null,null,null,null,null,null,null,null,null,null,null,null,null,null,null,null,null,null,null,null,null,null,null,null,null,null,null,null,null,null,null,null,null,null,null,null,null,null,0,0,0,0,{"$f":"IF(ปก!$C$28=0,\"-\",SUM(DU23*100)/ปก!$C$28)","v":"-"}]
[16,{"$f":"Sheet1!B17","v":14112},{"$f":"CONCATENATE(Sheet1!C17&Sheet1!D17&\"    \"&Sheet1!E17)","v":"เด็กหญิงชนัญชิดา    เทียนชัย"},16,null,null,null,null,null,null,null,null,null,null,null,null,null,null,null,null,null,null,null,null,null,null,null,null,null,null,null,null,null,null,null,null,null,null,null,null,null,null,null,null,null,null,null,null,null,null,null,null,null,null,null,null,null,null,null,null,null,null,null,null,null,null,null,null,null,null,null,null,null,null,null,null,null,null,null,null,null,null,null,null,null,null,null,null,null,null,null,null,null,null,null,null,null,null,null,null,null,null,null,null,null,null,null,null,null,null,null,null,null,null,null,null,null,null,null,null,null,null,null,null,0,0,0,0,{"$f":"IF(ปก!$C$28=0,\"-\",SUM(DU24*100)/ปก!$C$28)","v":"-"}]
[17,{"$f":"Sheet1!B18","v":14118},{"$f":"CONCATENATE(Sheet1!C18&Sheet1!D18&\"    \"&Sheet1!E18)","v":"เด็กชายนนทกร    วรรณภัณฑ์พินิจ"},17,null,null,null,null,null,null,null,null,null,null,null,null,null,null,null,null,null,null,null,null,null,null,null,null,null,null,null,null,null,null,null,null,null,null,null,null,null,null,null,null,null,null,null,null,null,null,null,null,null,null,null,null,null,null,null,null,null,null,null,null,null,null,null,null,null,null,null,null,null,null,null,null,null,null,null,null,null,null,null,null,null,null,null,null,null,null,null,null,null,null,null,null,null,null,null,null,null,null,null,null,null,null,null,null,null,null,null,null,null,null,null,null,null,null,null,null,null,null,null,null,0,0,0,0,{"$f":"IF(ปก!$C$28=0,\"-\",SUM(DU25*100)/ปก!$C$28)","v":"-"}]
[18,{"$f":"Sheet1!B19","v":14120},{"$f":"CONCATENATE(Sheet1!C19&Sheet1!D19&\"    \"&Sheet1!E19)","v":"เด็กชายภัคพล    พรมฉิม"},18,null,null,null,null,null,null,null,null,null,null,null,null,null,null,null,null,null,null,null,null,null,null,null,null,null,null,null,null,null,null,null,null,null,null,null,null,null,null,null,null,null,null,null,null,null,null,null,null,null,null,null,null,null,null,null,null,null,null,null,null,null,null,null,null,null,null,null,null,null,null,null,null,null,null,null,null,null,null,null,null,null,null,null,null,null,null,null,null,null,null,null,null,null,null,null,null,null,null,null,null,null,null,null,null,null,null,null,null,null,null,null,null,null,null,null,null,null,null,null,null,0,0,0,0,{"$f":"IF(ปก!$C$28=0,\"-\",SUM(DU26*100)/ปก!$C$28)","v":"-"}]
[19,{"$f":"Sheet1!B20","v":14123},{"$f":"CONCATENATE(Sheet1!C20&Sheet1!D20&\"    \"&Sheet1!E20)","v":"เด็กชายกรวิชญ์    ฤทธิคง"},19,null,null,null,null,null,null,null,null,null,null,null,null,null,null,null,null,null,null,null,null,null,null,null,null,null,null,null,null,null,null,null,null,null,null,null,null,null,null,null,null,null,null,null,null,null,null,null,null,null,null,null,null,null,null,null,null,null,null,null,null,null,null,null,null,null,null,null,null,null,null,null,null,null,null,null,null,null,null,null,null,null,null,null,null,null,null,null,null,null,null,null,null,null,null,null,null,null,null,null,null,null,null,null,null,null,null,null,null,null,null,null,null,null,null,null,null,null,null,null,null,0,0,0,0,{"$f":"IF(ปก!$C$28=0,\"-\",SUM(DU27*100)/ปก!$C$28)","v":"-"}]
[20,{"$f":"Sheet1!B21","v":14126},{"$f":"CONCATENATE(Sheet1!C21&Sheet1!D21&\"    \"&Sheet1!E21)","v":"เด็กชายกรกช    สุจจิต"},20,null,null,null,null,null,null,null,null,null,null,null,null,null,null,null,null,null,null,null,null,null,null,null,null,null,null,null,null,null,null,null,null,null,null,null,null,null,null,null,null,null,null,null,null,null,null,null,null,null,null,null,null,null,null,null,null,null,null,null,null,null,null,null,null,null,null,null,null,null,null,null,null,null,null,null,null,null,null,null,null,null,null,null,null,null,null,null,null,null,null,null,null,null,null,null,null,null,null,null,null,null,null,null,null,null,null,null,null,null,null,null,null,null,null,null,null,null,null,null,null,0,0,0,0,{"$f":"IF(ปก!$C$28=0,\"-\",SUM(DU28*100)/ปก!$C$28)","v":"-"}]
[21,{"$f":"Sheet1!B22","v":14127},{"$f":"CONCATENATE(Sheet1!C22&Sheet1!D22&\"    \"&Sheet1!E22)","v":"เด็กชายวรัญญู    แก้วพรัด"},21,null,null,null,null,null,null,null,null,null,null,null,null,null,null,null,null,null,null,null,null,null,null,null,null,null,null,null,null,null,null,null,null,null,null,null,null,null,null,null,null,null,null,null,null,null,null,null,null,null,null,null,null,null,null,null,null,null,null,null,null,null,null,null,null,null,null,null,null,null,null,null,null,null,null,null,null,null,null,null,null,null,null,null,null,null,null,null,null,null,null,null,null,null,null,null,null,null,null,null,null,null,null,null,null,null,null,null,null,null,null,null,null,null,null,null,null,null,null,null,null,0,0,0,0,{"$f":"IF(ปก!$C$28=0,\"-\",SUM(DU29*100)/ปก!$C$28)","v":"-"}]
[22,{"$f":"Sheet1!B23","v":14142},{"$f":"CONCATENATE(Sheet1!C23&Sheet1!D23&\"    \"&Sheet1!E23)","v":"เด็กชายภูรินทร์    วงษ์ถาวร"},22,null,null,null,null,null,null,null,null,null,null,null,null,null,null,null,null,null,null,null,null,null,null,null,null,null,null,null,null,null,null,null,null,null,null,null,null,null,null,null,null,null,null,null,null,null,null,null,null,null,null,null,null,null,null,null,null,null,null,null,null,null,null,null,null,null,null,null,null,null,null,null,null,null,null,null,null,null,null,null,null,null,null,null,null,null,null,null,null,null,null,null,null,null,null,null,null,null,null,null,null,null,null,null,null,null,null,null,null,null,null,null,null,null,null,null,null,null,null,null,null,0,0,0,0,{"$f":"IF(ปก!$C$28=0,\"-\",SUM(DU30*100)/ปก!$C$28)","v":"-"}]
[23,{"$f":"Sheet1!B24","v":14434},{"$f":"CONCATENATE(Sheet1!C24&Sheet1!D24&\"    \"&Sheet1!E24)","v":"เด็กหญิงลลิตภัทร    ขุ้ยด้วง"},23,null,null,null,null,null,null,null,null,null,null,null,null,null,null,null,null,null,null,null,null,null,null,null,null,null,null,null,null,null,null,null,null,null,null,null,null,null,null,null,null,null,null,null,null,null,null,null,null,null,null,null,null,null,null,null,null,null,null,null,null,null,null,null,null,null,null,null,null,null,null,null,null,null,null,null,null,null,null,null,null,null,null,null,null,null,null,null,null,null,null,null,null,null,null,null,null,null,null,null,null,null,null,null,null,null,null,null,null,null,null,null,null,null,null,null,null,null,null,null,null,0,0,0,0,{"$f":"IF(ปก!$C$28=0,\"-\",SUM(DU31*100)/ปก!$C$28)","v":"-"}]
[24,{"$f":"Sheet1!B25","v":14445},{"$f":"CONCATENATE(Sheet1!C25&Sheet1!D25&\"    \"&Sheet1!E25)","v":"เด็กหญิงศวรรยา    ปิยบรรพต"},24,null,null,null,null,null,null,null,null,null,null,null,null,null,null,null,null,null,null,null,null,null,null,null,null,null,null,null,null,null,null,null,null,null,null,null,null,null,null,null,null,null,null,null,null,null,null,null,null,null,null,null,null,null,null,null,null,null,null,null,null,null,null,null,null,null,null,null,null,null,null,null,null,null,null,null,null,null,null,null,null,null,null,null,null,null,null,null,null,null,null,null,null,null,null,null,null,null,null,null,null,null,null,null,null,null,null,null,null,null,null,null,null,null,null,null,null,null,null,null,null,0,0,0,0,{"$f":"IF(ปก!$C$28=0,\"-\",SUM(DU32*100)/ปก!$C$28)","v":"-"}]
[25,{"$f":"Sheet1!B26","v":14924},{"$f":"CONCATENATE(Sheet1!C26&Sheet1!D26&\"    \"&Sheet1!E26)","v":"เด็กหญิงณัฐฌญา    สุวรรณมณี"},25,null,null,null,null,null,null,null,null,null,null,null,null,null,null,null,null,null,null,null,null,null,null,null,null,null,null,null,null,null,null,null,null,null,null,null,null,null,null,null,null,null,null,null,null,null,null,null,null,null,null,null,null,null,null,null,null,null,null,null,null,null,null,null,null,null,null,null,null,null,null,null,null,null,null,null,null,null,null,null,null,null,null,null,null,null,null,null,null,null,null,null,null,null,null,null,null,null,null,null,null,null,null,null,null,null,null,null,null,null,null,null,null,null,null,null,null,null,null,null,null,0,0,0,0,{"$f":"IF(ปก!$C$28=0,\"-\",SUM(DU33*100)/ปก!$C$28)","v":"-"}]
[26,{"$f":"Sheet1!B27","v":15041},{"$f":"CONCATENATE(Sheet1!C27&Sheet1!D27&\"    \"&Sheet1!E27)","v":"เด็กชายปฐมมงคล    เทพสุวรรณ"},26,null,null,null,null,null,null,null,null,null,null,null,null,null,null,null,null,null,null,null,null,null,null,null,null,null,null,null,null,null,null,null,null,null,null,null,null,null,null,null,null,null,null,null,null,null,null,null,null,null,null,null,null,null,null,null,null,null,null,null,null,null,null,null,null,null,null,null,null,null,null,null,null,null,null,null,null,null,null,null,null,null,null,null,null,null,null,null,null,null,null,null,null,null,null,null,null,null,null,null,null,null,null,null,null,null,null,null,null,null,null,null,null,null,null,null,null,null,null,null,null,0,0,0,0,{"$f":"IF(ปก!$C$28=0,\"-\",SUM(DU34*100)/ปก!$C$28)","v":"-"}]
[27,{"$f":"Sheet1!B28","v":15720},{"$f":"CONCATENATE(Sheet1!C28&Sheet1!D28&\"    \"&Sheet1!E28)","v":"เด็กชายภูริณัฐ    โรยอุตระ"},27,null,null,null,null,null,null,null,null,null,null,null,null,null,null,null,null,null,null,null,null,null,null,null,null,null,null,null,null,null,null,null,null,null,null,null,null,null,null,null,null,null,null,null,null,null,null,null,null,null,null,null,null,null,null,null,null,null,null,null,null,null,null,null,null,null,null,null,null,null,null,null,null,null,null,null,null,null,null,null,null,null,null,null,null,null,null,null,null,null,null,null,null,null,null,null,null,null,null,null,null,null,null,null,null,null,null,null,null,null,null,null,null,null,null,null,null,null,null,null,null,0,0,0,0,{"$f":"IF(ปก!$C$28=0,\"-\",SUM(DU35*100)/ปก!$C$28)","v":"-"}]
[28,{"$f":"Sheet1!B29","v":15727},{"$f":"CONCATENATE(Sheet1!C29&Sheet1!D29&\"    \"&Sheet1!E29)","v":"เด็กชายภานุวัฒน์    เรืองรักษ์"},28,null,null,null,null,null,null,null,null,null,null,null,null,null,null,null,null,null,null,null,null,null,null,null,null,null,null,null,null,null,null,null,null,null,null,null,null,null,null,null,null,null,null,null,null,null,null,null,null,null,null,null,null,null,null,null,null,null,null,null,null,null,null,null,null,null,null,null,null,null,null,null,null,null,null,null,null,null,null,null,null,null,null,null,null,null,null,null,null,null,null,null,null,null,null,null,null,null,null,null,null,null,null,null,null,null,null,null,null,null,null,null,null,null,null,null,null,null,null,null,null,0,0,0,0,{"$f":"IF(ปก!$C$28=0,\"-\",SUM(DU36*100)/ปก!$C$28)","v":"-"}]
[29,{"$f":"Sheet1!B30","v":18137},{"$f":"CONCATENATE(Sheet1!C30&Sheet1!D30&\"    \"&Sheet1!E30)","v":"เด็กชายธนาทิป    อรุณไทย"},29,null,null,null,null,null,null,null,null,null,null,null,null,null,null,null,null,null,null,null,null,null,null,null,null,null,null,null,null,null,null,null,null,null,null,null,null,null,null,null,null,null,null,null,null,null,null,null,null,null,null,null,null,null,null,null,null,null,null,null,null,null,null,null,null,null,null,null,null,null,null,null,null,null,null,null,null,null,null,null,null,null,null,null,null,null,null,null,null,null,null,null,null,null,null,null,null,null,null,null,null,null,null,null,null,null,null,null,null,null,null,null,null,null,null,null,null,null,null,null,null,0,0,0,0,{"$f":"IF(ปก!$C$28=0,\"-\",SUM(DU37*100)/ปก!$C$28)","v":"-"}]
[30,{"$f":"Sheet1!B31","v":18157},{"$f":"CONCATENATE(Sheet1!C31&Sheet1!D31&\"    \"&Sheet1!E31)","v":"เด็กหญิงเมย์ชญา    นาคพัฒน์"},30,null,null,null,null,null,null,null,null,null,null,null,null,null,null,null,null,null,null,null,null,null,null,null,null,null,null,null,null,null,null,null,null,null,null,null,null,null,null,null,null,null,null,null,null,null,null,null,null,null,null,null,null,null,null,null,null,null,null,null,null,null,null,null,null,null,null,null,null,null,null,null,null,null,null,null,null,null,null,null,null,null,null,null,null,null,null,null,null,null,null,null,null,null,null,null,null,null,null,null,null,null,null,null,null,null,null,null,null,null,null,null,null,null,null,null,null,null,null,null,null,0,0,0,0,{"$f":"IF(ปก!$C$28=0,\"-\",SUM(DU38*100)/ปก!$C$28)","v":"-"}]
[31,{"$f":"Sheet1!B32","v":18158},{"$f":"CONCATENATE(Sheet1!C32&Sheet1!D32&\"    \"&Sheet1!E32)","v":"เด็กชายพีรณัฐ    จามพัฒน์"},31,null,null,null,null,null,null,null,null,null,null,null,null,null,null,null,null,null,null,null,null,null,null,null,null,null,null,null,null,null,null,null,null,null,null,null,null,null,null,null,null,null,null,null,null,null,null,null,null,null,null,null,null,null,null,null,null,null,null,null,null,null,null,null,null,null,null,null,null,null,null,null,null,null,null,null,null,null,null,null,null,null,null,null,null,null,null,null,null,null,null,null,null,null,null,null,null,null,null,null,null,null,null,null,null,null,null,null,null,null,null,null,null,null,null,null,null,null,null,null,null,0,0,0,0,{"$f":"IF(ปก!$C$28=0,\"-\",SUM(DU39*100)/ปก!$C$28)","v":"-"}]
[32,{"$f":"Sheet1!B33","v":18159},{"$f":"CONCATENATE(Sheet1!C33&Sheet1!D33&\"    \"&Sheet1!E33)","v":"เด็กชายปิยภัทร    พรหมดำ"},32,null,null,null,null,null,null,null,null,null,null,null,null,null,null,null,null,null,null,null,null,null,null,null,null,null,null,null,null,null,null,null,null,null,null,null,null,null,null,null,null,null,null,null,null,null,null,null,null,null,null,null,null,null,null,null,null,null,null,null,null,null,null,null,null,null,null,null,null,null,null,null,null,null,null,null,null,null,null,null,null,null,null,null,null,null,null,null,null,null,null,null,null,null,null,null,null,null,null,null,null,null,null,null,null,null,null,null,null,null,null,null,null,null,null,null,null,null,null,null,null,0,0,0,0,{"$f":"IF(ปก!$C$28=0,\"-\",SUM(DU40*100)/ปก!$C$28)","v":"-"}]
[33,{"$f":"Sheet1!B34","v":18160},{"$f":"CONCATENATE(Sheet1!C34&Sheet1!D34&\"    \"&Sheet1!E34)","v":"เด็กชายธีรดนย์    คณะเสาวชัย"},33,null,null,null,null,null,null,null,null,null,null,null,null,null,null,null,null,null,null,null,null,null,null,null,null,null,null,null,null,null,null,null,null,null,null,null,null,null,null,null,null,null,null,null,null,null,null,null,null,null,null,null,null,null,null,null,null,null,null,null,null,null,null,null,null,null,null,null,null,null,null,null,null,null,null,null,null,null,null,null,null,null,null,null,null,null,null,null,null,null,null,null,null,null,null,null,null,null,null,null,null,null,null,null,null,null,null,null,null,null,null,null,null,null,null,null,null,null,null,null,null,{"$f":"IF(C41=\"\",0,IF(DZ41<>\"ปกติ\",0,$DU$59-DV41-DW41-DX41))","v":0},{"$f":"COUNTIF(E41:DT41,\"ข\")","v":0},{"$f":"COUNTIF(E41:DT41,\"ล\")","v":0},{"$f":"COUNTIF(E41:DT41,\"ป\")","v":0},{"$f":"IF(ปก!$C$28=0,\"-\",SUM(DU41*100)/ปก!$C$28)","v":"-"}]
[34,{"$f":"Sheet1!B35","v":18161},{"$f":"CONCATENATE(Sheet1!C35&Sheet1!D35&\"    \"&Sheet1!E35)","v":"เด็กชายชิษณุพงศ์    เสถียรธนฉัตร์"},34,null,null,null,null,null,null,null,null,null,null,null,null,null,null,null,null,null,null,null,null,null,null,null,null,null,null,null,null,null,null,null,null,null,null,null,null,null,null,null,null,null,null,null,null,null,null,null,null,null,null,null,null,null,null,null,null,null,null,null,null,null,null,null,null,null,null,null,null,null,null,null,null,null,null,null,null,null,null,null,null,null,null,null,null,null,null,null,null,null,null,null,null,null,null,null,null,null,null,null,null,null,null,null,null,null,null,null,null,null,null,null,null,null,null,null,null,null,null,null,null,0,0,0,0,{"$f":"IF(ปก!$C$28=0,\"-\",SUM(DU42*100)/ปก!$C$28)","v":"-"}]
[35,{"$f":"Sheet1!B36","v":18163},{"$f":"CONCATENATE(Sheet1!C36&Sheet1!D36&\"    \"&Sheet1!E36)","v":"เด็กชายทัชชกร    นาคพล"},35,null,null,null,null,null,null,null,null,null,null,null,null,null,null,null,null,null,null,null,null,null,null,null,null,null,null,null,null,null,null,null,null,null,null,null,null,null,null,null,null,null,null,null,null,null,null,null,null,null,null,null,null,null,null,null,null,null,null,null,null,null,null,null,null,null,null,null,null,null,null,null,null,null,null,null,null,null,null,null,null,null,null,null,null,null,null,null,null,null,null,null,null,null,null,null,null,null,null,null,null,null,null,null,null,null,null,null,null,null,null,null,null,null,null,null,null,null,null,null,null,0,0,0,0,{"$f":"IF(ปก!$C$28=0,\"-\",SUM(DU43*100)/ปก!$C$28)","v":"-"}]
[36,{"$f":"Sheet1!B37","v":18417},{"$f":"CONCATENATE(Sheet1!C37&Sheet1!D37&\"    \"&Sheet1!E37)","v":"เด็กชายธนภัทร    สถิตย์วงศ์วรากุล"},36,null,null,null,null,null,null,null,null,null,null,null,null,null,null,null,null,null,null,null,null,null,null,null,null,null,null,null,null,null,null,null,null,null,null,null,null,null,null,null,null,null,null,null,null,null,null,null,null,null,null,null,null,null,null,null,null,null,null,null,null,null,null,null,null,null,null,null,null,null,null,null,null,null,null,null,null,null,null,null,null,null,null,null,null,null,null,null,null,null,null,null,null,null,null,null,null,null,null,null,null,null,null,null,null,null,null,null,null,null,null,null,null,null,null,null,null,null,null,null,null,0,0,0,0,{"$f":"IF(ปก!$C$28=0,\"-\",SUM(DU44*100)/ปก!$C$28)","v":"-"}]
[37,{"$f":"Sheet1!B38","v":18806},{"$f":"CONCATENATE(Sheet1!C38&Sheet1!D38&\"    \"&Sheet1!E38)","v":"เด็กหญิงญาณิศา    ชัยมา"},37,null,null,null,null,null,null,null,null,null,null,null,null,null,null,null,null,null,null,null,null,null,null,null,null,null,null,null,null,null,null,null,null,null,null,null,null,null,null,null,null,null,null,null,null,null,null,null,null,null,null,null,null,null,null,null,null,null,null,null,null,null,null,null,null,null,null,null,null,null,null,null,null,null,null,null,null,null,null,null,null,null,null,null,null,null,null,null,null,null,null,null,null,null,null,null,null,null,null,null,null,null,null,null,null,null,null,null,null,null,null,null,null,null,null,null,null,null,null,null,null,0,0,0,0,{"$f":"IF(ปก!$C$28=0,\"-\",SUM(DU45*100)/ปก!$C$28)","v":"-"}]
[null,{"$f":"Sheet1!B39","v":0},{"$f":"CONCATENATE(Sheet1!C39&Sheet1!D39&\"    \"&Sheet1!E39)","v":"    "},null,null,null,null,null,null,null,null,null,null,null,null,null,null,null,null,null,null,null,null,null,null,null,null,null,null,null,null,null,null,null,null,null,null,null,null,null,null,null,null,null,null,null,null,null,null,null,null,null,null,null,null,null,null,null,null,null,null,null,null,null,null,null,null,null,null,null,null,null,null,null,null,null,null,null,null,null,null,null,null,null,null,null,null,null,null,null,null,null,null,null,null,null,null,null,null,null,null,null,null,null,null,null,null,null,null,null,null,null,null,null,null,null,null,null,null,null,null,null,null,null,0,0,0,0,{"$f":"IF(ปก!$C$28=0,\"-\",SUM(DU46*100)/ปก!$C$28)","v":"-"}]
[null,{"$f":"Sheet1!B40","v":0},{"$f":"CONCATENATE(Sheet1!C40&Sheet1!D40&\"    \"&Sheet1!E40)","v":"    "},null,null,null,null,null,null,null,null,null,null,null,null,null,null,null,null,null,null,null,null,null,null,null,null,null,null,null,null,null,null,null,null,null,null,null,null,null,null,null,null,null,null,null,null,null,null,null,null,null,null,null,null,null,null,null,null,null,null,null,null,null,null,null,null,null,null,null,null,null,null,null,null,null,null,null,null,null,null,null,null,null,null,null,null,null,null,null,null,null,null,null,null,null,null,null,null,null,null,null,null,null,null,null,null,null,null,null,null,null,null,null,null,null,null,null,null,null,null,null,null,null,0,0,0,0,{"$f":"IF(ปก!$C$28=0,\"-\",SUM(DU47*100)/ปก!$C$28)","v":"-"}]
[null,{"$f":"Sheet1!B41","v":0},{"$f":"CONCATENATE(Sheet1!C41&Sheet1!D41&\"    \"&Sheet1!E41)","v":"    "},null,null,null,null,null,null,null,null,null,null,null,null,null,null,null,null,null,null,null,null,null,null,null,null,null,null,null,null,null,null,null,null,null,null,null,null,null,null,null,null,null,null,null,null,null,null,null,null,null,null,null,null,null,null,null,null,null,null,null,null,null,null,null,null,null,null,null,null,null,null,null,null,null,null,null,null,null,null,null,null,null,null,null,null,null,null,null,null,null,null,null,null,null,null,null,null,null,null,null,null,null,null,null,null,null,null,null,null,null,null,null,null,null,null,null,null,null,null,null,null,null,0,0,0,0,{"$f":"IF(ปก!$C$28=0,\"-\",SUM(DU48*100)/ปก!$C$28)","v":"-"}]
[null,{"$f":"Sheet1!B42","v":0},{"$f":"CONCATENATE(Sheet1!C42&Sheet1!D42&\"    \"&Sheet1!E42)","v":"    "},null,null,null,null,null,null,null,null,null,null,null,null,null,null,null,null,null,null,null,null,null,null,null,null,null,null,null,null,null,null,null,null,null,null,null,null,null,null,null,null,null,null,null,null,null,null,null,null,null,null,null,null,null,null,null,null,null,null,null,null,null,null,null,null,null,null,null,null,null,null,null,null,null,null,null,null,null,null,null,null,null,null,null,null,null,null,null,null,null,null,null,null,null,null,null,null,null,null,null,null,null,null,null,null,null,null,null,null,null,null,null,null,null,null,null,null,null,null,null,null,null,0,0,0,0,{"$f":"IF(ปก!$C$28=0,\"-\",SUM(DU49*100)/ปก!$C$28)","v":"-"}]
[null,{"$f":"Sheet1!B43","v":0},{"$f":"CONCATENATE(Sheet1!C43&Sheet1!D43&\"    \"&Sheet1!E43)","v":"    "},null,null,null,null,null,null,null,null,null,null,null,null,null,null,null,null,null,null,null,null,null,null,null,null,null,null,null,null,null,null,null,null,null,null,null,null,null,null,null,null,null,null,null,null,null,null,null,null,null,null,null,null,null,null,null,null,null,null,null,null,null,null,null,null,null,null,null,null,null,null,null,null,null,null,null,null,null,null,null,null,null,null,null,null,null,null,null,null,null,null,null,null,null,null,null,null,null,null,null,null,null,null,null,null,null,null,null,null,null,null,null,null,null,null,null,null,null,null,null,null,null,0,0,0,0,{"$f":"IF(ปก!$C$28=0,\"-\",SUM(DU50*100)/ปก!$C$28)","v":"-"}]
[null,{"$f":"Sheet1!B44","v":0},{"$f":"CONCATENATE(Sheet1!C44&Sheet1!D44&\"    \"&Sheet1!E44)","v":"    "},null,null,null,null,null,null,null,null,null,null,null,null,null,null,null,null,null,null,null,null,null,null,null,null,null,null,null,null,null,null,null,null,null,null,null,null,null,null,null,null,null,null,null,null,null,null,null,null,null,null,null,null,null,null,null,null,null,null,null,null,null,null,null,null,null,null,null,null,null,null,null,null,null,null,null,null,null,null,null,null,null,null,null,null,null,null,null,null,null,null,null,null,null,null,null,null,null,null,null,null,null,null,null,null,null,null,null,null,null,null,null,null,null,null,null,null,null,null,null,null,null,0,0,0,0,{"$f":"IF(ปก!$C$28=0,\"-\",SUM(DU51*100)/ปก!$C$28)","v":"-"}]
[null,{"$f":"Sheet1!B45","v":0},{"$f":"CONCATENATE(Sheet1!C45&Sheet1!D45&\"    \"&Sheet1!E45)","v":"    "},null,null,null,null,null,null,null,null,null,null,null,null,null,null,null,null,null,null,null,null,null,null,null,null,null,null,null,null,null,null,null,null,null,null,null,null,null,null,null,null,null,null,null,null,null,null,null,null,null,null,null,null,null,null,null,null,null,null,null,null,null,null,null,null,null,null,null,null,null,null,null,null,null,null,null,null,null,null,null,null,null,null,null,null,null,null,null,null,null,null,null,null,null,null,null,null,null,null,null,null,null,null,null,null,null,null,null,null,null,null,null,null,null,null,null,null,null,null,null,null,null,0,0,0,0,{"$f":"IF(ปก!$C$28=0,\"-\",SUM(DU52*100)/ปก!$C$28)","v":"-"}]
[null,{"$f":"Sheet1!B46","v":0},{"$f":"CONCATENATE(Sheet1!C46&Sheet1!D46&\"    \"&Sheet1!E46)","v":"    "},null,null,null,null,null,null,null,null,null,null,null,null,null,null,null,null,null,null,null,null,null,null,null,null,null,null,null,null,null,null,null,null,null,null,null,null,null,null,null,null,null,null,null,null,null,null,null,null,null,null,null,null,null,null,null,null,null,null,null,null,null,null,null,null,null,null,null,null,null,null,null,null,null,null,null,null,null,null,null,null,null,null,null,null,null,null,null,null,null,null,null,null,null,null,null,null,null,null,null,null,null,null,null,null,null,null,null,null,null,null,null,null,null,null,null,null,null,null,null,null,null,0,0,0,0,{"$f":"IF(ปก!$C$28=0,\"-\",SUM(DU53*100)/ปก!$C$28)","v":"-"}]
[null,{"$f":"Sheet1!B47","v":0},{"$f":"CONCATENATE(Sheet1!C47&Sheet1!D47&\"    \"&Sheet1!E47)","v":"    "},null,null,null,null,null,null,null,null,null,null,null,null,null,null,null,null,null,null,null,null,null,null,null,null,null,null,null,null,null,null,null,null,null,null,null,null,null,null,null,null,null,null,null,null,null,null,null,null,null,null,null,null,null,null,null,null,null,null,null,null,null,null,null,null,null,null,null,null,null,null,null,null,null,null,null,null,null,null,null,null,null,null,null,null,null,null,null,null,null,null,null,null,null,null,null,null,null,null,null,null,null,null,null,null,null,null,null,null,null,null,null,null,null,null,null,null,null,null,null,null,null,0,0,0,0,{"$f":"IF(ปก!$C$28=0,\"-\",SUM(DU54*100)/ปก!$C$28)","v":"-"}]
[null,{"$f":"Sheet1!B48","v":0},{"$f":"CONCATENATE(Sheet1!C48&Sheet1!D48&\"    \"&Sheet1!E48)","v":"    "},null,null,null,null,null,null,null,null,null,null,null,null,null,null,null,null,null,null,null,null,null,null,null,null,null,null,null,null,null,null,null,null,null,null,null,null,null,null,null,null,null,null,null,null,null,null,null,null,null,null,null,null,null,null,null,null,null,null,null,null,null,null,null,null,null,null,null,null,null,null,null,null,null,null,null,null,null,null,null,null,null,null,null,null,null,null,null,null,null,null,null,null,null,null,null,null,null,null,null,null,null,null,null,null,null,null,null,null,null,null,null,null,null,null,null,null,null,null,null,null,null,0,0,0,0,{"$f":"IF(ปก!$C$28=0,\"-\",SUM(DU55*100)/ปก!$C$28)","v":"-"}]
[null,{"$f":"Sheet1!B49","v":0},{"$f":"CONCATENATE(Sheet1!C49&Sheet1!D49&\"    \"&Sheet1!E49)","v":"    "},null,null,null,null,null,null,null,null,null,null,null,null,null,null,null,null,null,null,null,null,null,null,null,null,null,null,null,null,null,null,null,null,null,null,null,null,null,null,null,null,null,null,null,null,null,null,null,null,null,null,null,null,null,null,null,null,null,null,null,null,null,null,null,null,null,null,null,null,null,null,null,null,null,null,null,null,null,null,null,null,null,null,null,null,null,null,null,null,null,null,null,null,null,null,null,null,null,null,null,null,null,null,null,null,null,null,null,null,null,null,null,null,null,null,null,null,null,null,null,null,null,0,0,0,0,{"$f":"IF(ปก!$C$28=0,\"-\",SUM(DU56*100)/ปก!$C$28)","v":"-"}]
[null,{"$f":"Sheet1!B50","v":0},{"$f":"CONCATENATE(Sheet1!C50&Sheet1!D50&\"    \"&Sheet1!E50)","v":"    "},null,null,null,null,null,null,null,null,null,null,null,null,null,null,null,null,null,null,null,null,null,null,null,null,null,null,null,null,null,null,null,null,null,null,null,null,null,null,null,null,null,null,null,null,null,null,null,null,null,null,null,null,null,null,null,null,null,null,null,null,null,null,null,null,null,null,null,null,null,null,null,null,null,null,null,null,null,null,null,null,null,null,null,null,null,null,null,null,null,null,null,null,null,null,null,null,null,null,null,null,null,null,null,null,null,null,null,null,null,null,null,null,null,null,null,null,null,null,null,null,null,0,0,0,0,{"$f":"IF(ปก!$C$28=0,\"-\",SUM(DU57*100)/ปก!$C$28)","v":"-"}]
[null,{"$f":"Sheet1!B51","v":0},{"$f":"CONCATENATE(Sheet1!C51&Sheet1!D51&\"    \"&Sheet1!E51)","v":"    "},null,null,null,null,null,null,null,null,null,null,null,null,null,null,null,null,null,null,null,null,null,null,null,null,null,null,null,null,null,null,null,null,null,null,null,null,null,null,null,null,null,null,null,null,null,null,null,null,null,null,null,null,null,null,null,null,null,null,null,null,null,null,null,null,null,null,null,null,null,null,null,null,null,null,null,null,null,null,null,null,null,null,null,null,null,null,null,null,null,null,null,null,null,null,null,null,null,null,null,null,null,null,null,null,null,null,null,null,null,null,null,null,null,null,null,null,null,null,null,null,null,0,0,0,0,{"$f":"IF(ปก!$C$28=0,\"-\",SUM(DU58*100)/ปก!$C$28)","v":"-"}]
[null,null,null,null,{"$f":"IF(E6=\"\",0,1)","v":0},{"$f":"IF(F6=\"\",0,1)","v":0},0,0,0,0,0,0,0,0,0,0,0,0,0,0,0,0,0,0,0,0,0,0,0,0,0,0,0,0,0,0,0,0,0,0,0,0,0,0,0,0,0,0,0,0,0,0,0,0,0,0,0,0,0,0,0,0,0,0,0,0,0,0,0,{"$f":"IF(BR6=\"\",0,1)","v":0},0,0,0,0,0,0,0,0,0,0,0,0,0,0,0,0,0,0,0,0,0,0,0,0,0,0,0,0,0,0,0,0,0,0,0,0,0,0,0,0,0,0,0,0,0,0,0,0,0,0,0,0,0,0,{"$f":"SUM(E59:DT59)","v":0},null,null,null,{"$f":"IF($DW$1=0,\"\",SUM(DU59*100)/$DW$1)","v":""},null,null,null,null,null,null,null,null,null,null,null,null,null,null,null,null,null,null,null,null,null,null,null,null,null,null,null,null,null,null,null,null,null,null,null,null,null,null,null,null,null,null,null,null,null,null,null,null,null,null,null,null,null,null,null,null,null,null,null,null,null,null,null,null,null,null,null,null,null,null,null,null,null,null,null,null,null,null,null,null,null,null,null,null,null,null,null,null,null,null,null,null,null,null,null,null,null,null,null,null,null,null,null,null,null,null,null,null,null,null,null,null,null,null,null,null,null,null,null,null,null,null,null,null,null,null,null,null,null,null,null,null,null,null,null,null,null,null,null,null,null,null,null,null,null,null,null,null,null,null,null,{"$f":"SUM(FE59:JT59)","v":0},null,null,null,{"$f":"IF($DW$1=0,\"\",SUM(JU59*100)/$DW$1)","v":""}]

{"sheet":"ประเมินตัวชี้วัด","index":5,"n_rows":164,"n_cols":237,"rows_kept":164,"cut":false,"hidden":false,"merged":[[2,251,4,251],[4,222,5,222],[4,240,5,240],[2,242,4,242],[2,243,4,243],[2,244,4,244],[2,245,4,245],[2,246,4,246],[2,248,4,248],[4,230,5,230],[4,224,5,224],[4,225,5,225],[2,250,4,250],[4,236,5,236],[4,237,5,237],[4,238,5,238],[4,229,5,229],[2,249,4,249],[2,232,4,232],[2,233,2,240],[2,241,4,241],[4,231,5,231],[4,233,5,233],[4,234,5,234],[2,66,3,66],[2,67,3,67],[4,101,5,101],[4,102,5,102],[0,256,4,256],[2,140,5,140],[2,141,5,141],[2,143,2,162],[2,163,3,163],[2,164,3,164],[2,165,3,165],[2,166,2,185],[2,186,3,186],[2,187,3,187],[2,188,3,188],[2,189,2,203],[2,205,3,205],[2,206,3,206],[2,207,2,221],[2,224,3,224],[2,225,2,229],[0,255,4,255],[2,230,3,230],[2,231,3,231],[4,99,5,99],[4,100,5,100],[2,93,3,93],[4,93,5,93],[2,85,3,85],[2,86,3,86],[2,92,3,92],[2,95,2,102],[2,94,4,94],[1,0,5,0],[1,1,5,1],[2,5,2,24],[2,25,3,25],[2,26,3,26],[2,2,5,2],[4,5,5,5],[4,6,5,6],[4,7,5,7],[4,8,5,8],[4,9,5,9],[4,10,5,10],[4,11,5,11],[4,12,5,12],[4,13,5,13],[4,14,5,14],[4,15,5,15],[4,16,5,16],[4,17,5,17],[4,18,5,18],[4,19,5,19],[4,20,5,20],[4,21,5,21],[4,22,5,22],[7,123,7,124],[7,125,8,125],[0,117,4,117],[0,120,4,120],[2,104,4,104],[2,105,4,105],[2,110,4,110],[2,113,4,113],[2,106,4,106],[2,107,4,107],[2,108,4,108],[0,115,4,115],[0,118,4,118],[0,258,4,258],[4,239,5,239],[0,143,0,165],[0,166,0,188],[2,223,3,223],[2,204,3,204],[4,197,5,197],[4,198,5,198],[2,222,3,222],[4,143,5,143],[4,144,5,144],[0,189,0,206],[0,207,0,224],[0,225,0,241],[0,242,0,246],[0,248,0,251],[4,168,5,168],[4,169,5,169],[4,163,5,163],[4,165,5,165],[4,166,5,166],[4,158,5,158],[4,159,5,159],[0,253,4,253],[0,5,0,27],[0,28,0,50],[0,87,0,103],[0,51,0,68],[0,69,0,86],[0,104,0,108],[0,110,0,113],[2,27,3,27],[2,28,2,47],[2,48,3,48],[2,49,3,49],[2,50,3,50],[2,87,2,91],[2,68,3,68],[2,69,2,83],[2,84,3,84],[2,111,4,111],[2,112,4,112],[2,103,4,103],[2,51,2,65],[4,95,5,95],[4,96,5,96],[4,97,5,97],[4,98,5,98],[4,46,5,46],[4,44,5,44],[4,48,5,48],[4,50,5,50],[4,73,5,73],[4,79,5,79],[4,80,5,80],[4,81,5,81],[4,82,5,82],[4,74,5,74],[4,75,5,75],[4,76,5,76],[4,77,5,77],[4,62,5,62],[4,63,5,63],[4,64,5,64],[4,65,5,65],[4,66,5,66],[4,68,5,68],[4,69,5,69],[4,70,5,70],[4,71,5,71],[4,72,5,72],[4,45,5,45],[4,39,5,39],[4,40,5,40],[4,41,5,41],[4,42,5,42],[4,43,5,43],[4,34,5,34],[4,35,5,35],[4,36,5,36],[4,37,5,37],[4,38,5,38],[4,23,5,23],[4,24,5,24],[4,28,5,28],[4,29,5,29],[4,30,5,30],[4,31,5,31],[4,32,5,32],[4,33,5,33],[4,25,5,25],[4,27,5,27],[4,56,5,56],[4,92,5,92],[4,87,5,87],[4,88,5,88],[4,89,5,89],[4,90,5,90],[4,91,5,91],[4,78,5,78],[4,84,5,84],[4,86,5,86],[4,83,5,83],[4,57,5,57],[4,58,5,58],[4,59,5,59],[4,60,5,60],[4,61,5,61],[4,186,5,186],[4,188,5,188],[4,189,5,189],[4,172,5,172],[4,173,5,173],[4,174,5,174],[4,175,5,175],[4,161,5,161],[4,167,5,167],[4,170,5,170],[4,171,5,171],[4,177,5,177],[4,178,5,178],[4,179,5,179],[4,180,5,180],[4,181,5,181],[4,184,5,184],[4,183,5,183],[4,185,5,185],[4,3,5,3],[4,160,5,160],[4,162,5,162],[4,176,5,176],[4,182,5,182],[4,155,5,155],[4,156,5,156],[4,157,5,157],[4,151,5,151],[4,152,5,152],[4,153,5,153],[4,154,5,154],[4,145,5,145],[4,146,5,146],[4,147,5,147],[4,148,5,148],[4,149,5,149],[4,150,5,150],[4,47,5,47],[4,51,5,51],[4,52,5,52],[4,53,5,53],[4,54,5,54],[4,55,5,55],[4,235,5,235],[4,226,5,226],[4,227,5,227],[4,228,5,228],[4,219,5,219],[4,208,5,208],[4,209,5,209],[4,220,5,220],[4,213,5,213],[4,218,5,218],[4,210,5,210],[4,211,5,211],[4,212,5,212],[4,214,5,214],[4,215,5,215],[4,216,5,216],[4,217,5,217],[4,221,5,221],[4,203,5,203],[4,190,5,190],[4,191,5,191],[4,196,5,196],[4,206,5,206],[4,207,5,207],[4,204,5,204],[4,192,5,192],[4,194,5,194],[4,202,5,202],[4,199,5,199],[4,200,5,200],[4,201,5,201],[4,193,5,193],[4,195,5,195]]}
[null,null,null,"อัตราส่วนคะแนน =","70 : 30",{"$f":"\"คะแนนประเมินผลสัมฤทธิ์ ภาคเรียนที่\"&ปก!AL10&\"  วิชา \"&ปก!AS15&\"   \"&\"ชั้น ม.\"&ปก!$C$21&\"/\"&ปก!$C$22&\"  หน้า 6\"","v":"คะแนนประเมินผลสัมฤทธิ์ ภาคเรียนที่2  วิชา {{โปรดกรอกรหัสวิชา}}   ชั้น ม.3/5  หน้า 6"},null,null,null,null,null,null,null,null,null,null,null,null,null,null,null,null,null,null,null,null,null,null,{"$f":"\"คะแนนประเมินผลสัมฤทธิ์ ภาคเรียนที่\"&ปก!AL10&\"  วิชา \"&ปก!AS15&\"   \"&\"ชั้น ม.\"&ปก!$C$21&\"/\"&ปก!$C$22&\"  หน้า 7\"","v":"คะแนนประเมินผลสัมฤทธิ์ ภาคเรียนที่2  วิชา {{โปรดกรอกรหัสวิชา}}   ชั้น ม.3/5  หน้า 7"},null,null,null,null,null,null,null,null,null,null,null,null,null,null,null,null,null,null,null,null,null,null,{"$f":"\"คะแนนประเมินผลสัมฤทธิ์ ภาคเรียนที่\"&ปก!AL10&\"  วิชา \"&ปก!AS15&\"   \"&\"ชั้น ม.\"&ปก!$C$21&\"/\"&ปก!$C$22&\"  หน้า 8\"","v":"คะแนนประเมินผลสัมฤทธิ์ ภาคเรียนที่2  วิชา {{โปรดกรอกรหัสวิชา}}   ชั้น ม.3/5  หน้า 8"},null,null,null,null,null,null,null,null,null,null,null,null,null,null,null,null,null,{"$f":"\"คะแนนประเมินผลสัมฤทธิ์ ภาคเรียนที่\"&ปก!AL10&\"  วิชา \"&ปก!AS15&\"   \"&\"ชั้น ม.\"&ปก!$C$21&\"/\"&ปก!$C$22&\"  หน้า 9\"","v":"คะแนนประเมินผลสัมฤทธิ์ ภาคเรียนที่2  วิชา {{โปรดกรอกรหัสวิชา}}   ชั้น ม.3/5  หน้า 9"},null,null,null,null,null,null,null,null,null,null,null,null,null,null,null,null,null,{"$f":"\"คะแนนประเมินผลสัมฤทธิ์ ภาคเรียนที่\"&ปก!AL10&\"  วิชา \"&ปก!AS15&\"   \"&\"ชั้น ม.\"&ปก!$C$21&\"/\"&ปก!$C$22&\"  หน้า 10\"","v":"คะแนนประเมินผลสัมฤทธิ์ ภาคเรียนที่2  วิชา {{โปรดกรอกรหัสวิชา}}   ชั้น ม.3/5  หน้า 10"},null,null,null,null,null,null,null,null,null,null,null,null,null,null,null,null,"ระหว่างภาค",null,null,null,null,null,"ปลายภาค",null,null,null,null,"คะแนนรวมตลอดภาคเรียน",null,"ระดับผลการเรียน(เกรด)","คะแนนย้ายเข้ากลางปี",null,"แก้ไข","หน้า 11"]
[null,null,null,null,null,null,null,null,null,null,null,null,null,null,null,null,null,null,null,null,null,null,null,null,null,{"$f":"กำหนดอัตราส่วนคะแนน!B41","v":0},null,null,null,null,null,null,null,null,null,null,null,null,null,null,null,null,null,null,null,null,null,null,{"$f":"กำหนดอัตราส่วนคะแนน!Y41","v":0},null,null,null,null,null,null,null,null,null,null,null,null,null,null,null,null,null,{"$f":"กำหนดอัตราส่วนคะแนน!BQ41","v":0},null,null,null,null,null,null,null,null,null,null,null,null,null,null,null,null,null,{"$f":"กำหนดอัตราส่วนคะแนน!CN41","v":0},null,null,null,null,null,null,null,{"$f":"กำหนดอัตราส่วนคะแนน!AH41","v":0}]
[null,null,"เลข\nประจำ\nตัว\nนักเรียน","อัตราส่วนคะแนนข้อสอบกลางของ รร.","การประเมิน",{"$f":"IF(ปก!$C$25=\"พื้นฐาน\",\"การประเมินตัวชี้วัด ก่อนระหว่างภาค\",IF(ปก!$C$25=\"เพิ่มเติม\",\"การประเมินผลการเรียนรู้ ก่อนระหว่างภาค\",IF(ปก!$C$25=\"กิจกรรม\",\"การประเมินผลการเรียนรู้ ก่อนกลางภาค\")))","v":false},null,null,null,null,null,null,null,null,null,null,null,null,null,null,null,null,null,null,null,"คะแนนรวม",null,"คะแนนเต็ม",{"$f":"IF(ปก!$C$25=\"พื้นฐาน\",\"การประเมินตัวชี้วัด หลังระหว่างภาค\",IF(ปก!$C$25=\"เพิ่มเติม\",\"การประเมินผลการเรียนรู้ หลังระหว่างภาค\",IF(ปก!$C$25=\"กิจกรรม\",\"การประเมินผลการเรียนรู้ หลังกลางภาค\")))","v":false},null,null,null,null,null,null,null,null,null,null,null,null,null,null,null,null,null,null,null,"คะแนนรวม",null,"คะแนนเต็ม","การประเมินผลระหว่างภาคเรียน(สอบระหว่างภาค)",null,null,null,null,null,null,null,null,null,null,null,null,null,null,"คะแนนรวม",null,"คะแนนเต็ม","การประเมินผลปลายภาคเรียน(สอบปลายภาคเรียน)",null,null,null,null,null,null,null,null,null,null,null,null,null,null,"คะแนนรวม",null,"คะแนนเต็ม","การอ่าน คิดวิเคราะห์ และเขียน",null,null,null,null,"คะแนนรวม","คะแนนเต็ม","ระดับคุณภาพ","คุณลักษณะอันพึงประสงค์",null,null,null,null,null,null,null,"ระดับคุณภาพ","ก่อนระหว่างภาค","หลังระหว่างภาค","สอบระหว่างภาค","สอบแก้ตัว","รวมระหว่างภาค",null,"คะแนนโรงเรียน","คะแนนสอบกลาง","รวมปลายภาค","สอบแก้ตัว",null,null,null,null,null,null,null,"สถานะ"]
[null,null,null,"100","ข้อที่",null,null,null,null,null,null,null,null,null,null,null,null,null,null,null,null,null,18,19,20,null,null,null,null,null,null,null,null,null,null,null,null,null,null,null,null,null,null,null,null,18,19,20,null,null,null,null,null,null,null,null,null,null,null,null,null,null,null,null,null,null,null,null,null,null,null,null,null,null,null,null,null,null,null,null,null,null,null,null,null,null,null,1,2,3,4,5,null,null,null,1,2,3,4,5,6,7,8,null,null,null,null,null,null,null,null,null,null,null,null,null,null,null,null,null,null,"นักเรียน"]
[null,null,null,"ชื่อ - นามสกุล","คะแนน",null,null,null,null,null,null,null,null,null,null,null,null,null,null,null,null,null,null,null,null,{"$f":"SUM(F5,G5,H5,I5,J5,K5,L5,M5,N5,O5,P5,Q5,R5,S5,T5,U5,V5,W5,X5,Y5)","v":0},{"$f":"$Z$5/$AB$5","v":0},20,null,null,null,null,null,null,null,null,null,null,null,null,null,null,null,null,null,null,null,null,{"$f":"SUM(AC5,AD5,AE5,AF5,AG5,AH5,AI5,AJ5,AK5,AL5,AM5,AN5,AO5,AP5,AQ5,AR5,AS5,AT5,AU5,AV5)","v":0},{"$f":"$AW$5/$AY$5","v":0},20,null,null,null,null,null,null,null,null,null,null,null,null,null,null,null,{"$f":"SUM(AZ5,BA5,BB5,BC5,BD5,BE5,BF5,BG5,BH5,BI5,BJ5,BK5,BL5,BM5,BN5)","v":0},{"$f":"$BO$5/$BQ$5","v":0},30,null,null,null,null,null,null,null,null,null,null,null,null,null,null,null,{"$f":"SUM(BR5,BS5,BT5,BU5,BV5,BW5,BX5,BY5,BZ5,CA5,CB5,CC5,CD5,CE5,CF5)","v":0},{"$f":"$CG$5/$CI$5","v":0},30,3,3,3,3,3,{"$f":"SUM(CJ5,CK5,CL5,CM5,CN5)","v":15},3,null,3,3,3,3,3,3,3,3,null,null,null,null,null,null,null,null,null,null,null,null,null,null,null,null,null,null,"ปัจจุบัน"]
[null,null,null,null,"เลขที่",null,null,null,null,null,null,null,null,null,null,null,null,null,null,null,null,null,null,null,null,null,null,null,null,null,null,null,null,null,null,null,null,null,null,null,null,null,null,null,null,null,null,null,null,null,null,null,null,null,null,null,null,null,null,null,null,null,null,null,null,null,null,null,null,null,null,null,null,null,null,null,null,null,null,null,null,null,null,null,null,null,null,null,null,null,null,null,null,null,null,null,null,null,null,null,null,null,null,null,{"$f":"AB5","v":20},{"$f":"AY5","v":20},{"$f":"BQ5","v":30},null,{"$f":"SUM(DA6,DB6,DC6)","v":70},null,{"$f":"IF(E1=\"60 : 40\",(40*$D$4)/100,IF(E1=\"70 : 30\",(30*$D$4)/100,IF(E1=\"80 : 20\",(20*$D$4)/100)))","v":30},{"$f":"$DI$6-$DG$6","v":0},{"$f":"IF(E1=\"60 : 40\",40,IF(E1=\"70 : 30\",30,IF(E1=\"80 : 20\",20)))","v":30},{"$f":"กำหนดอัตราส่วนคะแนน!F22","v":0},null,{"$f":"IF(DE6+DI6<>100,\"ERROR\",SUM(DE6,DI6))","v":100},null,null,100]
[1,null,{"$f":"CONCATENATE(Sheet1!B2)","v":"12886"},{"$f":"CONCATENATE(Sheet1!C2&Sheet1!D2&\"    \"&Sheet1!E2)","v":"เด็กหญิงปุญญิศา    วอทอง"},1,null,null,null,null,null,null,null,null,null,null,null,null,null,null,null,null,null,null,null,null,{"$f":"IF(Sheet1!D2=\"\",\"\",IF(COUNTIF(F7:V7,\"ร\"),\"ร\",IF(DR7=\"ปกติ\",SUM(F7,G7,H7,I7,J7,K7,L7,M7,N7,O7,P7,Q7,R7,S7,T7,U7,V7,W7,X7,Y7),\"-\")))","v":"-"},null,{"$f":"IF(Z7=\"\",\"\",IF(Z7=\"-\",\"-\",IF(Z7=\"ร\",\"ร\",IF(Z7=0,\"\",IF($Z$5=0,\"\",ROUND(Z7/$AA$5,0))))))","v":"-"},null,null,null,null,null,null,null,null,null,null,null,null,null,null,null,null,null,null,null,null,{"$f":"IF(Sheet1!D2=\"\",\"\",IF(COUNTIF(AC7:AS7,\"ร\"),\"ร\",IF(DR7=\"ปกติ\",SUM(AC7,AD7,AE7,AF7,AG7,AH7,AI7,AJ7,AK7,AL7,AM7,AN7,AO7,AP7,AQ7,AR7,AS7),\"-\")))","v":"-"},null,{"$f":"IF(AW7=\"\",\"\",IF(AW7=\"-\",\"-\",IF(AW7=\"ร\",\"ร\",IF(AW7=0,\"\",IF($AW$5=0,\"\",ROUND(AW7/$AX$5,0))))))","v":"-"},null,null,null,null,null,null,null,null,null,null,null,null,null,null,null,{"$f":"IF(Sheet1!D2=\"\",\"\",IF(COUNTIF(AZ7:BN7,\"ร\"),\"ร\",IF(DR7=\"ปกติ\",SUM(AZ7,BA7,BB7,BC7,BD7,BE7,BF7,BG7,BH7,BI7,BJ7,BK7,BL7,BM7,BN7),\"-\")))","v":"-"},null,{"$f":"IF(BO7=\"\",\"\",IF(BO7=\"-\",\"-\",IF(BO7=\"ร\",\"ร\",IF(BO7=0,\"\",IF($BO$5=0,\"\",ROUND(BO7/$BP$5,0))))))","v":"-"},null,null,null,null,null,null,null,null,null,null,null,null,null,null,null,{"$f":"IF(Sheet1!D2=\"\",\"\",IF(COUNTIF(BR7:CF7,\"ร\"),\"ร\",IF(DR7=\"ปกติ\",SUM(BR7,BS7,BT7,BU7,BV7,BW7,BX7,BY7,BZ7,CA7,CB7,CC7,CD7,CE7,CF7),\"-\")))","v":"-"},null,{"$f":"IF(CG7=\"\",\"\",IF(CG7=\"-\",\"-\",IF(CG7=\"ร\",\"ร\",IF(CG7=0,\"\",IF($CG$5=0,\"\",ROUND(CG7/$CH$5,0))))))","v":"-"},null,null,null,null,null,{"$f":"IF(Sheet1!D2=\"\",\"\",IF(CJ7=\"\",\"\",(IF(CK7=\"\",\"\",(IF(CL7=\"\",\"\",(IF(CM7=\"\",\"\",(IF(CN7=\"\",\"\",(SUM(CJ7:CN7))))))))))))","v":""},{"$f":"IF(CO7=\"\",\"\",IF(CO7=\"-\",\"-\",IF(CO7=\"ร\",\"ร\",IF(CO7=0,0,IF($CO$5=0,\"\",ROUND(CO7/5,0))))))","v":""},{"$f":"IF(CP7=\"\",\"\",(IF(CP7>=2.5,\"ดย\",(IF(CP7>=1.5,\"ด\",(IF(CP7>=0.6,\"ผ\",(IF(CP7<=0.4,\"มผ\")))))))))","v":""},null,null,null,null,null,null,null,null,{"$f":"IF(CR7=\"\",\"\",(IF(CS7=\"\",\"\",(IF(CT7=\"\",\"\",(IF(CU7=\"\",\"\",(IF(CV7=\"\",\"\",(IF(CW7=\"\",\"\",IF(CX7=\"\",\"\",(IF(CY7=\"\",\"\",(IF(COUNTIF(CR7:CY7,0)>0,\"มผ\",IF(AND(COUNTIF(CR7:CY7,3)>=5,COUNTIF(CR7:CY7,\"<2\")=0),\"ดย\",IF(OR(AND(AND(COUNTIF(CR7:CY7,3)>=1,COUNTIF(CR7:CY7,3)<=4),COUNTIF(CR7:CY7,\"<2\")=0),COUNTIF(CR7:CY7,2)=8,AND(COUNTIF(CR7:CY7,\">=2\")>=5,COUNTIF(CR7:CY7,1)>0)),\"ด\",IF(OR(COUNTIF(CR7:CY7,1)=8,AND(COUNTIF(CR7:CY7,\">=2\")>=1,COUNTIF(CR7:CY7,\">=2\")<=4)),\"ผ\",\"มผ\")))))))))))))))))))","v":""},{"$f":"AB7","v":"-"},{"$f":"AY7","v":"-"},{"$f":"BQ7","v":"-"},null,{"$f":"IF(Sheet1!D2=\"\",\"\",IF(COUNTIF(DA7:DC7,\"ร\"),\"ร\",IF(DC7=\"ร\",\"ร\",IF(DR7=\"ปกติ\",SUM(DA7:DB7,IF(DD7=\"\",DC7,DD7)),\"-\"))))","v":"-"},null,{"$f":"IF(DR7=\"\",\"\",IF(DR7=\"ปกติ\",IF(CI7=\"\",\"\",IF(CG7=\"ร\",\"ร\",(CI7*($D$4/100)))),\"\"))","v":""},null,{"$f":"IF(DG7=\"\",\"\",IF(CG7=\"ร\",\"ร\",SUM(DG7:DH7)))","v":""},null,null,{"$f":"IF(Sheet1!D2=\"\",\"\",IF(DE7=\"\",\"\",IF(COUNTIF(DA7:DJ7,\"ร\"),\"ร\",IF(COUNTIF(DA7:DJ7,\"-\"),\"-\",IF(DR7=\"ปกติ\",SUM(DE7,IF(DJ7=\"\",DI7,DJ7)))))))","v":"-"},null,{"$f":"IF(DL7=\"\",\"\",IF(DR7=\"\",\"\",IF(DR7=\"ย้าย\",\"-\",IF(DR7=\"จำหน่าย\",\"-\",IF(DR7=\"ขาดเรียนนาน\",\"-\",IF(เวลาเรียน!DY9<80,\"มส\",IF(DL7=\"ร\",\"ร\",VLOOKUP(DL7,$DT$19:$DV$26,3))))))))","v":""},null,null,null,{"$f":"IF(เวลาเรียน!DZ9=\"\",\"\",เวลาเรียน!DZ9)","v":""}]
[2,2498,{"$f":"CONCATENATE(Sheet1!B3)","v":"12896"},{"$f":"CONCATENATE(Sheet1!C3&Sheet1!D3&\"    \"&Sheet1!E3)","v":"เด็กหญิงศิริขวัญ    กุญชรินทร์"},2,null,null,null,null,null,null,null,null,null,null,null,null,null,null,null,null,null,null,null,null,{"$f":"IF(Sheet1!D3=\"\",\"\",IF(COUNTIF(F8:V8,\"ร\"),\"ร\",IF(DR8=\"ปกติ\",SUM(F8,G8,H8,I8,J8,K8,L8,M8,N8,O8,P8,Q8,R8,S8,T8,U8,V8,W8,X8,Y8),\"-\")))","v":"-"},null,{"$f":"IF(Z8=\"\",\"\",IF(Z8=\"-\",\"-\",IF(Z8=\"ร\",\"ร\",IF(Z8=0,\"\",IF($Z$5=0,\"\",ROUND(Z8/$AA$5,0))))))","v":"-"},null,null,null,null,null,null,null,null,null,null,null,null,null,null,null,null,null,null,null,null,{"$f":"IF(Sheet1!D3=\"\",\"\",IF(COUNTIF(AC8:AS8,\"ร\"),\"ร\",IF(DR8=\"ปกติ\",SUM(AC8,AD8,AE8,AF8,AG8,AH8,AI8,AJ8,AK8,AL8,AM8,AN8,AO8,AP8,AQ8,AR8,AS8),\"-\")))","v":"-"},null,{"$f":"IF(AW8=\"\",\"\",IF(AW8=\"-\",\"-\",IF(AW8=\"ร\",\"ร\",IF(AW8=0,\"\",IF($AW$5=0,\"\",ROUND(AW8/$AX$5,0))))))","v":"-"},null,null,null,null,null,null,null,null,null,null,null,null,null,null,null,{"$f":"IF(Sheet1!D3=\"\",\"\",IF(COUNTIF(AZ8:BN8,\"ร\"),\"ร\",IF(DR8=\"ปกติ\",SUM(AZ8,BA8,BB8,BC8,BD8,BE8,BF8,BG8,BH8,BI8,BJ8,BK8,BL8,BM8,BN8),\"-\")))","v":"-"},null,{"$f":"IF(BO8=\"\",\"\",IF(BO8=\"-\",\"-\",IF(BO8=\"ร\",\"ร\",IF(BO8=0,\"\",IF($BO$5=0,\"\",ROUND(BO8/$BP$5,0))))))","v":"-"},null,null,null,null,null,null,null,null,null,null,null,null,null,null,null,{"$f":"IF(Sheet1!D3=\"\",\"\",IF(COUNTIF(BR8:CF8,\"ร\"),\"ร\",IF(DR8=\"ปกติ\",SUM(BR8,BS8,BT8,BU8,BV8,BW8,BX8,BY8,BZ8,CA8,CB8,CC8,CD8,CE8,CF8),\"-\")))","v":"-"},null,{"$f":"IF(CG8=\"\",\"\",IF(CG8=\"-\",\"-\",IF(CG8=\"ร\",\"ร\",IF(CG8=0,\"\",IF($CG$5=0,\"\",ROUND(CG8/$CH$5,0))))))","v":"-"},null,null,null,null,null,{"$f":"IF(Sheet1!D3=\"\",\"\",IF(CJ8=\"\",\"\",(IF(CK8=\"\",\"\",(IF(CL8=\"\",\"\",(IF(CM8=\"\",\"\",(IF(CN8=\"\",\"\",(SUM(CJ8:CN8))))))))))))","v":""},{"$f":"IF(CO8=\"\",\"\",IF(CO8=\"-\",\"-\",IF(CO8=\"ร\",\"ร\",IF(CO8=0,0,IF($CO$5=0,\"\",ROUND(CO8/5,0))))))","v":""},{"$f":"IF(CP8=\"\",\"\",(IF(CP8>=2.5,\"ดย\",(IF(CP8>=1.5,\"ด\",(IF(CP8>=0.6,\"ผ\",(IF(CP8<=0.4,\"มผ\")))))))))","v":""},null,null,null,null,null,null,null,null,{"$f":"IF(CR8=\"\",\"\",(IF(CS8=\"\",\"\",(IF(CT8=\"\",\"\",(IF(CU8=\"\",\"\",(IF(CV8=\"\",\"\",(IF(CW8=\"\",\"\",IF(CX8=\"\",\"\",(IF(CY8=\"\",\"\",(IF(COUNTIF(CR8:CY8,0)>0,\"มผ\",IF(AND(COUNTIF(CR8:CY8,3)>=5,COUNTIF(CR8:CY8,\"<2\")=0),\"ดย\",IF(OR(AND(AND(COUNTIF(CR8:CY8,3)>=1,COUNTIF(CR8:CY8,3)<=4),COUNTIF(CR8:CY8,\"<2\")=0),COUNTIF(CR8:CY8,2)=8,AND(COUNTIF(CR8:CY8,\">=2\")>=5,COUNTIF(CR8:CY8,1)>0)),\"ด\",IF(OR(COUNTIF(CR8:CY8,1)=8,AND(COUNTIF(CR8:CY8,\">=2\")>=1,COUNTIF(CR8:CY8,\">=2\")<=4)),\"ผ\",\"มผ\")))))))))))))))))))","v":""},{"$f":"AB8","v":"-"},"-","-",null,{"$f":"IF(Sheet1!D3=\"\",\"\",IF(COUNTIF(DA8:DC8,\"ร\"),\"ร\",IF(DC8=\"ร\",\"ร\",IF(DR8=\"ปกติ\",SUM(DA8:DB8,IF(DD8=\"\",DC8,DD8)),\"-\"))))","v":"-"},null,"",null,"",null,null,{"$f":"IF(Sheet1!D3=\"\",\"\",IF(DE8=\"\",\"\",IF(COUNTIF(DA8:DJ8,\"ร\"),\"ร\",IF(COUNTIF(DA8:DJ8,\"-\"),\"-\",IF(DR8=\"ปกติ\",ROUNDDOWN(SUM(DE8,IF(DJ8=\"\",DI8,DJ8)),0))))))","v":"-"},null,{"$f":"IF(DL8=\"\",\"\",IF(DR8=\"\",\"\",IF(DR8=\"ย้าย\",\"-\",IF(DR8=\"จำหน่าย\",\"-\",IF(DR8=\"ขาดเรียนนาน\",\"-\",IF(เวลาเรียน!DY10<80,\"มส\",IF(DL8=\"ร\",\"ร\",VLOOKUP(DL8,$DT$19:$DV$26,3))))))))","v":""},null,null,null,{"$f":"IF(เวลาเรียน!DZ10=\"\",\"\",เวลาเรียน!DZ10)","v":""},null,"ช่วงคะแนน",null,"เกรด",null,4,3.5,3,2.5,2,1.5,1,0,"ร","มส"]
[3,2499,{"$f":"CONCATENATE(Sheet1!B4)","v":"12914"},{"$f":"CONCATENATE(Sheet1!C4&Sheet1!D4&\"    \"&Sheet1!E4)","v":"เด็กหญิงอรนลิน    เพชรรักษ์"},3,null,null,null,null,null,null,null,null,null,null,null,null,null,null,null,null,null,null,null,null,{"$f":"IF(Sheet1!D4=\"\",\"\",IF(COUNTIF(F9:V9,\"ร\"),\"ร\",IF(DR9=\"ปกติ\",SUM(F9,G9,H9,I9,J9,K9,L9,M9,N9,O9,P9,Q9,R9,S9,T9,U9,V9,W9,X9,Y9),\"-\")))","v":"-"},null,"-",null,null,null,null,null,null,null,null,null,null,null,null,null,null,null,null,null,null,null,null,{"$f":"IF(Sheet1!D4=\"\",\"\",IF(COUNTIF(AC9:AS9,\"ร\"),\"ร\",IF(DR9=\"ปกติ\",SUM(AC9,AD9,AE9,AF9,AG9,AH9,AI9,AJ9,AK9,AL9,AM9,AN9,AO9,AP9,AQ9,AR9,AS9),\"-\")))","v":"-"},null,"-",null,null,null,null,null,null,null,null,null,null,null,null,null,null,null,{"$f":"IF(Sheet1!D4=\"\",\"\",IF(COUNTIF(AZ9:BN9,\"ร\"),\"ร\",IF(DR9=\"ปกติ\",SUM(AZ9,BA9,BB9,BC9,BD9,BE9,BF9,BG9,BH9,BI9,BJ9,BK9,BL9,BM9,BN9),\"-\")))","v":"-"},null,"-",null,null,null,null,null,null,null,null,null,null,null,null,null,null,null,{"$f":"IF(Sheet1!D4=\"\",\"\",IF(COUNTIF(BR9:CF9,\"ร\"),\"ร\",IF(DR9=\"ปกติ\",SUM(BR9,BS9,BT9,BU9,BV9,BW9,BX9,BY9,BZ9,CA9,CB9,CC9,CD9,CE9,CF9),\"-\")))","v":"-"},null,{"$f":"IF(CG9=\"\",\"\",IF(CG9=\"-\",\"-\",IF(CG9=\"ร\",\"ร\",IF(CG9=0,\"\",IF($CG$5=0,\"\",ROUND(CG9/$CH$5,0))))))","v":"-"},null,null,null,null,null,{"$f":"IF(Sheet1!D4=\"\",\"\",IF(CJ9=\"\",\"\",(IF(CK9=\"\",\"\",(IF(CL9=\"\",\"\",(IF(CM9=\"\",\"\",(IF(CN9=\"\",\"\",(SUM(CJ9:CN9))))))))))))","v":""},"","",null,null,null,null,null,null,null,null,"","-","-","-",null,{"$f":"IF(Sheet1!D4=\"\",\"\",IF(COUNTIF(DA9:DC9,\"ร\"),\"ร\",IF(DC9=\"ร\",\"ร\",IF(DR9=\"ปกติ\",SUM(DA9:DB9,IF(DD9=\"\",DC9,DD9)),\"-\"))))","v":"-"},null,"",null,"",null,null,{"$f":"IF(Sheet1!D4=\"\",\"\",IF(DE9=\"\",\"\",IF(COUNTIF(DA9:DJ9,\"ร\"),\"ร\",IF(COUNTIF(DA9:DJ9,\"-\"),\"-\",IF(DR9=\"ปกติ\",ROUNDDOWN(SUM(DE9,IF(DJ9=\"\",DI9,DJ9)),0))))))","v":"-"},null,{"$f":"IF(DL9=\"\",\"\",IF(DR9=\"\",\"\",IF(DR9=\"ย้าย\",\"-\",IF(DR9=\"จำหน่าย\",\"-\",IF(DR9=\"ขาดเรียนนาน\",\"-\",IF(เวลาเรียน!DY11<80,\"มส\",IF(DL9=\"ร\",\"ร\",VLOOKUP(DL9,$DT$19:$DV$26,3))))))))","v":""},null,null,null,{"$f":"IF(เวลาเรียน!DZ11=\"\",\"\",เวลาเรียน!DZ11)","v":""},null,"จาก","ถึง",null,null,{"$f":"COUNTIF($DN$7:$DN$56,DX8)","v":0},{"$f":"COUNTIF($DN$7:$DN$56,DY8)","v":0},0,0,0,0,0,0,0,0]
[4,2500,{"$f":"CONCATENATE(Sheet1!B5)","v":"12920"},{"$f":"CONCATENATE(Sheet1!C5&Sheet1!D5&\"    \"&Sheet1!E5)","v":"เด็กหญิงกีรติกา    ไพฑูรย์"},4,null,null,null,null,null,null,null,null,null,null,null,null,null,null,null,null,null,null,null,null,{"$f":"IF(Sheet1!D5=\"\",\"\",IF(COUNTIF(F10:V10,\"ร\"),\"ร\",IF(DR10=\"ปกติ\",SUM(F10,G10,H10,I10,J10,K10,L10,M10,N10,O10,P10,Q10,R10,S10,T10,U10,V10,W10,X10,Y10),\"-\")))","v":"-"},null,"-",null,null,null,null,null,null,null,null,null,null,null,null,null,null,null,null,null,null,null,null,{"$f":"IF(Sheet1!D5=\"\",\"\",IF(COUNTIF(AC10:AS10,\"ร\"),\"ร\",IF(DR10=\"ปกติ\",SUM(AC10,AD10,AE10,AF10,AG10,AH10,AI10,AJ10,AK10,AL10,AM10,AN10,AO10,AP10,AQ10,AR10,AS10),\"-\")))","v":"-"},null,"-",null,null,null,null,null,null,null,null,null,null,null,null,null,null,null,{"$f":"IF(Sheet1!D5=\"\",\"\",IF(COUNTIF(AZ10:BN10,\"ร\"),\"ร\",IF(DR10=\"ปกติ\",SUM(AZ10,BA10,BB10,BC10,BD10,BE10,BF10,BG10,BH10,BI10,BJ10,BK10,BL10,BM10,BN10),\"-\")))","v":"-"},null,"-",null,null,null,null,null,null,null,null,null,null,null,null,null,null,null,{"$f":"IF(Sheet1!D5=\"\",\"\",IF(COUNTIF(BR10:CF10,\"ร\"),\"ร\",IF(DR10=\"ปกติ\",SUM(BR10,BS10,BT10,BU10,BV10,BW10,BX10,BY10,BZ10,CA10,CB10,CC10,CD10,CE10,CF10),\"-\")))","v":"-"},null,{"$f":"IF(CG10=\"\",\"\",IF(CG10=\"-\",\"-\",IF(CG10=\"ร\",\"ร\",IF(CG10=0,\"\",IF($CG$5=0,\"\",ROUND(CG10/$CH$5,0))))))","v":"-"},null,null,null,null,null,{"$f":"IF(Sheet1!D5=\"\",\"\",IF(CJ10=\"\",\"\",(IF(CK10=\"\",\"\",(IF(CL10=\"\",\"\",(IF(CM10=\"\",\"\",(IF(CN10=\"\",\"\",(SUM(CJ10:CN10))))))))))))","v":""},"","",null,null,null,null,null,null,null,null,"","-","-","-",null,{"$f":"IF(Sheet1!D5=\"\",\"\",IF(COUNTIF(DA10:DC10,\"ร\"),\"ร\",IF(DC10=\"ร\",\"ร\",IF(DR10=\"ปกติ\",SUM(DA10:DB10,IF(DD10=\"\",DC10,DD10)),\"-\"))))","v":"-"},null,"",null,"",null,null,{"$f":"IF(Sheet1!D5=\"\",\"\",IF(DE10=\"\",\"\",IF(COUNTIF(DA10:DJ10,\"ร\"),\"ร\",IF(COUNTIF(DA10:DJ10,\"-\"),\"-\",IF(DR10=\"ปกติ\",ROUNDDOWN(SUM(DE10,IF(DJ10=\"\",DI10,DJ10)),0))))))","v":"-"},null,{"$f":"IF(DL10=\"\",\"\",IF(DR10=\"\",\"\",IF(DR10=\"ย้าย\",\"-\",IF(DR10=\"จำหน่าย\",\"-\",IF(DR10=\"ขาดเรียนนาน\",\"-\",IF(เวลาเรียน!DY12<80,\"มส\",IF(DL10=\"ร\",\"ร\",VLOOKUP(DL10,$DT$19:$DV$26,3))))))))","v":""},null,null,null,{"$f":"IF(เวลาเรียน!DZ12=\"\",\"\",เวลาเรียน!DZ12)","v":""},null,0,49,0]
[5,2501,{"$f":"CONCATENATE(Sheet1!B6)","v":"12924"},{"$f":"CONCATENATE(Sheet1!C6&Sheet1!D6&\"    \"&Sheet1!E6)","v":"เด็กหญิงไปรยา    ณ นคร"},5,null,null,null,null,null,null,null,null,null,null,null,null,null,null,null,null,null,null,null,null,{"$f":"IF(Sheet1!D6=\"\",\"\",IF(COUNTIF(F11:V11,\"ร\"),\"ร\",IF(DR11=\"ปกติ\",SUM(F11,G11,H11,I11,J11,K11,L11,M11,N11,O11,P11,Q11,R11,S11,T11,U11,V11,W11,X11,Y11),\"-\")))","v":"-"},null,"-",null,null,null,null,null,null,null,null,null,null,null,null,null,null,null,null,null,null,null,null,{"$f":"IF(Sheet1!D6=\"\",\"\",IF(COUNTIF(AC11:AS11,\"ร\"),\"ร\",IF(DR11=\"ปกติ\",SUM(AC11,AD11,AE11,AF11,AG11,AH11,AI11,AJ11,AK11,AL11,AM11,AN11,AO11,AP11,AQ11,AR11,AS11),\"-\")))","v":"-"},null,"-",null,null,null,null,null,null,null,null,null,null,null,null,null,null,null,{"$f":"IF(Sheet1!D6=\"\",\"\",IF(COUNTIF(AZ11:BN11,\"ร\"),\"ร\",IF(DR11=\"ปกติ\",SUM(AZ11,BA11,BB11,BC11,BD11,BE11,BF11,BG11,BH11,BI11,BJ11,BK11,BL11,BM11,BN11),\"-\")))","v":"-"},null,"-",null,null,null,null,null,null,null,null,null,null,null,null,null,null,null,{"$f":"IF(Sheet1!D6=\"\",\"\",IF(COUNTIF(BR11:CF11,\"ร\"),\"ร\",IF(DR11=\"ปกติ\",SUM(BR11,BS11,BT11,BU11,BV11,BW11,BX11,BY11,BZ11,CA11,CB11,CC11,CD11,CE11,CF11),\"-\")))","v":"-"},null,"-",null,null,null,null,null,{"$f":"IF(Sheet1!D6=\"\",\"\",IF(CJ11=\"\",\"\",(IF(CK11=\"\",\"\",(IF(CL11=\"\",\"\",(IF(CM11=\"\",\"\",(IF(CN11=\"\",\"\",(SUM(CJ11:CN11))))))))))))","v":""},"","",null,null,null,null,null,null,null,null,"","-","-","-",null,{"$f":"IF(Sheet1!D6=\"\",\"\",IF(COUNTIF(DA11:DC11,\"ร\"),\"ร\",IF(DC11=\"ร\",\"ร\",IF(DR11=\"ปกติ\",SUM(DA11:DB11,IF(DD11=\"\",DC11,DD11)),\"-\"))))","v":"-"},null,"",null,"",null,null,{"$f":"IF(Sheet1!D6=\"\",\"\",IF(DE11=\"\",\"\",IF(COUNTIF(DA11:DJ11,\"ร\"),\"ร\",IF(COUNTIF(DA11:DJ11,\"-\"),\"-\",IF(DR11=\"ปกติ\",ROUNDDOWN(SUM(DE11,IF(DJ11=\"\",DI11,DJ11)),0))))))","v":"-"},null,{"$f":"IF(DL11=\"\",\"\",IF(DR11=\"\",\"\",IF(DR11=\"ย้าย\",\"-\",IF(DR11=\"จำหน่าย\",\"-\",IF(DR11=\"ขาดเรียนนาน\",\"-\",IF(เวลาเรียน!DY13<80,\"มส\",IF(DL11=\"ร\",\"ร\",VLOOKUP(DL11,$DT$19:$DV$26,3))))))))","v":""},null,null,null,{"$f":"IF(เวลาเรียน!DZ13=\"\",\"\",เวลาเรียน!DZ13)","v":""},null,50,54,1]
[6,2502,{"$f":"CONCATENATE(Sheet1!B7)","v":"12926"},{"$f":"CONCATENATE(Sheet1!C7&Sheet1!D7&\"    \"&Sheet1!E7)","v":"เด็กหญิงกวินธิดา    ขาวอรุณ"},6,null,null,null,null,null,null,null,null,null,null,null,null,null,null,null,null,null,null,null,null,{"$f":"IF(Sheet1!D7=\"\",\"\",IF(COUNTIF(F12:V12,\"ร\"),\"ร\",IF(DR12=\"ปกติ\",SUM(F12,G12,H12,I12,J12,K12,L12,M12,N12,O12,P12,Q12,R12,S12,T12,U12,V12,W12,X12,Y12),\"-\")))","v":"-"},null,"-",null,null,null,null,null,null,null,null,null,null,null,null,null,null,null,null,null,null,null,null,{"$f":"IF(Sheet1!D7=\"\",\"\",IF(COUNTIF(AC12:AS12,\"ร\"),\"ร\",IF(DR12=\"ปกติ\",SUM(AC12,AD12,AE12,AF12,AG12,AH12,AI12,AJ12,AK12,AL12,AM12,AN12,AO12,AP12,AQ12,AR12,AS12),\"-\")))","v":"-"},null,"-",null,null,null,null,null,null,null,null,null,null,null,null,null,null,null,{"$f":"IF(Sheet1!D7=\"\",\"\",IF(COUNTIF(AZ12:BN12,\"ร\"),\"ร\",IF(DR12=\"ปกติ\",SUM(AZ12,BA12,BB12,BC12,BD12,BE12,BF12,BG12,BH12,BI12,BJ12,BK12,BL12,BM12,BN12),\"-\")))","v":"-"},null,"-",null,null,null,null,null,null,null,null,null,null,null,null,null,null,null,{"$f":"IF(Sheet1!D7=\"\",\"\",IF(COUNTIF(BR12:CF12,\"ร\"),\"ร\",IF(DR12=\"ปกติ\",SUM(BR12,BS12,BT12,BU12,BV12,BW12,BX12,BY12,BZ12,CA12,CB12,CC12,CD12,CE12,CF12),\"-\")))","v":"-"},null,"-",null,null,null,null,null,{"$f":"IF(Sheet1!D7=\"\",\"\",IF(CJ12=\"\",\"\",(IF(CK12=\"\",\"\",(IF(CL12=\"\",\"\",(IF(CM12=\"\",\"\",(IF(CN12=\"\",\"\",(SUM(CJ12:CN12))))))))))))","v":""},"","",null,null,null,null,null,null,null,null,"","-","-","-",null,{"$f":"IF(Sheet1!D7=\"\",\"\",IF(COUNTIF(DA12:DC12,\"ร\"),\"ร\",IF(DC12=\"ร\",\"ร\",IF(DR12=\"ปกติ\",SUM(DA12:DB12,IF(DD12=\"\",DC12,DD12)),\"-\"))))","v":"-"},null,"",null,"",null,null,{"$f":"IF(Sheet1!D7=\"\",\"\",IF(DE12=\"\",\"\",IF(COUNTIF(DA12:DJ12,\"ร\"),\"ร\",IF(COUNTIF(DA12:DJ12,\"-\"),\"-\",IF(DR12=\"ปกติ\",ROUNDDOWN(SUM(DE12,IF(DJ12=\"\",DI12,DJ12)),0))))))","v":"-"},null,{"$f":"IF(DL12=\"\",\"\",IF(DR12=\"\",\"\",IF(DR12=\"ย้าย\",\"-\",IF(DR12=\"จำหน่าย\",\"-\",IF(DR12=\"ขาดเรียนนาน\",\"-\",IF(เวลาเรียน!DY14<80,\"มส\",IF(DL12=\"ร\",\"ร\",VLOOKUP(DL12,$DT$19:$DV$26,3))))))))","v":""},null,null,null,{"$f":"IF(เวลาเรียน!DZ14=\"\",\"\",เวลาเรียน!DZ14)","v":""},null,55,59,1.5]
[7,2503,{"$f":"CONCATENATE(Sheet1!B8)","v":"12938"},{"$f":"CONCATENATE(Sheet1!C8&Sheet1!D8&\"    \"&Sheet1!E8)","v":"เด็กชายอภิสิทธิ์    บัวทอง"},7,null,null,null,null,null,null,null,null,null,null,null,null,null,null,null,null,null,null,null,null,{"$f":"IF(Sheet1!D8=\"\",\"\",IF(COUNTIF(F13:V13,\"ร\"),\"ร\",IF(DR13=\"ปกติ\",SUM(F13,G13,H13,I13,J13,K13,L13,M13,N13,O13,P13,Q13,R13,S13,T13,U13,V13,W13,X13,Y13),\"-\")))","v":"-"},null,"-",null,null,null,null,null,null,null,null,null,null,null,null,null,null,null,null,null,null,null,null,{"$f":"IF(Sheet1!D8=\"\",\"\",IF(COUNTIF(AC13:AS13,\"ร\"),\"ร\",IF(DR13=\"ปกติ\",SUM(AC13,AD13,AE13,AF13,AG13,AH13,AI13,AJ13,AK13,AL13,AM13,AN13,AO13,AP13,AQ13,AR13,AS13),\"-\")))","v":"-"},null,"-",null,null,null,null,null,null,null,null,null,null,null,null,null,null,null,{"$f":"IF(Sheet1!D8=\"\",\"\",IF(COUNTIF(AZ13:BN13,\"ร\"),\"ร\",IF(DR13=\"ปกติ\",SUM(AZ13,BA13,BB13,BC13,BD13,BE13,BF13,BG13,BH13,BI13,BJ13,BK13,BL13,BM13,BN13),\"-\")))","v":"-"},null,"-",null,null,null,null,null,null,null,null,null,null,null,null,null,null,null,{"$f":"IF(Sheet1!D8=\"\",\"\",IF(COUNTIF(BR13:CF13,\"ร\"),\"ร\",IF(DR13=\"ปกติ\",SUM(BR13,BS13,BT13,BU13,BV13,BW13,BX13,BY13,BZ13,CA13,CB13,CC13,CD13,CE13,CF13),\"-\")))","v":"-"},null,"-",null,null,null,null,null,{"$f":"IF(Sheet1!D8=\"\",\"\",IF(CJ13=\"\",\"\",(IF(CK13=\"\",\"\",(IF(CL13=\"\",\"\",(IF(CM13=\"\",\"\",(IF(CN13=\"\",\"\",(SUM(CJ13:CN13))))))))))))","v":""},"","",null,null,null,null,null,null,null,null,"","-","-","-",null,{"$f":"IF(Sheet1!D8=\"\",\"\",IF(COUNTIF(DA13:DC13,\"ร\"),\"ร\",IF(DC13=\"ร\",\"ร\",IF(DR13=\"ปกติ\",SUM(DA13:DB13,IF(DD13=\"\",DC13,DD13)),\"-\"))))","v":"-"},null,"",null,"",null,null,{"$f":"IF(Sheet1!D8=\"\",\"\",IF(DE13=\"\",\"\",IF(COUNTIF(DA13:DJ13,\"ร\"),\"ร\",IF(COUNTIF(DA13:DJ13,\"-\"),\"-\",IF(DR13=\"ปกติ\",ROUNDDOWN(SUM(DE13,IF(DJ13=\"\",DI13,DJ13)),0))))))","v":"-"},null,{"$f":"IF(DL13=\"\",\"\",IF(DR13=\"\",\"\",IF(DR13=\"ย้าย\",\"-\",IF(DR13=\"จำหน่าย\",\"-\",IF(DR13=\"ขาดเรียนนาน\",\"-\",IF(เวลาเรียน!DY15<80,\"มส\",IF(DL13=\"ร\",\"ร\",VLOOKUP(DL13,$DT$19:$DV$26,3))))))))","v":""},null,null,null,{"$f":"IF(เวลาเรียน!DZ15=\"\",\"\",เวลาเรียน!DZ15)","v":""},null,60,64,2]
[8,2504,{"$f":"CONCATENATE(Sheet1!B9)","v":"12942"},{"$f":"CONCATENATE(Sheet1!C9&Sheet1!D9&\"    \"&Sheet1!E9)","v":"เด็กหญิงวริสรา    ราชวงษ์"},8,null,null,null,null,null,null,null,null,null,null,null,null,null,null,null,null,null,null,null,null,{"$f":"IF(Sheet1!D9=\"\",\"\",IF(COUNTIF(F14:V14,\"ร\"),\"ร\",IF(DR14=\"ปกติ\",SUM(F14,G14,H14,I14,J14,K14,L14,M14,N14,O14,P14,Q14,R14,S14,T14,U14,V14,W14,X14,Y14),\"-\")))","v":"-"},null,"-",null,null,null,null,null,null,null,null,null,null,null,null,null,null,null,null,null,null,null,null,{"$f":"IF(Sheet1!D9=\"\",\"\",IF(COUNTIF(AC14:AS14,\"ร\"),\"ร\",IF(DR14=\"ปกติ\",SUM(AC14,AD14,AE14,AF14,AG14,AH14,AI14,AJ14,AK14,AL14,AM14,AN14,AO14,AP14,AQ14,AR14,AS14),\"-\")))","v":"-"},null,"-",null,null,null,null,null,null,null,null,null,null,null,null,null,null,null,{"$f":"IF(Sheet1!D9=\"\",\"\",IF(COUNTIF(AZ14:BN14,\"ร\"),\"ร\",IF(DR14=\"ปกติ\",SUM(AZ14,BA14,BB14,BC14,BD14,BE14,BF14,BG14,BH14,BI14,BJ14,BK14,BL14,BM14,BN14),\"-\")))","v":"-"},null,"-",null,null,null,null,null,null,null,null,null,null,null,null,null,null,null,{"$f":"IF(Sheet1!D9=\"\",\"\",IF(COUNTIF(BR14:CF14,\"ร\"),\"ร\",IF(DR14=\"ปกติ\",SUM(BR14,BS14,BT14,BU14,BV14,BW14,BX14,BY14,BZ14,CA14,CB14,CC14,CD14,CE14,CF14),\"-\")))","v":"-"},null,"-",null,null,null,null,null,{"$f":"IF(Sheet1!D9=\"\",\"\",IF(CJ14=\"\",\"\",(IF(CK14=\"\",\"\",(IF(CL14=\"\",\"\",(IF(CM14=\"\",\"\",(IF(CN14=\"\",\"\",(SUM(CJ14:CN14))))))))))))","v":""},"","",null,null,null,null,null,null,null,null,"","-","-","-",null,{"$f":"IF(Sheet1!D9=\"\",\"\",IF(COUNTIF(DA14:DC14,\"ร\"),\"ร\",IF(DC14=\"ร\",\"ร\",IF(DR14=\"ปกติ\",SUM(DA14:DB14,IF(DD14=\"\",DC14,DD14)),\"-\"))))","v":"-"},null,"",null,"",null,null,{"$f":"IF(Sheet1!D9=\"\",\"\",IF(DE14=\"\",\"\",IF(COUNTIF(DA14:DJ14,\"ร\"),\"ร\",IF(COUNTIF(DA14:DJ14,\"-\"),\"-\",IF(DR14=\"ปกติ\",ROUNDDOWN(SUM(DE14,IF(DJ14=\"\",DI14,DJ14)),0))))))","v":"-"},null,{"$f":"IF(DL14=\"\",\"\",IF(DR14=\"\",\"\",IF(DR14=\"ย้าย\",\"-\",IF(DR14=\"จำหน่าย\",\"-\",IF(DR14=\"ขาดเรียนนาน\",\"-\",IF(เวลาเรียน!DY16<80,\"มส\",IF(DL14=\"ร\",\"ร\",VLOOKUP(DL14,$DT$19:$DV$26,3))))))))","v":""},null,null,null,{"$f":"IF(เวลาเรียน!DZ16=\"\",\"\",เวลาเรียน!DZ16)","v":""},null,65,69,2.5]
[9,2505,{"$f":"CONCATENATE(Sheet1!B10)","v":"14067"},{"$f":"CONCATENATE(Sheet1!C10&Sheet1!D10&\"    \"&Sheet1!E10)","v":"เด็กชายเมธัส    นุชพานิช"},9,null,null,null,null,null,null,null,null,null,null,null,null,null,null,null,null,null,null,null,null,{"$f":"IF(Sheet1!D10=\"\",\"\",IF(COUNTIF(F15:V15,\"ร\"),\"ร\",IF(DR15=\"ปกติ\",SUM(F15,G15,H15,I15,J15,K15,L15,M15,N15,O15,P15,Q15,R15,S15,T15,U15,V15,W15,X15,Y15),\"-\")))","v":"-"},null,"-",null,null,null,null,null,null,null,null,null,null,null,null,null,null,null,null,null,null,null,null,{"$f":"IF(Sheet1!D10=\"\",\"\",IF(COUNTIF(AC15:AS15,\"ร\"),\"ร\",IF(DR15=\"ปกติ\",SUM(AC15,AD15,AE15,AF15,AG15,AH15,AI15,AJ15,AK15,AL15,AM15,AN15,AO15,AP15,AQ15,AR15,AS15),\"-\")))","v":"-"},null,"-",null,null,null,null,null,null,null,null,null,null,null,null,null,null,null,{"$f":"IF(Sheet1!D10=\"\",\"\",IF(COUNTIF(AZ15:BN15,\"ร\"),\"ร\",IF(DR15=\"ปกติ\",SUM(AZ15,BA15,BB15,BC15,BD15,BE15,BF15,BG15,BH15,BI15,BJ15,BK15,BL15,BM15,BN15),\"-\")))","v":"-"},null,"-",null,null,null,null,null,null,null,null,null,null,null,null,null,null,null,{"$f":"IF(Sheet1!D10=\"\",\"\",IF(COUNTIF(BR15:CF15,\"ร\"),\"ร\",IF(DR15=\"ปกติ\",SUM(BR15,BS15,BT15,BU15,BV15,BW15,BX15,BY15,BZ15,CA15,CB15,CC15,CD15,CE15,CF15),\"-\")))","v":"-"},null,"-",null,null,null,null,null,{"$f":"IF(Sheet1!D10=\"\",\"\",IF(CJ15=\"\",\"\",(IF(CK15=\"\",\"\",(IF(CL15=\"\",\"\",(IF(CM15=\"\",\"\",(IF(CN15=\"\",\"\",(SUM(CJ15:CN15))))))))))))","v":""},"","",null,null,null,null,null,null,null,null,"","-","-","-",null,{"$f":"IF(Sheet1!D10=\"\",\"\",IF(COUNTIF(DA15:DC15,\"ร\"),\"ร\",IF(DC15=\"ร\",\"ร\",IF(DR15=\"ปกติ\",SUM(DA15:DB15,IF(DD15=\"\",DC15,DD15)),\"-\"))))","v":"-"},null,"",null,"",null,null,{"$f":"IF(Sheet1!D10=\"\",\"\",IF(DE15=\"\",\"\",IF(COUNTIF(DA15:DJ15,\"ร\"),\"ร\",IF(COUNTIF(DA15:DJ15,\"-\"),\"-\",IF(DR15=\"ปกติ\",ROUNDDOWN(SUM(DE15,IF(DJ15=\"\",DI15,DJ15)),0))))))","v":"-"},null,{"$f":"IF(DL15=\"\",\"\",IF(DR15=\"\",\"\",IF(DR15=\"ย้าย\",\"-\",IF(DR15=\"จำหน่าย\",\"-\",IF(DR15=\"ขาดเรียนนาน\",\"-\",IF(เวลาเรียน!DY17<80,\"มส\",IF(DL15=\"ร\",\"ร\",VLOOKUP(DL15,$DT$19:$DV$26,3))))))))","v":""},null,null,null,{"$f":"IF(เวลาเรียน!DZ17=\"\",\"\",เวลาเรียน!DZ17)","v":""},null,70,74,3]
[10,2506,{"$f":"CONCATENATE(Sheet1!B11)","v":"14070"},{"$f":"CONCATENATE(Sheet1!C11&Sheet1!D11&\"    \"&Sheet1!E11)","v":"เด็กชายสรายุทธ    หนูชัยแก้ว"},10,null,null,null,null,null,null,null,null,null,null,null,null,null,null,null,null,null,null,null,null,{"$f":"IF(Sheet1!D11=\"\",\"\",IF(COUNTIF(F16:V16,\"ร\"),\"ร\",IF(DR16=\"ปกติ\",SUM(F16,G16,H16,I16,J16,K16,L16,M16,N16,O16,P16,Q16,R16,S16,T16,U16,V16,W16,X16,Y16),\"-\")))","v":"-"},null,"-",null,null,null,null,null,null,null,null,null,null,null,null,null,null,null,null,null,null,null,null,{"$f":"IF(Sheet1!D11=\"\",\"\",IF(COUNTIF(AC16:AS16,\"ร\"),\"ร\",IF(DR16=\"ปกติ\",SUM(AC16,AD16,AE16,AF16,AG16,AH16,AI16,AJ16,AK16,AL16,AM16,AN16,AO16,AP16,AQ16,AR16,AS16),\"-\")))","v":"-"},null,"-",null,null,null,null,null,null,null,null,null,null,null,null,null,null,null,{"$f":"IF(Sheet1!D11=\"\",\"\",IF(COUNTIF(AZ16:BN16,\"ร\"),\"ร\",IF(DR16=\"ปกติ\",SUM(AZ16,BA16,BB16,BC16,BD16,BE16,BF16,BG16,BH16,BI16,BJ16,BK16,BL16,BM16,BN16),\"-\")))","v":"-"},null,"-",null,null,null,null,null,null,null,null,null,null,null,null,null,null,null,{"$f":"IF(Sheet1!D11=\"\",\"\",IF(COUNTIF(BR16:CF16,\"ร\"),\"ร\",IF(DR16=\"ปกติ\",SUM(BR16,BS16,BT16,BU16,BV16,BW16,BX16,BY16,BZ16,CA16,CB16,CC16,CD16,CE16,CF16),\"-\")))","v":"-"},null,"-",null,null,null,null,null,{"$f":"IF(Sheet1!D11=\"\",\"\",IF(CJ16=\"\",\"\",(IF(CK16=\"\",\"\",(IF(CL16=\"\",\"\",(IF(CM16=\"\",\"\",(IF(CN16=\"\",\"\",(SUM(CJ16:CN16))))))))))))","v":""},"","",null,null,null,null,null,null,null,null,"","-","-","-",null,{"$f":"IF(Sheet1!D11=\"\",\"\",IF(COUNTIF(DA16:DC16,\"ร\"),\"ร\",IF(DC16=\"ร\",\"ร\",IF(DR16=\"ปกติ\",SUM(DA16:DB16,IF(DD16=\"\",DC16,DD16)),\"-\"))))","v":"-"},null,"",null,"",null,null,{"$f":"IF(Sheet1!D11=\"\",\"\",IF(DE16=\"\",\"\",IF(COUNTIF(DA16:DJ16,\"ร\"),\"ร\",IF(COUNTIF(DA16:DJ16,\"-\"),\"-\",IF(DR16=\"ปกติ\",ROUNDDOWN(SUM(DE16,IF(DJ16=\"\",DI16,DJ16)),0))))))","v":"-"},null,{"$f":"IF(DL16=\"\",\"\",IF(DR16=\"\",\"\",IF(DR16=\"ย้าย\",\"-\",IF(DR16=\"จำหน่าย\",\"-\",IF(DR16=\"ขาดเรียนนาน\",\"-\",IF(เวลาเรียน!DY18<80,\"มส\",IF(DL16=\"ร\",\"ร\",VLOOKUP(DL16,$DT$19:$DV$26,3))))))))","v":""},null,null,null,{"$f":"IF(เวลาเรียน!DZ18=\"\",\"\",เวลาเรียน!DZ18)","v":""},null,75,79,3.5]
[11,2507,{"$f":"CONCATENATE(Sheet1!B12)","v":"14073"},{"$f":"CONCATENATE(Sheet1!C12&Sheet1!D12&\"    \"&Sheet1!E12)","v":"เด็กหญิงอัยลดา    รักอรุณ"},11,null,null,null,null,null,null,null,null,null,null,null,null,null,null,null,null,null,null,null,null,{"$f":"IF(Sheet1!D12=\"\",\"\",IF(COUNTIF(F17:V17,\"ร\"),\"ร\",IF(DR17=\"ปกติ\",SUM(F17,G17,H17,I17,J17,K17,L17,M17,N17,O17,P17,Q17,R17,S17,T17,U17,V17,W17,X17,Y17),\"-\")))","v":"-"},null,"-",null,null,null,null,null,null,null,null,null,null,null,null,null,null,null,null,null,null,null,null,{"$f":"IF(Sheet1!D12=\"\",\"\",IF(COUNTIF(AC17:AS17,\"ร\"),\"ร\",IF(DR17=\"ปกติ\",SUM(AC17,AD17,AE17,AF17,AG17,AH17,AI17,AJ17,AK17,AL17,AM17,AN17,AO17,AP17,AQ17,AR17,AS17),\"-\")))","v":"-"},null,"-",null,null,null,null,null,null,null,null,null,null,null,null,null,null,null,{"$f":"IF(Sheet1!D12=\"\",\"\",IF(COUNTIF(AZ17:BN17,\"ร\"),\"ร\",IF(DR17=\"ปกติ\",SUM(AZ17,BA17,BB17,BC17,BD17,BE17,BF17,BG17,BH17,BI17,BJ17,BK17,BL17,BM17,BN17),\"-\")))","v":"-"},null,"-",null,null,null,null,null,null,null,null,null,null,null,null,null,null,null,{"$f":"IF(Sheet1!D12=\"\",\"\",IF(COUNTIF(BR17:CF17,\"ร\"),\"ร\",IF(DR17=\"ปกติ\",SUM(BR17,BS17,BT17,BU17,BV17,BW17,BX17,BY17,BZ17,CA17,CB17,CC17,CD17,CE17,CF17),\"-\")))","v":"-"},null,"-",null,null,null,null,null,{"$f":"IF(Sheet1!D12=\"\",\"\",IF(CJ17=\"\",\"\",(IF(CK17=\"\",\"\",(IF(CL17=\"\",\"\",(IF(CM17=\"\",\"\",(IF(CN17=\"\",\"\",(SUM(CJ17:CN17))))))))))))","v":""},"","",null,null,null,null,null,null,null,null,"","-","-","-",null,{"$f":"IF(Sheet1!D12=\"\",\"\",IF(COUNTIF(DA17:DC17,\"ร\"),\"ร\",IF(DC17=\"ร\",\"ร\",IF(DR17=\"ปกติ\",SUM(DA17:DB17,IF(DD17=\"\",DC17,DD17)),\"-\"))))","v":"-"},null,"",null,"",null,null,{"$f":"IF(Sheet1!D12=\"\",\"\",IF(DE17=\"\",\"\",IF(COUNTIF(DA17:DJ17,\"ร\"),\"ร\",IF(COUNTIF(DA17:DJ17,\"-\"),\"-\",IF(DR17=\"ปกติ\",ROUNDDOWN(SUM(DE17,IF(DJ17=\"\",DI17,DJ17)),0))))))","v":"-"},null,{"$f":"IF(DL17=\"\",\"\",IF(DR17=\"\",\"\",IF(DR17=\"ย้าย\",\"-\",IF(DR17=\"จำหน่าย\",\"-\",IF(DR17=\"ขาดเรียนนาน\",\"-\",IF(เวลาเรียน!DY19<80,\"มส\",IF(DL17=\"ร\",\"ร\",VLOOKUP(DL17,$DT$19:$DV$26,3))))))))","v":""},null,null,null,{"$f":"IF(เวลาเรียน!DZ19=\"\",\"\",เวลาเรียน!DZ19)","v":""},null,80,100,4]
[12,2508,{"$f":"CONCATENATE(Sheet1!B13)","v":"14090"},{"$f":"CONCATENATE(Sheet1!C13&Sheet1!D13&\"    \"&Sheet1!E13)","v":"เด็กชายสิงหา    วงศ์ศราวิทย์"},12,null,null,null,null,null,null,null,null,null,null,null,null,null,null,null,null,null,null,null,null,{"$f":"IF(Sheet1!D13=\"\",\"\",IF(COUNTIF(F18:V18,\"ร\"),\"ร\",IF(DR18=\"ปกติ\",SUM(F18,G18,H18,I18,J18,K18,L18,M18,N18,O18,P18,Q18,R18,S18,T18,U18,V18,W18,X18,Y18),\"-\")))","v":"-"},null,"-",null,null,null,null,null,null,null,null,null,null,null,null,null,null,null,null,null,null,null,null,{"$f":"IF(Sheet1!D13=\"\",\"\",IF(COUNTIF(AC18:AS18,\"ร\"),\"ร\",IF(DR18=\"ปกติ\",SUM(AC18,AD18,AE18,AF18,AG18,AH18,AI18,AJ18,AK18,AL18,AM18,AN18,AO18,AP18,AQ18,AR18,AS18),\"-\")))","v":"-"},null,"-",null,null,null,null,null,null,null,null,null,null,null,null,null,null,null,{"$f":"IF(Sheet1!D13=\"\",\"\",IF(COUNTIF(AZ18:BN18,\"ร\"),\"ร\",IF(DR18=\"ปกติ\",SUM(AZ18,BA18,BB18,BC18,BD18,BE18,BF18,BG18,BH18,BI18,BJ18,BK18,BL18,BM18,BN18),\"-\")))","v":"-"},null,"-",null,null,null,null,null,null,null,null,null,null,null,null,null,null,null,{"$f":"IF(Sheet1!D13=\"\",\"\",IF(COUNTIF(BR18:CF18,\"ร\"),\"ร\",IF(DR18=\"ปกติ\",SUM(BR18,BS18,BT18,BU18,BV18,BW18,BX18,BY18,BZ18,CA18,CB18,CC18,CD18,CE18,CF18),\"-\")))","v":"-"},null,"-",null,null,null,null,null,{"$f":"IF(Sheet1!D13=\"\",\"\",IF(CJ18=\"\",\"\",(IF(CK18=\"\",\"\",(IF(CL18=\"\",\"\",(IF(CM18=\"\",\"\",(IF(CN18=\"\",\"\",(SUM(CJ18:CN18))))))))))))","v":""},"","",null,null,null,null,null,null,null,null,"","-","-","-",null,{"$f":"IF(Sheet1!D13=\"\",\"\",IF(COUNTIF(DA18:DC18,\"ร\"),\"ร\",IF(DC18=\"ร\",\"ร\",IF(DR18=\"ปกติ\",SUM(DA18:DB18,IF(DD18=\"\",DC18,DD18)),\"-\"))))","v":"-"},null,"",null,"",null,null,{"$f":"IF(Sheet1!D13=\"\",\"\",IF(DE18=\"\",\"\",IF(COUNTIF(DA18:DJ18,\"ร\"),\"ร\",IF(COUNTIF(DA18:DJ18,\"-\"),\"-\",IF(DR18=\"ปกติ\",ROUNDDOWN(SUM(DE18,IF(DJ18=\"\",DI18,DJ18)),0))))))","v":"-"},null,{"$f":"IF(DL18=\"\",\"\",IF(DR18=\"\",\"\",IF(DR18=\"ย้าย\",\"-\",IF(DR18=\"จำหน่าย\",\"-\",IF(DR18=\"ขาดเรียนนาน\",\"-\",IF(เวลาเรียน!DY20<80,\"มส\",IF(DL18=\"ร\",\"ร\",VLOOKUP(DL18,$DT$19:$DV$26,3))))))))","v":""},null,null,null,{"$f":"IF(เวลาเรียน!DZ20=\"\",\"\",เวลาเรียน!DZ20)","v":""}]
[13,2509,{"$f":"CONCATENATE(Sheet1!B14)","v":"14096"},{"$f":"CONCATENATE(Sheet1!C14&Sheet1!D14&\"    \"&Sheet1!E14)","v":"เด็กชายอภิชัย    วิลาศลักษณ์"},13,null,null,null,null,null,null,null,null,null,null,null,null,null,null,null,null,null,null,null,null,{"$f":"IF(Sheet1!D14=\"\",\"\",IF(COUNTIF(F19:V19,\"ร\"),\"ร\",IF(DR19=\"ปกติ\",SUM(F19,G19,H19,I19,J19,K19,L19,M19,N19,O19,P19,Q19,R19,S19,T19,U19,V19,W19,X19,Y19),\"-\")))","v":"-"},null,"-",null,null,null,null,null,null,null,null,null,null,null,null,null,null,null,null,null,null,null,null,{"$f":"IF(Sheet1!D14=\"\",\"\",IF(COUNTIF(AC19:AS19,\"ร\"),\"ร\",IF(DR19=\"ปกติ\",SUM(AC19,AD19,AE19,AF19,AG19,AH19,AI19,AJ19,AK19,AL19,AM19,AN19,AO19,AP19,AQ19,AR19,AS19),\"-\")))","v":"-"},null,"-",null,null,null,null,null,null,null,null,null,null,null,null,null,null,null,{"$f":"IF(Sheet1!D14=\"\",\"\",IF(COUNTIF(AZ19:BN19,\"ร\"),\"ร\",IF(DR19=\"ปกติ\",SUM(AZ19,BA19,BB19,BC19,BD19,BE19,BF19,BG19,BH19,BI19,BJ19,BK19,BL19,BM19,BN19),\"-\")))","v":"-"},null,"-",null,null,null,null,null,null,null,null,null,null,null,null,null,null,null,{"$f":"IF(Sheet1!D14=\"\",\"\",IF(COUNTIF(BR19:CF19,\"ร\"),\"ร\",IF(DR19=\"ปกติ\",SUM(BR19,BS19,BT19,BU19,BV19,BW19,BX19,BY19,BZ19,CA19,CB19,CC19,CD19,CE19,CF19),\"-\")))","v":"-"},null,"-",null,null,null,null,null,{"$f":"IF(Sheet1!D14=\"\",\"\",IF(CJ19=\"\",\"\",(IF(CK19=\"\",\"\",(IF(CL19=\"\",\"\",(IF(CM19=\"\",\"\",(IF(CN19=\"\",\"\",(SUM(CJ19:CN19))))))))))))","v":""},"","",null,null,null,null,null,null,null,null,"","-","-","-",null,{"$f":"IF(Sheet1!D14=\"\",\"\",IF(COUNTIF(DA19:DC19,\"ร\"),\"ร\",IF(DC19=\"ร\",\"ร\",IF(DR19=\"ปกติ\",SUM(DA19:DB19,IF(DD19=\"\",DC19,DD19)),\"-\"))))","v":"-"},null,"",null,"",null,null,{"$f":"IF(Sheet1!D14=\"\",\"\",IF(DE19=\"\",\"\",IF(COUNTIF(DA19:DJ19,\"ร\"),\"ร\",IF(COUNTIF(DA19:DJ19,\"-\"),\"-\",IF(DR19=\"ปกติ\",ROUNDDOWN(SUM(DE19,IF(DJ19=\"\",DI19,DJ19)),0))))))","v":"-"},null,{"$f":"IF(DL19=\"\",\"\",IF(DR19=\"\",\"\",IF(DR19=\"ย้าย\",\"-\",IF(DR19=\"จำหน่าย\",\"-\",IF(DR19=\"ขาดเรียนนาน\",\"-\",IF(เวลาเรียน!DY21<80,\"มส\",IF(DL19=\"ร\",\"ร\",VLOOKUP(DL19,$DT$19:$DV$26,3))))))))","v":""},null,null,null,{"$f":"IF(เวลาเรียน!DZ21=\"\",\"\",เวลาเรียน!DZ21)","v":""},null,0,49.9,0]
[14,2510,{"$f":"CONCATENATE(Sheet1!B15)","v":"14099"},{"$f":"CONCATENATE(Sheet1!C15&Sheet1!D15&\"    \"&Sheet1!E15)","v":"เด็กชายภูมิพัฒน์    โกสิยพันธ์"},14,null,null,null,null,null,null,null,null,null,null,null,null,null,null,null,null,null,null,null,null,{"$f":"IF(Sheet1!D15=\"\",\"\",IF(COUNTIF(F20:V20,\"ร\"),\"ร\",IF(DR20=\"ปกติ\",SUM(F20,G20,H20,I20,J20,K20,L20,M20,N20,O20,P20,Q20,R20,S20,T20,U20,V20,W20,X20,Y20),\"-\")))","v":"-"},null,"-",null,null,null,null,null,null,null,null,null,null,null,null,null,null,null,null,null,null,null,null,{"$f":"IF(Sheet1!D15=\"\",\"\",IF(COUNTIF(AC20:AS20,\"ร\"),\"ร\",IF(DR20=\"ปกติ\",SUM(AC20,AD20,AE20,AF20,AG20,AH20,AI20,AJ20,AK20,AL20,AM20,AN20,AO20,AP20,AQ20,AR20,AS20),\"-\")))","v":"-"},null,"-",null,null,null,null,null,null,null,null,null,null,null,null,null,null,null,{"$f":"IF(Sheet1!D15=\"\",\"\",IF(COUNTIF(AZ20:BN20,\"ร\"),\"ร\",IF(DR20=\"ปกติ\",SUM(AZ20,BA20,BB20,BC20,BD20,BE20,BF20,BG20,BH20,BI20,BJ20,BK20,BL20,BM20,BN20),\"-\")))","v":"-"},null,"-",null,null,null,null,null,null,null,null,null,null,null,null,null,null,null,{"$f":"IF(Sheet1!D15=\"\",\"\",IF(COUNTIF(BR20:CF20,\"ร\"),\"ร\",IF(DR20=\"ปกติ\",SUM(BR20,BS20,BT20,BU20,BV20,BW20,BX20,BY20,BZ20,CA20,CB20,CC20,CD20,CE20,CF20),\"-\")))","v":"-"},null,"-",null,null,null,null,null,{"$f":"IF(Sheet1!D15=\"\",\"\",IF(CJ20=\"\",\"\",(IF(CK20=\"\",\"\",(IF(CL20=\"\",\"\",(IF(CM20=\"\",\"\",(IF(CN20=\"\",\"\",(SUM(CJ20:CN20))))))))))))","v":""},"","",null,null,null,null,null,null,null,null,"","-","-","-",null,{"$f":"IF(Sheet1!D15=\"\",\"\",IF(COUNTIF(DA20:DC20,\"ร\"),\"ร\",IF(DC20=\"ร\",\"ร\",IF(DR20=\"ปกติ\",SUM(DA20:DB20,IF(DD20=\"\",DC20,DD20)),\"-\"))))","v":"-"},null,"",null,"",null,null,{"$f":"IF(Sheet1!D15=\"\",\"\",IF(DE20=\"\",\"\",IF(COUNTIF(DA20:DJ20,\"ร\"),\"ร\",IF(COUNTIF(DA20:DJ20,\"-\"),\"-\",IF(DR20=\"ปกติ\",ROUNDDOWN(SUM(DE20,IF(DJ20=\"\",DI20,DJ20)),0))))))","v":"-"},null,{"$f":"IF(DL20=\"\",\"\",IF(DR20=\"\",\"\",IF(DR20=\"ย้าย\",\"-\",IF(DR20=\"จำหน่าย\",\"-\",IF(DR20=\"ขาดเรียนนาน\",\"-\",IF(เวลาเรียน!DY22<80,\"มส\",IF(DL20=\"ร\",\"ร\",VLOOKUP(DL20,$DT$19:$DV$26,3))))))))","v":""},null,null,null,{"$f":"IF(เวลาเรียน!DZ22=\"\",\"\",เวลาเรียน!DZ22)","v":""},null,50,54.9,1]
[15,2511,{"$f":"CONCATENATE(Sheet1!B16)","v":"14107"},{"$f":"CONCATENATE(Sheet1!C16&Sheet1!D16&\"    \"&Sheet1!E16)","v":"เด็กหญิงนงณภัทร    ศรแก้วดารา"},15,null,null,null,null,null,null,null,null,null,null,null,null,null,null,null,null,null,null,null,null,{"$f":"IF(Sheet1!D16=\"\",\"\",IF(COUNTIF(F21:V21,\"ร\"),\"ร\",IF(DR21=\"ปกติ\",SUM(F21,G21,H21,I21,J21,K21,L21,M21,N21,O21,P21,Q21,R21,S21,T21,U21,V21,W21,X21,Y21),\"-\")))","v":"-"},null,"-",null,null,null,null,null,null,null,null,null,null,null,null,null,null,null,null,null,null,null,null,{"$f":"IF(Sheet1!D16=\"\",\"\",IF(COUNTIF(AC21:AS21,\"ร\"),\"ร\",IF(DR21=\"ปกติ\",SUM(AC21,AD21,AE21,AF21,AG21,AH21,AI21,AJ21,AK21,AL21,AM21,AN21,AO21,AP21,AQ21,AR21,AS21),\"-\")))","v":"-"},null,"-",null,null,null,null,null,null,null,null,null,null,null,null,null,null,null,{"$f":"IF(Sheet1!D16=\"\",\"\",IF(COUNTIF(AZ21:BN21,\"ร\"),\"ร\",IF(DR21=\"ปกติ\",SUM(AZ21,BA21,BB21,BC21,BD21,BE21,BF21,BG21,BH21,BI21,BJ21,BK21,BL21,BM21,BN21),\"-\")))","v":"-"},null,"-",null,null,null,null,null,null,null,null,null,null,null,null,null,null,null,{"$f":"IF(Sheet1!D16=\"\",\"\",IF(COUNTIF(BR21:CF21,\"ร\"),\"ร\",IF(DR21=\"ปกติ\",SUM(BR21,BS21,BT21,BU21,BV21,BW21,BX21,BY21,BZ21,CA21,CB21,CC21,CD21,CE21,CF21),\"-\")))","v":"-"},null,"-",null,null,null,null,null,{"$f":"IF(Sheet1!D16=\"\",\"\",IF(CJ21=\"\",\"\",(IF(CK21=\"\",\"\",(IF(CL21=\"\",\"\",(IF(CM21=\"\",\"\",(IF(CN21=\"\",\"\",(SUM(CJ21:CN21))))))))))))","v":""},"","",null,null,null,null,null,null,null,null,"","-","-","-",null,{"$f":"IF(Sheet1!D16=\"\",\"\",IF(COUNTIF(DA21:DC21,\"ร\"),\"ร\",IF(DC21=\"ร\",\"ร\",IF(DR21=\"ปกติ\",SUM(DA21:DB21,IF(DD21=\"\",DC21,DD21)),\"-\"))))","v":"-"},null,"",null,"",null,null,{"$f":"IF(Sheet1!D16=\"\",\"\",IF(DE21=\"\",\"\",IF(COUNTIF(DA21:DJ21,\"ร\"),\"ร\",IF(COUNTIF(DA21:DJ21,\"-\"),\"-\",IF(DR21=\"ปกติ\",ROUNDDOWN(SUM(DE21,IF(DJ21=\"\",DI21,DJ21)),0))))))","v":"-"},null,{"$f":"IF(DL21=\"\",\"\",IF(DR21=\"\",\"\",IF(DR21=\"ย้าย\",\"-\",IF(DR21=\"จำหน่าย\",\"-\",IF(DR21=\"ขาดเรียนนาน\",\"-\",IF(เวลาเรียน!DY23<80,\"มส\",IF(DL21=\"ร\",\"ร\",VLOOKUP(DL21,$DT$19:$DV$26,3))))))))","v":""},null,null,null,{"$f":"IF(เวลาเรียน!DZ23=\"\",\"\",เวลาเรียน!DZ23)","v":""},null,55,59.9,1.5]
[16,2512,{"$f":"CONCATENATE(Sheet1!B17)","v":"14112"},{"$f":"CONCATENATE(Sheet1!C17&Sheet1!D17&\"    \"&Sheet1!E17)","v":"เด็กหญิงชนัญชิดา    เทียนชัย"},16,null,null,null,null,null,null,null,null,null,null,null,null,null,null,null,null,null,null,null,null,{"$f":"IF(Sheet1!D17=\"\",\"\",IF(COUNTIF(F22:V22,\"ร\"),\"ร\",IF(DR22=\"ปกติ\",SUM(F22,G22,H22,I22,J22,K22,L22,M22,N22,O22,P22,Q22,R22,S22,T22,U22,V22,W22,X22,Y22),\"-\")))","v":"-"},null,"-",null,null,null,null,null,null,null,null,null,null,null,null,null,null,null,null,null,null,null,null,{"$f":"IF(Sheet1!D17=\"\",\"\",IF(COUNTIF(AC22:AS22,\"ร\"),\"ร\",IF(DR22=\"ปกติ\",SUM(AC22,AD22,AE22,AF22,AG22,AH22,AI22,AJ22,AK22,AL22,AM22,AN22,AO22,AP22,AQ22,AR22,AS22),\"-\")))","v":"-"},null,"-",null,null,null,null,null,null,null,null,null,null,null,null,null,null,null,{"$f":"IF(Sheet1!D17=\"\",\"\",IF(COUNTIF(AZ22:BN22,\"ร\"),\"ร\",IF(DR22=\"ปกติ\",SUM(AZ22,BA22,BB22,BC22,BD22,BE22,BF22,BG22,BH22,BI22,BJ22,BK22,BL22,BM22,BN22),\"-\")))","v":"-"},null,"-",null,null,null,null,null,null,null,null,null,null,null,null,null,null,null,{"$f":"IF(Sheet1!D17=\"\",\"\",IF(COUNTIF(BR22:CF22,\"ร\"),\"ร\",IF(DR22=\"ปกติ\",SUM(BR22,BS22,BT22,BU22,BV22,BW22,BX22,BY22,BZ22,CA22,CB22,CC22,CD22,CE22,CF22),\"-\")))","v":"-"},null,"-",null,null,null,null,null,{"$f":"IF(Sheet1!D17=\"\",\"\",IF(CJ22=\"\",\"\",(IF(CK22=\"\",\"\",(IF(CL22=\"\",\"\",(IF(CM22=\"\",\"\",(IF(CN22=\"\",\"\",(SUM(CJ22:CN22))))))))))))","v":""},"","",null,null,null,null,null,null,null,null,"","-","-","-",null,{"$f":"IF(Sheet1!D17=\"\",\"\",IF(COUNTIF(DA22:DC22,\"ร\"),\"ร\",IF(DC22=\"ร\",\"ร\",IF(DR22=\"ปกติ\",SUM(DA22:DB22,IF(DD22=\"\",DC22,DD22)),\"-\"))))","v":"-"},null,"",null,"",null,null,{"$f":"IF(Sheet1!D17=\"\",\"\",IF(DE22=\"\",\"\",IF(COUNTIF(DA22:DJ22,\"ร\"),\"ร\",IF(COUNTIF(DA22:DJ22,\"-\"),\"-\",IF(DR22=\"ปกติ\",ROUNDDOWN(SUM(DE22,IF(DJ22=\"\",DI22,DJ22)),0))))))","v":"-"},null,{"$f":"IF(DL22=\"\",\"\",IF(DR22=\"\",\"\",IF(DR22=\"ย้าย\",\"-\",IF(DR22=\"จำหน่าย\",\"-\",IF(DR22=\"ขาดเรียนนาน\",\"-\",IF(เวลาเรียน!DY24<80,\"มส\",IF(DL22=\"ร\",\"ร\",VLOOKUP(DL22,$DT$19:$DV$26,3))))))))","v":""},null,null,null,{"$f":"IF(เวลาเรียน!DZ24=\"\",\"\",เวลาเรียน!DZ24)","v":""},null,60,64.900000000000006,2]
[17,2513,{"$f":"CONCATENATE(Sheet1!B18)","v":"14118"},{"$f":"CONCATENATE(Sheet1!C18&Sheet1!D18&\"    \"&Sheet1!E18)","v":"เด็กชายนนทกร    วรรณภัณฑ์พินิจ"},17,null,null,null,null,null,null,null,null,null,null,null,null,null,null,null,null,null,null,null,null,{"$f":"IF(Sheet1!D18=\"\",\"\",IF(COUNTIF(F23:V23,\"ร\"),\"ร\",IF(DR23=\"ปกติ\",SUM(F23,G23,H23,I23,J23,K23,L23,M23,N23,O23,P23,Q23,R23,S23,T23,U23,V23,W23,X23,Y23),\"-\")))","v":"-"},null,"-",null,null,null,null,null,null,null,null,null,null,null,null,null,null,null,null,null,null,null,null,{"$f":"IF(Sheet1!D18=\"\",\"\",IF(COUNTIF(AC23:AS23,\"ร\"),\"ร\",IF(DR23=\"ปกติ\",SUM(AC23,AD23,AE23,AF23,AG23,AH23,AI23,AJ23,AK23,AL23,AM23,AN23,AO23,AP23,AQ23,AR23,AS23),\"-\")))","v":"-"},null,"-",null,null,null,null,null,null,null,null,null,null,null,null,null,null,null,{"$f":"IF(Sheet1!D18=\"\",\"\",IF(COUNTIF(AZ23:BN23,\"ร\"),\"ร\",IF(DR23=\"ปกติ\",SUM(AZ23,BA23,BB23,BC23,BD23,BE23,BF23,BG23,BH23,BI23,BJ23,BK23,BL23,BM23,BN23),\"-\")))","v":"-"},null,"-",null,null,null,null,null,null,null,null,null,null,null,null,null,null,null,{"$f":"IF(Sheet1!D18=\"\",\"\",IF(COUNTIF(BR23:CF23,\"ร\"),\"ร\",IF(DR23=\"ปกติ\",SUM(BR23,BS23,BT23,BU23,BV23,BW23,BX23,BY23,BZ23,CA23,CB23,CC23,CD23,CE23,CF23),\"-\")))","v":"-"},null,"-",null,null,null,null,null,{"$f":"IF(Sheet1!D18=\"\",\"\",IF(CJ23=\"\",\"\",(IF(CK23=\"\",\"\",(IF(CL23=\"\",\"\",(IF(CM23=\"\",\"\",(IF(CN23=\"\",\"\",(SUM(CJ23:CN23))))))))))))","v":""},"","",null,null,null,null,null,null,null,null,"","-","-","-",null,{"$f":"IF(Sheet1!D18=\"\",\"\",IF(COUNTIF(DA23:DC23,\"ร\"),\"ร\",IF(DC23=\"ร\",\"ร\",IF(DR23=\"ปกติ\",SUM(DA23:DB23,IF(DD23=\"\",DC23,DD23)),\"-\"))))","v":"-"},null,"",null,"",null,null,{"$f":"IF(Sheet1!D18=\"\",\"\",IF(DE23=\"\",\"\",IF(COUNTIF(DA23:DJ23,\"ร\"),\"ร\",IF(COUNTIF(DA23:DJ23,\"-\"),\"-\",IF(DR23=\"ปกติ\",ROUNDDOWN(SUM(DE23,IF(DJ23=\"\",DI23,DJ23)),0))))))","v":"-"},null,{"$f":"IF(DL23=\"\",\"\",IF(DR23=\"\",\"\",IF(DR23=\"ย้าย\",\"-\",IF(DR23=\"จำหน่าย\",\"-\",IF(DR23=\"ขาดเรียนนาน\",\"-\",IF(เวลาเรียน!DY25<80,\"มส\",IF(DL23=\"ร\",\"ร\",VLOOKUP(DL23,$DT$19:$DV$26,3))))))))","v":""},null,null,null,{"$f":"IF(เวลาเรียน!DZ25=\"\",\"\",เวลาเรียน!DZ25)","v":""},null,65,69.900000000000006,2.5]
[18,2514,{"$f":"CONCATENATE(Sheet1!B19)","v":"14120"},{"$f":"CONCATENATE(Sheet1!C19&Sheet1!D19&\"    \"&Sheet1!E19)","v":"เด็กชายภัคพล    พรมฉิม"},18,null,null,null,null,null,null,null,null,null,null,null,null,null,null,null,null,null,null,null,null,{"$f":"IF(Sheet1!D19=\"\",\"\",IF(COUNTIF(F24:V24,\"ร\"),\"ร\",IF(DR24=\"ปกติ\",SUM(F24,G24,H24,I24,J24,K24,L24,M24,N24,O24,P24,Q24,R24,S24,T24,U24,V24,W24,X24,Y24),\"-\")))","v":"-"},null,"-",null,null,null,null,null,null,null,null,null,null,null,null,null,null,null,null,null,null,null,null,{"$f":"IF(Sheet1!D19=\"\",\"\",IF(COUNTIF(AC24:AS24,\"ร\"),\"ร\",IF(DR24=\"ปกติ\",SUM(AC24,AD24,AE24,AF24,AG24,AH24,AI24,AJ24,AK24,AL24,AM24,AN24,AO24,AP24,AQ24,AR24,AS24),\"-\")))","v":"-"},null,"-",null,null,null,null,null,null,null,null,null,null,null,null,null,null,null,{"$f":"IF(Sheet1!D19=\"\",\"\",IF(COUNTIF(AZ24:BN24,\"ร\"),\"ร\",IF(DR24=\"ปกติ\",SUM(AZ24,BA24,BB24,BC24,BD24,BE24,BF24,BG24,BH24,BI24,BJ24,BK24,BL24,BM24,BN24),\"-\")))","v":"-"},null,"-",null,null,null,null,null,null,null,null,null,null,null,null,null,null,null,{"$f":"IF(Sheet1!D19=\"\",\"\",IF(COUNTIF(BR24:CF24,\"ร\"),\"ร\",IF(DR24=\"ปกติ\",SUM(BR24,BS24,BT24,BU24,BV24,BW24,BX24,BY24,BZ24,CA24,CB24,CC24,CD24,CE24,CF24),\"-\")))","v":"-"},null,"-",null,null,null,null,null,{"$f":"IF(Sheet1!D19=\"\",\"\",IF(CJ24=\"\",\"\",(IF(CK24=\"\",\"\",(IF(CL24=\"\",\"\",(IF(CM24=\"\",\"\",(IF(CN24=\"\",\"\",(SUM(CJ24:CN24))))))))))))","v":""},"","",null,null,null,null,null,null,null,null,"","-","-","-",null,{"$f":"IF(Sheet1!D19=\"\",\"\",IF(COUNTIF(DA24:DC24,\"ร\"),\"ร\",IF(DC24=\"ร\",\"ร\",IF(DR24=\"ปกติ\",SUM(DA24:DB24,IF(DD24=\"\",DC24,DD24)),\"-\"))))","v":"-"},null,"",null,"",null,null,{"$f":"IF(Sheet1!D19=\"\",\"\",IF(DE24=\"\",\"\",IF(COUNTIF(DA24:DJ24,\"ร\"),\"ร\",IF(COUNTIF(DA24:DJ24,\"-\"),\"-\",IF(DR24=\"ปกติ\",ROUNDDOWN(SUM(DE24,IF(DJ24=\"\",DI24,DJ24)),0))))))","v":"-"},null,{"$f":"IF(DL24=\"\",\"\",IF(DR24=\"\",\"\",IF(DR24=\"ย้าย\",\"-\",IF(DR24=\"จำหน่าย\",\"-\",IF(DR24=\"ขาดเรียนนาน\",\"-\",IF(เวลาเรียน!DY26<80,\"มส\",IF(DL24=\"ร\",\"ร\",VLOOKUP(DL24,$DT$19:$DV$26,3))))))))","v":""},null,null,null,{"$f":"IF(เวลาเรียน!DZ26=\"\",\"\",เวลาเรียน!DZ26)","v":""},null,70,74.900000000000006,3]
[19,2515,{"$f":"CONCATENATE(Sheet1!B20)","v":"14123"},{"$f":"CONCATENATE(Sheet1!C20&Sheet1!D20&\"    \"&Sheet1!E20)","v":"เด็กชายกรวิชญ์    ฤทธิคง"},19,null,null,null,null,null,null,null,null,null,null,null,null,null,null,null,null,null,null,null,null,{"$f":"IF(Sheet1!D20=\"\",\"\",IF(COUNTIF(F25:V25,\"ร\"),\"ร\",IF(DR25=\"ปกติ\",SUM(F25,G25,H25,I25,J25,K25,L25,M25,N25,O25,P25,Q25,R25,S25,T25,U25,V25,W25,X25,Y25),\"-\")))","v":"-"},null,"-",null,null,null,null,null,null,null,null,null,null,null,null,null,null,null,null,null,null,null,null,{"$f":"IF(Sheet1!D20=\"\",\"\",IF(COUNTIF(AC25:AS25,\"ร\"),\"ร\",IF(DR25=\"ปกติ\",SUM(AC25,AD25,AE25,AF25,AG25,AH25,AI25,AJ25,AK25,AL25,AM25,AN25,AO25,AP25,AQ25,AR25,AS25),\"-\")))","v":"-"},null,"-",null,null,null,null,null,null,null,null,null,null,null,null,null,null,null,{"$f":"IF(Sheet1!D20=\"\",\"\",IF(COUNTIF(AZ25:BN25,\"ร\"),\"ร\",IF(DR25=\"ปกติ\",SUM(AZ25,BA25,BB25,BC25,BD25,BE25,BF25,BG25,BH25,BI25,BJ25,BK25,BL25,BM25,BN25),\"-\")))","v":"-"},null,"-",null,null,null,null,null,null,null,null,null,null,null,null,null,null,null,{"$f":"IF(Sheet1!D20=\"\",\"\",IF(COUNTIF(BR25:CF25,\"ร\"),\"ร\",IF(DR25=\"ปกติ\",SUM(BR25,BS25,BT25,BU25,BV25,BW25,BX25,BY25,BZ25,CA25,CB25,CC25,CD25,CE25,CF25),\"-\")))","v":"-"},null,"-",null,null,null,null,null,{"$f":"IF(Sheet1!D20=\"\",\"\",IF(CJ25=\"\",\"\",(IF(CK25=\"\",\"\",(IF(CL25=\"\",\"\",(IF(CM25=\"\",\"\",(IF(CN25=\"\",\"\",(SUM(CJ25:CN25))))))))))))","v":""},"","",null,null,null,null,null,null,null,null,"","-","-","-",null,{"$f":"IF(Sheet1!D20=\"\",\"\",IF(COUNTIF(DA25:DC25,\"ร\"),\"ร\",IF(DC25=\"ร\",\"ร\",IF(DR25=\"ปกติ\",SUM(DA25:DB25,IF(DD25=\"\",DC25,DD25)),\"-\"))))","v":"-"},null,"",null,"",null,null,{"$f":"IF(Sheet1!D20=\"\",\"\",IF(DE25=\"\",\"\",IF(COUNTIF(DA25:DJ25,\"ร\"),\"ร\",IF(COUNTIF(DA25:DJ25,\"-\"),\"-\",IF(DR25=\"ปกติ\",ROUNDDOWN(SUM(DE25,IF(DJ25=\"\",DI25,DJ25)),0))))))","v":"-"},null,{"$f":"IF(DL25=\"\",\"\",IF(DR25=\"\",\"\",IF(DR25=\"ย้าย\",\"-\",IF(DR25=\"จำหน่าย\",\"-\",IF(DR25=\"ขาดเรียนนาน\",\"-\",IF(เวลาเรียน!DY27<80,\"มส\",IF(DL25=\"ร\",\"ร\",VLOOKUP(DL25,$DT$19:$DV$26,3))))))))","v":""},null,null,null,{"$f":"IF(เวลาเรียน!DZ27=\"\",\"\",เวลาเรียน!DZ27)","v":""},null,75,79.900000000000006,3.5]
[20,2516,{"$f":"CONCATENATE(Sheet1!B21)","v":"14126"},{"$f":"CONCATENATE(Sheet1!C21&Sheet1!D21&\"    \"&Sheet1!E21)","v":"เด็กชายกรกช    สุจจิต"},20,null,null,null,null,null,null,null,null,null,null,null,null,null,null,null,null,null,null,null,null,{"$f":"IF(Sheet1!D21=\"\",\"\",IF(COUNTIF(F26:V26,\"ร\"),\"ร\",IF(DR26=\"ปกติ\",SUM(F26,G26,H26,I26,J26,K26,L26,M26,N26,O26,P26,Q26,R26,S26,T26,U26,V26,W26,X26,Y26),\"-\")))","v":"-"},null,"-",null,null,null,null,null,null,null,null,null,null,null,null,null,null,null,null,null,null,null,null,{"$f":"IF(Sheet1!D21=\"\",\"\",IF(COUNTIF(AC26:AS26,\"ร\"),\"ร\",IF(DR26=\"ปกติ\",SUM(AC26,AD26,AE26,AF26,AG26,AH26,AI26,AJ26,AK26,AL26,AM26,AN26,AO26,AP26,AQ26,AR26,AS26),\"-\")))","v":"-"},null,"-",null,null,null,null,null,null,null,null,null,null,null,null,null,null,null,{"$f":"IF(Sheet1!D21=\"\",\"\",IF(COUNTIF(AZ26:BN26,\"ร\"),\"ร\",IF(DR26=\"ปกติ\",SUM(AZ26,BA26,BB26,BC26,BD26,BE26,BF26,BG26,BH26,BI26,BJ26,BK26,BL26,BM26,BN26),\"-\")))","v":"-"},null,"-",null,null,null,null,null,null,null,null,null,null,null,null,null,null,null,{"$f":"IF(Sheet1!D21=\"\",\"\",IF(COUNTIF(BR26:CF26,\"ร\"),\"ร\",IF(DR26=\"ปกติ\",SUM(BR26,BS26,BT26,BU26,BV26,BW26,BX26,BY26,BZ26,CA26,CB26,CC26,CD26,CE26,CF26),\"-\")))","v":"-"},null,"-",null,null,null,null,null,{"$f":"IF(Sheet1!D21=\"\",\"\",IF(CJ26=\"\",\"\",(IF(CK26=\"\",\"\",(IF(CL26=\"\",\"\",(IF(CM26=\"\",\"\",(IF(CN26=\"\",\"\",(SUM(CJ26:CN26))))))))))))","v":""},"","",null,null,null,null,null,null,null,null,"","-","-","-",null,{"$f":"IF(Sheet1!D21=\"\",\"\",IF(COUNTIF(DA26:DC26,\"ร\"),\"ร\",IF(DC26=\"ร\",\"ร\",IF(DR26=\"ปกติ\",SUM(DA26:DB26,IF(DD26=\"\",DC26,DD26)),\"-\"))))","v":"-"},null,"",null,"",null,null,{"$f":"IF(Sheet1!D21=\"\",\"\",IF(DE26=\"\",\"\",IF(COUNTIF(DA26:DJ26,\"ร\"),\"ร\",IF(COUNTIF(DA26:DJ26,\"-\"),\"-\",IF(DR26=\"ปกติ\",ROUNDDOWN(SUM(DE26,IF(DJ26=\"\",DI26,DJ26)),0))))))","v":"-"},null,{"$f":"IF(DL26=\"\",\"\",IF(DR26=\"\",\"\",IF(DR26=\"ย้าย\",\"-\",IF(DR26=\"จำหน่าย\",\"-\",IF(DR26=\"ขาดเรียนนาน\",\"-\",IF(เวลาเรียน!DY28<80,\"มส\",IF(DL26=\"ร\",\"ร\",VLOOKUP(DL26,$DT$19:$DV$26,3))))))))","v":""},null,null,null,{"$f":"IF(เวลาเรียน!DZ28=\"\",\"\",เวลาเรียน!DZ28)","v":""},null,80,100,4]
[21,2517,{"$f":"CONCATENATE(Sheet1!B22)","v":"14127"},{"$f":"CONCATENATE(Sheet1!C22&Sheet1!D22&\"    \"&Sheet1!E22)","v":"เด็กชายวรัญญู    แก้วพรัด"},21,null,null,null,null,null,null,null,null,null,null,null,null,null,null,null,null,null,null,null,null,{"$f":"IF(Sheet1!D22=\"\",\"\",IF(COUNTIF(F27:V27,\"ร\"),\"ร\",IF(DR27=\"ปกติ\",SUM(F27,G27,H27,I27,J27,K27,L27,M27,N27,O27,P27,Q27,R27,S27,T27,U27,V27,W27,X27,Y27),\"-\")))","v":"-"},null,"-",null,null,null,null,null,null,null,null,null,null,null,null,null,null,null,null,null,null,null,null,{"$f":"IF(Sheet1!D22=\"\",\"\",IF(COUNTIF(AC27:AS27,\"ร\"),\"ร\",IF(DR27=\"ปกติ\",SUM(AC27,AD27,AE27,AF27,AG27,AH27,AI27,AJ27,AK27,AL27,AM27,AN27,AO27,AP27,AQ27,AR27,AS27),\"-\")))","v":"-"},null,"-",null,null,null,null,null,null,null,null,null,null,null,null,null,null,null,{"$f":"IF(Sheet1!D22=\"\",\"\",IF(COUNTIF(AZ27:BN27,\"ร\"),\"ร\",IF(DR27=\"ปกติ\",SUM(AZ27,BA27,BB27,BC27,BD27,BE27,BF27,BG27,BH27,BI27,BJ27,BK27,BL27,BM27,BN27),\"-\")))","v":"-"},null,"-",null,null,null,null,null,null,null,null,null,null,null,null,null,null,null,{"$f":"IF(Sheet1!D22=\"\",\"\",IF(COUNTIF(BR27:CF27,\"ร\"),\"ร\",IF(DR27=\"ปกติ\",SUM(BR27,BS27,BT27,BU27,BV27,BW27,BX27,BY27,BZ27,CA27,CB27,CC27,CD27,CE27,CF27),\"-\")))","v":"-"},null,"-",null,null,null,null,null,{"$f":"IF(Sheet1!D22=\"\",\"\",IF(CJ27=\"\",\"\",(IF(CK27=\"\",\"\",(IF(CL27=\"\",\"\",(IF(CM27=\"\",\"\",(IF(CN27=\"\",\"\",(SUM(CJ27:CN27))))))))))))","v":""},"","",null,null,null,null,null,null,null,null,"","-","-","-",null,{"$f":"IF(Sheet1!D22=\"\",\"\",IF(COUNTIF(DA27:DC27,\"ร\"),\"ร\",IF(DC27=\"ร\",\"ร\",IF(DR27=\"ปกติ\",SUM(DA27:DB27,IF(DD27=\"\",DC27,DD27)),\"-\"))))","v":"-"},null,"",null,"",null,null,{"$f":"IF(Sheet1!D22=\"\",\"\",IF(DE27=\"\",\"\",IF(COUNTIF(DA27:DJ27,\"ร\"),\"ร\",IF(COUNTIF(DA27:DJ27,\"-\"),\"-\",IF(DR27=\"ปกติ\",ROUNDDOWN(SUM(DE27,IF(DJ27=\"\",DI27,DJ27)),0))))))","v":"-"},null,{"$f":"IF(DL27=\"\",\"\",IF(DR27=\"\",\"\",IF(DR27=\"ย้าย\",\"-\",IF(DR27=\"จำหน่าย\",\"-\",IF(DR27=\"ขาดเรียนนาน\",\"-\",IF(เวลาเรียน!DY29<80,\"มส\",IF(DL27=\"ร\",\"ร\",VLOOKUP(DL27,$DT$19:$DV$26,3))))))))","v":""},null,null,null,{"$f":"IF(เวลาเรียน!DZ29=\"\",\"\",เวลาเรียน!DZ29)","v":""}]
[22,2518,{"$f":"CONCATENATE(Sheet1!B23)","v":"14142"},{"$f":"CONCATENATE(Sheet1!C23&Sheet1!D23&\"    \"&Sheet1!E23)","v":"เด็กชายภูรินทร์    วงษ์ถาวร"},22,null,null,null,null,null,null,null,null,null,null,null,null,null,null,null,null,null,null,null,null,{"$f":"IF(Sheet1!D23=\"\",\"\",IF(COUNTIF(F28:V28,\"ร\"),\"ร\",IF(DR28=\"ปกติ\",SUM(F28,G28,H28,I28,J28,K28,L28,M28,N28,O28,P28,Q28,R28,S28,T28,U28,V28,W28,X28,Y28),\"-\")))","v":"-"},null,"-",null,null,null,null,null,null,null,null,null,null,null,null,null,null,null,null,null,null,null,null,{"$f":"IF(Sheet1!D23=\"\",\"\",IF(COUNTIF(AC28:AS28,\"ร\"),\"ร\",IF(DR28=\"ปกติ\",SUM(AC28,AD28,AE28,AF28,AG28,AH28,AI28,AJ28,AK28,AL28,AM28,AN28,AO28,AP28,AQ28,AR28,AS28),\"-\")))","v":"-"},null,"-",null,null,null,null,null,null,null,null,null,null,null,null,null,null,null,{"$f":"IF(Sheet1!D23=\"\",\"\",IF(COUNTIF(AZ28:BN28,\"ร\"),\"ร\",IF(DR28=\"ปกติ\",SUM(AZ28,BA28,BB28,BC28,BD28,BE28,BF28,BG28,BH28,BI28,BJ28,BK28,BL28,BM28,BN28),\"-\")))","v":"-"},null,"-",null,null,null,null,null,null,null,null,null,null,null,null,null,null,null,{"$f":"IF(Sheet1!D23=\"\",\"\",IF(COUNTIF(BR28:CF28,\"ร\"),\"ร\",IF(DR28=\"ปกติ\",SUM(BR28,BS28,BT28,BU28,BV28,BW28,BX28,BY28,BZ28,CA28,CB28,CC28,CD28,CE28,CF28),\"-\")))","v":"-"},null,"-",null,null,null,null,null,{"$f":"IF(Sheet1!D23=\"\",\"\",IF(CJ28=\"\",\"\",(IF(CK28=\"\",\"\",(IF(CL28=\"\",\"\",(IF(CM28=\"\",\"\",(IF(CN28=\"\",\"\",(SUM(CJ28:CN28))))))))))))","v":""},"","",null,null,null,null,null,null,null,null,"","-","-","-",null,{"$f":"IF(Sheet1!D23=\"\",\"\",IF(COUNTIF(DA28:DC28,\"ร\"),\"ร\",IF(DC28=\"ร\",\"ร\",IF(DR28=\"ปกติ\",SUM(DA28:DB28,IF(DD28=\"\",DC28,DD28)),\"-\"))))","v":"-"},null,{"$f":"IF(DR28=\"\",\"\",IF(DR28=\"ปกติ\",IF(CI28=\"\",\"\",IF(CG28=\"ร\",\"ร\",(CI28*($D$4/100)))),\"\"))","v":""},null,{"$f":"IF(DG28=\"\",\"\",IF(CG28=\"ร\",\"ร\",SUM(DG28:DH28)))","v":""},null,null,{"$f":"IF(Sheet1!D23=\"\",\"\",IF(DE28=\"\",\"\",IF(COUNTIF(DA28:DJ28,\"ร\"),\"ร\",IF(COUNTIF(DA28:DJ28,\"-\"),\"-\",IF(DR28=\"ปกติ\",ROUNDDOWN(SUM(DE28,IF(DJ28=\"\",DI28,DJ28)),0))))))","v":"-"},null,{"$f":"IF(DL28=\"\",\"\",IF(DR28=\"\",\"\",IF(DR28=\"ย้าย\",\"-\",IF(DR28=\"จำหน่าย\",\"-\",IF(DR28=\"ขาดเรียนนาน\",\"-\",IF(เวลาเรียน!DY30<80,\"มส\",IF(DL28=\"ร\",\"ร\",VLOOKUP(DL28,$DT$19:$DV$26,3))))))))","v":""},null,null,null,{"$f":"IF(เวลาเรียน!DZ30=\"\",\"\",เวลาเรียน!DZ30)","v":""}]
[23,2519,{"$f":"CONCATENATE(Sheet1!B24)","v":"14434"},{"$f":"CONCATENATE(Sheet1!C24&Sheet1!D24&\"    \"&Sheet1!E24)","v":"เด็กหญิงลลิตภัทร    ขุ้ยด้วง"},23,null,null,null,null,null,null,null,null,null,null,null,null,null,null,null,null,null,null,null,null,{"$f":"IF(Sheet1!D24=\"\",\"\",IF(COUNTIF(F29:V29,\"ร\"),\"ร\",IF(DR29=\"ปกติ\",SUM(F29,G29,H29,I29,J29,K29,L29,M29,N29,O29,P29,Q29,R29,S29,T29,U29,V29,W29,X29,Y29),\"-\")))","v":"-"},null,"-",null,null,null,null,null,null,null,null,null,null,null,null,null,null,null,null,null,null,null,null,{"$f":"IF(Sheet1!D24=\"\",\"\",IF(COUNTIF(AC29:AS29,\"ร\"),\"ร\",IF(DR29=\"ปกติ\",SUM(AC29,AD29,AE29,AF29,AG29,AH29,AI29,AJ29,AK29,AL29,AM29,AN29,AO29,AP29,AQ29,AR29,AS29),\"-\")))","v":"-"},null,"-",null,null,null,null,null,null,null,null,null,null,null,null,null,null,null,{"$f":"IF(Sheet1!D24=\"\",\"\",IF(COUNTIF(AZ29:BN29,\"ร\"),\"ร\",IF(DR29=\"ปกติ\",SUM(AZ29,BA29,BB29,BC29,BD29,BE29,BF29,BG29,BH29,BI29,BJ29,BK29,BL29,BM29,BN29),\"-\")))","v":"-"},null,"-",null,null,null,null,null,null,null,null,null,null,null,null,null,null,null,{"$f":"IF(Sheet1!D24=\"\",\"\",IF(COUNTIF(BR29:CF29,\"ร\"),\"ร\",IF(DR29=\"ปกติ\",SUM(BR29,BS29,BT29,BU29,BV29,BW29,BX29,BY29,BZ29,CA29,CB29,CC29,CD29,CE29,CF29),\"-\")))","v":"-"},null,"-",null,null,null,null,null,{"$f":"IF(Sheet1!D24=\"\",\"\",IF(CJ29=\"\",\"\",(IF(CK29=\"\",\"\",(IF(CL29=\"\",\"\",(IF(CM29=\"\",\"\",(IF(CN29=\"\",\"\",(SUM(CJ29:CN29))))))))))))","v":""},"","",null,null,null,null,null,null,null,null,"","-","-","-",null,{"$f":"IF(Sheet1!D24=\"\",\"\",IF(COUNTIF(DA29:DC29,\"ร\"),\"ร\",IF(DC29=\"ร\",\"ร\",IF(DR29=\"ปกติ\",SUM(DA29:DB29,IF(DD29=\"\",DC29,DD29)),\"-\"))))","v":"-"},null,{"$f":"IF(DR29=\"\",\"\",IF(DR29=\"ปกติ\",IF(CI29=\"\",\"\",IF(CG29=\"ร\",\"ร\",(CI29*($D$4/100)))),\"\"))","v":""},null,{"$f":"IF(DG29=\"\",\"\",IF(CG29=\"ร\",\"ร\",SUM(DG29:DH29)))","v":""},null,null,{"$f":"IF(Sheet1!D24=\"\",\"\",IF(DE29=\"\",\"\",IF(COUNTIF(DA29:DJ29,\"ร\"),\"ร\",IF(COUNTIF(DA29:DJ29,\"-\"),\"-\",IF(DR29=\"ปกติ\",ROUNDDOWN(SUM(DE29,IF(DJ29=\"\",DI29,DJ29)),0))))))","v":"-"},null,{"$f":"IF(DL29=\"\",\"\",IF(DR29=\"\",\"\",IF(DR29=\"ย้าย\",\"-\",IF(DR29=\"จำหน่าย\",\"-\",IF(DR29=\"ขาดเรียนนาน\",\"-\",IF(เวลาเรียน!DY31<80,\"มส\",IF(DL29=\"ร\",\"ร\",VLOOKUP(DL29,$DT$19:$DV$26,3))))))))","v":""},null,null,null,{"$f":"IF(เวลาเรียน!DZ31=\"\",\"\",เวลาเรียน!DZ31)","v":""}]
[24,2520,{"$f":"CONCATENATE(Sheet1!B25)","v":"14445"},{"$f":"CONCATENATE(Sheet1!C25&Sheet1!D25&\"    \"&Sheet1!E25)","v":"เด็กหญิงศวรรยา    ปิยบรรพต"},24,null,null,null,null,null,null,null,null,null,null,null,null,null,null,null,null,null,null,null,null,{"$f":"IF(Sheet1!D25=\"\",\"\",IF(COUNTIF(F30:V30,\"ร\"),\"ร\",IF(DR30=\"ปกติ\",SUM(F30,G30,H30,I30,J30,K30,L30,M30,N30,O30,P30,Q30,R30,S30,T30,U30,V30,W30,X30,Y30),\"-\")))","v":"-"},null,"-",null,null,null,null,null,null,null,null,null,null,null,null,null,null,null,null,null,null,null,null,{"$f":"IF(Sheet1!D25=\"\",\"\",IF(COUNTIF(AC30:AS30,\"ร\"),\"ร\",IF(DR30=\"ปกติ\",SUM(AC30,AD30,AE30,AF30,AG30,AH30,AI30,AJ30,AK30,AL30,AM30,AN30,AO30,AP30,AQ30,AR30,AS30),\"-\")))","v":"-"},null,"-",null,null,null,null,null,null,null,null,null,null,null,null,null,null,null,{"$f":"IF(Sheet1!D25=\"\",\"\",IF(COUNTIF(AZ30:BN30,\"ร\"),\"ร\",IF(DR30=\"ปกติ\",SUM(AZ30,BA30,BB30,BC30,BD30,BE30,BF30,BG30,BH30,BI30,BJ30,BK30,BL30,BM30,BN30),\"-\")))","v":"-"},null,"-",null,null,null,null,null,null,null,null,null,null,null,null,null,null,null,{"$f":"IF(Sheet1!D25=\"\",\"\",IF(COUNTIF(BR30:CF30,\"ร\"),\"ร\",IF(DR30=\"ปกติ\",SUM(BR30,BS30,BT30,BU30,BV30,BW30,BX30,BY30,BZ30,CA30,CB30,CC30,CD30,CE30,CF30),\"-\")))","v":"-"},null,"-",null,null,null,null,null,{"$f":"IF(Sheet1!D25=\"\",\"\",IF(CJ30=\"\",\"\",(IF(CK30=\"\",\"\",(IF(CL30=\"\",\"\",(IF(CM30=\"\",\"\",(IF(CN30=\"\",\"\",(SUM(CJ30:CN30))))))))))))","v":""},"","",null,null,null,null,null,null,null,null,"","-","-","-",null,{"$f":"IF(Sheet1!D25=\"\",\"\",IF(COUNTIF(DA30:DC30,\"ร\"),\"ร\",IF(DC30=\"ร\",\"ร\",IF(DR30=\"ปกติ\",SUM(DA30:DB30,IF(DD30=\"\",DC30,DD30)),\"-\"))))","v":"-"},null,"",null,"",null,null,{"$f":"IF(Sheet1!D25=\"\",\"\",IF(DE30=\"\",\"\",IF(COUNTIF(DA30:DJ30,\"ร\"),\"ร\",IF(COUNTIF(DA30:DJ30,\"-\"),\"-\",IF(DR30=\"ปกติ\",ROUNDDOWN(SUM(DE30,IF(DJ30=\"\",DI30,DJ30)),0))))))","v":"-"},null,{"$f":"IF(DL30=\"\",\"\",IF(DR30=\"\",\"\",IF(DR30=\"ย้าย\",\"-\",IF(DR30=\"จำหน่าย\",\"-\",IF(DR30=\"ขาดเรียนนาน\",\"-\",IF(เวลาเรียน!DY32<80,\"มส\",IF(DL30=\"ร\",\"ร\",VLOOKUP(DL30,$DT$19:$DV$26,3))))))))","v":""},null,null,null,{"$f":"IF(เวลาเรียน!DZ32=\"\",\"\",เวลาเรียน!DZ32)","v":""}]
[25,2521,{"$f":"CONCATENATE(Sheet1!B26)","v":"14924"},{"$f":"CONCATENATE(Sheet1!C26&Sheet1!D26&\"    \"&Sheet1!E26)","v":"เด็กหญิงณัฐฌญา    สุวรรณมณี"},25,null,null,null,null,null,null,null,null,null,null,null,null,null,null,null,null,null,null,null,null,{"$f":"IF(Sheet1!D26=\"\",\"\",IF(COUNTIF(F31:V31,\"ร\"),\"ร\",IF(DR31=\"ปกติ\",SUM(F31,G31,H31,I31,J31,K31,L31,M31,N31,O31,P31,Q31,R31,S31,T31,U31,V31,W31,X31,Y31),\"-\")))","v":"-"},null,"-",null,null,null,null,null,null,null,null,null,null,null,null,null,null,null,null,null,null,null,null,{"$f":"IF(Sheet1!D26=\"\",\"\",IF(COUNTIF(AC31:AS31,\"ร\"),\"ร\",IF(DR31=\"ปกติ\",SUM(AC31,AD31,AE31,AF31,AG31,AH31,AI31,AJ31,AK31,AL31,AM31,AN31,AO31,AP31,AQ31,AR31,AS31),\"-\")))","v":"-"},null,"-",null,null,null,null,null,null,null,null,null,null,null,null,null,null,null,{"$f":"IF(Sheet1!D26=\"\",\"\",IF(COUNTIF(AZ31:BN31,\"ร\"),\"ร\",IF(DR31=\"ปกติ\",SUM(AZ31,BA31,BB31,BC31,BD31,BE31,BF31,BG31,BH31,BI31,BJ31,BK31,BL31,BM31,BN31),\"-\")))","v":"-"},null,"-",null,null,null,null,null,null,null,null,null,null,null,null,null,null,null,{"$f":"IF(Sheet1!D26=\"\",\"\",IF(COUNTIF(BR31:CF31,\"ร\"),\"ร\",IF(DR31=\"ปกติ\",SUM(BR31,BS31,BT31,BU31,BV31,BW31,BX31,BY31,BZ31,CA31,CB31,CC31,CD31,CE31,CF31),\"-\")))","v":"-"},null,"-",null,null,null,null,null,{"$f":"IF(Sheet1!D26=\"\",\"\",IF(CJ31=\"\",\"\",(IF(CK31=\"\",\"\",(IF(CL31=\"\",\"\",(IF(CM31=\"\",\"\",(IF(CN31=\"\",\"\",(SUM(CJ31:CN31))))))))))))","v":""},"","",null,null,null,null,null,null,null,null,"","-","-","-",null,{"$f":"IF(Sheet1!D26=\"\",\"\",IF(COUNTIF(DA31:DC31,\"ร\"),\"ร\",IF(DC31=\"ร\",\"ร\",IF(DR31=\"ปกติ\",SUM(DA31:DB31,IF(DD31=\"\",DC31,DD31)),\"-\"))))","v":"-"},null,"",null,"",null,null,{"$f":"IF(Sheet1!D26=\"\",\"\",IF(DE31=\"\",\"\",IF(COUNTIF(DA31:DJ31,\"ร\"),\"ร\",IF(COUNTIF(DA31:DJ31,\"-\"),\"-\",IF(DR31=\"ปกติ\",ROUNDDOWN(SUM(DE31,IF(DJ31=\"\",DI31,DJ31)),0))))))","v":"-"},null,{"$f":"IF(DL31=\"\",\"\",IF(DR31=\"\",\"\",IF(DR31=\"ย้าย\",\"-\",IF(DR31=\"จำหน่าย\",\"-\",IF(DR31=\"ขาดเรียนนาน\",\"-\",IF(เวลาเรียน!DY33<80,\"มส\",IF(DL31=\"ร\",\"ร\",VLOOKUP(DL31,$DT$19:$DV$26,3))))))))","v":""},null,null,null,{"$f":"IF(เวลาเรียน!DZ33=\"\",\"\",เวลาเรียน!DZ33)","v":""}]
[26,2522,{"$f":"CONCATENATE(Sheet1!B27)","v":"15041"},{"$f":"CONCATENATE(Sheet1!C27&Sheet1!D27&\"    \"&Sheet1!E27)","v":"เด็กชายปฐมมงคล    เทพสุวรรณ"},26,null,null,null,null,null,null,null,null,null,null,null,null,null,null,null,null,null,null,null,null,{"$f":"IF(Sheet1!D27=\"\",\"\",IF(COUNTIF(F32:V32,\"ร\"),\"ร\",IF(DR32=\"ปกติ\",SUM(F32,G32,H32,I32,J32,K32,L32,M32,N32,O32,P32,Q32,R32,S32,T32,U32,V32,W32,X32,Y32),\"-\")))","v":"-"},null,"-",null,null,null,null,null,null,null,null,null,null,null,null,null,null,null,null,null,null,null,null,{"$f":"IF(Sheet1!D27=\"\",\"\",IF(COUNTIF(AC32:AS32,\"ร\"),\"ร\",IF(DR32=\"ปกติ\",SUM(AC32,AD32,AE32,AF32,AG32,AH32,AI32,AJ32,AK32,AL32,AM32,AN32,AO32,AP32,AQ32,AR32,AS32),\"-\")))","v":"-"},null,"-",null,null,null,null,null,null,null,null,null,null,null,null,null,null,null,{"$f":"IF(Sheet1!D27=\"\",\"\",IF(COUNTIF(AZ32:BN32,\"ร\"),\"ร\",IF(DR32=\"ปกติ\",SUM(AZ32,BA32,BB32,BC32,BD32,BE32,BF32,BG32,BH32,BI32,BJ32,BK32,BL32,BM32,BN32),\"-\")))","v":"-"},null,"-",null,null,null,null,null,null,null,null,null,null,null,null,null,null,null,{"$f":"IF(Sheet1!D27=\"\",\"\",IF(COUNTIF(BR32:CF32,\"ร\"),\"ร\",IF(DR32=\"ปกติ\",SUM(BR32,BS32,BT32,BU32,BV32,BW32,BX32,BY32,BZ32,CA32,CB32,CC32,CD32,CE32,CF32),\"-\")))","v":"-"},null,"-",null,null,null,null,null,{"$f":"IF(Sheet1!D27=\"\",\"\",IF(CJ32=\"\",\"\",(IF(CK32=\"\",\"\",(IF(CL32=\"\",\"\",(IF(CM32=\"\",\"\",(IF(CN32=\"\",\"\",(SUM(CJ32:CN32))))))))))))","v":""},"","",null,null,null,null,null,null,null,null,"","-","-","-",null,{"$f":"IF(Sheet1!D27=\"\",\"\",IF(COUNTIF(DA32:DC32,\"ร\"),\"ร\",IF(DC32=\"ร\",\"ร\",IF(DR32=\"ปกติ\",SUM(DA32:DB32,IF(DD32=\"\",DC32,DD32)),\"-\"))))","v":"-"},null,"",null,"",null,null,{"$f":"IF(Sheet1!D27=\"\",\"\",IF(DE32=\"\",\"\",IF(COUNTIF(DA32:DJ32,\"ร\"),\"ร\",IF(COUNTIF(DA32:DJ32,\"-\"),\"-\",IF(DR32=\"ปกติ\",ROUNDDOWN(SUM(DE32,IF(DJ32=\"\",DI32,DJ32)),0))))))","v":"-"},null,{"$f":"IF(DL32=\"\",\"\",IF(DR32=\"\",\"\",IF(DR32=\"ย้าย\",\"-\",IF(DR32=\"จำหน่าย\",\"-\",IF(DR32=\"ขาดเรียนนาน\",\"-\",IF(เวลาเรียน!DY34<80,\"มส\",IF(DL32=\"ร\",\"ร\",VLOOKUP(DL32,$DT$19:$DV$26,3))))))))","v":""},null,null,null,{"$f":"IF(เวลาเรียน!DZ34=\"\",\"\",เวลาเรียน!DZ34)","v":""}]
[27,2523,{"$f":"CONCATENATE(Sheet1!B28)","v":"15720"},{"$f":"CONCATENATE(Sheet1!C28&Sheet1!D28&\"    \"&Sheet1!E28)","v":"เด็กชายภูริณัฐ    โรยอุตระ"},27,null,null,null,null,null,null,null,null,null,null,null,null,null,null,null,null,null,null,null,null,{"$f":"IF(Sheet1!D28=\"\",\"\",IF(COUNTIF(F33:V33,\"ร\"),\"ร\",IF(DR33=\"ปกติ\",SUM(F33,G33,H33,I33,J33,K33,L33,M33,N33,O33,P33,Q33,R33,S33,T33,U33,V33,W33,X33,Y33),\"-\")))","v":"-"},null,"-",null,null,null,null,null,null,null,null,null,null,null,null,null,null,null,null,null,null,null,null,{"$f":"IF(Sheet1!D28=\"\",\"\",IF(COUNTIF(AC33:AS33,\"ร\"),\"ร\",IF(DR33=\"ปกติ\",SUM(AC33,AD33,AE33,AF33,AG33,AH33,AI33,AJ33,AK33,AL33,AM33,AN33,AO33,AP33,AQ33,AR33,AS33),\"-\")))","v":"-"},null,"-",null,null,null,null,null,null,null,null,null,null,null,null,null,null,null,{"$f":"IF(Sheet1!D28=\"\",\"\",IF(COUNTIF(AZ33:BN33,\"ร\"),\"ร\",IF(DR33=\"ปกติ\",SUM(AZ33,BA33,BB33,BC33,BD33,BE33,BF33,BG33,BH33,BI33,BJ33,BK33,BL33,BM33,BN33),\"-\")))","v":"-"},null,"-",null,null,null,null,null,null,null,null,null,null,null,null,null,null,null,{"$f":"IF(Sheet1!D28=\"\",\"\",IF(COUNTIF(BR33:CF33,\"ร\"),\"ร\",IF(DR33=\"ปกติ\",SUM(BR33,BS33,BT33,BU33,BV33,BW33,BX33,BY33,BZ33,CA33,CB33,CC33,CD33,CE33,CF33),\"-\")))","v":"-"},null,"-",null,null,null,null,null,{"$f":"IF(Sheet1!D28=\"\",\"\",IF(CJ33=\"\",\"\",(IF(CK33=\"\",\"\",(IF(CL33=\"\",\"\",(IF(CM33=\"\",\"\",(IF(CN33=\"\",\"\",(SUM(CJ33:CN33))))))))))))","v":""},"","",null,null,null,null,null,null,null,null,"","-","-","-",null,{"$f":"IF(Sheet1!D28=\"\",\"\",IF(COUNTIF(DA33:DC33,\"ร\"),\"ร\",IF(DC33=\"ร\",\"ร\",IF(DR33=\"ปกติ\",SUM(DA33:DB33,IF(DD33=\"\",DC33,DD33)),\"-\"))))","v":"-"},null,"",null,"",null,null,{"$f":"IF(Sheet1!D28=\"\",\"\",IF(DE33=\"\",\"\",IF(COUNTIF(DA33:DJ33,\"ร\"),\"ร\",IF(COUNTIF(DA33:DJ33,\"-\"),\"-\",IF(DR33=\"ปกติ\",ROUNDDOWN(SUM(DE33,IF(DJ33=\"\",DI33,DJ33)),0))))))","v":"-"},null,{"$f":"IF(DL33=\"\",\"\",IF(DR33=\"\",\"\",IF(DR33=\"ย้าย\",\"-\",IF(DR33=\"จำหน่าย\",\"-\",IF(DR33=\"ขาดเรียนนาน\",\"-\",IF(เวลาเรียน!DY35<80,\"มส\",IF(DL33=\"ร\",\"ร\",VLOOKUP(DL33,$DT$19:$DV$26,3))))))))","v":""},null,null,null,{"$f":"IF(เวลาเรียน!DZ35=\"\",\"\",เวลาเรียน!DZ35)","v":""}]
[28,2524,{"$f":"CONCATENATE(Sheet1!B29)","v":"15727"},{"$f":"CONCATENATE(Sheet1!C29&Sheet1!D29&\"    \"&Sheet1!E29)","v":"เด็กชายภานุวัฒน์    เรืองรักษ์"},28,null,null,null,null,null,null,null,null,null,null,null,null,null,null,null,null,null,null,null,null,{"$f":"IF(Sheet1!D29=\"\",\"\",IF(COUNTIF(F34:V34,\"ร\"),\"ร\",IF(DR34=\"ปกติ\",SUM(F34,G34,H34,I34,J34,K34,L34,M34,N34,O34,P34,Q34,R34,S34,T34,U34,V34,W34,X34,Y34),\"-\")))","v":"-"},null,"-",null,null,null,null,null,null,null,null,null,null,null,null,null,null,null,null,null,null,null,null,{"$f":"IF(Sheet1!D29=\"\",\"\",IF(COUNTIF(AC34:AS34,\"ร\"),\"ร\",IF(DR34=\"ปกติ\",SUM(AC34,AD34,AE34,AF34,AG34,AH34,AI34,AJ34,AK34,AL34,AM34,AN34,AO34,AP34,AQ34,AR34,AS34),\"-\")))","v":"-"},null,"-",null,null,null,null,null,null,null,null,null,null,null,null,null,null,null,{"$f":"IF(Sheet1!D29=\"\",\"\",IF(COUNTIF(AZ34:BN34,\"ร\"),\"ร\",IF(DR34=\"ปกติ\",SUM(AZ34,BA34,BB34,BC34,BD34,BE34,BF34,BG34,BH34,BI34,BJ34,BK34,BL34,BM34,BN34),\"-\")))","v":"-"},null,"-",null,null,null,null,null,null,null,null,null,null,null,null,null,null,null,{"$f":"IF(Sheet1!D29=\"\",\"\",IF(COUNTIF(BR34:CF34,\"ร\"),\"ร\",IF(DR34=\"ปกติ\",SUM(BR34,BS34,BT34,BU34,BV34,BW34,BX34,BY34,BZ34,CA34,CB34,CC34,CD34,CE34,CF34),\"-\")))","v":"-"},null,"-",null,null,null,null,null,{"$f":"IF(Sheet1!D29=\"\",\"\",IF(CJ34=\"\",\"\",(IF(CK34=\"\",\"\",(IF(CL34=\"\",\"\",(IF(CM34=\"\",\"\",(IF(CN34=\"\",\"\",(SUM(CJ34:CN34))))))))))))","v":""},"","",null,null,null,null,null,null,null,null,"","-","-","-",null,{"$f":"IF(Sheet1!D29=\"\",\"\",IF(COUNTIF(DA34:DC34,\"ร\"),\"ร\",IF(DC34=\"ร\",\"ร\",IF(DR34=\"ปกติ\",SUM(DA34:DB34,IF(DD34=\"\",DC34,DD34)),\"-\"))))","v":"-"},null,"",null,"",null,null,{"$f":"IF(Sheet1!D29=\"\",\"\",IF(DE34=\"\",\"\",IF(COUNTIF(DA34:DJ34,\"ร\"),\"ร\",IF(COUNTIF(DA34:DJ34,\"-\"),\"-\",IF(DR34=\"ปกติ\",ROUNDDOWN(SUM(DE34,IF(DJ34=\"\",DI34,DJ34)),0))))))","v":"-"},null,{"$f":"IF(DL34=\"\",\"\",IF(DR34=\"\",\"\",IF(DR34=\"ย้าย\",\"-\",IF(DR34=\"จำหน่าย\",\"-\",IF(DR34=\"ขาดเรียนนาน\",\"-\",IF(เวลาเรียน!DY36<80,\"มส\",IF(DL34=\"ร\",\"ร\",VLOOKUP(DL34,$DT$19:$DV$26,3))))))))","v":""},null,null,null,{"$f":"IF(เวลาเรียน!DZ36=\"\",\"\",เวลาเรียน!DZ36)","v":""}]
[29,2525,{"$f":"CONCATENATE(Sheet1!B30)","v":"18137"},{"$f":"CONCATENATE(Sheet1!C30&Sheet1!D30&\"    \"&Sheet1!E30)","v":"เด็กชายธนาทิป    อรุณไทย"},29,null,null,null,null,null,null,null,null,null,null,null,null,null,null,null,null,null,null,null,null,{"$f":"IF(Sheet1!D30=\"\",\"\",IF(COUNTIF(F35:V35,\"ร\"),\"ร\",IF(DR35=\"ปกติ\",SUM(F35,G35,H35,I35,J35,K35,L35,M35,N35,O35,P35,Q35,R35,S35,T35,U35,V35,W35,X35,Y35),\"-\")))","v":"-"},null,"-",null,null,null,null,null,null,null,null,null,null,null,null,null,null,null,null,null,null,null,null,{"$f":"IF(Sheet1!D30=\"\",\"\",IF(COUNTIF(AC35:AS35,\"ร\"),\"ร\",IF(DR35=\"ปกติ\",SUM(AC35,AD35,AE35,AF35,AG35,AH35,AI35,AJ35,AK35,AL35,AM35,AN35,AO35,AP35,AQ35,AR35,AS35),\"-\")))","v":"-"},null,"-",null,null,null,null,null,null,null,null,null,null,null,null,null,null,null,{"$f":"IF(Sheet1!D30=\"\",\"\",IF(COUNTIF(AZ35:BN35,\"ร\"),\"ร\",IF(DR35=\"ปกติ\",SUM(AZ35,BA35,BB35,BC35,BD35,BE35,BF35,BG35,BH35,BI35,BJ35,BK35,BL35,BM35,BN35),\"-\")))","v":"-"},null,"-",null,null,null,null,null,null,null,null,null,null,null,null,null,null,null,{"$f":"IF(Sheet1!D30=\"\",\"\",IF(COUNTIF(BR35:CF35,\"ร\"),\"ร\",IF(DR35=\"ปกติ\",SUM(BR35,BS35,BT35,BU35,BV35,BW35,BX35,BY35,BZ35,CA35,CB35,CC35,CD35,CE35,CF35),\"-\")))","v":"-"},null,"-",null,null,null,null,null,{"$f":"IF(Sheet1!D30=\"\",\"\",IF(CJ35=\"\",\"\",(IF(CK35=\"\",\"\",(IF(CL35=\"\",\"\",(IF(CM35=\"\",\"\",(IF(CN35=\"\",\"\",(SUM(CJ35:CN35))))))))))))","v":""},"","",null,null,null,null,null,null,null,null,"","-","-","-",null,{"$f":"IF(Sheet1!D30=\"\",\"\",IF(COUNTIF(DA35:DC35,\"ร\"),\"ร\",IF(DC35=\"ร\",\"ร\",IF(DR35=\"ปกติ\",SUM(DA35:DB35,IF(DD35=\"\",DC35,DD35)),\"-\"))))","v":"-"},null,"",null,"",null,null,{"$f":"IF(Sheet1!D30=\"\",\"\",IF(DE35=\"\",\"\",IF(COUNTIF(DA35:DJ35,\"ร\"),\"ร\",IF(COUNTIF(DA35:DJ35,\"-\"),\"-\",IF(DR35=\"ปกติ\",ROUNDDOWN(SUM(DE35,IF(DJ35=\"\",DI35,DJ35)),0))))))","v":"-"},null,{"$f":"IF(DL35=\"\",\"\",IF(DR35=\"\",\"\",IF(DR35=\"ย้าย\",\"-\",IF(DR35=\"จำหน่าย\",\"-\",IF(DR35=\"ขาดเรียนนาน\",\"-\",IF(เวลาเรียน!DY37<80,\"มส\",IF(DL35=\"ร\",\"ร\",VLOOKUP(DL35,$DT$19:$DV$26,3))))))))","v":""},null,null,null,{"$f":"IF(เวลาเรียน!DZ37=\"\",\"\",เวลาเรียน!DZ37)","v":""}]
[30,2526,{"$f":"CONCATENATE(Sheet1!B31)","v":"18157"},{"$f":"CONCATENATE(Sheet1!C31&Sheet1!D31&\"    \"&Sheet1!E31)","v":"เด็กหญิงเมย์ชญา    นาคพัฒน์"},30,null,null,null,null,null,null,null,null,null,null,null,null,null,null,null,null,null,null,null,null,{"$f":"IF(Sheet1!D31=\"\",\"\",IF(COUNTIF(F36:V36,\"ร\"),\"ร\",IF(DR36=\"ปกติ\",SUM(F36,G36,H36,I36,J36,K36,L36,M36,N36,O36,P36,Q36,R36,S36,T36,U36,V36,W36,X36,Y36),\"-\")))","v":"-"},null,"-",null,null,null,null,null,null,null,null,null,null,null,null,null,null,null,null,null,null,null,null,{"$f":"IF(Sheet1!D31=\"\",\"\",IF(COUNTIF(AC36:AS36,\"ร\"),\"ร\",IF(DR36=\"ปกติ\",SUM(AC36,AD36,AE36,AF36,AG36,AH36,AI36,AJ36,AK36,AL36,AM36,AN36,AO36,AP36,AQ36,AR36,AS36),\"-\")))","v":"-"},null,"-",null,null,null,null,null,null,null,null,null,null,null,null,null,null,null,{"$f":"IF(Sheet1!D31=\"\",\"\",IF(COUNTIF(AZ36:BN36,\"ร\"),\"ร\",IF(DR36=\"ปกติ\",SUM(AZ36,BA36,BB36,BC36,BD36,BE36,BF36,BG36,BH36,BI36,BJ36,BK36,BL36,BM36,BN36),\"-\")))","v":"-"},null,"-",null,null,null,null,null,null,null,null,null,null,null,null,null,null,null,{"$f":"IF(Sheet1!D31=\"\",\"\",IF(COUNTIF(BR36:CF36,\"ร\"),\"ร\",IF(DR36=\"ปกติ\",SUM(BR36,BS36,BT36,BU36,BV36,BW36,BX36,BY36,BZ36,CA36,CB36,CC36,CD36,CE36,CF36),\"-\")))","v":"-"},null,"-",null,null,null,null,null,{"$f":"IF(Sheet1!D31=\"\",\"\",IF(CJ36=\"\",\"\",(IF(CK36=\"\",\"\",(IF(CL36=\"\",\"\",(IF(CM36=\"\",\"\",(IF(CN36=\"\",\"\",(SUM(CJ36:CN36))))))))))))","v":""},"","",null,null,null,null,null,null,null,null,"","-","-","-",null,{"$f":"IF(Sheet1!D31=\"\",\"\",IF(COUNTIF(DA36:DC36,\"ร\"),\"ร\",IF(DC36=\"ร\",\"ร\",IF(DR36=\"ปกติ\",SUM(DA36:DB36,IF(DD36=\"\",DC36,DD36)),\"-\"))))","v":"-"},null,"",null,"",null,null,{"$f":"IF(Sheet1!D31=\"\",\"\",IF(DE36=\"\",\"\",IF(COUNTIF(DA36:DJ36,\"ร\"),\"ร\",IF(COUNTIF(DA36:DJ36,\"-\"),\"-\",IF(DR36=\"ปกติ\",ROUNDDOWN(SUM(DE36,IF(DJ36=\"\",DI36,DJ36)),0))))))","v":"-"},null,{"$f":"IF(DL36=\"\",\"\",IF(DR36=\"\",\"\",IF(DR36=\"ย้าย\",\"-\",IF(DR36=\"จำหน่าย\",\"-\",IF(DR36=\"ขาดเรียนนาน\",\"-\",IF(เวลาเรียน!DY38<80,\"มส\",IF(DL36=\"ร\",\"ร\",VLOOKUP(DL36,$DT$19:$DV$26,3))))))))","v":""},null,null,null,{"$f":"IF(เวลาเรียน!DZ38=\"\",\"\",เวลาเรียน!DZ38)","v":""}]
[31,2528,{"$f":"CONCATENATE(Sheet1!B32)","v":"18158"},{"$f":"CONCATENATE(Sheet1!C32&Sheet1!D32&\"    \"&Sheet1!E32)","v":"เด็กชายพีรณัฐ    จามพัฒน์"},31,null,null,null,null,null,null,null,null,null,null,null,null,null,null,null,null,null,null,null,null,{"$f":"IF(Sheet1!D32=\"\",\"\",IF(COUNTIF(F37:V37,\"ร\"),\"ร\",IF(DR37=\"ปกติ\",SUM(F37,G37,H37,I37,J37,K37,L37,M37,N37,O37,P37,Q37,R37,S37,T37,U37,V37,W37,X37,Y37),\"-\")))","v":"-"},null,"-",null,null,null,null,null,null,null,null,null,null,null,null,null,null,null,null,null,null,null,null,{"$f":"IF(Sheet1!D32=\"\",\"\",IF(COUNTIF(AC37:AS37,\"ร\"),\"ร\",IF(DR37=\"ปกติ\",SUM(AC37,AD37,AE37,AF37,AG37,AH37,AI37,AJ37,AK37,AL37,AM37,AN37,AO37,AP37,AQ37,AR37,AS37),\"-\")))","v":"-"},null,"-",null,null,null,null,null,null,null,null,null,null,null,null,null,null,null,{"$f":"IF(Sheet1!D32=\"\",\"\",IF(COUNTIF(AZ37:BN37,\"ร\"),\"ร\",IF(DR37=\"ปกติ\",SUM(AZ37,BA37,BB37,BC37,BD37,BE37,BF37,BG37,BH37,BI37,BJ37,BK37,BL37,BM37,BN37),\"-\")))","v":"-"},null,"-",null,null,null,null,null,null,null,null,null,null,null,null,null,null,null,{"$f":"IF(Sheet1!D32=\"\",\"\",IF(COUNTIF(BR37:CF37,\"ร\"),\"ร\",IF(DR37=\"ปกติ\",SUM(BR37,BS37,BT37,BU37,BV37,BW37,BX37,BY37,BZ37,CA37,CB37,CC37,CD37,CE37,CF37),\"-\")))","v":"-"},null,"-",null,null,null,null,null,{"$f":"IF(Sheet1!D32=\"\",\"\",IF(CJ37=\"\",\"\",(IF(CK37=\"\",\"\",(IF(CL37=\"\",\"\",(IF(CM37=\"\",\"\",(IF(CN37=\"\",\"\",(SUM(CJ37:CN37))))))))))))","v":""},"","",null,null,null,null,null,null,null,null,"","-","-","-",null,{"$f":"IF(Sheet1!D32=\"\",\"\",IF(COUNTIF(DA37:DC37,\"ร\"),\"ร\",IF(DC37=\"ร\",\"ร\",IF(DR37=\"ปกติ\",SUM(DA37:DB37,IF(DD37=\"\",DC37,DD37)),\"-\"))))","v":"-"},null,"",null,"",null,null,{"$f":"IF(Sheet1!D32=\"\",\"\",IF(DE37=\"\",\"\",IF(COUNTIF(DA37:DJ37,\"ร\"),\"ร\",IF(COUNTIF(DA37:DJ37,\"-\"),\"-\",IF(DR37=\"ปกติ\",ROUNDDOWN(SUM(DE37,IF(DJ37=\"\",DI37,DJ37)),0))))))","v":"-"},null,{"$f":"IF(DL37=\"\",\"\",IF(DR37=\"\",\"\",IF(DR37=\"ย้าย\",\"-\",IF(DR37=\"จำหน่าย\",\"-\",IF(DR37=\"ขาดเรียนนาน\",\"-\",IF(เวลาเรียน!DY39<80,\"มส\",IF(DL37=\"ร\",\"ร\",VLOOKUP(DL37,$DT$19:$DV$26,3))))))))","v":""},null,null,null,{"$f":"IF(เวลาเรียน!DZ39=\"\",\"\",เวลาเรียน!DZ39)","v":""}]
[32,2529,{"$f":"CONCATENATE(Sheet1!B33)","v":"18159"},{"$f":"CONCATENATE(Sheet1!C33&Sheet1!D33&\"    \"&Sheet1!E33)","v":"เด็กชายปิยภัทร    พรหมดำ"},32,null,null,null,null,null,null,null,null,null,null,null,null,null,null,null,null,null,null,null,null,{"$f":"IF(Sheet1!D33=\"\",\"\",IF(COUNTIF(F38:V38,\"ร\"),\"ร\",IF(DR38=\"ปกติ\",SUM(F38,G38,H38,I38,J38,K38,L38,M38,N38,O38,P38,Q38,R38,S38,T38,U38,V38,W38,X38,Y38),\"-\")))","v":"-"},null,"-",null,null,null,null,null,null,null,null,null,null,null,null,null,null,null,null,null,null,null,null,{"$f":"IF(Sheet1!D33=\"\",\"\",IF(COUNTIF(AC38:AS38,\"ร\"),\"ร\",IF(DR38=\"ปกติ\",SUM(AC38,AD38,AE38,AF38,AG38,AH38,AI38,AJ38,AK38,AL38,AM38,AN38,AO38,AP38,AQ38,AR38,AS38),\"-\")))","v":"-"},null,"-",null,null,null,null,null,null,null,null,null,null,null,null,null,null,null,{"$f":"IF(Sheet1!D33=\"\",\"\",IF(COUNTIF(AZ38:BN38,\"ร\"),\"ร\",IF(DR38=\"ปกติ\",SUM(AZ38,BA38,BB38,BC38,BD38,BE38,BF38,BG38,BH38,BI38,BJ38,BK38,BL38,BM38,BN38),\"-\")))","v":"-"},null,"-",null,null,null,null,null,null,null,null,null,null,null,null,null,null,null,{"$f":"IF(Sheet1!D33=\"\",\"\",IF(COUNTIF(BR38:CF38,\"ร\"),\"ร\",IF(DR38=\"ปกติ\",SUM(BR38,BS38,BT38,BU38,BV38,BW38,BX38,BY38,BZ38,CA38,CB38,CC38,CD38,CE38,CF38),\"-\")))","v":"-"},null,"-",null,null,null,null,null,{"$f":"IF(Sheet1!D33=\"\",\"\",IF(CJ38=\"\",\"\",(IF(CK38=\"\",\"\",(IF(CL38=\"\",\"\",(IF(CM38=\"\",\"\",(IF(CN38=\"\",\"\",(SUM(CJ38:CN38))))))))))))","v":""},"","",null,null,null,null,null,null,null,null,"","-","-","-",null,{"$f":"IF(Sheet1!D33=\"\",\"\",IF(COUNTIF(DA38:DC38,\"ร\"),\"ร\",IF(DC38=\"ร\",\"ร\",IF(DR38=\"ปกติ\",SUM(DA38:DB38,IF(DD38=\"\",DC38,DD38)),\"-\"))))","v":"-"},null,"",null,"",null,null,{"$f":"IF(Sheet1!D33=\"\",\"\",IF(DE38=\"\",\"\",IF(COUNTIF(DA38:DJ38,\"ร\"),\"ร\",IF(COUNTIF(DA38:DJ38,\"-\"),\"-\",IF(DR38=\"ปกติ\",ROUNDDOWN(SUM(DE38,IF(DJ38=\"\",DI38,DJ38)),0))))))","v":"-"},null,{"$f":"IF(DL38=\"\",\"\",IF(DR38=\"\",\"\",IF(DR38=\"ย้าย\",\"-\",IF(DR38=\"จำหน่าย\",\"-\",IF(DR38=\"ขาดเรียนนาน\",\"-\",IF(เวลาเรียน!DY40<80,\"มส\",IF(DL38=\"ร\",\"ร\",VLOOKUP(DL38,$DT$19:$DV$26,3))))))))","v":""},null,null,null,{"$f":"IF(เวลาเรียน!DZ40=\"\",\"\",เวลาเรียน!DZ40)","v":""}]
[33,0,{"$f":"CONCATENATE(Sheet1!B34)","v":"18160"},{"$f":"CONCATENATE(Sheet1!C34&Sheet1!D34&\"    \"&Sheet1!E34)","v":"เด็กชายธีรดนย์    คณะเสาวชัย"},33,null,null,null,null,null,null,null,null,null,null,null,null,null,null,null,null,null,null,null,null,{"$f":"IF(Sheet1!D34=\"\",\"\",IF(COUNTIF(F39:V39,\"ร\"),\"ร\",IF(DR39=\"ปกติ\",SUM(F39,G39,H39,I39,J39,K39,L39,M39,N39,O39,P39,Q39,R39,S39,T39,U39,V39,W39,X39,Y39),\"-\")))","v":"-"},null,"-",null,null,null,null,null,null,null,null,null,null,null,null,null,null,null,null,null,null,null,null,{"$f":"IF(Sheet1!D34=\"\",\"\",IF(COUNTIF(AC39:AS39,\"ร\"),\"ร\",IF(DR39=\"ปกติ\",SUM(AC39,AD39,AE39,AF39,AG39,AH39,AI39,AJ39,AK39,AL39,AM39,AN39,AO39,AP39,AQ39,AR39,AS39),\"-\")))","v":"-"},null,"-",null,null,null,null,null,null,null,null,null,null,null,null,null,null,null,{"$f":"IF(Sheet1!D34=\"\",\"\",IF(COUNTIF(AZ39:BN39,\"ร\"),\"ร\",IF(DR39=\"ปกติ\",SUM(AZ39,BA39,BB39,BC39,BD39,BE39,BF39,BG39,BH39,BI39,BJ39,BK39,BL39,BM39,BN39),\"-\")))","v":"-"},null,"-",null,null,null,null,null,null,null,null,null,null,null,null,null,null,null,{"$f":"IF(Sheet1!D34=\"\",\"\",IF(COUNTIF(BR39:CF39,\"ร\"),\"ร\",IF(DR39=\"ปกติ\",SUM(BR39,BS39,BT39,BU39,BV39,BW39,BX39,BY39,BZ39,CA39,CB39,CC39,CD39,CE39,CF39),\"-\")))","v":"-"},null,"-",null,null,null,null,null,{"$f":"IF(Sheet1!D34=\"\",\"\",IF(CJ39=\"\",\"\",(IF(CK39=\"\",\"\",(IF(CL39=\"\",\"\",(IF(CM39=\"\",\"\",(IF(CN39=\"\",\"\",(SUM(CJ39:CN39))))))))))))","v":""},"","",null,null,null,null,null,null,null,null,"",{"$f":"AB39","v":"-"},{"$f":"AY39","v":"-"},{"$f":"BQ39","v":"-"},null,{"$f":"IF(Sheet1!D34=\"\",\"\",IF(COUNTIF(DA39:DC39,\"ร\"),\"ร\",IF(DC39=\"ร\",\"ร\",IF(DR39=\"ปกติ\",SUM(DA39:DB39,IF(DD39=\"\",DC39,DD39)),\"-\"))))","v":"-"},null,"",null,"",null,null,{"$f":"IF(Sheet1!D34=\"\",\"\",IF(DE39=\"\",\"\",IF(COUNTIF(DA39:DJ39,\"ร\"),\"ร\",IF(COUNTIF(DA39:DJ39,\"-\"),\"-\",IF(DR39=\"ปกติ\",ROUNDDOWN(SUM(DE39,IF(DJ39=\"\",DI39,DJ39)),0))))))","v":"-"},null,{"$f":"IF(DL39=\"\",\"\",IF(DR39=\"\",\"\",IF(DR39=\"ย้าย\",\"-\",IF(DR39=\"จำหน่าย\",\"-\",IF(DR39=\"ขาดเรียนนาน\",\"-\",IF(เวลาเรียน!DY41<80,\"มส\",IF(DL39=\"ร\",\"ร\",VLOOKUP(DL39,$DT$19:$DV$26,3))))))))","v":""},null,null,null,{"$f":"IF(เวลาเรียน!DZ41=\"\",\"\",เวลาเรียน!DZ41)","v":""}]
[34,0,{"$f":"CONCATENATE(Sheet1!B35)","v":"18161"},{"$f":"CONCATENATE(Sheet1!C35&Sheet1!D35&\"    \"&Sheet1!E35)","v":"เด็กชายชิษณุพงศ์    เสถียรธนฉัตร์"},34,null,null,null,null,null,null,null,null,null,null,null,null,null,null,null,null,null,null,null,null,{"$f":"IF(Sheet1!D35=\"\",\"\",IF(COUNTIF(F40:V40,\"ร\"),\"ร\",IF(DR40=\"ปกติ\",SUM(F40,G40,H40,I40,J40,K40,L40,M40,N40,O40,P40,Q40,R40,S40,T40,U40,V40,W40,X40,Y40),\"-\")))","v":"-"},null,"-",null,null,null,null,null,null,null,null,null,null,null,null,null,null,null,null,null,null,null,null,{"$f":"IF(Sheet1!D35=\"\",\"\",IF(COUNTIF(AC40:AS40,\"ร\"),\"ร\",IF(DR40=\"ปกติ\",SUM(AC40,AD40,AE40,AF40,AG40,AH40,AI40,AJ40,AK40,AL40,AM40,AN40,AO40,AP40,AQ40,AR40,AS40),\"-\")))","v":"-"},null,"-",null,null,null,null,null,null,null,null,null,null,null,null,null,null,null,{"$f":"IF(Sheet1!D35=\"\",\"\",IF(COUNTIF(AZ40:BN40,\"ร\"),\"ร\",IF(DR40=\"ปกติ\",SUM(AZ40,BA40,BB40,BC40,BD40,BE40,BF40,BG40,BH40,BI40,BJ40,BK40,BL40,BM40,BN40),\"-\")))","v":"-"},null,"-",null,null,null,null,null,null,null,null,null,null,null,null,null,null,null,{"$f":"IF(Sheet1!D35=\"\",\"\",IF(COUNTIF(BR40:CF40,\"ร\"),\"ร\",IF(DR40=\"ปกติ\",SUM(BR40,BS40,BT40,BU40,BV40,BW40,BX40,BY40,BZ40,CA40,CB40,CC40,CD40,CE40,CF40),\"-\")))","v":"-"},null,"-",null,null,null,null,null,{"$f":"IF(Sheet1!D35=\"\",\"\",IF(CJ40=\"\",\"\",(IF(CK40=\"\",\"\",(IF(CL40=\"\",\"\",(IF(CM40=\"\",\"\",(IF(CN40=\"\",\"\",(SUM(CJ40:CN40))))))))))))","v":""},"","",null,null,null,null,null,null,null,null,"","-","-","-",null,{"$f":"IF(Sheet1!D35=\"\",\"\",IF(COUNTIF(DA40:DC40,\"ร\"),\"ร\",IF(DC40=\"ร\",\"ร\",IF(DR40=\"ปกติ\",SUM(DA40:DB40,IF(DD40=\"\",DC40,DD40)),\"-\"))))","v":"-"},null,"",null,"",null,null,{"$f":"IF(Sheet1!D35=\"\",\"\",IF(DE40=\"\",\"\",IF(COUNTIF(DA40:DJ40,\"ร\"),\"ร\",IF(COUNTIF(DA40:DJ40,\"-\"),\"-\",IF(DR40=\"ปกติ\",ROUNDDOWN(SUM(DE40,IF(DJ40=\"\",DI40,DJ40)),0))))))","v":"-"},null,{"$f":"IF(DL40=\"\",\"\",IF(DR40=\"\",\"\",IF(DR40=\"ย้าย\",\"-\",IF(DR40=\"จำหน่าย\",\"-\",IF(DR40=\"ขาดเรียนนาน\",\"-\",IF(เวลาเรียน!DY42<80,\"มส\",IF(DL40=\"ร\",\"ร\",VLOOKUP(DL40,$DT$19:$DV$26,3))))))))","v":""},null,null,null,{"$f":"IF(เวลาเรียน!DZ42=\"\",\"\",เวลาเรียน!DZ42)","v":""}]
[35,0,{"$f":"CONCATENATE(Sheet1!B36)","v":"18163"},{"$f":"CONCATENATE(Sheet1!C36&Sheet1!D36&\"    \"&Sheet1!E36)","v":"เด็กชายทัชชกร    นาคพล"},35,null,null,null,null,null,null,null,null,null,null,null,null,null,null,null,null,null,null,null,null,{"$f":"IF(Sheet1!D36=\"\",\"\",IF(COUNTIF(F41:V41,\"ร\"),\"ร\",IF(DR41=\"ปกติ\",SUM(F41,G41,H41,I41,J41,K41,L41,M41,N41,O41,P41,Q41,R41,S41,T41,U41,V41,W41,X41,Y41),\"-\")))","v":"-"},null,"-",null,null,null,null,null,null,null,null,null,null,null,null,null,null,null,null,null,null,null,null,{"$f":"IF(Sheet1!D36=\"\",\"\",IF(COUNTIF(AC41:AS41,\"ร\"),\"ร\",IF(DR41=\"ปกติ\",SUM(AC41,AD41,AE41,AF41,AG41,AH41,AI41,AJ41,AK41,AL41,AM41,AN41,AO41,AP41,AQ41,AR41,AS41),\"-\")))","v":"-"},null,"-",null,null,null,null,null,null,null,null,null,null,null,null,null,null,null,{"$f":"IF(Sheet1!D36=\"\",\"\",IF(COUNTIF(AZ41:BN41,\"ร\"),\"ร\",IF(DR41=\"ปกติ\",SUM(AZ41,BA41,BB41,BC41,BD41,BE41,BF41,BG41,BH41,BI41,BJ41,BK41,BL41,BM41,BN41),\"-\")))","v":"-"},null,"-",null,null,null,null,null,null,null,null,null,null,null,null,null,null,null,{"$f":"IF(Sheet1!D36=\"\",\"\",IF(COUNTIF(BR41:CF41,\"ร\"),\"ร\",IF(DR41=\"ปกติ\",SUM(BR41,BS41,BT41,BU41,BV41,BW41,BX41,BY41,BZ41,CA41,CB41,CC41,CD41,CE41,CF41),\"-\")))","v":"-"},null,"-",null,null,null,null,null,{"$f":"IF(Sheet1!D36=\"\",\"\",IF(CJ41=\"\",\"\",(IF(CK41=\"\",\"\",(IF(CL41=\"\",\"\",(IF(CM41=\"\",\"\",(IF(CN41=\"\",\"\",(SUM(CJ41:CN41))))))))))))","v":""},"","",null,null,null,null,null,null,null,null,"","-","-","-",null,{"$f":"IF(Sheet1!D36=\"\",\"\",IF(COUNTIF(DA41:DC41,\"ร\"),\"ร\",IF(DC41=\"ร\",\"ร\",IF(DR41=\"ปกติ\",SUM(DA41:DB41,IF(DD41=\"\",DC41,DD41)),\"-\"))))","v":"-"},null,"",null,"",null,null,{"$f":"IF(Sheet1!D36=\"\",\"\",IF(DE41=\"\",\"\",IF(COUNTIF(DA41:DJ41,\"ร\"),\"ร\",IF(COUNTIF(DA41:DJ41,\"-\"),\"-\",IF(DR41=\"ปกติ\",ROUNDDOWN(SUM(DE41,IF(DJ41=\"\",DI41,DJ41)),0))))))","v":"-"},null,{"$f":"IF(DL41=\"\",\"\",IF(DR41=\"\",\"\",IF(DR41=\"ย้าย\",\"-\",IF(DR41=\"จำหน่าย\",\"-\",IF(DR41=\"ขาดเรียนนาน\",\"-\",IF(เวลาเรียน!DY43<80,\"มส\",IF(DL41=\"ร\",\"ร\",VLOOKUP(DL41,$DT$19:$DV$26,3))))))))","v":""},null,null,null,{"$f":"IF(เวลาเรียน!DZ43=\"\",\"\",เวลาเรียน!DZ43)","v":""}]
[36,0,{"$f":"CONCATENATE(Sheet1!B37)","v":"18417"},{"$f":"CONCATENATE(Sheet1!C37&Sheet1!D37&\"    \"&Sheet1!E37)","v":"เด็กชายธนภัทร    สถิตย์วงศ์วรากุล"},36,null,null,null,null,null,null,null,null,null,null,null,null,null,null,null,null,null,null,null,null,{"$f":"IF(Sheet1!D37=\"\",\"\",IF(COUNTIF(F42:V42,\"ร\"),\"ร\",IF(DR42=\"ปกติ\",SUM(F42,G42,H42,I42,J42,K42,L42,M42,N42,O42,P42,Q42,R42,S42,T42,U42,V42,W42,X42,Y42),\"-\")))","v":"-"},null,"-",null,null,null,null,null,null,null,null,null,null,null,null,null,null,null,null,null,null,null,null,{"$f":"IF(Sheet1!D37=\"\",\"\",IF(COUNTIF(AC42:AS42,\"ร\"),\"ร\",IF(DR42=\"ปกติ\",SUM(AC42,AD42,AE42,AF42,AG42,AH42,AI42,AJ42,AK42,AL42,AM42,AN42,AO42,AP42,AQ42,AR42,AS42),\"-\")))","v":"-"},null,"-",null,null,null,null,null,null,null,null,null,null,null,null,null,null,null,{"$f":"IF(Sheet1!D37=\"\",\"\",IF(COUNTIF(AZ42:BN42,\"ร\"),\"ร\",IF(DR42=\"ปกติ\",SUM(AZ42,BA42,BB42,BC42,BD42,BE42,BF42,BG42,BH42,BI42,BJ42,BK42,BL42,BM42,BN42),\"-\")))","v":"-"},null,"-",null,null,null,null,null,null,null,null,null,null,null,null,null,null,null,{"$f":"IF(Sheet1!D37=\"\",\"\",IF(COUNTIF(BR42:CF42,\"ร\"),\"ร\",IF(DR42=\"ปกติ\",SUM(BR42,BS42,BT42,BU42,BV42,BW42,BX42,BY42,BZ42,CA42,CB42,CC42,CD42,CE42,CF42),\"-\")))","v":"-"},null,"-",null,null,null,null,null,{"$f":"IF(Sheet1!D37=\"\",\"\",IF(CJ42=\"\",\"\",(IF(CK42=\"\",\"\",(IF(CL42=\"\",\"\",(IF(CM42=\"\",\"\",(IF(CN42=\"\",\"\",(SUM(CJ42:CN42))))))))))))","v":""},"","",null,null,null,null,null,null,null,null,"","-","-","-",null,{"$f":"IF(Sheet1!D37=\"\",\"\",IF(COUNTIF(DA42:DC42,\"ร\"),\"ร\",IF(DC42=\"ร\",\"ร\",IF(DR42=\"ปกติ\",SUM(DA42:DB42,IF(DD42=\"\",DC42,DD42)),\"-\"))))","v":"-"},null,"",null,"",null,null,{"$f":"IF(Sheet1!D37=\"\",\"\",IF(DE42=\"\",\"\",IF(COUNTIF(DA42:DJ42,\"ร\"),\"ร\",IF(COUNTIF(DA42:DJ42,\"-\"),\"-\",IF(DR42=\"ปกติ\",ROUNDDOWN(SUM(DE42,IF(DJ42=\"\",DI42,DJ42)),0))))))","v":"-"},null,{"$f":"IF(DL42=\"\",\"\",IF(DR42=\"\",\"\",IF(DR42=\"ย้าย\",\"-\",IF(DR42=\"จำหน่าย\",\"-\",IF(DR42=\"ขาดเรียนนาน\",\"-\",IF(เวลาเรียน!DY44<80,\"มส\",IF(DL42=\"ร\",\"ร\",VLOOKUP(DL42,$DT$19:$DV$26,3))))))))","v":""},null,null,null,{"$f":"IF(เวลาเรียน!DZ44=\"\",\"\",เวลาเรียน!DZ44)","v":""}]
[37,0,{"$f":"CONCATENATE(Sheet1!B38)","v":"18806"},{"$f":"CONCATENATE(Sheet1!C38&Sheet1!D38&\"    \"&Sheet1!E38)","v":"เด็กหญิงญาณิศา    ชัยมา"},37,null,null,null,null,null,null,null,null,null,null,null,null,null,null,null,null,null,null,null,null,{"$f":"IF(Sheet1!D38=\"\",\"\",IF(COUNTIF(F43:V43,\"ร\"),\"ร\",IF(DR43=\"ปกติ\",SUM(F43,G43,H43,I43,J43,K43,L43,M43,N43,O43,P43,Q43,R43,S43,T43,U43,V43,W43,X43,Y43),\"-\")))","v":"-"},null,"-",null,null,null,null,null,null,null,null,null,null,null,null,null,null,null,null,null,null,null,null,{"$f":"IF(Sheet1!D38=\"\",\"\",IF(COUNTIF(AC43:AS43,\"ร\"),\"ร\",IF(DR43=\"ปกติ\",SUM(AC43,AD43,AE43,AF43,AG43,AH43,AI43,AJ43,AK43,AL43,AM43,AN43,AO43,AP43,AQ43,AR43,AS43),\"-\")))","v":"-"},null,"-",null,null,null,null,null,null,null,null,null,null,null,null,null,null,null,{"$f":"IF(Sheet1!D38=\"\",\"\",IF(COUNTIF(AZ43:BN43,\"ร\"),\"ร\",IF(DR43=\"ปกติ\",SUM(AZ43,BA43,BB43,BC43,BD43,BE43,BF43,BG43,BH43,BI43,BJ43,BK43,BL43,BM43,BN43),\"-\")))","v":"-"},null,"-",null,null,null,null,null,null,null,null,null,null,null,null,null,null,null,{"$f":"IF(Sheet1!D38=\"\",\"\",IF(COUNTIF(BR43:CF43,\"ร\"),\"ร\",IF(DR43=\"ปกติ\",SUM(BR43,BS43,BT43,BU43,BV43,BW43,BX43,BY43,BZ43,CA43,CB43,CC43,CD43,CE43,CF43),\"-\")))","v":"-"},null,"-",null,null,null,null,null,{"$f":"IF(Sheet1!D38=\"\",\"\",IF(CJ43=\"\",\"\",(IF(CK43=\"\",\"\",(IF(CL43=\"\",\"\",(IF(CM43=\"\",\"\",(IF(CN43=\"\",\"\",(SUM(CJ43:CN43))))))))))))","v":""},"","",null,null,null,null,null,null,null,null,"","-","-","-",null,{"$f":"IF(Sheet1!D38=\"\",\"\",IF(COUNTIF(DA43:DC43,\"ร\"),\"ร\",IF(DC43=\"ร\",\"ร\",IF(DR43=\"ปกติ\",SUM(DA43:DB43,IF(DD43=\"\",DC43,DD43)),\"-\"))))","v":"-"},null,"",null,"",null,null,{"$f":"IF(Sheet1!D38=\"\",\"\",IF(DE43=\"\",\"\",IF(COUNTIF(DA43:DJ43,\"ร\"),\"ร\",IF(COUNTIF(DA43:DJ43,\"-\"),\"-\",IF(DR43=\"ปกติ\",ROUNDDOWN(SUM(DE43,IF(DJ43=\"\",DI43,DJ43)),0))))))","v":"-"},null,{"$f":"IF(DL43=\"\",\"\",IF(DR43=\"\",\"\",IF(DR43=\"ย้าย\",\"-\",IF(DR43=\"จำหน่าย\",\"-\",IF(DR43=\"ขาดเรียนนาน\",\"-\",IF(เวลาเรียน!DY45<80,\"มส\",IF(DL43=\"ร\",\"ร\",VLOOKUP(DL43,$DT$19:$DV$26,3))))))))","v":""},null,null,null,{"$f":"IF(เวลาเรียน!DZ45=\"\",\"\",เวลาเรียน!DZ45)","v":""}]
[38,0,{"$f":"CONCATENATE(Sheet1!B39)","v":""},{"$f":"CONCATENATE(Sheet1!C39&Sheet1!D39&\"    \"&Sheet1!E39)","v":"    "},null,null,null,null,null,null,null,null,null,null,null,null,null,null,null,null,null,null,null,null,null,{"$f":"IF(Sheet1!D39=\"\",\"\",IF(COUNTIF(F44:V44,\"ร\"),\"ร\",IF(DR44=\"ปกติ\",SUM(F44,G44,H44,I44,J44,K44,L44,M44,N44,O44,P44,Q44,R44,S44,T44,U44,V44,W44,X44,Y44),\"-\")))","v":""},null,"",null,null,null,null,null,null,null,null,null,null,null,null,null,null,null,null,null,null,null,null,{"$f":"IF(Sheet1!D39=\"\",\"\",IF(COUNTIF(AC44:AS44,\"ร\"),\"ร\",IF(DR44=\"ปกติ\",SUM(AC44,AD44,AE44,AF44,AG44,AH44,AI44,AJ44,AK44,AL44,AM44,AN44,AO44,AP44,AQ44,AR44,AS44),\"-\")))","v":""},null,"",null,null,null,null,null,null,null,null,null,null,null,null,null,null,null,{"$f":"IF(Sheet1!D39=\"\",\"\",IF(COUNTIF(AZ44:BN44,\"ร\"),\"ร\",IF(DR44=\"ปกติ\",SUM(AZ44,BA44,BB44,BC44,BD44,BE44,BF44,BG44,BH44,BI44,BJ44,BK44,BL44,BM44,BN44),\"-\")))","v":""},null,"",null,null,null,null,null,null,null,null,null,null,null,null,null,null,null,{"$f":"IF(Sheet1!D39=\"\",\"\",IF(COUNTIF(BR44:CF44,\"ร\"),\"ร\",IF(DR44=\"ปกติ\",SUM(BR44,BS44,BT44,BU44,BV44,BW44,BX44,BY44,BZ44,CA44,CB44,CC44,CD44,CE44,CF44),\"-\")))","v":""},null,"",null,null,null,null,null,{"$f":"IF(Sheet1!D39=\"\",\"\",IF(CJ44=\"\",\"\",(IF(CK44=\"\",\"\",(IF(CL44=\"\",\"\",(IF(CM44=\"\",\"\",(IF(CN44=\"\",\"\",(SUM(CJ44:CN44))))))))))))","v":""},"","",null,null,null,null,null,null,null,null,"","","","",null,{"$f":"IF(Sheet1!D39=\"\",\"\",IF(COUNTIF(DA44:DC44,\"ร\"),\"ร\",IF(DC44=\"ร\",\"ร\",IF(DR44=\"ปกติ\",SUM(DA44:DB44,IF(DD44=\"\",DC44,DD44)),\"-\"))))","v":""},null,"",null,"",null,null,{"$f":"IF(Sheet1!D39=\"\",\"\",IF(DE44=\"\",\"\",IF(COUNTIF(DA44:DJ44,\"ร\"),\"ร\",IF(COUNTIF(DA44:DJ44,\"-\"),\"-\",IF(DR44=\"ปกติ\",ROUNDDOWN(SUM(DE44,IF(DJ44=\"\",DI44,DJ44)),0))))))","v":""},null,{"$f":"IF(DL44=\"\",\"\",IF(DR44=\"\",\"\",IF(DR44=\"ย้าย\",\"-\",IF(DR44=\"จำหน่าย\",\"-\",IF(DR44=\"ขาดเรียนนาน\",\"-\",IF(เวลาเรียน!DY46<80,\"มส\",IF(DL44=\"ร\",\"ร\",VLOOKUP(DL44,$DT$19:$DV$26,3))))))))","v":""},null,null,null,{"$f":"IF(เวลาเรียน!DZ46=\"\",\"\",เวลาเรียน!DZ46)","v":""}]
[39,0,{"$f":"CONCATENATE(Sheet1!B40)","v":""},{"$f":"CONCATENATE(Sheet1!C40&Sheet1!D40&\"    \"&Sheet1!E40)","v":"    "},null,null,null,null,null,null,null,null,null,null,null,null,null,null,null,null,null,null,null,null,null,{"$f":"IF(Sheet1!D40=\"\",\"\",IF(COUNTIF(F45:V45,\"ร\"),\"ร\",IF(DR45=\"ปกติ\",SUM(F45,G45,H45,I45,J45,K45,L45,M45,N45,O45,P45,Q45,R45,S45,T45,U45,V45,W45,X45,Y45),\"-\")))","v":""},null,"",null,null,null,null,null,null,null,null,null,null,null,null,null,null,null,null,null,null,null,null,{"$f":"IF(Sheet1!D40=\"\",\"\",IF(COUNTIF(AC45:AS45,\"ร\"),\"ร\",IF(DR45=\"ปกติ\",SUM(AC45,AD45,AE45,AF45,AG45,AH45,AI45,AJ45,AK45,AL45,AM45,AN45,AO45,AP45,AQ45,AR45,AS45),\"-\")))","v":""},null,"",null,null,null,null,null,null,null,null,null,null,null,null,null,null,null,{"$f":"IF(Sheet1!D40=\"\",\"\",IF(COUNTIF(AZ45:BN45,\"ร\"),\"ร\",IF(DR45=\"ปกติ\",SUM(AZ45,BA45,BB45,BC45,BD45,BE45,BF45,BG45,BH45,BI45,BJ45,BK45,BL45,BM45,BN45),\"-\")))","v":""},null,"",null,null,null,null,null,null,null,null,null,null,null,null,null,null,null,{"$f":"IF(Sheet1!D40=\"\",\"\",IF(COUNTIF(BR45:CF45,\"ร\"),\"ร\",IF(DR45=\"ปกติ\",SUM(BR45,BS45,BT45,BU45,BV45,BW45,BX45,BY45,BZ45,CA45,CB45,CC45,CD45,CE45,CF45),\"-\")))","v":""},null,"",null,null,null,null,null,{"$f":"IF(Sheet1!D40=\"\",\"\",IF(CJ45=\"\",\"\",(IF(CK45=\"\",\"\",(IF(CL45=\"\",\"\",(IF(CM45=\"\",\"\",(IF(CN45=\"\",\"\",(SUM(CJ45:CN45))))))))))))","v":""},"","",null,null,null,null,null,null,null,null,"","","","",null,{"$f":"IF(Sheet1!D40=\"\",\"\",IF(COUNTIF(DA45:DC45,\"ร\"),\"ร\",IF(DC45=\"ร\",\"ร\",IF(DR45=\"ปกติ\",SUM(DA45:DB45,IF(DD45=\"\",DC45,DD45)),\"-\"))))","v":""},null,"",null,"",null,null,{"$f":"IF(Sheet1!D40=\"\",\"\",IF(DE45=\"\",\"\",IF(COUNTIF(DA45:DJ45,\"ร\"),\"ร\",IF(COUNTIF(DA45:DJ45,\"-\"),\"-\",IF(DR45=\"ปกติ\",ROUNDDOWN(SUM(DE45,IF(DJ45=\"\",DI45,DJ45)),0))))))","v":""},null,{"$f":"IF(DL45=\"\",\"\",IF(DR45=\"\",\"\",IF(DR45=\"ย้าย\",\"-\",IF(DR45=\"จำหน่าย\",\"-\",IF(DR45=\"ขาดเรียนนาน\",\"-\",IF(เวลาเรียน!DY47<80,\"มส\",IF(DL45=\"ร\",\"ร\",VLOOKUP(DL45,$DT$19:$DV$26,3))))))))","v":""},null,null,null,{"$f":"IF(เวลาเรียน!DZ47=\"\",\"\",เวลาเรียน!DZ47)","v":""}]
[40,0,{"$f":"CONCATENATE(Sheet1!B41)","v":""},{"$f":"CONCATENATE(Sheet1!C41&Sheet1!D41&\"    \"&Sheet1!E41)","v":"    "},null,null,null,null,null,null,null,null,null,null,null,null,null,null,null,null,null,null,null,null,null,{"$f":"IF(Sheet1!D41=\"\",\"\",IF(COUNTIF(F46:V46,\"ร\"),\"ร\",IF(DR46=\"ปกติ\",SUM(F46,G46,H46,I46,J46,K46,L46,M46,N46,O46,P46,Q46,R46,S46,T46,U46,V46,W46,X46,Y46),\"-\")))","v":""},null,"",null,null,null,null,null,null,null,null,null,null,null,null,null,null,null,null,null,null,null,null,{"$f":"IF(Sheet1!D41=\"\",\"\",IF(COUNTIF(AC46:AS46,\"ร\"),\"ร\",IF(DR46=\"ปกติ\",SUM(AC46,AD46,AE46,AF46,AG46,AH46,AI46,AJ46,AK46,AL46,AM46,AN46,AO46,AP46,AQ46,AR46,AS46),\"-\")))","v":""},null,"",null,null,null,null,null,null,null,null,null,null,null,null,null,null,null,{"$f":"IF(Sheet1!D41=\"\",\"\",IF(COUNTIF(AZ46:BN46,\"ร\"),\"ร\",IF(DR46=\"ปกติ\",SUM(AZ46,BA46,BB46,BC46,BD46,BE46,BF46,BG46,BH46,BI46,BJ46,BK46,BL46,BM46,BN46),\"-\")))","v":""},null,"",null,null,null,null,null,null,null,null,null,null,null,null,null,null,null,{"$f":"IF(Sheet1!D41=\"\",\"\",IF(COUNTIF(BR46:CF46,\"ร\"),\"ร\",IF(DR46=\"ปกติ\",SUM(BR46,BS46,BT46,BU46,BV46,BW46,BX46,BY46,BZ46,CA46,CB46,CC46,CD46,CE46,CF46),\"-\")))","v":""},null,"",null,null,null,null,null,{"$f":"IF(Sheet1!D41=\"\",\"\",IF(CJ46=\"\",\"\",(IF(CK46=\"\",\"\",(IF(CL46=\"\",\"\",(IF(CM46=\"\",\"\",(IF(CN46=\"\",\"\",(SUM(CJ46:CN46))))))))))))","v":""},"","",null,null,null,null,null,null,null,null,"","","","",null,{"$f":"IF(Sheet1!D41=\"\",\"\",IF(COUNTIF(DA46:DC46,\"ร\"),\"ร\",IF(DC46=\"ร\",\"ร\",IF(DR46=\"ปกติ\",SUM(DA46:DB46,IF(DD46=\"\",DC46,DD46)),\"-\"))))","v":""},null,"",null,"",null,null,{"$f":"IF(Sheet1!D41=\"\",\"\",IF(DE46=\"\",\"\",IF(COUNTIF(DA46:DJ46,\"ร\"),\"ร\",IF(COUNTIF(DA46:DJ46,\"-\"),\"-\",IF(DR46=\"ปกติ\",ROUNDDOWN(SUM(DE46,IF(DJ46=\"\",DI46,DJ46)),0))))))","v":""},null,{"$f":"IF(DL46=\"\",\"\",IF(DR46=\"\",\"\",IF(DR46=\"ย้าย\",\"-\",IF(DR46=\"จำหน่าย\",\"-\",IF(DR46=\"ขาดเรียนนาน\",\"-\",IF(เวลาเรียน!DY48<80,\"มส\",IF(DL46=\"ร\",\"ร\",VLOOKUP(DL46,$DT$19:$DV$26,3))))))))","v":""},null,null,null,{"$f":"IF(เวลาเรียน!DZ48=\"\",\"\",เวลาเรียน!DZ48)","v":""}]
[36,0,{"$f":"CONCATENATE(Sheet1!B42)","v":""},{"$f":"CONCATENATE(Sheet1!C42&Sheet1!D42&\"    \"&Sheet1!E42)","v":"    "},null,null,null,null,null,null,null,null,null,null,null,null,null,null,null,null,null,null,null,null,null,{"$f":"IF(Sheet1!D42=\"\",\"\",IF(COUNTIF(F47:V47,\"ร\"),\"ร\",IF(DR47=\"ปกติ\",SUM(F47,G47,H47,I47,J47,K47,L47,M47,N47,O47,P47,Q47,R47,S47,T47,U47,V47,W47,X47,Y47),\"-\")))","v":""},null,"",null,null,null,null,null,null,null,null,null,null,null,null,null,null,null,null,null,null,null,null,{"$f":"IF(Sheet1!D42=\"\",\"\",IF(COUNTIF(AC47:AS47,\"ร\"),\"ร\",IF(DR47=\"ปกติ\",SUM(AC47,AD47,AE47,AF47,AG47,AH47,AI47,AJ47,AK47,AL47,AM47,AN47,AO47,AP47,AQ47,AR47,AS47),\"-\")))","v":""},null,"",null,null,null,null,null,null,null,null,null,null,null,null,null,null,null,{"$f":"IF(Sheet1!D42=\"\",\"\",IF(COUNTIF(AZ47:BN47,\"ร\"),\"ร\",IF(DR47=\"ปกติ\",SUM(AZ47,BA47,BB47,BC47,BD47,BE47,BF47,BG47,BH47,BI47,BJ47,BK47,BL47,BM47,BN47),\"-\")))","v":""},null,"",null,null,null,null,null,null,null,null,null,null,null,null,null,null,null,{"$f":"IF(Sheet1!D42=\"\",\"\",IF(COUNTIF(BR47:CF47,\"ร\"),\"ร\",IF(DR47=\"ปกติ\",SUM(BR47,BS47,BT47,BU47,BV47,BW47,BX47,BY47,BZ47,CA47,CB47,CC47,CD47,CE47,CF47),\"-\")))","v":""},null,"",null,null,null,null,null,{"$f":"IF(Sheet1!D42=\"\",\"\",IF(CJ47=\"\",\"\",(IF(CK47=\"\",\"\",(IF(CL47=\"\",\"\",(IF(CM47=\"\",\"\",(IF(CN47=\"\",\"\",(SUM(CJ47:CN47))))))))))))","v":""},"","",null,null,null,null,null,null,null,null,"","","","",null,{"$f":"IF(Sheet1!D42=\"\",\"\",IF(COUNTIF(DA47:DC47,\"ร\"),\"ร\",IF(DC47=\"ร\",\"ร\",IF(DR47=\"ปกติ\",SUM(DA47:DB47,IF(DD47=\"\",DC47,DD47)),\"-\"))))","v":""},null,"",null,"",null,null,{"$f":"IF(Sheet1!D42=\"\",\"\",IF(DE47=\"\",\"\",IF(COUNTIF(DA47:DJ47,\"ร\"),\"ร\",IF(COUNTIF(DA47:DJ47,\"-\"),\"-\",IF(DR47=\"ปกติ\",ROUNDDOWN(SUM(DE47,IF(DJ47=\"\",DI47,DJ47)),0))))))","v":""},null,{"$f":"IF(DL47=\"\",\"\",IF(DR47=\"\",\"\",IF(DR47=\"ย้าย\",\"-\",IF(DR47=\"จำหน่าย\",\"-\",IF(DR47=\"ขาดเรียนนาน\",\"-\",IF(เวลาเรียน!DY49<80,\"มส\",IF(DL47=\"ร\",\"ร\",VLOOKUP(DL47,$DT$19:$DV$26,3))))))))","v":""},null,null,null,{"$f":"IF(เวลาเรียน!DZ49=\"\",\"\",เวลาเรียน!DZ49)","v":""}]
[37,0,{"$f":"CONCATENATE(Sheet1!B43)","v":""},{"$f":"CONCATENATE(Sheet1!C43&Sheet1!D43&\"    \"&Sheet1!E43)","v":"    "},null,null,null,null,null,null,null,null,null,null,null,null,null,null,null,null,null,null,null,null,null,{"$f":"IF(Sheet1!D43=\"\",\"\",IF(COUNTIF(F48:V48,\"ร\"),\"ร\",IF(DR48=\"ปกติ\",SUM(F48,G48,H48,I48,J48,K48,L48,M48,N48,O48,P48,Q48,R48,S48,T48,U48,V48,W48,X48,Y48),\"-\")))","v":""},null,"",null,null,null,null,null,null,null,null,null,null,null,null,null,null,null,null,null,null,null,null,{"$f":"IF(Sheet1!D43=\"\",\"\",IF(COUNTIF(AC48:AS48,\"ร\"),\"ร\",IF(DR48=\"ปกติ\",SUM(AC48,AD48,AE48,AF48,AG48,AH48,AI48,AJ48,AK48,AL48,AM48,AN48,AO48,AP48,AQ48,AR48,AS48),\"-\")))","v":""},null,"",null,null,null,null,null,null,null,null,null,null,null,null,null,null,null,{"$f":"IF(Sheet1!D43=\"\",\"\",IF(COUNTIF(AZ48:BN48,\"ร\"),\"ร\",IF(DR48=\"ปกติ\",SUM(AZ48,BA48,BB48,BC48,BD48,BE48,BF48,BG48,BH48,BI48,BJ48,BK48,BL48,BM48,BN48),\"-\")))","v":""},null,"",null,null,null,null,null,null,null,null,null,null,null,null,null,null,null,{"$f":"IF(Sheet1!D43=\"\",\"\",IF(COUNTIF(BR48:CF48,\"ร\"),\"ร\",IF(DR48=\"ปกติ\",SUM(BR48,BS48,BT48,BU48,BV48,BW48,BX48,BY48,BZ48,CA48,CB48,CC48,CD48,CE48,CF48),\"-\")))","v":""},null,"",null,null,null,null,null,{"$f":"IF(Sheet1!D43=\"\",\"\",IF(CJ48=\"\",\"\",(IF(CK48=\"\",\"\",(IF(CL48=\"\",\"\",(IF(CM48=\"\",\"\",(IF(CN48=\"\",\"\",(SUM(CJ48:CN48))))))))))))","v":""},"","",null,null,null,null,null,null,null,null,"","","","",null,{"$f":"IF(Sheet1!D43=\"\",\"\",IF(COUNTIF(DA48:DC48,\"ร\"),\"ร\",IF(DC48=\"ร\",\"ร\",IF(DR48=\"ปกติ\",SUM(DA48:DB48,IF(DD48=\"\",DC48,DD48)),\"-\"))))","v":""},null,"",null,"",null,null,{"$f":"IF(Sheet1!D43=\"\",\"\",IF(DE48=\"\",\"\",IF(COUNTIF(DA48:DJ48,\"ร\"),\"ร\",IF(COUNTIF(DA48:DJ48,\"-\"),\"-\",IF(DR48=\"ปกติ\",ROUNDDOWN(SUM(DE48,IF(DJ48=\"\",DI48,DJ48)),0))))))","v":""},null,{"$f":"IF(DL48=\"\",\"\",IF(DR48=\"\",\"\",IF(DR48=\"ย้าย\",\"-\",IF(DR48=\"จำหน่าย\",\"-\",IF(DR48=\"ขาดเรียนนาน\",\"-\",IF(เวลาเรียน!DY50<80,\"มส\",IF(DL48=\"ร\",\"ร\",VLOOKUP(DL48,$DT$19:$DV$26,3))))))))","v":""},null,null,null,{"$f":"IF(เวลาเรียน!DZ50=\"\",\"\",เวลาเรียน!DZ50)","v":""}]
[38,0,{"$f":"CONCATENATE(Sheet1!B44)","v":""},{"$f":"CONCATENATE(Sheet1!C44&Sheet1!D44&\"    \"&Sheet1!E44)","v":"    "},null,null,null,null,null,null,null,null,null,null,null,null,null,null,null,null,null,null,null,null,null,{"$f":"IF(Sheet1!D44=\"\",\"\",IF(COUNTIF(F49:V49,\"ร\"),\"ร\",IF(DR49=\"ปกติ\",SUM(F49,G49,H49,I49,J49,K49,L49,M49,N49,O49,P49,Q49,R49,S49,T49,U49,V49,W49,X49,Y49),\"-\")))","v":""},null,"",null,null,null,null,null,null,null,null,null,null,null,null,null,null,null,null,null,null,null,null,{"$f":"IF(Sheet1!D44=\"\",\"\",IF(COUNTIF(AC49:AS49,\"ร\"),\"ร\",IF(DR49=\"ปกติ\",SUM(AC49,AD49,AE49,AF49,AG49,AH49,AI49,AJ49,AK49,AL49,AM49,AN49,AO49,AP49,AQ49,AR49,AS49),\"-\")))","v":""},null,"",null,null,null,null,null,null,null,null,null,null,null,null,null,null,null,{"$f":"IF(Sheet1!D44=\"\",\"\",IF(COUNTIF(AZ49:BN49,\"ร\"),\"ร\",IF(DR49=\"ปกติ\",SUM(AZ49,BA49,BB49,BC49,BD49,BE49,BF49,BG49,BH49,BI49,BJ49,BK49,BL49,BM49,BN49),\"-\")))","v":""},null,"",null,null,null,null,null,null,null,null,null,null,null,null,null,null,null,{"$f":"IF(Sheet1!D44=\"\",\"\",IF(COUNTIF(BR49:CF49,\"ร\"),\"ร\",IF(DR49=\"ปกติ\",SUM(BR49,BS49,BT49,BU49,BV49,BW49,BX49,BY49,BZ49,CA49,CB49,CC49,CD49,CE49,CF49),\"-\")))","v":""},null,"",null,null,null,null,null,{"$f":"IF(Sheet1!D44=\"\",\"\",IF(CJ49=\"\",\"\",(IF(CK49=\"\",\"\",(IF(CL49=\"\",\"\",(IF(CM49=\"\",\"\",(IF(CN49=\"\",\"\",(SUM(CJ49:CN49))))))))))))","v":""},"","",null,null,null,null,null,null,null,null,"","","","",null,{"$f":"IF(Sheet1!D44=\"\",\"\",IF(COUNTIF(DA49:DC49,\"ร\"),\"ร\",IF(DC49=\"ร\",\"ร\",IF(DR49=\"ปกติ\",SUM(DA49:DB49,IF(DD49=\"\",DC49,DD49)),\"-\"))))","v":""},null,"",null,"",null,null,{"$f":"IF(Sheet1!D44=\"\",\"\",IF(DE49=\"\",\"\",IF(COUNTIF(DA49:DJ49,\"ร\"),\"ร\",IF(COUNTIF(DA49:DJ49,\"-\"),\"-\",IF(DR49=\"ปกติ\",ROUNDDOWN(SUM(DE49,IF(DJ49=\"\",DI49,DJ49)),0))))))","v":""},null,{"$f":"IF(DL49=\"\",\"\",IF(DR49=\"\",\"\",IF(DR49=\"ย้าย\",\"-\",IF(DR49=\"จำหน่าย\",\"-\",IF(DR49=\"ขาดเรียนนาน\",\"-\",IF(เวลาเรียน!DY51<80,\"มส\",IF(DL49=\"ร\",\"ร\",VLOOKUP(DL49,$DT$19:$DV$26,3))))))))","v":""},null,null,null,{"$f":"IF(เวลาเรียน!DZ51=\"\",\"\",เวลาเรียน!DZ51)","v":""}]
[39,0,{"$f":"CONCATENATE(Sheet1!B45)","v":""},{"$f":"CONCATENATE(Sheet1!C45&Sheet1!D45&\"    \"&Sheet1!E45)","v":"    "},null,null,null,null,null,null,null,null,null,null,null,null,null,null,null,null,null,null,null,null,null,{"$f":"IF(Sheet1!D45=\"\",\"\",IF(COUNTIF(F50:V50,\"ร\"),\"ร\",IF(DR50=\"ปกติ\",SUM(F50,G50,H50,I50,J50,K50,L50,M50,N50,O50,P50,Q50,R50,S50,T50,U50,V50,W50,X50,Y50),\"-\")))","v":""},null,"",null,null,null,null,null,null,null,null,null,null,null,null,null,null,null,null,null,null,null,null,{"$f":"IF(Sheet1!D45=\"\",\"\",IF(COUNTIF(AC50:AS50,\"ร\"),\"ร\",IF(DR50=\"ปกติ\",SUM(AC50,AD50,AE50,AF50,AG50,AH50,AI50,AJ50,AK50,AL50,AM50,AN50,AO50,AP50,AQ50,AR50,AS50),\"-\")))","v":""},null,"",null,null,null,null,null,null,null,null,null,null,null,null,null,null,null,{"$f":"IF(Sheet1!D45=\"\",\"\",IF(COUNTIF(AZ50:BN50,\"ร\"),\"ร\",IF(DR50=\"ปกติ\",SUM(AZ50,BA50,BB50,BC50,BD50,BE50,BF50,BG50,BH50,BI50,BJ50,BK50,BL50,BM50,BN50),\"-\")))","v":""},null,"",null,null,null,null,null,null,null,null,null,null,null,null,null,null,null,{"$f":"IF(Sheet1!D45=\"\",\"\",IF(COUNTIF(BR50:CF50,\"ร\"),\"ร\",IF(DR50=\"ปกติ\",SUM(BR50,BS50,BT50,BU50,BV50,BW50,BX50,BY50,BZ50,CA50,CB50,CC50,CD50,CE50,CF50),\"-\")))","v":""},null,"",null,null,null,null,null,{"$f":"IF(Sheet1!D45=\"\",\"\",IF(CJ50=\"\",\"\",(IF(CK50=\"\",\"\",(IF(CL50=\"\",\"\",(IF(CM50=\"\",\"\",(IF(CN50=\"\",\"\",(SUM(CJ50:CN50))))))))))))","v":""},"","",null,null,null,null,null,null,null,null,"","","","",null,{"$f":"IF(Sheet1!D45=\"\",\"\",IF(COUNTIF(DA50:DC50,\"ร\"),\"ร\",IF(DC50=\"ร\",\"ร\",IF(DR50=\"ปกติ\",SUM(DA50:DB50,IF(DD50=\"\",DC50,DD50)),\"-\"))))","v":""},null,"",null,"",null,null,{"$f":"IF(Sheet1!D45=\"\",\"\",IF(DE50=\"\",\"\",IF(COUNTIF(DA50:DJ50,\"ร\"),\"ร\",IF(COUNTIF(DA50:DJ50,\"-\"),\"-\",IF(DR50=\"ปกติ\",ROUNDDOWN(SUM(DE50,IF(DJ50=\"\",DI50,DJ50)),0))))))","v":""},null,{"$f":"IF(DL50=\"\",\"\",IF(DR50=\"\",\"\",IF(DR50=\"ย้าย\",\"-\",IF(DR50=\"จำหน่าย\",\"-\",IF(DR50=\"ขาดเรียนนาน\",\"-\",IF(เวลาเรียน!DY52<80,\"มส\",IF(DL50=\"ร\",\"ร\",VLOOKUP(DL50,$DT$19:$DV$26,3))))))))","v":""},null,null,null,{"$f":"IF(เวลาเรียน!DZ52=\"\",\"\",เวลาเรียน!DZ52)","v":""}]
[40,0,{"$f":"CONCATENATE(Sheet1!B46)","v":""},{"$f":"CONCATENATE(Sheet1!C46&Sheet1!D46&\"    \"&Sheet1!E46)","v":"    "},null,null,null,null,null,null,null,null,null,null,null,null,null,null,null,null,null,null,null,null,null,{"$f":"IF(Sheet1!D46=\"\",\"\",IF(COUNTIF(F51:V51,\"ร\"),\"ร\",IF(DR51=\"ปกติ\",SUM(F51,G51,H51,I51,J51,K51,L51,M51,N51,O51,P51,Q51,R51,S51,T51,U51,V51,W51,X51,Y51),\"-\")))","v":""},null,"",null,null,null,null,null,null,null,null,null,null,null,null,null,null,null,null,null,null,null,null,{"$f":"IF(Sheet1!D46=\"\",\"\",IF(COUNTIF(AC51:AS51,\"ร\"),\"ร\",IF(DR51=\"ปกติ\",SUM(AC51,AD51,AE51,AF51,AG51,AH51,AI51,AJ51,AK51,AL51,AM51,AN51,AO51,AP51,AQ51,AR51,AS51),\"-\")))","v":""},null,"",null,null,null,null,null,null,null,null,null,null,null,null,null,null,null,{"$f":"IF(Sheet1!D46=\"\",\"\",IF(COUNTIF(AZ51:BN51,\"ร\"),\"ร\",IF(DR51=\"ปกติ\",SUM(AZ51,BA51,BB51,BC51,BD51,BE51,BF51,BG51,BH51,BI51,BJ51,BK51,BL51,BM51,BN51),\"-\")))","v":""},null,"",null,null,null,null,null,null,null,null,null,null,null,null,null,null,null,{"$f":"IF(Sheet1!D46=\"\",\"\",IF(COUNTIF(BR51:CF51,\"ร\"),\"ร\",IF(DR51=\"ปกติ\",SUM(BR51,BS51,BT51,BU51,BV51,BW51,BX51,BY51,BZ51,CA51,CB51,CC51,CD51,CE51,CF51),\"-\")))","v":""},null,"",null,null,null,null,null,{"$f":"IF(Sheet1!D46=\"\",\"\",IF(CJ51=\"\",\"\",(IF(CK51=\"\",\"\",(IF(CL51=\"\",\"\",(IF(CM51=\"\",\"\",(IF(CN51=\"\",\"\",(SUM(CJ51:CN51))))))))))))","v":""},"","",null,null,null,null,null,null,null,null,"","","","",null,{"$f":"IF(Sheet1!D46=\"\",\"\",IF(COUNTIF(DA51:DC51,\"ร\"),\"ร\",IF(DC51=\"ร\",\"ร\",IF(DR51=\"ปกติ\",SUM(DA51:DB51,IF(DD51=\"\",DC51,DD51)),\"-\"))))","v":""},null,"",null,"",null,null,{"$f":"IF(Sheet1!D46=\"\",\"\",IF(DE51=\"\",\"\",IF(COUNTIF(DA51:DJ51,\"ร\"),\"ร\",IF(COUNTIF(DA51:DJ51,\"-\"),\"-\",IF(DR51=\"ปกติ\",ROUNDDOWN(SUM(DE51,IF(DJ51=\"\",DI51,DJ51)),0))))))","v":""},null,{"$f":"IF(DL51=\"\",\"\",IF(DR51=\"\",\"\",IF(DR51=\"ย้าย\",\"-\",IF(DR51=\"จำหน่าย\",\"-\",IF(DR51=\"ขาดเรียนนาน\",\"-\",IF(เวลาเรียน!DY53<80,\"มส\",IF(DL51=\"ร\",\"ร\",VLOOKUP(DL51,$DT$19:$DV$26,3))))))))","v":""},null,null,null,{"$f":"IF(เวลาเรียน!DZ53=\"\",\"\",เวลาเรียน!DZ53)","v":""}]
[36,0,{"$f":"CONCATENATE(Sheet1!B47)","v":""},{"$f":"CONCATENATE(Sheet1!C47&Sheet1!D47&\"    \"&Sheet1!E47)","v":"    "},null,null,null,null,null,null,null,null,null,null,null,null,null,null,null,null,null,null,null,null,null,{"$f":"IF(Sheet1!D47=\"\",\"\",IF(COUNTIF(F52:V52,\"ร\"),\"ร\",IF(DR52=\"ปกติ\",SUM(F52,G52,H52,I52,J52,K52,L52,M52,N52,O52,P52,Q52,R52,S52,T52,U52,V52,W52,X52,Y52),\"-\")))","v":""},null,"",null,null,null,null,null,null,null,null,null,null,null,null,null,null,null,null,null,null,null,null,{"$f":"IF(Sheet1!D47=\"\",\"\",IF(COUNTIF(AC52:AS52,\"ร\"),\"ร\",IF(DR52=\"ปกติ\",SUM(AC52,AD52,AE52,AF52,AG52,AH52,AI52,AJ52,AK52,AL52,AM52,AN52,AO52,AP52,AQ52,AR52,AS52),\"-\")))","v":""},null,"",null,null,null,null,null,null,null,null,null,null,null,null,null,null,null,{"$f":"IF(Sheet1!D47=\"\",\"\",IF(COUNTIF(AZ52:BN52,\"ร\"),\"ร\",IF(DR52=\"ปกติ\",SUM(AZ52,BA52,BB52,BC52,BD52,BE52,BF52,BG52,BH52,BI52,BJ52,BK52,BL52,BM52,BN52),\"-\")))","v":""},null,"",null,null,null,null,null,null,null,null,null,null,null,null,null,null,null,{"$f":"IF(Sheet1!D47=\"\",\"\",IF(COUNTIF(BR52:CF52,\"ร\"),\"ร\",IF(DR52=\"ปกติ\",SUM(BR52,BS52,BT52,BU52,BV52,BW52,BX52,BY52,BZ52,CA52,CB52,CC52,CD52,CE52,CF52),\"-\")))","v":""},null,"",null,null,null,null,null,{"$f":"IF(Sheet1!D47=\"\",\"\",IF(CJ52=\"\",\"\",(IF(CK52=\"\",\"\",(IF(CL52=\"\",\"\",(IF(CM52=\"\",\"\",(IF(CN52=\"\",\"\",(SUM(CJ52:CN52))))))))))))","v":""},"","",null,null,null,null,null,null,null,null,"","","","",null,{"$f":"IF(Sheet1!D47=\"\",\"\",IF(COUNTIF(DA52:DC52,\"ร\"),\"ร\",IF(DC52=\"ร\",\"ร\",IF(DR52=\"ปกติ\",SUM(DA52:DB52,IF(DD52=\"\",DC52,DD52)),\"-\"))))","v":""},null,"",null,"",null,null,{"$f":"IF(Sheet1!D47=\"\",\"\",IF(DE52=\"\",\"\",IF(COUNTIF(DA52:DJ52,\"ร\"),\"ร\",IF(COUNTIF(DA52:DJ52,\"-\"),\"-\",IF(DR52=\"ปกติ\",ROUNDDOWN(SUM(DE52,IF(DJ52=\"\",DI52,DJ52)),0))))))","v":""},null,{"$f":"IF(DL52=\"\",\"\",IF(DR52=\"\",\"\",IF(DR52=\"ย้าย\",\"-\",IF(DR52=\"จำหน่าย\",\"-\",IF(DR52=\"ขาดเรียนนาน\",\"-\",IF(เวลาเรียน!DY54<80,\"มส\",IF(DL52=\"ร\",\"ร\",VLOOKUP(DL52,$DT$19:$DV$26,3))))))))","v":""},null,null,null,{"$f":"IF(เวลาเรียน!DZ54=\"\",\"\",เวลาเรียน!DZ54)","v":""}]
[37,0,{"$f":"CONCATENATE(Sheet1!B48)","v":""},{"$f":"CONCATENATE(Sheet1!C48&Sheet1!D48&\"    \"&Sheet1!E48)","v":"    "},null,null,null,null,null,null,null,null,null,null,null,null,null,null,null,null,null,null,null,null,null,{"$f":"IF(Sheet1!D48=\"\",\"\",IF(COUNTIF(F53:V53,\"ร\"),\"ร\",IF(DR53=\"ปกติ\",SUM(F53,G53,H53,I53,J53,K53,L53,M53,N53,O53,P53,Q53,R53,S53,T53,U53,V53,W53,X53,Y53),\"-\")))","v":""},null,"",null,null,null,null,null,null,null,null,null,null,null,null,null,null,null,null,null,null,null,null,{"$f":"IF(Sheet1!D48=\"\",\"\",IF(COUNTIF(AC53:AS53,\"ร\"),\"ร\",IF(DR53=\"ปกติ\",SUM(AC53,AD53,AE53,AF53,AG53,AH53,AI53,AJ53,AK53,AL53,AM53,AN53,AO53,AP53,AQ53,AR53,AS53),\"-\")))","v":""},null,"",null,null,null,null,null,null,null,null,null,null,null,null,null,null,null,{"$f":"IF(Sheet1!D48=\"\",\"\",IF(COUNTIF(AZ53:BN53,\"ร\"),\"ร\",IF(DR53=\"ปกติ\",SUM(AZ53,BA53,BB53,BC53,BD53,BE53,BF53,BG53,BH53,BI53,BJ53,BK53,BL53,BM53,BN53),\"-\")))","v":""},null,"",null,null,null,null,null,null,null,null,null,null,null,null,null,null,null,{"$f":"IF(Sheet1!D48=\"\",\"\",IF(COUNTIF(BR53:CF53,\"ร\"),\"ร\",IF(DR53=\"ปกติ\",SUM(BR53,BS53,BT53,BU53,BV53,BW53,BX53,BY53,BZ53,CA53,CB53,CC53,CD53,CE53,CF53),\"-\")))","v":""},null,"",null,null,null,null,null,{"$f":"IF(Sheet1!D48=\"\",\"\",IF(CJ53=\"\",\"\",(IF(CK53=\"\",\"\",(IF(CL53=\"\",\"\",(IF(CM53=\"\",\"\",(IF(CN53=\"\",\"\",(SUM(CJ53:CN53))))))))))))","v":""},"","",null,null,null,null,null,null,null,null,"","","","",null,{"$f":"IF(Sheet1!D48=\"\",\"\",IF(COUNTIF(DA53:DC53,\"ร\"),\"ร\",IF(DC53=\"ร\",\"ร\",IF(DR53=\"ปกติ\",SUM(DA53:DB53,IF(DD53=\"\",DC53,DD53)),\"-\"))))","v":""},null,"",null,"",null,null,{"$f":"IF(Sheet1!D48=\"\",\"\",IF(DE53=\"\",\"\",IF(COUNTIF(DA53:DJ53,\"ร\"),\"ร\",IF(COUNTIF(DA53:DJ53,\"-\"),\"-\",IF(DR53=\"ปกติ\",ROUNDDOWN(SUM(DE53,IF(DJ53=\"\",DI53,DJ53)),0))))))","v":""},null,{"$f":"IF(DL53=\"\",\"\",IF(DR53=\"\",\"\",IF(DR53=\"ย้าย\",\"-\",IF(DR53=\"จำหน่าย\",\"-\",IF(DR53=\"ขาดเรียนนาน\",\"-\",IF(เวลาเรียน!DY55<80,\"มส\",IF(DL53=\"ร\",\"ร\",VLOOKUP(DL53,$DT$19:$DV$26,3))))))))","v":""},null,null,null,{"$f":"IF(เวลาเรียน!DZ55=\"\",\"\",เวลาเรียน!DZ55)","v":""}]
[38,0,{"$f":"CONCATENATE(Sheet1!B49)","v":""},{"$f":"CONCATENATE(Sheet1!C49&Sheet1!D49&\"    \"&Sheet1!E49)","v":"    "},null,null,null,null,null,null,null,null,null,null,null,null,null,null,null,null,null,null,null,null,null,{"$f":"IF(Sheet1!D49=\"\",\"\",IF(COUNTIF(F54:V54,\"ร\"),\"ร\",IF(DR54=\"ปกติ\",SUM(F54,G54,H54,I54,J54,K54,L54,M54,N54,O54,P54,Q54,R54,S54,T54,U54,V54,W54,X54,Y54),\"-\")))","v":""},null,"",null,null,null,null,null,null,null,null,null,null,null,null,null,null,null,null,null,null,null,null,{"$f":"IF(Sheet1!D49=\"\",\"\",IF(COUNTIF(AC54:AS54,\"ร\"),\"ร\",IF(DR54=\"ปกติ\",SUM(AC54,AD54,AE54,AF54,AG54,AH54,AI54,AJ54,AK54,AL54,AM54,AN54,AO54,AP54,AQ54,AR54,AS54),\"-\")))","v":""},null,"",null,null,null,null,null,null,null,null,null,null,null,null,null,null,null,{"$f":"IF(Sheet1!D49=\"\",\"\",IF(COUNTIF(AZ54:BN54,\"ร\"),\"ร\",IF(DR54=\"ปกติ\",SUM(AZ54,BA54,BB54,BC54,BD54,BE54,BF54,BG54,BH54,BI54,BJ54,BK54,BL54,BM54,BN54),\"-\")))","v":""},null,"",null,null,null,null,null,null,null,null,null,null,null,null,null,null,null,{"$f":"IF(Sheet1!D49=\"\",\"\",IF(COUNTIF(BR54:CF54,\"ร\"),\"ร\",IF(DR54=\"ปกติ\",SUM(BR54,BS54,BT54,BU54,BV54,BW54,BX54,BY54,BZ54,CA54,CB54,CC54,CD54,CE54,CF54),\"-\")))","v":""},null,"",null,null,null,null,null,{"$f":"IF(Sheet1!D49=\"\",\"\",IF(CJ54=\"\",\"\",(IF(CK54=\"\",\"\",(IF(CL54=\"\",\"\",(IF(CM54=\"\",\"\",(IF(CN54=\"\",\"\",(SUM(CJ54:CN54))))))))))))","v":""},"","",null,null,null,null,null,null,null,null,"","","","",null,{"$f":"IF(Sheet1!D49=\"\",\"\",IF(COUNTIF(DA54:DC54,\"ร\"),\"ร\",IF(DC54=\"ร\",\"ร\",IF(DR54=\"ปกติ\",SUM(DA54:DB54,IF(DD54=\"\",DC54,DD54)),\"-\"))))","v":""},null,"",null,"",null,null,{"$f":"IF(Sheet1!D49=\"\",\"\",IF(DE54=\"\",\"\",IF(COUNTIF(DA54:DJ54,\"ร\"),\"ร\",IF(COUNTIF(DA54:DJ54,\"-\"),\"-\",IF(DR54=\"ปกติ\",ROUNDDOWN(SUM(DE54,IF(DJ54=\"\",DI54,DJ54)),0))))))","v":""},null,{"$f":"IF(DL54=\"\",\"\",IF(DR54=\"\",\"\",IF(DR54=\"ย้าย\",\"-\",IF(DR54=\"จำหน่าย\",\"-\",IF(DR54=\"ขาดเรียนนาน\",\"-\",IF(เวลาเรียน!DY56<80,\"มส\",IF(DL54=\"ร\",\"ร\",VLOOKUP(DL54,$DT$19:$DV$26,3))))))))","v":""},null,null,null,{"$f":"IF(เวลาเรียน!DZ56=\"\",\"\",เวลาเรียน!DZ56)","v":""}]
[39,0,{"$f":"CONCATENATE(Sheet1!B50)","v":""},{"$f":"CONCATENATE(Sheet1!C50&Sheet1!D50&\"    \"&Sheet1!E50)","v":"    "},null,null,null,null,null,null,null,null,null,null,null,null,null,null,null,null,null,null,null,null,null,{"$f":"IF(Sheet1!D50=\"\",\"\",IF(COUNTIF(F55:V55,\"ร\"),\"ร\",IF(DR55=\"ปกติ\",SUM(F55,G55,H55,I55,J55,K55,L55,M55,N55,O55,P55,Q55,R55,S55,T55,U55,V55,W55,X55,Y55),\"-\")))","v":""},null,"",null,null,null,null,null,null,null,null,null,null,null,null,null,null,null,null,null,null,null,null,{"$f":"IF(Sheet1!D50=\"\",\"\",IF(COUNTIF(AC55:AS55,\"ร\"),\"ร\",IF(DR55=\"ปกติ\",SUM(AC55,AD55,AE55,AF55,AG55,AH55,AI55,AJ55,AK55,AL55,AM55,AN55,AO55,AP55,AQ55,AR55,AS55),\"-\")))","v":""},null,"",null,null,null,null,null,null,null,null,null,null,null,null,null,null,null,{"$f":"IF(Sheet1!D50=\"\",\"\",IF(COUNTIF(AZ55:BN55,\"ร\"),\"ร\",IF(DR55=\"ปกติ\",SUM(AZ55,BA55,BB55,BC55,BD55,BE55,BF55,BG55,BH55,BI55,BJ55,BK55,BL55,BM55,BN55),\"-\")))","v":""},null,"",null,null,null,null,null,null,null,null,null,null,null,null,null,null,null,{"$f":"IF(Sheet1!D50=\"\",\"\",IF(COUNTIF(BR55:CF55,\"ร\"),\"ร\",IF(DR55=\"ปกติ\",SUM(BR55,BS55,BT55,BU55,BV55,BW55,BX55,BY55,BZ55,CA55,CB55,CC55,CD55,CE55,CF55),\"-\")))","v":""},null,"",null,null,null,null,null,{"$f":"IF(Sheet1!D50=\"\",\"\",IF(CJ55=\"\",\"\",(IF(CK55=\"\",\"\",(IF(CL55=\"\",\"\",(IF(CM55=\"\",\"\",(IF(CN55=\"\",\"\",(SUM(CJ55:CN55))))))))))))","v":""},"","",null,null,null,null,null,null,null,null,"","","","",null,{"$f":"IF(Sheet1!D50=\"\",\"\",IF(COUNTIF(DA55:DC55,\"ร\"),\"ร\",IF(DC55=\"ร\",\"ร\",IF(DR55=\"ปกติ\",SUM(DA55:DB55,IF(DD55=\"\",DC55,DD55)),\"-\"))))","v":""},null,"",null,"",null,null,{"$f":"IF(Sheet1!D50=\"\",\"\",IF(DE55=\"\",\"\",IF(COUNTIF(DA55:DJ55,\"ร\"),\"ร\",IF(COUNTIF(DA55:DJ55,\"-\"),\"-\",IF(DR55=\"ปกติ\",ROUNDDOWN(SUM(DE55,IF(DJ55=\"\",DI55,DJ55)),0))))))","v":""},null,{"$f":"IF(DL55=\"\",\"\",IF(DR55=\"\",\"\",IF(DR55=\"ย้าย\",\"-\",IF(DR55=\"จำหน่าย\",\"-\",IF(DR55=\"ขาดเรียนนาน\",\"-\",IF(เวลาเรียน!DY57<80,\"มส\",IF(DL55=\"ร\",\"ร\",VLOOKUP(DL55,$DT$19:$DV$26,3))))))))","v":""},null,null,null,{"$f":"IF(เวลาเรียน!DZ57=\"\",\"\",เวลาเรียน!DZ57)","v":""}]
[40,0,{"$f":"CONCATENATE(Sheet1!B51)","v":""},{"$f":"CONCATENATE(Sheet1!C51&Sheet1!D51&\"    \"&Sheet1!E51)","v":"    "},null,null,null,null,null,null,null,null,null,null,null,null,null,null,null,null,null,null,null,null,null,{"$f":"IF(Sheet1!D51=\"\",\"\",IF(COUNTIF(F56:V56,\"ร\"),\"ร\",IF(DR56=\"ปกติ\",SUM(F56,G56,H56,I56,J56,K56,L56,M56,N56,O56,P56,Q56,R56,S56,T56,U56,V56,W56,X56,Y56),\"-\")))","v":""},null,"",null,null,null,null,null,null,null,null,null,null,null,null,null,null,null,null,null,null,null,null,{"$f":"IF(Sheet1!D51=\"\",\"\",IF(COUNTIF(AC56:AS56,\"ร\"),\"ร\",IF(DR56=\"ปกติ\",SUM(AC56,AD56,AE56,AF56,AG56,AH56,AI56,AJ56,AK56,AL56,AM56,AN56,AO56,AP56,AQ56,AR56,AS56),\"-\")))","v":""},null,"",null,null,null,null,null,null,null,null,null,null,null,null,null,null,null,{"$f":"IF(Sheet1!D51=\"\",\"\",IF(COUNTIF(AZ56:BN56,\"ร\"),\"ร\",IF(DR56=\"ปกติ\",SUM(AZ56,BA56,BB56,BC56,BD56,BE56,BF56,BG56,BH56,BI56,BJ56,BK56,BL56,BM56,BN56),\"-\")))","v":""},null,"",null,null,null,null,null,null,null,null,null,null,null,null,null,null,null,{"$f":"IF(Sheet1!D51=\"\",\"\",IF(COUNTIF(BR56:CF56,\"ร\"),\"ร\",IF(DR56=\"ปกติ\",SUM(BR56,BS56,BT56,BU56,BV56,BW56,BX56,BY56,BZ56,CA56,CB56,CC56,CD56,CE56,CF56),\"-\")))","v":""},null,"",null,null,null,null,null,{"$f":"IF(Sheet1!D51=\"\",\"\",IF(CJ56=\"\",\"\",(IF(CK56=\"\",\"\",(IF(CL56=\"\",\"\",(IF(CM56=\"\",\"\",(IF(CN56=\"\",\"\",(SUM(CJ56:CN56))))))))))))","v":""},"","",null,null,null,null,null,null,null,null,"","","","",null,{"$f":"IF(Sheet1!D51=\"\",\"\",IF(COUNTIF(DA56:DC56,\"ร\"),\"ร\",IF(DC56=\"ร\",\"ร\",IF(DR56=\"ปกติ\",SUM(DA56:DB56,IF(DD56=\"\",DC56,DD56)),\"-\"))))","v":""},null,"",null,"",null,null,{"$f":"IF(Sheet1!D51=\"\",\"\",IF(DE56=\"\",\"\",IF(COUNTIF(DA56:DJ56,\"ร\"),\"ร\",IF(COUNTIF(DA56:DJ56,\"-\"),\"-\",IF(DR56=\"ปกติ\",ROUNDDOWN(SUM(DE56,IF(DJ56=\"\",DI56,DJ56)),0))))))","v":""},null,{"$f":"IF(DL56=\"\",\"\",IF(DR56=\"\",\"\",IF(DR56=\"ย้าย\",\"-\",IF(DR56=\"จำหน่าย\",\"-\",IF(DR56=\"ขาดเรียนนาน\",\"-\",IF(เวลาเรียน!DY58<80,\"มส\",IF(DL56=\"ร\",\"ร\",VLOOKUP(DL56,$DT$19:$DV$26,3))))))))","v":""},null,null,null,{"$f":"IF(เวลาเรียน!DZ58=\"\",\"\",เวลาเรียน!DZ58)","v":""}]
[null,null,{"$f":"กำหนดอัตราส่วนคะแนน!U4","v":50},null,null,{"$f":"IF(D4=\"\",100,IF(D4=\"โรงเรียน100%\",100,IF(D4=\"โรงเรียน90 : กลาง 10\",90,IF(D4=\"โรงเรียน80 : กลาง 20\",80,IF(D4=\"โรงเรียน70 : กลาง 30\",70,IF(D4=\"โรงเรียน60 : กลาง 40\",60,IF(D4=\"โรงเรียน50 : กลาง 50\",50,IF(D4=\"โรงเรียน40 : กลาง 60\",40,IF(D4=\"โรงเรียน30 : กลาง 70\",30,IF(D4=\"โรงเรียน20 : กลาง 80\",20,IF(D4=\"โรงเรียน10 : กลาง 90\",10,IF(D4=\"กลาง 100%\",0))))))))))))","v":false},{"$f":"IF(D4=\"\",0,IF(D4=\"โรงเรียน100%\",0,IF(D4=\"โรงเรียน90 : กลาง 10\",10,IF(D4=\"โรงเรียน80 : กลาง 20\",20,IF(D4=\"โรงเรียน70 : กลาง 30\",30,IF(D4=\"โรงเรียน60 : กลาง 40\",40,IF(D4=\"โรงเรียน50 : กลาง 50\",50,IF(D4=\"โรงเรียน40 : กลาง 60\",60,IF(D4=\"โรงเรียน30 : กลาง 70\",70,IF(D4=\"โรงเรียน20 : กลาง 80\",80,IF(D4=\"โรงเรียน10 : กลาง 90\",90,IF(D4=\"กลาง 100%\",100))))))))))))","v":false},null,null,null,null,null,null,null,null,null,null,null,null,null,null,null,null,null,null,null,null,null,null,null,null,null,null,null,null,null,null,null,null,null,null,null,null,null,null,null,null,null,null,null,null,null,null,null,null,null,null,null,null,null,null,null,null,null,null,null,null,null,null,null,null,null,null,null,null,null,null,null,null,null,null,null,null,null,null,null,null,{"$f":"COUNTIF($CQ$7:$CQ$56,\"ดย\")","v":0},{"$f":"COUNTIF($CQ$7:$CQ$56,\"ด\")","v":0},{"$f":"COUNTIF($CQ$7:$CQ$56,\"ผ\")","v":0},{"$f":"COUNTIF($CQ$7:$CQ$56,\"มผ\")","v":0},null,null,null,null,{"$f":"COUNTIF($CZ$7:$CZ$56,\"ดย\")","v":0},{"$f":"COUNTIF($CZ$7:$CZ$56,\"ด\")","v":0},{"$f":"COUNTIF($CZ$7:$CZ$56,\"ผ\")","v":0},{"$f":"COUNTIF($CZ$7:$CZ$56,\"มผ\")","v":0},null,null,null,null,null,null,null,null,null,null,null,null,null,null,null,null,null,null,null,null,null,null,null,null,null,null,null,null,null,null,null,null,null,null,null,null,null,null,null,null,null,{"$f":"กำหนดอัตราส่วนคะแนน!FA4","v":0},null,null,null,null,null,null,null,null,null,null,null,null,null,null,null,null,null,null,null,null,null,null,null,null,null,null,null,null,null,null,null,null,null,null,null,null,null,null,null,null,null,null,null,null,null,null,null,null,null,null,null,null,null,null,null,null,null,null,null,null,null,null,null,null,null,null,null,null,null,null,null,null,null,null,null,null,null,null,null,null,null,null,null,null,{"$f":"COUNTIF($CQ$7:$CQ$56,\"3\")","v":0},{"$f":"COUNTIF($CQ$7:$CQ$56,\"2\")","v":0},{"$f":"COUNTIF($CQ$7:$CQ$56,\"1\")","v":0},{"$f":"COUNTIF($CQ$7:$CQ$56,\"0\")","v":0},null,null,null,null,{"$f":"COUNTIF($CZ$7:$CZ$56,\"3\")","v":0},{"$f":"COUNTIF($CZ$7:$CZ$56,\"2\")","v":0},{"$f":"COUNTIF($CZ$7:$CZ$56,\"1\")","v":0},{"$f":"COUNTIF($CZ$7:$CZ$56,\"0\")","v":0}]
[]
[]
[]
[]
[]
[]
[]
[]
[]
[]
[]
[]
[]
[]
[]
[]
[]
[]
[]
[]
[]
[]
[]
[]
[]
[]
[]
[]
[]
[]
[]
[]
[]
[]
[]
[]
[]
[]
[]
[]
[null,"ท 1.1",null,null,"ม.1/1",null,null,null,null,null,null,null,null,null,null,null,null,null,null,null,null,null,null,null,null,null,null,null,null,null,null,null,null,null,null,null,null,null,null,null,null,null,null,null,null,null,null,null,null,null,null,null,null,null,null,null,null,null,null,null,null,null,null,null,null,null,null,null,null,null,null,null,null,null,null,null,null,null,null,null,null,null,null,null,null,null,null,null,null,null,null,null,null,null,null,null,null,null,null,null,null,null,null,null,null,null,null,null,null,null,null,null,null,null,null,null,null,null,null,null,null,null,null,null,null,null,null,null,null,null,null,null,null,null,null,null,null,null,null,null,null,null,"ม.1/1"]
[null,"ท 2.1",null,null,"ม.1/2",null,null,null,null,null,null,null,null,null,null,null,null,null,null,null,null,null,null,null,null,null,null,null,null,null,null,null,null,null,null,null,null,null,null,null,null,null,null,null,null,null,null,null,null,null,null,null,null,null,null,null,null,null,null,null,null,null,null,null,null,null,null,null,null,null,null,null,null,null,null,null,null,null,null,null,null,null,null,null,null,null,null,null,null,null,null,null,null,null,null,null,null,null,null,null,null,null,null,null,null,null,null,null,null,null,null,null,null,null,null,null,null,null,null,null,null,null,null,null,null,null,null,null,null,null,null,null,null,null,null,null,null,null,null,null,null,null,"ม.1/2"]
[null,"ท 3.1",null,null,"ม.1/3",null,null,null,null,null,null,null,null,null,null,null,null,null,null,null,null,null,null,null,null,null,null,null,null,null,null,null,null,null,null,null,null,null,null,null,null,null,null,null,null,null,null,null,null,null,null,null,null,null,null,null,null,null,null,null,null,null,null,null,null,null,null,null,null,null,null,null,null,null,null,null,null,null,null,null,null,null,null,null,null,null,null,null,null,null,null,null,null,null,null,null,null,null,null,null,null,null,null,null,null,null,null,null,null,null,null,null,null,null,null,null,null,null,null,null,null,null,null,null,null,null,null,null,null,null,null,null,null,null,null,null,null,null,null,null,null,null,"ม.1/3"]
[null,"ท 4.1",null,null,"ม.1/4",null,null,null,null,null,null,null,null,null,null,null,null,null,null,null,null,null,null,null,null,null,null,null,null,null,null,null,null,null,null,null,null,null,null,null,null,null,null,null,null,null,null,null,null,null,null,null,null,null,null,null,null,null,null,null,null,null,null,null,null,null,null,null,null,null,null,null,null,null,null,null,null,null,null,null,null,null,null,null,null,null,null,null,null,null,null,null,null,null,null,null,null,null,null,null,null,null,null,null,null,null,null,null,null,null,null,null,null,null,null,null,null,null,null,null,null,null,null,null,null,null,null,null,null,null,null,null,null,null,null,null,null,null,null,null,null,null,"ม.1/4"]
[null,"ท 5.1",null,null,"ม.1/5",null,null,null,null,null,null,null,null,null,null,null,null,null,null,null,null,null,null,null,null,null,null,null,null,null,null,null,null,null,null,null,null,null,null,null,null,null,null,null,null,null,null,null,null,null,null,null,null,null,null,null,null,null,null,null,null,null,null,null,null,null,null,null,null,null,null,null,null,null,null,null,null,null,null,null,null,null,null,null,null,null,null,null,null,null,null,null,null,null,null,null,null,null,null,null,null,null,null,null,null,null,null,null,null,null,null,null,null,null,null,null,null,null,null,null,null,null,null,null,null,null,null,null,null,null,null,null,null,null,null,null,null,null,null,null,null,null,"ม.1/5"]
[null,"ค 1.1",null,null,"ม.1/6",null,null,null,null,null,null,null,null,null,null,null,null,null,null,null,null,null,null,null,null,null,null,null,null,null,null,null,null,null,null,null,null,null,null,null,null,null,null,null,null,null,null,null,null,null,null,null,null,null,null,null,null,null,null,null,null,null,null,null,null,null,null,null,null,null,null,null,null,null,null,null,null,null,null,null,null,null,null,null,null,null,null,null,null,null,null,null,null,null,null,null,null,null,null,null,null,null,null,null,null,null,null,null,null,null,null,null,null,null,null,null,null,null,null,null,null,null,null,null,null,null,null,null,null,null,null,null,null,null,null,null,null,null,null,null,null,null,"ม.1/6"]
[null,"ค 1.2",null,null,"ม.1/7",null,null,null,null,null,null,null,null,null,null,null,null,null,null,null,null,null,null,null,null,null,null,null,null,null,null,null,null,null,null,null,null,null,null,null,null,null,null,null,null,null,null,null,null,null,null,null,null,null,null,null,null,null,null,null,null,null,null,null,null,null,null,null,null,null,null,null,null,null,null,null,null,null,null,null,null,null,null,null,null,null,null,null,null,null,null,null,null,null,null,null,null,null,null,null,null,null,null,null,null,null,null,null,null,null,null,null,null,null,null,null,null,null,null,null,null,null,null,null,null,null,null,null,null,null,null,null,null,null,null,null,null,null,null,null,null,null,"ม.1/7"]
[null,"ค 1.3",null,null,"ม.1/8",null,null,null,null,null,null,null,null,null,null,null,null,null,null,null,null,null,null,null,null,null,null,null,null,null,null,null,null,null,null,null,null,null,null,null,null,null,null,null,null,null,null,null,null,null,null,null,null,null,null,null,null,null,null,null,null,null,null,null,null,null,null,null,null,null,null,null,null,null,null,null,null,null,null,null,null,null,null,null,null,null,null,null,null,null,null,null,null,null,null,null,null,null,null,null,null,null,null,null,null,null,null,null,null,null,null,null,null,null,null,null,null,null,null,null,null,null,null,null,null,null,null,null,null,null,null,null,null,null,null,null,null,null,null,null,null,null,"ม.1/8"]
[null,"ค 1.4",null,null,"ม.1/9",null,null,null,null,null,null,null,null,null,null,null,null,null,null,null,null,null,null,null,null,null,null,null,null,null,null,null,null,null,null,null,null,null,null,null,null,null,null,null,null,null,null,null,null,null,null,null,null,null,null,null,null,null,null,null,null,null,null,null,null,null,null,null,null,null,null,null,null,null,null,null,null,null,null,null,null,null,null,null,null,null,null,null,null,null,null,null,null,null,null,null,null,null,null,null,null,null,null,null,null,null,null,null,null,null,null,null,null,null,null,null,null,null,null,null,null,null,null,null,null,null,null,null,null,null,null,null,null,null,null,null,null,null,null,null,null,null,"ม.1/9"]
[null,"ค 2.1",null,null,"ม.1/10",null,null,null,null,null,null,null,null,null,null,null,null,null,null,null,null,null,null,null,null,null,null,null,null,null,null,null,null,null,null,null,null,null,null,null,null,null,null,null,null,null,null,null,null,null,null,null,null,null,null,null,null,null,null,null,null,null,null,null,null,null,null,null,null,null,null,null,null,null,null,null,null,null,null,null,null,null,null,null,null,null,null,null,null,null,null,null,null,null,null,null,null,null,null,null,null,null,null,null,null,null,null,null,null,null,null,null,null,null,null,null,null,null,null,null,null,null,null,null,null,null,null,null,null,null,null,null,null,null,null,null,null,null,null,null,null,null,"ม.1/10"]
[null,"ค 2.2",null,null,"ม.2/1",null,null,null,null,null,null,null,null,null,null,null,null,null,null,null,null,null,null,null,null,null,null,null,null,null,null,null,null,null,null,null,null,null,null,null,null,null,null,null,null,null,null,null,null,null,null,null,null,null,null,null,null,null,null,null,null,null,null,null,null,null,null,null,null,null,null,null,null,null,null,null,null,null,null,null,null,null,null,null,null,null,null,null,null,null,null,null,null,null,null,null,null,null,null,null,null,null,null,null,null,null,null,null,null,null,null,null,null,null,null,null,null,null,null,null,null,null,null,null,null,null,null,null,null,null,null,null,null,null,null,null,null,null,null,null,null,null,"ม.2/1"]
[null,"ค 3.1",null,null,"ม.2/2",null,null,null,null,null,null,null,null,null,null,null,null,null,null,null,null,null,null,null,null,null,null,null,null,null,null,null,null,null,null,null,null,null,null,null,null,null,null,null,null,null,null,null,null,null,null,null,null,null,null,null,null,null,null,null,null,null,null,null,null,null,null,null,null,null,null,null,null,null,null,null,null,null,null,null,null,null,null,null,null,null,null,null,null,null,null,null,null,null,null,null,null,null,null,null,null,null,null,null,null,null,null,null,null,null,null,null,null,null,null,null,null,null,null,null,null,null,null,null,null,null,null,null,null,null,null,null,null,null,null,null,null,null,null,null,null,null,"ม.2/2"]
[null,"ค 3.2",null,null,"ม.2/3",null,null,null,null,null,null,null,null,null,null,null,null,null,null,null,null,null,null,null,null,null,null,null,null,null,null,null,null,null,null,null,null,null,null,null,null,null,null,null,null,null,null,null,null,null,null,null,null,null,null,null,null,null,null,null,null,null,null,null,null,null,null,null,null,null,null,null,null,null,null,null,null,null,null,null,null,null,null,null,null,null,null,null,null,null,null,null,null,null,null,null,null,null,null,null,null,null,null,null,null,null,null,null,null,null,null,null,null,null,null,null,null,null,null,null,null,null,null,null,null,null,null,null,null,null,null,null,null,null,null,null,null,null,null,null,null,null,"ม.2/3"]
[null,"ค 4.1",null,null,"ม.2/4",null,null,null,null,null,null,null,null,null,null,null,null,null,null,null,null,null,null,null,null,null,null,null,null,null,null,null,null,null,null,null,null,null,null,null,null,null,null,null,null,null,null,null,null,null,null,null,null,null,null,null,null,null,null,null,null,null,null,null,null,null,null,null,null,null,null,null,null,null,null,null,null,null,null,null,null,null,null,null,null,null,null,null,null,null,null,null,null,null,null,null,null,null,null,null,null,null,null,null,null,null,null,null,null,null,null,null,null,null,null,null,null,null,null,null,null,null,null,null,null,null,null,null,null,null,null,null,null,null,null,null,null,null,null,null,null,null,"ม.2/4"]
[null,"ค 4.2",null,null,"ม.2/5",null,null,null,null,null,null,null,null,null,null,null,null,null,null,null,null,null,null,null,null,null,null,null,null,null,null,null,null,null,null,null,null,null,null,null,null,null,null,null,null,null,null,null,null,null,null,null,null,null,null,null,null,null,null,null,null,null,null,null,null,null,null,null,null,null,null,null,null,null,null,null,null,null,null,null,null,null,null,null,null,null,null,null,null,null,null,null,null,null,null,null,null,null,null,null,null,null,null,null,null,null,null,null,null,null,null,null,null,null,null,null,null,null,null,null,null,null,null,null,null,null,null,null,null,null,null,null,null,null,null,null,null,null,null,null,null,null,"ม.2/5"]
[null,"ค 5.1",null,null,"ม.2/6",null,null,null,null,null,null,null,null,null,null,null,null,null,null,null,null,null,null,null,null,null,null,null,null,null,null,null,null,null,null,null,null,null,null,null,null,null,null,null,null,null,null,null,null,null,null,null,null,null,null,null,null,null,null,null,null,null,null,null,null,null,null,null,null,null,null,null,null,null,null,null,null,null,null,null,null,null,null,null,null,null,null,null,null,null,null,null,null,null,null,null,null,null,null,null,null,null,null,null,null,null,null,null,null,null,null,null,null,null,null,null,null,null,null,null,null,null,null,null,null,null,null,null,null,null,null,null,null,null,null,null,null,null,null,null,null,null,"ม.2/6"]
[null,"ค 5.2",null,null,"ม.2/7",null,null,null,null,null,null,null,null,null,null,null,null,null,null,null,null,null,null,null,null,null,null,null,null,null,null,null,null,null,null,null,null,null,null,null,null,null,null,null,null,null,null,null,null,null,null,null,null,null,null,null,null,null,null,null,null,null,null,null,null,null,null,null,null,null,null,null,null,null,null,null,null,null,null,null,null,null,null,null,null,null,null,null,null,null,null,null,null,null,null,null,null,null,null,null,null,null,null,null,null,null,null,null,null,null,null,null,null,null,null,null,null,null,null,null,null,null,null,null,null,null,null,null,null,null,null,null,null,null,null,null,null,null,null,null,null,null,"ม.2/7"]
[null,"ค 5.3",null,null,"ม.2/8",null,null,null,null,null,null,null,null,null,null,null,null,null,null,null,null,null,null,null,null,null,null,null,null,null,null,null,null,null,null,null,null,null,null,null,null,null,null,null,null,null,null,null,null,null,null,null,null,null,null,null,null,null,null,null,null,null,null,null,null,null,null,null,null,null,null,null,null,null,null,null,null,null,null,null,null,null,null,null,null,null,null,null,null,null,null,null,null,null,null,null,null,null,null,null,null,null,null,null,null,null,null,null,null,null,null,null,null,null,null,null,null,null,null,null,null,null,null,null,null,null,null,null,null,null,null,null,null,null,null,null,null,null,null,null,null,null,"ม.2/8"]
[null,"ค 6.1",null,null,"ม.2/9",null,null,null,null,null,null,null,null,null,null,null,null,null,null,null,null,null,null,null,null,null,null,null,null,null,null,null,null,null,null,null,null,null,null,null,null,null,null,null,null,null,null,null,null,null,null,null,null,null,null,null,null,null,null,null,null,null,null,null,null,null,null,null,null,null,null,null,null,null,null,null,null,null,null,null,null,null,null,null,null,null,null,null,null,null,null,null,null,null,null,null,null,null,null,null,null,null,null,null,null,null,null,null,null,null,null,null,null,null,null,null,null,null,null,null,null,null,null,null,null,null,null,null,null,null,null,null,null,null,null,null,null,null,null,null,null,null,"ม.2/9"]
[null,"ว 1.1",null,null,"ม.2/10",null,null,null,null,null,null,null,null,null,null,null,null,null,null,null,null,null,null,null,null,null,null,null,null,null,null,null,null,null,null,null,null,null,null,null,null,null,null,null,null,null,null,null,null,null,null,null,null,null,null,null,null,null,null,null,null,null,null,null,null,null,null,null,null,null,null,null,null,null,null,null,null,null,null,null,null,null,null,null,null,null,null,null,null,null,null,null,null,null,null,null,null,null,null,null,null,null,null,null,null,null,null,null,null,null,null,null,null,null,null,null,null,null,null,null,null,null,null,null,null,null,null,null,null,null,null,null,null,null,null,null,null,null,null,null,null,null,"ม.2/10"]
[null,"ว 1.2",null,null,"ม.3/1",null,null,null,null,null,null,null,null,null,null,null,null,null,null,null,null,null,null,null,null,null,null,null,null,null,null,null,null,null,null,null,null,null,null,null,null,null,null,null,null,null,null,null,null,null,null,null,null,null,null,null,null,null,null,null,null,null,null,null,null,null,null,null,null,null,null,null,null,null,null,null,null,null,null,null,null,null,null,null,null,null,null,null,null,null,null,null,null,null,null,null,null,null,null,null,null,null,null,null,null,null,null,null,null,null,null,null,null,null,null,null,null,null,null,null,null,null,null,null,null,null,null,null,null,null,null,null,null,null,null,null,null,null,null,null,null,null,"ม.3/1"]
[null,"ว 2.1",null,null,"ม.3/2",null,null,null,null,null,null,null,null,null,null,null,null,null,null,null,null,null,null,null,null,null,null,null,null,null,null,null,null,null,null,null,null,null,null,null,null,null,null,null,null,null,null,null,null,null,null,null,null,null,null,null,null,null,null,null,null,null,null,null,null,null,null,null,null,null,null,null,null,null,null,null,null,null,null,null,null,null,null,null,null,null,null,null,null,null,null,null,null,null,null,null,null,null,null,null,null,null,null,null,null,null,null,null,null,null,null,null,null,null,null,null,null,null,null,null,null,null,null,null,null,null,null,null,null,null,null,null,null,null,null,null,null,null,null,null,null,null,"ม.3/2"]
[null,"ว 2.2",null,null,"ม.3/3",null,null,null,null,null,null,null,null,null,null,null,null,null,null,null,null,null,null,null,null,null,null,null,null,null,null,null,null,null,null,null,null,null,null,null,null,null,null,null,null,null,null,null,null,null,null,null,null,null,null,null,null,null,null,null,null,null,null,null,null,null,null,null,null,null,null,null,null,null,null,null,null,null,null,null,null,null,null,null,null,null,null,null,null,null,null,null,null,null,null,null,null,null,null,null,null,null,null,null,null,null,null,null,null,null,null,null,null,null,null,null,null,null,null,null,null,null,null,null,null,null,null,null,null,null,null,null,null,null,null,null,null,null,null,null,null,null,"ม.3/3"]
[null,"ว 3.1",null,null,"ม.3/4",null,null,null,null,null,null,null,null,null,null,null,null,null,null,null,null,null,null,null,null,null,null,null,null,null,null,null,null,null,null,null,null,null,null,null,null,null,null,null,null,null,null,null,null,null,null,null,null,null,null,null,null,null,null,null,null,null,null,null,null,null,null,null,null,null,null,null,null,null,null,null,null,null,null,null,null,null,null,null,null,null,null,null,null,null,null,null,null,null,null,null,null,null,null,null,null,null,null,null,null,null,null,null,null,null,null,null,null,null,null,null,null,null,null,null,null,null,null,null,null,null,null,null,null,null,null,null,null,null,null,null,null,null,null,null,null,null,"ม.3/4"]
[null,"ว 3.2",null,null,"ม.3/5",null,null,null,null,null,null,null,null,null,null,null,null,null,null,null,null,null,null,null,null,null,null,null,null,null,null,null,null,null,null,null,null,null,null,null,null,null,null,null,null,null,null,null,null,null,null,null,null,null,null,null,null,null,null,null,null,null,null,null,null,null,null,null,null,null,null,null,null,null,null,null,null,null,null,null,null,null,null,null,null,null,null,null,null,null,null,null,null,null,null,null,null,null,null,null,null,null,null,null,null,null,null,null,null,null,null,null,null,null,null,null,null,null,null,null,null,null,null,null,null,null,null,null,null,null,null,null,null,null,null,null,null,null,null,null,null,null,"ม.3/5"]
[null,"ว 4.1",null,null,"ม.3/6",null,null,null,null,null,null,null,null,null,null,null,null,null,null,null,null,null,null,null,null,null,null,null,null,null,null,null,null,null,null,null,null,null,null,null,null,null,null,null,null,null,null,null,null,null,null,null,null,null,null,null,null,null,null,null,null,null,null,null,null,null,null,null,null,null,null,null,null,null,null,null,null,null,null,null,null,null,null,null,null,null,null,null,null,null,null,null,null,null,null,null,null,null,null,null,null,null,null,null,null,null,null,null,null,null,null,null,null,null,null,null,null,null,null,null,null,null,null,null,null,null,null,null,null,null,null,null,null,null,null,null,null,null,null,null,null,null,"ม.3/6"]
[null,"ว 4.2",null,null,"ม.3/7",null,null,null,null,null,null,null,null,null,null,null,null,null,null,null,null,null,null,null,null,null,null,null,null,null,null,null,null,null,null,null,null,null,null,null,null,null,null,null,null,null,null,null,null,null,null,null,null,null,null,null,null,null,null,null,null,null,null,null,null,null,null,null,null,null,null,null,null,null,null,null,null,null,null,null,null,null,null,null,null,null,null,null,null,null,null,null,null,null,null,null,null,null,null,null,null,null,null,null,null,null,null,null,null,null,null,null,null,null,null,null,null,null,null,null,null,null,null,null,null,null,null,null,null,null,null,null,null,null,null,null,null,null,null,null,null,null,"ม.3/7"]
[null,"ว 5.1",null,null,"ม.3/8",null,null,null,null,null,null,null,null,null,null,null,null,null,null,null,null,null,null,null,null,null,null,null,null,null,null,null,null,null,null,null,null,null,null,null,null,null,null,null,null,null,null,null,null,null,null,null,null,null,null,null,null,null,null,null,null,null,null,null,null,null,null,null,null,null,null,null,null,null,null,null,null,null,null,null,null,null,null,null,null,null,null,null,null,null,null,null,null,null,null,null,null,null,null,null,null,null,null,null,null,null,null,null,null,null,null,null,null,null,null,null,null,null,null,null,null,null,null,null,null,null,null,null,null,null,null,null,null,null,null,null,null,null,null,null,null,null,"ม.3/8"]
[null,"ว 6.1",null,null,"ม.3/9",null,null,null,null,null,null,null,null,null,null,null,null,null,null,null,null,null,null,null,null,null,null,null,null,null,null,null,null,null,null,null,null,null,null,null,null,null,null,null,null,null,null,null,null,null,null,null,null,null,null,null,null,null,null,null,null,null,null,null,null,null,null,null,null,null,null,null,null,null,null,null,null,null,null,null,null,null,null,null,null,null,null,null,null,null,null,null,null,null,null,null,null,null,null,null,null,null,null,null,null,null,null,null,null,null,null,null,null,null,null,null,null,null,null,null,null,null,null,null,null,null,null,null,null,null,null,null,null,null,null,null,null,null,null,null,null,null,"ม.3/9"]
[null,"ว 7.1",null,null,"ม.3/10",null,null,null,null,null,null,null,null,null,null,null,null,null,null,null,null,null,null,null,null,null,null,null,null,null,null,null,null,null,null,null,null,null,null,null,null,null,null,null,null,null,null,null,null,null,null,null,null,null,null,null,null,null,null,null,null,null,null,null,null,null,null,null,null,null,null,null,null,null,null,null,null,null,null,null,null,null,null,null,null,null,null,null,null,null,null,null,null,null,null,null,null,null,null,null,null,null,null,null,null,null,null,null,null,null,null,null,null,null,null,null,null,null,null,null,null,null,null,null,null,null,null,null,null,null,null,null,null,null,null,null,null,null,null,null,null,null,"ม.3/10"]
[null,"ว 7.2",null,null,"ม.4-6/1",null,null,null,null,null,null,null,null,null,null,null,null,null,null,null,null,null,null,null,null,null,null,null,null,null,null,null,null,null,null,null,null,null,null,null,null,null,null,null,null,null,null,null,null,null,null,null,null,null,null,null,null,null,null,null,null,null,null,null,null,null,null,null,null,null,null,null,null,null,null,null,null,null,null,null,null,null,null,null,null,null,null,null,null,null,null,null,null,null,null,null,null,null,null,null,null,null,null,null,null,null,null,null,null,null,null,null,null,null,null,null,null,null,null,null,null,null,null,null,null,null,null,null,null,null,null,null,null,null,null,null,null,null,null,null,null,null,"ม.4-6/1"]
[null,"ว 8.1",null,null,"ม.4-6/2",null,null,null,null,null,null,null,null,null,null,null,null,null,null,null,null,null,null,null,null,null,null,null,null,null,null,null,null,null,null,null,null,null,null,null,null,null,null,null,null,null,null,null,null,null,null,null,null,null,null,null,null,null,null,null,null,null,null,null,null,null,null,null,null,null,null,null,null,null,null,null,null,null,null,null,null,null,null,null,null,null,null,null,null,null,null,null,null,null,null,null,null,null,null,null,null,null,null,null,null,null,null,null,null,null,null,null,null,null,null,null,null,null,null,null,null,null,null,null,null,null,null,null,null,null,null,null,null,null,null,null,null,null,null,null,null,null,"ม.4-6/2"]
[null,"ส 1.1",null,null,"ม.4-6/3",null,null,null,null,null,null,null,null,null,null,null,null,null,null,null,null,null,null,null,null,null,null,null,null,null,null,null,null,null,null,null,null,null,null,null,null,null,null,null,null,null,null,null,null,null,null,null,null,null,null,null,null,null,null,null,null,null,null,null,null,null,null,null,null,null,null,null,null,null,null,null,null,null,null,null,null,null,null,null,null,null,null,null,null,null,null,null,null,null,null,null,null,null,null,null,null,null,null,null,null,null,null,null,null,null,null,null,null,null,null,null,null,null,null,null,null,null,null,null,null,null,null,null,null,null,null,null,null,null,null,null,null,null,null,null,null,null,"ม.4-6/3"]
[null,"ส 1.2",null,null,"ม.4-6/4",null,null,null,null,null,null,null,null,null,null,null,null,null,null,null,null,null,null,null,null,null,null,null,null,null,null,null,null,null,null,null,null,null,null,null,null,null,null,null,null,null,null,null,null,null,null,null,null,null,null,null,null,null,null,null,null,null,null,null,null,null,null,null,null,null,null,null,null,null,null,null,null,null,null,null,null,null,null,null,null,null,null,null,null,null,null,null,null,null,null,null,null,null,null,null,null,null,null,null,null,null,null,null,null,null,null,null,null,null,null,null,null,null,null,null,null,null,null,null,null,null,null,null,null,null,null,null,null,null,null,null,null,null,null,null,null,null,"ม.4-6/4"]
[null,"ส 2.1",null,null,"ม.4-6/5",null,null,null,null,null,null,null,null,null,null,null,null,null,null,null,null,null,null,null,null,null,null,null,null,null,null,null,null,null,null,null,null,null,null,null,null,null,null,null,null,null,null,null,null,null,null,null,null,null,null,null,null,null,null,null,null,null,null,null,null,null,null,null,null,null,null,null,null,null,null,null,null,null,null,null,null,null,null,null,null,null,null,null,null,null,null,null,null,null,null,null,null,null,null,null,null,null,null,null,null,null,null,null,null,null,null,null,null,null,null,null,null,null,null,null,null,null,null,null,null,null,null,null,null,null,null,null,null,null,null,null,null,null,null,null,null,null,"ม.4-6/5"]
[null,"ส 2.2",null,null,"ม.4-6/6",null,null,null,null,null,null,null,null,null,null,null,null,null,null,null,null,null,null,null,null,null,null,null,null,null,null,null,null,null,null,null,null,null,null,null,null,null,null,null,null,null,null,null,null,null,null,null,null,null,null,null,null,null,null,null,null,null,null,null,null,null,null,null,null,null,null,null,null,null,null,null,null,null,null,null,null,null,null,null,null,null,null,null,null,null,null,null,null,null,null,null,null,null,null,null,null,null,null,null,null,null,null,null,null,null,null,null,null,null,null,null,null,null,null,null,null,null,null,null,null,null,null,null,null,null,null,null,null,null,null,null,null,null,null,null,null,null,"ม.4-6/6"]
[null,"ส 3.1",null,null,"ม.4-6/7",null,null,null,null,null,null,null,null,null,null,null,null,null,null,null,null,null,null,null,null,null,null,null,null,null,null,null,null,null,null,null,null,null,null,null,null,null,null,null,null,null,null,null,null,null,null,null,null,null,null,null,null,null,null,null,null,null,null,null,null,null,null,null,null,null,null,null,null,null,null,null,null,null,null,null,null,null,null,null,null,null,null,null,null,null,null,null,null,null,null,null,null,null,null,null,null,null,null,null,null,null,null,null,null,null,null,null,null,null,null,null,null,null,null,null,null,null,null,null,null,null,null,null,null,null,null,null,null,null,null,null,null,null,null,null,null,null,"ม.4-6/7"]
[null,"ส 3.2",null,null,"ม.4-6/8",null,null,null,null,null,null,null,null,null,null,null,null,null,null,null,null,null,null,null,null,null,null,null,null,null,null,null,null,null,null,null,null,null,null,null,null,null,null,null,null,null,null,null,null,null,null,null,null,null,null,null,null,null,null,null,null,null,null,null,null,null,null,null,null,null,null,null,null,null,null,null,null,null,null,null,null,null,null,null,null,null,null,null,null,null,null,null,null,null,null,null,null,null,null,null,null,null,null,null,null,null,null,null,null,null,null,null,null,null,null,null,null,null,null,null,null,null,null,null,null,null,null,null,null,null,null,null,null,null,null,null,null,null,null,null,null,null,"ม.4-6/8"]
[null,"ส 4.1",null,null,"ม.4-6/9",null,null,null,null,null,null,null,null,null,null,null,null,null,null,null,null,null,null,null,null,null,null,null,null,null,null,null,null,null,null,null,null,null,null,null,null,null,null,null,null,null,null,null,null,null,null,null,null,null,null,null,null,null,null,null,null,null,null,null,null,null,null,null,null,null,null,null,null,null,null,null,null,null,null,null,null,null,null,null,null,null,null,null,null,null,null,null,null,null,null,null,null,null,null,null,null,null,null,null,null,null,null,null,null,null,null,null,null,null,null,null,null,null,null,null,null,null,null,null,null,null,null,null,null,null,null,null,null,null,null,null,null,null,null,null,null,null,"ม.4-6/9"]
[null,"ส 4.2",null,null,"ม.4-6/10",null,null,null,null,null,null,null,null,null,null,null,null,null,null,null,null,null,null,null,null,null,null,null,null,null,null,null,null,null,null,null,null,null,null,null,null,null,null,null,null,null,null,null,null,null,null,null,null,null,null,null,null,null,null,null,null,null,null,null,null,null,null,null,null,null,null,null,null,null,null,null,null,null,null,null,null,null,null,null,null,null,null,null,null,null,null,null,null,null,null,null,null,null,null,null,null,null,null,null,null,null,null,null,null,null,null,null,null,null,null,null,null,null,null,null,null,null,null,null,null,null,null,null,null,null,null,null,null,null,null,null,null,null,null,null,null,null,"ม.4-6/10"]
[null,"ส 4.2",null,null,"ม.4-6/11",null,null,null,null,null,null,null,null,null,null,null,null,null,null,null,null,null,null,null,null,null,null,null,null,null,null,null,null,null,null,null,null,null,null,null,null,null,null,null,null,null,null,null,null,null,null,null,null,null,null,null,null,null,null,null,null,null,null,null,null,null,null,null,null,null,null,null,null,null,null,null,null,null,null,null,null,null,null,null,null,null,null,null,null,null,null,null,null,null,null,null,null,null,null,null,null,null,null,null,null,null,null,null,null,null,null,null,null,null,null,null,null,null,null,null,null,null,null,null,null,null,null,null,null,null,null,null,null,null,null,null,null,null,null,null,null,null,"ม.4-6/11"]
[null,"ส 5.1",null,null,"ม.4-6/12",null,null,null,null,null,null,null,null,null,null,null,null,null,null,null,null,null,null,null,null,null,null,null,null,null,null,null,null,null,null,null,null,null,null,null,null,null,null,null,null,null,null,null,null,null,null,null,null,null,null,null,null,null,null,null,null,null,null,null,null,null,null,null,null,null,null,null,null,null,null,null,null,null,null,null,null,null,null,null,null,null,null,null,null,null,null,null,null,null,null,null,null,null,null,null,null,null,null,null,null,null,null,null,null,null,null,null,null,null,null,null,null,null,null,null,null,null,null,null,null,null,null,null,null,null,null,null,null,null,null,null,null,null,null,null,null,null,"ม.4-6/12"]
[null,"ส 5.2",null,null,"ม.4-6/13",null,null,null,null,null,null,null,null,null,null,null,null,null,null,null,null,null,null,null,null,null,null,null,null,null,null,null,null,null,null,null,null,null,null,null,null,null,null,null,null,null,null,null,null,null,null,null,null,null,null,null,null,null,null,null,null,null,null,null,null,null,null,null,null,null,null,null,null,null,null,null,null,null,null,null,null,null,null,null,null,null,null,null,null,null,null,null,null,null,null,null,null,null,null,null,null,null,null,null,null,null,null,null,null,null,null,null,null,null,null,null,null,null,null,null,null,null,null,null,null,null,null,null,null,null,null,null,null,null,null,null,null,null,null,null,null,null,"ม.4-6/13"]
[null,"พ 1.1",null,null,"ม.4-6/14",null,null,null,null,null,null,null,null,null,null,null,null,null,null,null,null,null,null,null,null,null,null,null,null,null,null,null,null,null,null,null,null,null,null,null,null,null,null,null,null,null,null,null,null,null,null,null,null,null,null,null,null,null,null,null,null,null,null,null,null,null,null,null,null,null,null,null,null,null,null,null,null,null,null,null,null,null,null,null,null,null,null,null,null,null,null,null,null,null,null,null,null,null,null,null,null,null,null,null,null,null,null,null,null,null,null,null,null,null,null,null,null,null,null,null,null,null,null,null,null,null,null,null,null,null,null,null,null,null,null,null,null,null,null,null,null,null,"ม.4-6/14"]
[null,"พ 2.1",null,null,"ม.4-6/15",null,null,null,null,null,null,null,null,null,null,null,null,null,null,null,null,null,null,null,null,null,null,null,null,null,null,null,null,null,null,null,null,null,null,null,null,null,null,null,null,null,null,null,null,null,null,null,null,null,null,null,null,null,null,null,null,null,null,null,null,null,null,null,null,null,null,null,null,null,null,null,null,null,null,null,null,null,null,null,null,null,null,null,null,null,null,null,null,null,null,null,null,null,null,null,null,null,null,null,null,null,null,null,null,null,null,null,null,null,null,null,null,null,null,null,null,null,null,null,null,null,null,null,null,null,null,null,null,null,null,null,null,null,null,null,null,null,"ม.4-6/15"]
[null,"พ 3.1",null,null,"ม.4-6/16",null,null,null,null,null,null,null,null,null,null,null,null,null,null,null,null,null,null,null,null,null,null,null,null,null,null,null,null,null,null,null,null,null,null,null,null,null,null,null,null,null,null,null,null,null,null,null,null,null,null,null,null,null,null,null,null,null,null,null,null,null,null,null,null,null,null,null,null,null,null,null,null,null,null,null,null,null,null,null,null,null,null,null,null,null,null,null,null,null,null,null,null,null,null,null,null,null,null,null,null,null,null,null,null,null,null,null,null,null,null,null,null,null,null,null,null,null,null,null,null,null,null,null,null,null,null,null,null,null,null,null,null,null,null,null,null,null,"ม.4-6/16"]
[null,"พ 3.2",null,null,"ม.4-6/17",null,null,null,null,null,null,null,null,null,null,null,null,null,null,null,null,null,null,null,null,null,null,null,null,null,null,null,null,null,null,null,null,null,null,null,null,null,null,null,null,null,null,null,null,null,null,null,null,null,null,null,null,null,null,null,null,null,null,null,null,null,null,null,null,null,null,null,null,null,null,null,null,null,null,null,null,null,null,null,null,null,null,null,null,null,null,null,null,null,null,null,null,null,null,null,null,null,null,null,null,null,null,null,null,null,null,null,null,null,null,null,null,null,null,null,null,null,null,null,null,null,null,null,null,null,null,null,null,null,null,null,null,null,null,null,null,null,"ม.4-6/17"]
[null,"พ 4.1",null,null,"ม.4-6/18",null,null,null,null,null,null,null,null,null,null,null,null,null,null,null,null,null,null,null,null,null,null,null,null,null,null,null,null,null,null,null,null,null,null,null,null,null,null,null,null,null,null,null,null,null,null,null,null,null,null,null,null,null,null,null,null,null,null,null,null,null,null,null,null,null,null,null,null,null,null,null,null,null,null,null,null,null,null,null,null,null,null,null,null,null,null,null,null,null,null,null,null,null,null,null,null,null,null,null,null,null,null,null,null,null,null,null,null,null,null,null,null,null,null,null,null,null,null,null,null,null,null,null,null,null,null,null,null,null,null,null,null,null,null,null,null,null,"ม.4-6/18"]
[null,"พ 5.1",null,null,"ม.4-6/19",null,null,null,null,null,null,null,null,null,null,null,null,null,null,null,null,null,null,null,null,null,null,null,null,null,null,null,null,null,null,null,null,null,null,null,null,null,null,null,null,null,null,null,null,null,null,null,null,null,null,null,null,null,null,null,null,null,null,null,null,null,null,null,null,null,null,null,null,null,null,null,null,null,null,null,null,null,null,null,null,null,null,null,null,null,null,null,null,null,null,null,null,null,null,null,null,null,null,null,null,null,null,null,null,null,null,null,null,null,null,null,null,null,null,null,null,null,null,null,null,null,null,null,null,null,null,null,null,null,null,null,null,null,null,null,null,null,"ม.4-6/19"]
[null,"ศ. 1.1",null,null,"ม.4-6/20",null,null,null,null,null,null,null,null,null,null,null,null,null,null,null,null,null,null,null,null,null,null,null,null,null,null,null,null,null,null,null,null,null,null,null,null,null,null,null,null,null,null,null,null,null,null,null,null,null,null,null,null,null,null,null,null,null,null,null,null,null,null,null,null,null,null,null,null,null,null,null,null,null,null,null,null,null,null,null,null,null,null,null,null,null,null,null,null,null,null,null,null,null,null,null,null,null,null,null,null,null,null,null,null,null,null,null,null,null,null,null,null,null,null,null,null,null,null,null,null,null,null,null,null,null,null,null,null,null,null,null,null,null,null,null,null,null,"ม.4-6/20"]
[null,"ศ 1.2",null,null,"ม.4-6/21",null,null,null,null,null,null,null,null,null,null,null,null,null,null,null,null,null,null,null,null,null,null,null,null,null,null,null,null,null,null,null,null,null,null,null,null,null,null,null,null,null,null,null,null,null,null,null,null,null,null,null,null,null,null,null,null,null,null,null,null,null,null,null,null,null,null,null,null,null,null,null,null,null,null,null,null,null,null,null,null,null,null,null,null,null,null,null,null,null,null,null,null,null,null,null,null,null,null,null,null,null,null,null,null,null,null,null,null,null,null,null,null,null,null,null,null,null,null,null,null,null,null,null,null,null,null,null,null,null,null,null,null,null,null,null,null,null,"ม.4-6/21"]
[null,"ศ 2.1",null,null,"ม.4-6/22",null,null,null,null,null,null,null,null,null,null,null,null,null,null,null,null,null,null,null,null,null,null,null,null,null,null,null,null,null,null,null,null,null,null,null,null,null,null,null,null,null,null,null,null,null,null,null,null,null,null,null,null,null,null,null,null,null,null,null,null,null,null,null,null,null,null,null,null,null,null,null,null,null,null,null,null,null,null,null,null,null,null,null,null,null,null,null,null,null,null,null,null,null,null,null,null,null,null,null,null,null,null,null,null,null,null,null,null,null,null,null,null,null,null,null,null,null,null,null,null,null,null,null,null,null,null,null,null,null,null,null,null,null,null,null,null,null,"ม.4-6/22"]
[null,"ศ 2.2",null,null,"ม.4-6/23",null,null,null,null,null,null,null,null,null,null,null,null,null,null,null,null,null,null,null,null,null,null,null,null,null,null,null,null,null,null,null,null,null,null,null,null,null,null,null,null,null,null,null,null,null,null,null,null,null,null,null,null,null,null,null,null,null,null,null,null,null,null,null,null,null,null,null,null,null,null,null,null,null,null,null,null,null,null,null,null,null,null,null,null,null,null,null,null,null,null,null,null,null,null,null,null,null,null,null,null,null,null,null,null,null,null,null,null,null,null,null,null,null,null,null,null,null,null,null,null,null,null,null,null,null,null,null,null,null,null,null,null,null,null,null,null,null,"ม.4-6/23"]
[null,"ศ 3.1",null,null,"ม.4-6/24",null,null,null,null,null,null,null,null,null,null,null,null,null,null,null,null,null,null,null,null,null,null,null,null,null,null,null,null,null,null,null,null,null,null,null,null,null,null,null,null,null,null,null,null,null,null,null,null,null,null,null,null,null,null,null,null,null,null,null,null,null,null,null,null,null,null,null,null,null,null,null,null,null,null,null,null,null,null,null,null,null,null,null,null,null,null,null,null,null,null,null,null,null,null,null,null,null,null,null,null,null,null,null,null,null,null,null,null,null,null,null,null,null,null,null,null,null,null,null,null,null,null,null,null,null,null,null,null,null,null,null,null,null,null,null,null,null,"ม.4-6/24"]
[null,"ศ 3.2",null,null,"ม.4-6/25",null,null,null,null,null,null,null,null,null,null,null,null,null,null,null,null,null,null,null,null,null,null,null,null,null,null,null,null,null,null,null,null,null,null,null,null,null,null,null,null,null,null,null,null,null,null,null,null,null,null,null,null,null,null,null,null,null,null,null,null,null,null,null,null,null,null,null,null,null,null,null,null,null,null,null,null,null,null,null,null,null,null,null,null,null,null,null,null,null,null,null,null,null,null,null,null,null,null,null,null,null,null,null,null,null,null,null,null,null,null,null,null,null,null,null,null,null,null,null,null,null,null,null,null,null,null,null,null,null,null,null,null,null,null,null,null,null,"ม.4-6/25"]
[null,"ง 1.1",null,null,"ม.4-6/26",null,null,null,null,null,null,null,null,null,null,null,null,null,null,null,null,null,null,null,null,null,null,null,null,null,null,null,null,null,null,null,null,null,null,null,null,null,null,null,null,null,null,null,null,null,null,null,null,null,null,null,null,null,null,null,null,null,null,null,null,null,null,null,null,null,null,null,null,null,null,null,null,null,null,null,null,null,null,null,null,null,null,null,null,null,null,null,null,null,null,null,null,null,null,null,null,null,null,null,null,null,null,null,null,null,null,null,null,null,null,null,null,null,null,null,null,null,null,null,null,null,null,null,null,null,null,null,null,null,null,null,null,null,null,null,null,null,"ม.4-6/26"]
[null,"ง 2.1",null,null,"ม.4-6/27",null,null,null,null,null,null,null,null,null,null,null,null,null,null,null,null,null,null,null,null,null,null,null,null,null,null,null,null,null,null,null,null,null,null,null,null,null,null,null,null,null,null,null,null,null,null,null,null,null,null,null,null,null,null,null,null,null,null,null,null,null,null,null,null,null,null,null,null,null,null,null,null,null,null,null,null,null,null,null,null,null,null,null,null,null,null,null,null,null,null,null,null,null,null,null,null,null,null,null,null,null,null,null,null,null,null,null,null,null,null,null,null,null,null,null,null,null,null,null,null,null,null,null,null,null,null,null,null,null,null,null,null,null,null,null,null,null,"ม.4-6/27"]
[null,"ง 3.1",null,null,"ม.4-6/28",null,null,null,null,null,null,null,null,null,null,null,null,null,null,null,null,null,null,null,null,null,null,null,null,null,null,null,null,null,null,null,null,null,null,null,null,null,null,null,null,null,null,null,null,null,null,null,null,null,null,null,null,null,null,null,null,null,null,null,null,null,null,null,null,null,null,null,null,null,null,null,null,null,null,null,null,null,null,null,null,null,null,null,null,null,null,null,null,null,null,null,null,null,null,null,null,null,null,null,null,null,null,null,null,null,null,null,null,null,null,null,null,null,null,null,null,null,null,null,null,null,null,null,null,null,null,null,null,null,null,null,null,null,null,null,null,null,"ม.4-6/28"]
[null,"ง 4.1",null,null,"ม.4-6/29",null,null,null,null,null,null,null,null,null,null,null,null,null,null,null,null,null,null,null,null,null,null,null,null,null,null,null,null,null,null,null,null,null,null,null,null,null,null,null,null,null,null,null,null,null,null,null,null,null,null,null,null,null,null,null,null,null,null,null,null,null,null,null,null,null,null,null,null,null,null,null,null,null,null,null,null,null,null,null,null,null,null,null,null,null,null,null,null,null,null,null,null,null,null,null,null,null,null,null,null,null,null,null,null,null,null,null,null,null,null,null,null,null,null,null,null,null,null,null,null,null,null,null,null,null,null,null,null,null,null,null,null,null,null,null,null,null,"ม.4-6/29"]
[null,"ต 1.1",null,null,"ม.4-6/30",null,null,null,null,null,null,null,null,null,null,null,null,null,null,null,null,null,null,null,null,null,null,null,null,null,null,null,null,null,null,null,null,null,null,null,null,null,null,null,null,null,null,null,null,null,null,null,null,null,null,null,null,null,null,null,null,null,null,null,null,null,null,null,null,null,null,null,null,null,null,null,null,null,null,null,null,null,null,null,null,null,null,null,null,null,null,null,null,null,null,null,null,null,null,null,null,null,null,null,null,null,null,null,null,null,null,null,null,null,null,null,null,null,null,null,null,null,null,null,null,null,null,null,null,null,null,null,null,null,null,null,null,null,null,null,null,null,"ม.4-6/30"]
[null,"ต 1.2"]
[null,"ต 1.3"]
[null,"ต 2.1"]
[null,"ต 2.2"]
[null,"ต 3.1"]
[null,"ต 4.1"]
[null,"ต 4.2"]

{"sheet":"ประเมินตัวชี้วัดเทอม2","index":6,"n_rows":164,"n_cols":191,"rows_kept":164,"cut":false,"hidden":true,"merged":[[4,318,4,319],[4,321,5,321],[4,322,4,323],[4,325,5,325],[4,326,4,327],[4,329,5,329],[4,330,4,331],[4,358,4,359],[4,361,5,361],[4,333,5,333],[4,334,4,335],[4,337,5,337],[4,338,4,339],[4,341,5,341],[4,342,4,343],[4,345,5,345],[4,346,4,347],[4,349,5,349],[4,234,4,235],[4,237,5,237],[4,238,4,239],[4,241,5,241],[4,242,4,243],[4,245,5,245],[4,246,4,247],[4,314,4,315],[4,317,5,317],[4,313,5,313],[4,310,4,311],[4,266,4,267],[4,269,5,269],[4,270,4,271],[4,273,5,273],[4,274,4,275],[3,318,3,321],[3,322,3,325],[3,326,3,329],[3,330,3,333],[3,334,3,337],[3,338,3,341],[3,342,3,345],[3,368,4,368],[4,202,4,203],[4,205,5,205],[4,206,4,207],[4,209,5,209],[4,210,4,211],[4,213,5,213],[4,214,4,215],[4,217,5,217],[4,218,4,219],[4,221,5,221],[4,222,4,223],[4,225,5,225],[4,226,4,227],[4,229,5,229],[4,230,4,231],[4,233,5,233],[3,282,3,285],[3,286,3,289],[3,290,3,293],[3,294,3,297],[3,298,3,301],[3,302,3,305],[3,306,3,309],[3,310,3,313],[3,314,3,317],[3,246,3,249],[3,250,3,253],[3,254,3,257],[3,258,3,261],[3,262,3,265],[3,266,3,269],[3,270,3,273],[3,274,3,277],[3,278,3,281],[3,210,3,213],[3,214,3,217],[3,218,3,221],[3,222,3,225],[3,226,3,229],[3,230,3,233],[3,234,3,237],[3,238,3,241],[3,242,3,245],[1,369,4,369],[2,200,5,200],[2,202,2,205],[2,206,2,209],[2,210,2,213],[2,214,2,217],[2,218,2,221],[2,222,2,225],[2,226,2,229],[2,230,2,233],[2,234,2,237],[2,238,2,241],[2,242,2,245],[2,246,2,249],[2,250,2,253],[2,254,2,257],[2,258,2,261],[2,262,2,265],[2,266,2,269],[2,270,2,273],[2,274,2,277],[2,278,2,281],[2,282,2,285],[2,286,2,289],[1,334,1,337],[1,338,1,341],[1,342,1,345],[1,346,1,349],[1,350,1,353],[1,354,1,357],[1,358,1,361],[1,362,4,362],[1,364,4,364],[2,334,2,337],[2,338,2,341],[2,342,2,345],[2,346,2,349],[2,350,2,353],[2,354,2,357],[2,358,2,361],[3,346,3,349],[3,350,3,353],[3,354,3,357],[3,358,3,361],[4,350,4,351],[4,353,5,353],[4,354,4,355],[4,357,5,357],[0,364,0,367],[0,369,0,371],[0,373,4,373],[0,375,4,375],[1,202,1,205],[1,206,1,209],[1,210,1,213],[1,214,1,217],[1,218,1,221],[1,222,1,225],[1,226,1,229],[1,230,1,233],[1,234,1,237],[1,238,1,241],[1,242,1,245],[1,246,1,249],[1,250,1,253],[1,254,1,257],[1,258,1,261],[1,262,1,265],[1,266,1,269],[1,270,1,273],[1,274,1,277],[1,278,1,281],[0,176,4,176],[1,21,1,24],[1,25,1,28],[1,29,1,32],[1,33,1,36],[1,37,1,40],[1,41,1,44],[1,153,1,156],[1,157,1,160],[1,161,1,164],[1,117,1,120],[1,121,1,124],[1,125,1,128],[1,129,1,132],[1,133,1,136],[1,137,1,140],[1,141,1,144],[1,145,1,148],[1,149,1,152],[1,172,4,172],[2,33,2,36],[2,37,2,40],[1,53,1,56],[1,57,1,60],[1,61,1,64],[1,65,1,68],[1,93,1,96],[1,97,1,100],[1,101,1,104],[0,167,0,170],[0,172,0,174],[4,262,4,263],[4,265,5,265],[0,178,4,178],[1,173,4,173],[1,174,4,174],[3,202,3,205],[3,206,3,209],[4,249,5,249],[4,250,4,251],[4,253,5,253],[4,254,4,255],[4,257,5,257],[4,258,4,259],[4,261,5,261],[2,117,2,120],[2,121,2,124],[2,77,2,80],[1,0,5,0],[1,1,5,1],[1,5,1,8],[1,9,1,12],[1,13,1,16],[1,17,1,20],[1,105,1,108],[1,109,1,112],[1,113,1,116],[1,69,1,72],[1,73,1,76],[1,77,1,80],[1,81,1,84],[1,85,1,88],[1,89,1,92],[1,45,1,48],[1,49,1,52],[2,41,2,44],[2,45,2,48],[2,49,2,52],[2,101,2,104],[2,105,2,108],[2,109,2,112],[2,113,2,116],[1,294,1,297],[1,298,1,301],[1,302,1,305],[1,306,1,309],[2,294,2,297],[2,298,2,301],[2,302,2,305],[2,306,2,309],[1,282,1,285],[1,286,1,289],[1,290,1,293],[2,290,2,293],[1,310,1,313],[1,314,1,317],[1,318,1,321],[1,322,1,325],[1,326,1,329],[1,330,1,333],[1,370,4,370],[1,371,4,371],[2,5,2,8],[2,9,2,12],[2,13,2,16],[2,17,2,20],[2,21,2,24],[2,25,2,28],[1,365,4,365],[1,366,4,366],[1,367,4,367],[2,53,2,56],[2,57,2,60],[2,61,2,64],[2,65,2,68],[2,69,2,72],[2,73,2,76],[2,29,2,32],[2,81,2,84],[2,85,2,88],[2,89,2,92],[2,93,2,96],[2,97,2,100],[2,149,2,152],[2,153,2,156],[2,157,2,160],[2,161,2,164],[2,125,2,128],[2,129,2,132],[2,133,2,136],[2,137,2,140],[2,141,2,144],[2,145,2,148],[2,310,2,313],[2,314,2,317],[2,318,2,321],[2,322,2,325],[2,326,2,329],[2,330,2,333],[3,29,3,32],[3,33,3,36],[3,37,3,40],[3,41,3,44],[3,45,3,48],[3,49,3,52],[3,89,3,92],[3,93,3,96],[3,97,3,100],[3,125,3,128],[3,129,3,132],[3,133,3,136],[3,137,3,140],[3,141,3,144],[3,145,3,148],[3,101,3,104],[3,105,3,108],[3,109,3,112],[3,5,3,8],[3,9,3,12],[3,13,3,16],[3,17,3,20],[3,21,3,24],[3,25,3,28],[3,77,3,80],[3,81,3,84],[3,85,3,88],[3,53,3,56],[3,57,3,60],[3,61,3,64],[3,65,3,68],[3,69,3,72],[3,73,3,76],[3,113,3,116],[3,117,3,120],[3,121,3,124],[3,149,3,152],[3,153,3,156],[3,157,3,160],[3,161,3,164],[3,171,4,171],[4,149,4,150],[4,152,5,152],[4,153,4,154],[4,156,5,156],[4,157,4,158],[4,160,5,160],[4,161,4,162],[4,164,5,164],[1,165,4,165],[1,167,4,167],[1,168,4,168],[1,169,4,169],[1,170,4,170],[4,145,4,146],[4,148,5,148],[4,125,4,126],[4,5,4,6],[4,8,5,8],[4,9,4,10],[4,12,5,12],[4,13,4,14],[4,16,5,16],[4,17,4,18],[4,20,5,20],[4,21,4,22],[4,53,4,54],[4,56,5,56],[4,57,4,58],[4,60,5,60],[4,61,4,62],[4,64,5,64],[4,24,5,24],[4,25,4,26],[4,28,5,28],[4,41,4,42],[4,44,5,44],[4,45,4,46],[4,48,5,48],[4,49,4,50],[4,52,5,52],[4,29,4,30],[4,32,5,32],[4,33,4,34],[4,36,5,36],[4,37,4,38],[4,40,5,40],[4,77,4,78],[4,80,5,80],[4,81,4,82],[4,84,5,84],[4,85,4,86],[4,88,5,88],[4,65,4,66],[4,68,5,68],[4,69,4,70],[4,72,5,72],[4,73,4,74],[4,76,5,76],[4,101,4,102],[4,104,5,104],[4,105,4,106],[4,108,5,108],[4,109,4,110],[4,112,5,112],[4,89,4,90],[4,92,5,92],[4,93,4,94],[4,96,5,96],[4,97,4,98],[4,100,5,100],[4,132,5,132],[4,133,4,134],[4,136,5,136],[4,113,4,114],[4,116,5,116],[4,117,4,118],[4,120,5,120],[4,121,4,122],[4,124,5,124],[2,3,5,3],[4,294,4,295],[4,297,5,297],[4,298,4,299],[4,301,5,301],[4,302,4,303],[4,305,5,305],[4,306,4,307],[4,309,5,309],[4,277,5,277],[4,278,4,279],[4,281,5,281],[4,282,4,283],[4,285,5,285],[4,286,4,287],[4,289,5,289],[4,290,4,291],[4,293,5,293],[4,137,4,138],[4,140,5,140],[4,141,4,142],[4,144,5,144],[4,128,5,128],[4,129,4,130]]}
[null,null,null,"อัตราส่วนคะแนน =",{"$f":"กำหนดอัตราส่วนคะแนน!U13&\" : \"&กำหนดอัตราส่วนคะแนน!U20","v":" : "},null,null,null,null,null,null,null,null,null,null,null,null,null,null,null,null,null,null,null,null,null,null,null,{"$f":"\"คะแนนประเมินผลสัมฤทธิ์ ภาคเรียนที่2  รายวิชา\"&ปก!$C$26&\"   \"&\"ชั้น ป.\"&ปก!$C$21&\"/\"&ปก!$C$22","v":"คะแนนประเมินผลสัมฤทธิ์ ภาคเรียนที่2  รายวิชา   ชั้น ป.3/5"},{"$f":"\"คะแนนประเมินผลสัมฤทธิ์ ภาคเรียนที่2  รายวิชา\"&ปก!$C$26&\"   \"&\"ชั้น ป.\"&ปก!$C$21&\"/\"&ปก!$C$22","v":"คะแนนประเมินผลสัมฤทธิ์ ภาคเรียนที่2  รายวิชา   ชั้น ป.3/5"},null,null,null,null,null,null,null,null,null,null,null,null,null,null,null,null,null,null,null,null,null,null,null,null,null,null,null,null,null,null,null,null,null,null,null,null,null,null,null,{"$f":"\"คะแนนประเมินผลสัมฤทธิ์ ภาคเรียนที่2  รายวิชา\"&ปก!$C$26&\"   \"&\"ชั้น ป.\"&ปก!$C$21&\"/\"&ปก!$C$22","v":"คะแนนประเมินผลสัมฤทธิ์ ภาคเรียนที่2  รายวิชา   ชั้น ป.3/5"},null,null,null,null,null,null,null,null,null,null,null,null,null,null,null,null,null,null,null,null,null,null,null,null,null,null,null,null,null,null,null,null,null,null,null,null,null,null,null,{"$f":"\"คะแนนประเมินผลสัมฤทธิ์ ภาคเรียนที่2  รายวิชา\"&ปก!$C$26&\"   \"&\"ชั้น ป.\"&ปก!$C$21&\"/\"&ปก!$C$22","v":"คะแนนประเมินผลสัมฤทธิ์ ภาคเรียนที่2  รายวิชา   ชั้น ป.3/5"},null,null,null,null,null,null,null,null,null,null,null,null,null,null,null,null,null,null,null,null,null,null,null,null,null,null,null,null,null,null,null,null,null,null,null,null,null,null,null,{"$f":"\"คะแนนประเมินผลสัมฤทธิ์ ภาคเรียนที่2  รายวิชา\"&ปก!$C$26&\"   \"&\"ชั้น ป.\"&ปก!$C$21&\"/\"&ปก!$C$22","v":"คะแนนประเมินผลสัมฤทธิ์ ภาคเรียนที่2  รายวิชา   ชั้น ป.3/5"},null,null,null,null,null,null,null,null,null,null,null,null,null,null,null,null,null,"ระหว่างภาค",null,null,null,null,"สอบปลายภาค",null,null,null,"คะแนนรวมภาคเรียนที่2",null,"สถานะ\nนักเรียน\nปัจจุบัน"]
[null,null,null,null,"ตัวชี้วัดที่",{"$f":"กำหนดอัตราส่วนคะแนน!O31","v":0},null,null,null,{"$f":"กำหนดอัตราส่วนคะแนน!O33","v":0},null,null,null,{"$f":"กำหนดอัตราส่วนคะแนน!O35","v":0},null,null,null,{"$f":"กำหนดอัตราส่วนคะแนน!O37","v":0},null,null,null,{"$f":"กำหนดอัตราส่วนคะแนน!B39","v":0},null,null,null,{"$f":"กำหนดอัตราส่วนคะแนน!O41","v":0},null,null,null,{"$f":"กำหนดอัตราส่วนคะแนน!O43","v":0},null,null,null,{"$f":"กำหนดอัตราส่วนคะแนน!O45","v":0},null,null,null,{"$f":"กำหนดอัตราส่วนคะแนน!O47","v":0},null,null,null,{"$f":"กำหนดอัตราส่วนคะแนน!O49","v":0},null,null,null,{"$f":"กำหนดอัตราส่วนคะแนน!O51","v":0},null,null,null,{"$f":"กำหนดอัตราส่วนคะแนน!O53","v":0},null,null,null,{"$f":"กำหนดอัตราส่วนคะแนน!O55","v":0},null,null,null,{"$f":"กำหนดอัตราส่วนคะแนน!O57","v":0},null,null,null,{"$f":"กำหนดอัตราส่วนคะแนน!O59","v":0},null,null,null,{"$f":"กำหนดอัตราส่วนคะแนน!O61","v":0},null,null,null,{"$f":"กำหนดอัตราส่วนคะแนน!O63","v":0},null,null,null,{"$f":"กำหนดอัตราส่วนคะแนน!O65","v":0},null,null,null,{"$f":"กำหนดอัตราส่วนคะแนน!O67","v":0},null,null,null,{"$f":"กำหนดอัตราส่วนคะแนน!O69","v":0},null,null,null,{"$f":"กำหนดอัตราส่วนคะแนน!O71","v":0},null,null,null,{"$f":"กำหนดอัตราส่วนคะแนน!O73","v":0},null,null,null,{"$f":"กำหนดอัตราส่วนคะแนน!O75","v":0},null,null,null,{"$f":"กำหนดอัตราส่วนคะแนน!O77","v":0},null,null,null,{"$f":"กำหนดอัตราส่วนคะแนน!O79","v":0},null,null,null,{"$f":"กำหนดอัตราส่วนคะแนน!O81","v":0},null,null,null,{"$f":"กำหนดอัตราส่วนคะแนน!O83","v":0},null,null,null,{"$f":"กำหนดอัตราส่วนคะแนน!O85","v":0},null,null,null,{"$f":"กำหนดอัตราส่วนคะแนน!O87","v":0},null,null,null,{"$f":"กำหนดอัตราส่วนคะแนน!O89","v":0},null,null,null,{"$f":"กำหนดอัตราส่วนคะแนน!O91","v":0},null,null,null,{"$f":"กำหนดอัตราส่วนคะแนน!O93","v":0},null,null,null,{"$f":"กำหนดอัตราส่วนคะแนน!O95","v":0},null,null,null,{"$f":"กำหนดอัตราส่วนคะแนน!O97","v":0},null,null,null,{"$f":"กำหนดอัตราส่วนคะแนน!O99","v":0},null,null,null,{"$f":"กำหนดอัตราส่วนคะแนน!O101","v":0},null,null,null,{"$f":"กำหนดอัตราส่วนคะแนน!O103","v":0},null,null,null,{"$f":"กำหนดอัตราส่วนคะแนน!O105","v":0},null,null,null,{"$f":"กำหนดอัตราส่วนคะแนน!O107","v":0},null,null,null,{"$f":"กำหนดอัตราส่วนคะแนน!O109","v":0},null,null,null,"รวมคะแนนตัวชี้วัด",null,"คะแนนตัวชี้วัด","สอบกลางภาค","สอบแก้ตัว","รวมระหว่างภาค",null,"สอบแบบปรนัย","สอบแบบอัตนัย","รวมสอบปลายภาค"]
[null,null,null,"ชื่อ - นามสกุล","สาระ,มาตรฐาน",{"$f":"IF(กำหนดอัตราส่วนคะแนน!$Q$31=\"\",\"\",กำหนดอัตราส่วนคะแนน!$Q$31)","v":""},null,null,null,{"$f":"IF(กำหนดอัตราส่วนคะแนน!$Q$33=\"\",\"\",กำหนดอัตราส่วนคะแนน!$Q$33)","v":""},null,null,null,{"$f":"IF(กำหนดอัตราส่วนคะแนน!$Q$35=\"\",\"\",กำหนดอัตราส่วนคะแนน!$Q$35)","v":""},null,null,null,{"$f":"IF(กำหนดอัตราส่วนคะแนน!$Q$37=\"\",\"\",กำหนดอัตราส่วนคะแนน!$Q$37)","v":""},null,null,null,{"$f":"IF(กำหนดอัตราส่วนคะแนน!$Q$39=\"\",\"\",กำหนดอัตราส่วนคะแนน!$Q$39)","v":""},null,null,null,{"$f":"IF(กำหนดอัตราส่วนคะแนน!$Q$41=\"\",\"\",กำหนดอัตราส่วนคะแนน!$Q$41)","v":""},null,null,null,{"$f":"IF(กำหนดอัตราส่วนคะแนน!$Q$43=\"\",\"\",กำหนดอัตราส่วนคะแนน!$Q$43)","v":""},null,null,null,{"$f":"IF(กำหนดอัตราส่วนคะแนน!$Q$45=\"\",\"\",กำหนดอัตราส่วนคะแนน!$Q$45)","v":""},null,null,null,{"$f":"IF(กำหนดอัตราส่วนคะแนน!$Q$47=\"\",\"\",กำหนดอัตราส่วนคะแนน!$Q$47)","v":""},null,null,null,{"$f":"IF(กำหนดอัตราส่วนคะแนน!$Q$49=\"\",\"\",กำหนดอัตราส่วนคะแนน!$Q$49)","v":""},null,null,null,{"$f":"IF(กำหนดอัตราส่วนคะแนน!$Q$51=\"\",\"\",กำหนดอัตราส่วนคะแนน!$Q$51)","v":""},null,null,null,{"$f":"IF(กำหนดอัตราส่วนคะแนน!$Q$53=\"\",\"\",กำหนดอัตราส่วนคะแนน!$Q$53)","v":""},null,null,null,{"$f":"IF(กำหนดอัตราส่วนคะแนน!$Q$55=\"\",\"\",กำหนดอัตราส่วนคะแนน!$Q$55)","v":""},null,null,null,{"$f":"IF(กำหนดอัตราส่วนคะแนน!$Q$57=\"\",\"\",กำหนดอัตราส่วนคะแนน!$Q$57)","v":""},null,null,null,{"$f":"IF(กำหนดอัตราส่วนคะแนน!$Q$59=\"\",\"\",กำหนดอัตราส่วนคะแนน!$Q$59)","v":""},null,null,null,{"$f":"IF(กำหนดอัตราส่วนคะแนน!$Q$61=\"\",\"\",กำหนดอัตราส่วนคะแนน!$Q$61)","v":""},null,null,null,{"$f":"IF(กำหนดอัตราส่วนคะแนน!$Q$63=\"\",\"\",กำหนดอัตราส่วนคะแนน!$Q$63)","v":""},null,null,null,{"$f":"IF(กำหนดอัตราส่วนคะแนน!$Q$65=\"\",\"\",กำหนดอัตราส่วนคะแนน!$Q$65)","v":""},null,null,null,{"$f":"IF(กำหนดอัตราส่วนคะแนน!$Q$67=\"\",\"\",กำหนดอัตราส่วนคะแนน!$Q$67)","v":""},null,null,null,{"$f":"IF(กำหนดอัตราส่วนคะแนน!$Q$69=\"\",\"\",กำหนดอัตราส่วนคะแนน!$Q$69)","v":""},null,null,null,{"$f":"IF(กำหนดอัตราส่วนคะแนน!$Q$71=\"\",\"\",กำหนดอัตราส่วนคะแนน!$Q$71)","v":""},null,null,null,{"$f":"IF(กำหนดอัตราส่วนคะแนน!$Q$73=\"\",\"\",กำหนดอัตราส่วนคะแนน!$Q$73)","v":""},null,null,null,{"$f":"IF(กำหนดอัตราส่วนคะแนน!$Q$75=\"\",\"\",กำหนดอัตราส่วนคะแนน!$Q$75)","v":""},null,null,null,{"$f":"IF(กำหนดอัตราส่วนคะแนน!$Q$77=\"\",\"\",กำหนดอัตราส่วนคะแนน!$Q$77)","v":""},null,null,null,{"$f":"IF(กำหนดอัตราส่วนคะแนน!$Q$79=\"\",\"\",กำหนดอัตราส่วนคะแนน!$Q$79)","v":""},null,null,null,{"$f":"IF(กำหนดอัตราส่วนคะแนน!$Q$81=\"\",\"\",กำหนดอัตราส่วนคะแนน!$Q$81)","v":""},null,null,null,{"$f":"IF(กำหนดอัตราส่วนคะแนน!$Q$83=\"\",\"\",กำหนดอัตราส่วนคะแนน!$Q$83)","v":""},null,null,null,{"$f":"IF(กำหนดอัตราส่วนคะแนน!$Q$85=\"\",\"\",กำหนดอัตราส่วนคะแนน!$Q$85)","v":""},null,null,null,{"$f":"IF(กำหนดอัตราส่วนคะแนน!$Q$87=\"\",\"\",กำหนดอัตราส่วนคะแนน!$Q$87)","v":""},null,null,null,{"$f":"IF(กำหนดอัตราส่วนคะแนน!$Q$89=\"\",\"\",กำหนดอัตราส่วนคะแนน!$Q$89)","v":""},null,null,null,{"$f":"IF(กำหนดอัตราส่วนคะแนน!$Q$91=\"\",\"\",กำหนดอัตราส่วนคะแนน!$Q$91)","v":""},null,null,null,{"$f":"IF(กำหนดอัตราส่วนคะแนน!$Q$93=\"\",\"\",กำหนดอัตราส่วนคะแนน!$Q$93)","v":""},null,null,null,{"$f":"IF(กำหนดอัตราส่วนคะแนน!$Q$95=\"\",\"\",กำหนดอัตราส่วนคะแนน!$Q$95)","v":""},null,null,null,{"$f":"IF(กำหนดอัตราส่วนคะแนน!$Q$97=\"\",\"\",กำหนดอัตราส่วนคะแนน!$Q$97)","v":""},null,null,null,{"$f":"IF(กำหนดอัตราส่วนคะแนน!$Q$99=\"\",\"\",กำหนดอัตราส่วนคะแนน!$Q$99)","v":""},null,null,null,{"$f":"IF(กำหนดอัตราส่วนคะแนน!$Q$101=\"\",\"\",กำหนดอัตราส่วนคะแนน!$Q$101)","v":""},null,null,null,{"$f":"IF(กำหนดอัตราส่วนคะแนน!$Q$103=\"\",\"\",กำหนดอัตราส่วนคะแนน!$Q$103)","v":""},null,null,null,{"$f":"IF(กำหนดอัตราส่วนคะแนน!$Q$105=\"\",\"\",กำหนดอัตราส่วนคะแนน!$Q$105)","v":""},null,null,null,{"$f":"IF(กำหนดอัตราส่วนคะแนน!$Q$107=\"\",\"\",กำหนดอัตราส่วนคะแนน!$Q$107)","v":""},null,null,null,{"$f":"IF(กำหนดอัตราส่วนคะแนน!$Q$109=\"\",\"\",กำหนดอัตราส่วนคะแนน!$Q$109)","v":""}]
[null,null,"เลข",null,"ตัวชี้วัด",{"$f":"IF(กำหนดอัตราส่วนคะแนน!$S$31=\"\",\"\",กำหนดอัตราส่วนคะแนน!$S$31)","v":""},null,null,null,{"$f":"IF(กำหนดอัตราส่วนคะแนน!$S$33=\"\",\"\",กำหนดอัตราส่วนคะแนน!$S$33)","v":""},null,null,null,{"$f":"IF(กำหนดอัตราส่วนคะแนน!$S$35=\"\",\"\",กำหนดอัตราส่วนคะแนน!$S$35)","v":""},null,null,null,{"$f":"IF(กำหนดอัตราส่วนคะแนน!$S$37=\"\",\"\",กำหนดอัตราส่วนคะแนน!$S$37)","v":""},null,null,null,{"$f":"IF(กำหนดอัตราส่วนคะแนน!$S$39=\"\",\"\",กำหนดอัตราส่วนคะแนน!$S$39)","v":""},null,null,null,{"$f":"IF(กำหนดอัตราส่วนคะแนน!$S$41=\"\",\"\",กำหนดอัตราส่วนคะแนน!$S$41)","v":""},null,null,null,{"$f":"IF(กำหนดอัตราส่วนคะแนน!$S$43=\"\",\"\",กำหนดอัตราส่วนคะแนน!$S$43)","v":""},null,null,null,{"$f":"IF(กำหนดอัตราส่วนคะแนน!$S$45=\"\",\"\",กำหนดอัตราส่วนคะแนน!$S$45)","v":""},null,null,null,{"$f":"IF(กำหนดอัตราส่วนคะแนน!$S$47=\"\",\"\",กำหนดอัตราส่วนคะแนน!$S$47)","v":""},null,null,null,{"$f":"IF(กำหนดอัตราส่วนคะแนน!$S$49=\"\",\"\",กำหนดอัตราส่วนคะแนน!$S$49)","v":""},null,null,null,{"$f":"IF(กำหนดอัตราส่วนคะแนน!$S$51=\"\",\"\",กำหนดอัตราส่วนคะแนน!$S$51)","v":""},null,null,null,{"$f":"IF(กำหนดอัตราส่วนคะแนน!$S$53=\"\",\"\",กำหนดอัตราส่วนคะแนน!$S$53)","v":""},null,null,null,{"$f":"IF(กำหนดอัตราส่วนคะแนน!$S$55=\"\",\"\",กำหนดอัตราส่วนคะแนน!$S$55)","v":""},null,null,null,{"$f":"IF(กำหนดอัตราส่วนคะแนน!$S$57=\"\",\"\",กำหนดอัตราส่วนคะแนน!$S$57)","v":""},null,null,null,{"$f":"IF(กำหนดอัตราส่วนคะแนน!$S$59=\"\",\"\",กำหนดอัตราส่วนคะแนน!$S$59)","v":""},null,null,null,{"$f":"IF(กำหนดอัตราส่วนคะแนน!$S$61=\"\",\"\",กำหนดอัตราส่วนคะแนน!$S$61)","v":""},null,null,null,{"$f":"IF(กำหนดอัตราส่วนคะแนน!$S$63=\"\",\"\",กำหนดอัตราส่วนคะแนน!$S$63)","v":""},null,null,null,{"$f":"IF(กำหนดอัตราส่วนคะแนน!$S$65=\"\",\"\",กำหนดอัตราส่วนคะแนน!$S$65)","v":""},null,null,null,{"$f":"IF(กำหนดอัตราส่วนคะแนน!$S$67=\"\",\"\",กำหนดอัตราส่วนคะแนน!$S$67)","v":""},null,null,null,{"$f":"IF(กำหนดอัตราส่วนคะแนน!$S$69=\"\",\"\",กำหนดอัตราส่วนคะแนน!$S$69)","v":""},null,null,null,{"$f":"IF(กำหนดอัตราส่วนคะแนน!$S$71=\"\",\"\",กำหนดอัตราส่วนคะแนน!$S$71)","v":""},null,null,null,{"$f":"IF(กำหนดอัตราส่วนคะแนน!$S$73=\"\",\"\",กำหนดอัตราส่วนคะแนน!$S$73)","v":""},null,null,null,{"$f":"IF(กำหนดอัตราส่วนคะแนน!$S$75=\"\",\"\",กำหนดอัตราส่วนคะแนน!$S$75)","v":""},null,null,null,{"$f":"IF(กำหนดอัตราส่วนคะแนน!$S$77=\"\",\"\",กำหนดอัตราส่วนคะแนน!$S$77)","v":""},null,null,null,{"$f":"IF(กำหนดอัตราส่วนคะแนน!$S$79=\"\",\"\",กำหนดอัตราส่วนคะแนน!$S$79)","v":""},null,null,null,{"$f":"IF(กำหนดอัตราส่วนคะแนน!$S$81=\"\",\"\",กำหนดอัตราส่วนคะแนน!$S$81)","v":""},null,null,null,{"$f":"IF(กำหนดอัตราส่วนคะแนน!$S$83=\"\",\"\",กำหนดอัตราส่วนคะแนน!$S$83)","v":""},null,null,null,{"$f":"IF(กำหนดอัตราส่วนคะแนน!$S$85=\"\",\"\",กำหนดอัตราส่วนคะแนน!$S$85)","v":""},null,null,null,{"$f":"IF(กำหนดอัตราส่วนคะแนน!$S$89=\"\",\"\",กำหนดอัตราส่วนคะแนน!$S$89)","v":""},null,null,null,{"$f":"IF(กำหนดอัตราส่วนคะแนน!$S$89=\"\",\"\",กำหนดอัตราส่วนคะแนน!$S$89)","v":""},null,null,null,{"$f":"IF(กำหนดอัตราส่วนคะแนน!$S$91=\"\",\"\",กำหนดอัตราส่วนคะแนน!$S$91)","v":""},null,null,null,{"$f":"IF(กำหนดอัตราส่วนคะแนน!$S$93=\"\",\"\",กำหนดอัตราส่วนคะแนน!$S$93)","v":""},null,null,null,{"$f":"IF(กำหนดอัตราส่วนคะแนน!$S$95=\"\",\"\",กำหนดอัตราส่วนคะแนน!$S$95)","v":""},null,null,null,{"$f":"IF(กำหนดอัตราส่วนคะแนน!$S$97=\"\",\"\",กำหนดอัตราส่วนคะแนน!$S$97)","v":""},null,null,null,{"$f":"IF(กำหนดอัตราส่วนคะแนน!$S$99=\"\",\"\",กำหนดอัตราส่วนคะแนน!$S$99)","v":""},null,null,null,{"$f":"IF(กำหนดอัตราส่วนคะแนน!$S$101=\"\",\"\",กำหนดอัตราส่วนคะแนน!$S$101)","v":""},null,null,null,{"$f":"IF(กำหนดอัตราส่วนคะแนน!$S$103=\"\",\"\",กำหนดอัตราส่วนคะแนน!$S$103)","v":""},null,null,null,{"$f":"IF(กำหนดอัตราส่วนคะแนน!$S$105=\"\",\"\",กำหนดอัตราส่วนคะแนน!$S$105)","v":""},null,null,null,{"$f":"IF(กำหนดอัตราส่วนคะแนน!$S$107=\"\",\"\",กำหนดอัตราส่วนคะแนน!$S$107)","v":""},null,null,null,{"$f":"IF(กำหนดอัตราส่วนคะแนน!$S$109=\"\",\"\",กำหนดอัตราส่วนคะแนน!$S$109)","v":""}]
[null,null,"ประจำตัว",null,"คะแนนเต็ม",{"$f":"กำหนดอัตราส่วนคะแนน!U31","v":0},null,null,"ผลการประเมิน",{"$f":"กำหนดอัตราส่วนคะแนน!U33","v":0},null,null,"ผลการประเมิน",{"$f":"กำหนดอัตราส่วนคะแนน!U35","v":0},null,null,"ผลการประเมิน",{"$f":"กำหนดอัตราส่วนคะแนน!U37","v":0},null,null,"ผลการประเมิน",{"$f":"กำหนดอัตราส่วนคะแนน!U39","v":0},null,null,"ผลการประเมิน",{"$f":"กำหนดอัตราส่วนคะแนน!U41","v":0},null,null,"ผลการประเมิน",{"$f":"กำหนดอัตราส่วนคะแนน!U43","v":0},null,null,"ผลการประเมิน",{"$f":"กำหนดอัตราส่วนคะแนน!U45","v":0},null,null,"ผลการประเมิน",{"$f":"กำหนดอัตราส่วนคะแนน!U47","v":0},null,null,"ผลการประเมิน",{"$f":"กำหนดอัตราส่วนคะแนน!U49","v":0},null,null,"ผลการประเมิน",{"$f":"กำหนดอัตราส่วนคะแนน!U51","v":0},null,null,"ผลการประเมิน",{"$f":"กำหนดอัตราส่วนคะแนน!U53","v":0},null,null,"ผลการประเมิน",{"$f":"กำหนดอัตราส่วนคะแนน!U55","v":0},null,null,"ผลการประเมิน",{"$f":"กำหนดอัตราส่วนคะแนน!U57","v":0},null,null,"ผลการประเมิน",{"$f":"กำหนดอัตราส่วนคะแนน!U59","v":0},null,null,"ผลการประเมิน",{"$f":"กำหนดอัตราส่วนคะแนน!U61","v":0},null,null,"ผลการประเมิน",{"$f":"กำหนดอัตราส่วนคะแนน!U63","v":0},null,null,"ผลการประเมิน",{"$f":"กำหนดอัตราส่วนคะแนน!U65","v":0},null,null,"ผลการประเมิน",{"$f":"กำหนดอัตราส่วนคะแนน!U67","v":0},null,null,"ผลการประเมิน",{"$f":"กำหนดอัตราส่วนคะแนน!U69","v":0},null,null,"ผลการประเมิน",{"$f":"กำหนดอัตราส่วนคะแนน!U71","v":0},null,null,"ผลการประเมิน",{"$f":"กำหนดอัตราส่วนคะแนน!U73","v":0},null,null,"ผลการประเมิน",{"$f":"กำหนดอัตราส่วนคะแนน!U75","v":0},null,null,"ผลการประเมิน",{"$f":"กำหนดอัตราส่วนคะแนน!U77","v":0},null,null,"ผลการประเมิน",{"$f":"กำหนดอัตราส่วนคะแนน!U79","v":0},null,null,"ผลการประเมิน",{"$f":"กำหนดอัตราส่วนคะแนน!U81","v":0},null,null,"ผลการประเมิน",{"$f":"กำหนดอัตราส่วนคะแนน!U83","v":0},null,null,"ผลการประเมิน",{"$f":"กำหนดอัตราส่วนคะแนน!U85","v":0},null,null,"ผลการประเมิน",{"$f":"กำหนดอัตราส่วนคะแนน!U87","v":0},null,null,"ผลการประเมิน",{"$f":"กำหนดอัตราส่วนคะแนน!U89","v":0},null,null,"ผลการประเมิน",{"$f":"กำหนดอัตราส่วนคะแนน!U91","v":0},null,null,"ผลการประเมิน",{"$f":"กำหนดอัตราส่วนคะแนน!U93","v":0},null,null,"ผลการประเมิน",{"$f":"กำหนดอัตราส่วนคะแนน!U95","v":0},null,null,"ผลการประเมิน",{"$f":"กำหนดอัตราส่วนคะแนน!U97","v":0},null,null,"ผลการประเมิน",{"$f":"กำหนดอัตราส่วนคะแนน!U99","v":0},null,null,"ผลการประเมิน",{"$f":"กำหนดอัตราส่วนคะแนน!U101","v":0},null,null,"ผลการประเมิน",{"$f":"กำหนดอัตราส่วนคะแนน!U103","v":0},null,null,"ผลการประเมิน",{"$f":"กำหนดอัตราส่วนคะแนน!U105","v":0},null,null,"ผลการประเมิน",{"$f":"กำหนดอัตราส่วนคะแนน!U107","v":0},null,null,"ผลการประเมิน",{"$f":"กำหนดอัตราส่วนคะแนน!U109","v":0},null,null,"ผลการประเมิน"]
[null,null,"นักเรียน",null,"เลขที่","คะแนน","แก้ตัว",null,null,"คะแนน","แก้ตัว",null,null,"คะแนน","แก้ตัว",null,null,"คะแนน","แก้ตัว",null,null,"คะแนน","แก้ตัว",null,null,"คะแนน","แก้ตัว",null,null,"คะแนน","แก้ตัว",null,null,"คะแนน","แก้ตัว",null,null,"คะแนน","แก้ตัว",null,null,"คะแนน","แก้ตัว",null,null,"คะแนน","แก้ตัว",null,null,"คะแนน","แก้ตัว",null,null,"คะแนน","แก้ตัว",null,null,"คะแนน","แก้ตัว",null,null,"คะแนน","แก้ตัว",null,null,"คะแนน","แก้ตัว",null,null,"คะแนน","แก้ตัว",null,null,"คะแนน","แก้ตัว",null,null,"คะแนน","แก้ตัว",null,null,"คะแนน","แก้ตัว",null,null,"คะแนน","แก้ตัว",null,null,"คะแนน","แก้ตัว",null,null,"คะแนน","แก้ตัว",null,null,"คะแนน","แก้ตัว",null,null,"คะแนน","แก้ตัว",null,null,"คะแนน","แก้ตัว",null,null,"คะแนน","แก้ตัว",null,null,"คะแนน","แก้ตัว",null,null,"คะแนน","แก้ตัว",null,null,"คะแนน","แก้ตัว",null,null,"คะแนน","แก้ตัว",null,null,"คะแนน","แก้ตัว",null,null,"คะแนน","แก้ตัว",null,null,"คะแนน","แก้ตัว",null,null,"คะแนน","แก้ตัว",null,null,"คะแนน","แก้ตัว",null,null,"คะแนน","แก้ตัว",null,null,"คะแนน","แก้ตัว",null,null,"คะแนน","แก้ตัว",null,null,"คะแนน","แก้ตัว",null,null,{"$f":"IF(F5=\"\",\"\",SUM(F5,J5,N5,R5,V5,Z5,AD5,AH5,AL5,AP5,AT5,AX5,BB5,BF5,BJ5,BN5,BR5,BV5,BZ5,CD5,CH5,CL5,CP5,CT5,CX5,DB5,DF5,DJ5,DN5,DR5,DV5,DZ5,ED5,EH5,EL5,EP5,ET5,EX5,FB5,FF5))","v":0},{"$f":"$FJ$6/$FL$6","v":{"$error":"#DIV/0!"}},{"$f":"กำหนดอัตราส่วนคะแนน!F13","v":0},{"$f":"กำหนดอัตราส่วนคะแนน!F15","v":0},{"$f":"กำหนดอัตราส่วนคะแนน!F15","v":0},{"$f":"กำหนดอัตราส่วนคะแนน!H13","v":0},null,{"$f":"กำหนดอัตราส่วนคะแนน!F20","v":0},{"$f":"กำหนดอัตราส่วนคะแนน!F22","v":0},{"$f":"กำหนดอัตราส่วนคะแนน!H20","v":0},null,{"$f":"กำหนดอัตราส่วนคะแนน!K20","v":0}]
[1,null,{"$f":"CONCATENATE(Sheet1!B2)","v":"12886"},{"$f":"CONCATENATE(Sheet1!D2&Sheet1!#REF!&\"       \"&Sheet1!#REF!)","v":{"$error":"#REF!"}},1,null,null,{"$f":"IF(F7=\"\",\"\",IF(F7=\"ร\",\"ร\",IF(G7=\"ร\",\"ร\",MAX(F7:G7))))","v":""},{"$f":"IF(F7=\"\",\"\",IF(H7=\"ร\",\"มผ\",IF(H7>=$F$5*กำหนดอัตราส่วนคะแนน!$U$4/100,\"ผ\",\"มผ\")))","v":""},null,null,{"$f":"IF(J7=\"\",\"\",IF(J7=\"ร\",\"ร\",IF(K7=\"ร\",\"ร\",MAX(J7:K7))))","v":""},{"$f":"IF(J7=\"\",\"\",IF(L7=\"ร\",\"มผ\",IF(L7>=$J$5*กำหนดอัตราส่วนคะแนน!$U$4/100,\"ผ\",\"มผ\")))","v":""},null,null,{"$f":"IF(N7=\"\",\"\",IF(N7=\"ร\",\"ร\",IF(O7=\"ร\",\"ร\",MAX(N7:O7))))","v":""},{"$f":"IF(N7=\"\",\"\",IF(P7=\"ร\",\"มผ\",IF(P7>=$N$5*กำหนดอัตราส่วนคะแนน!$U$4/100,\"ผ\",\"มผ\")))","v":""},null,null,{"$f":"IF(R7=\"\",\"\",IF(R7=\"ร\",\"ร\",IF(S7=\"ร\",\"ร\",MAX(R7:S7))))","v":""},{"$f":"IF(R7=\"\",\"\",IF(T7=\"ร\",\"มผ\",IF(T7>=$R$5*กำหนดอัตราส่วนคะแนน!$U$4/100,\"ผ\",\"มผ\")))","v":""},null,null,{"$f":"IF(V7=\"\",\"\",IF(V7=\"ร\",\"ร\",IF(W7=\"ร\",\"ร\",MAX(V7:W7))))","v":""},{"$f":"IF(V7=\"\",\"\",IF(X7=\"ร\",\"มผ\",IF(X7>=$V$5*กำหนดอัตราส่วนคะแนน!$U$4/100,\"ผ\",\"มผ\")))","v":""},null,null,{"$f":"IF(Z7=\"\",\"\",IF(Z7=\"ร\",\"ร\",IF(AA7=\"ร\",\"ร\",MAX(Z7:AA7))))","v":""},{"$f":"IF(Z7=\"\",\"\",IF(AB7=\"ร\",\"มผ\",IF(AB7>=$Z$5*กำหนดอัตราส่วนคะแนน!$U$4/100,\"ผ\",\"มผ\")))","v":""},null,null,{"$f":"IF(AD7=\"\",\"\",IF(AD7=\"ร\",\"ร\",IF(AE7=\"ร\",\"ร\",MAX(AD7:AE7))))","v":""},{"$f":"IF(AD7=\"\",\"\",IF(AF7=\"ร\",\"มผ\",IF(AF7>=$AD$5*กำหนดอัตราส่วนคะแนน!$U$4/100,\"ผ\",\"มผ\")))","v":""},null,null,{"$f":"IF(AH7=\"\",\"\",IF(AH7=\"ร\",\"ร\",IF(AI7=\"ร\",\"ร\",MAX(AH7:AI7))))","v":""},{"$f":"IF(AH7=\"\",\"\",IF(AJ7=\"ร\",\"มผ\",IF(AJ7>=$AH$5*กำหนดอัตราส่วนคะแนน!$U$4/100,\"ผ\",\"มผ\")))","v":""},null,null,{"$f":"IF(AL7=\"\",\"\",IF(AL7=\"ร\",\"ร\",IF(AM7=\"ร\",\"ร\",MAX(AL7:AM7))))","v":""},{"$f":"IF(AL7=\"\",\"\",IF(AN7=\"ร\",\"มผ\",IF(AN7>=$AL$5*กำหนดอัตราส่วนคะแนน!$U$4/100,\"ผ\",\"มผ\")))","v":""},null,null,{"$f":"IF(AP7=\"\",\"\",IF(AP7=\"ร\",\"ร\",IF(AQ7=\"ร\",\"ร\",MAX(AP7:AQ7))))","v":""},{"$f":"IF(AP7=\"\",\"\",IF(AR7=\"ร\",\"มผ\",IF(AR7>=$AP$5*กำหนดอัตราส่วนคะแนน!$U$4/100,\"ผ\",\"มผ\")))","v":""},null,null,{"$f":"IF(AT7=\"\",\"\",IF(AT7=\"ร\",\"ร\",IF(AU7=\"ร\",\"ร\",MAX(AT7:AU7))))","v":""},{"$f":"IF(AT7=\"\",\"\",IF(AV7=\"ร\",\"มผ\",IF(AV7>=$AT$5*กำหนดอัตราส่วนคะแนน!$U$4/100,\"ผ\",\"มผ\")))","v":""},null,null,{"$f":"IF(AX7=\"\",\"\",IF(AX7=\"ร\",\"ร\",IF(AY7=\"ร\",\"ร\",MAX(AX7:AY7))))","v":""},{"$f":"IF(AX7=\"\",\"\",IF(AZ7=\"ร\",\"มผ\",IF(AZ7>=$AX$5*กำหนดอัตราส่วนคะแนน!$U$4/100,\"ผ\",\"มผ\")))","v":""},null,null,{"$f":"IF(BB7=\"\",\"\",IF(BB7=\"ร\",\"ร\",IF(BC7=\"ร\",\"ร\",MAX(BB7:BC7))))","v":""},{"$f":"IF(BB7=\"\",\"\",IF(BD7=\"ร\",\"มผ\",IF(BD7>=$BB$5*กำหนดอัตราส่วนคะแนน!$U$4/100,\"ผ\",\"มผ\")))","v":""},null,null,{"$f":"IF(BF7=\"\",\"\",IF(BF7=\"ร\",\"ร\",IF(BG7=\"ร\",\"ร\",MAX(BF7:BG7))))","v":""},{"$f":"IF(BF7=\"\",\"\",IF(BH7=\"ร\",\"มผ\",IF(BH7>=$BJ$5*กำหนดอัตราส่วนคะแนน!$U$4/100,\"ผ\",\"มผ\")))","v":""},null,null,{"$f":"IF(BJ7=\"\",\"\",IF(BJ7=\"ร\",\"ร\",IF(BK7=\"ร\",\"ร\",MAX(BJ7:BK7))))","v":""},{"$f":"IF(BJ7=\"\",\"\",IF(BL7=\"ร\",\"มผ\",IF(BL7>=$BJ$5*กำหนดอัตราส่วนคะแนน!$U$4/100,\"ผ\",\"มผ\")))","v":""},null,null,{"$f":"IF(BN7=\"\",\"\",IF(BN7=\"ร\",\"ร\",IF(BO7=\"ร\",\"ร\",MAX(BN7:BO7))))","v":""},{"$f":"IF(BN7=\"\",\"\",IF(BP7=\"ร\",\"มผ\",IF(BP7>=$BN$5*กำหนดอัตราส่วนคะแนน!$U$4/100,\"ผ\",\"มผ\")))","v":""},null,null,{"$f":"IF(BR7=\"\",\"\",IF(BR7=\"ร\",\"ร\",IF(BS7=\"ร\",\"ร\",MAX(BR7:BS7))))","v":""},{"$f":"IF(BR7=\"\",\"\",IF(BT7=\"ร\",\"มผ\",IF(BT7>=$BR$5*กำหนดอัตราส่วนคะแนน!$U$4/100,\"ผ\",\"มผ\")))","v":""},null,null,{"$f":"IF(BV7=\"\",\"\",IF(BV7=\"ร\",\"ร\",IF(BW7=\"ร\",\"ร\",MAX(BV7:BW7))))","v":""},{"$f":"IF(BV7=\"\",\"\",IF(BX7=\"ร\",\"มผ\",IF(BX7>=$BV$5*กำหนดอัตราส่วนคะแนน!$U$4/100,\"ผ\",\"มผ\")))","v":""},null,null,{"$f":"IF(BZ7=\"\",\"\",IF(BZ7=\"ร\",\"ร\",IF(CA7=\"ร\",\"ร\",MAX(BZ7:CA7))))","v":""},{"$f":"IF(BZ7=\"\",\"\",IF(CB7=\"ร\",\"มผ\",IF(CB7>=$BZ$5*กำหนดอัตราส่วนคะแนน!$U$4/100,\"ผ\",\"มผ\")))","v":""},null,null,{"$f":"IF(CD7=\"\",\"\",IF(CD7=\"ร\",\"ร\",IF(CE7=\"ร\",\"ร\",MAX(CD7:CE7))))","v":""},{"$f":"IF(CD7=\"\",\"\",IF(CF7=\"ร\",\"มผ\",IF(CF7>=$CD$5*กำหนดอัตราส่วนคะแนน!$U$4/100,\"ผ\",\"มผ\")))","v":""},null,null,{"$f":"IF(CH7=\"\",\"\",IF(CH7=\"ร\",\"ร\",IF(CI7=\"ร\",\"ร\",MAX(CH7:CI7))))","v":""},{"$f":"IF(CH7=\"\",\"\",IF(CJ7=\"ร\",\"มผ\",IF(CJ7>=$CH$5*กำหนดอัตราส่วนคะแนน!$U$4/100,\"ผ\",\"มผ\")))","v":""},null,null,{"$f":"IF(CL7=\"\",\"\",IF(CL7=\"ร\",\"ร\",IF(CM7=\"ร\",\"ร\",MAX(CL7:CM7))))","v":""},{"$f":"IF(CL7=\"\",\"\",IF(CN7=\"ร\",\"มผ\",IF(CN7>=$CL$5*กำหนดอัตราส่วนคะแนน!$U$4/100,\"ผ\",\"มผ\")))","v":""},null,null,{"$f":"IF(CP7=\"\",\"\",IF(CP7=\"ร\",\"ร\",IF(CQ7=\"ร\",\"ร\",MAX(CP7:CQ7))))","v":""},{"$f":"IF(CP7=\"\",\"\",IF(CR7=\"ร\",\"มผ\",IF(CR7>=$CP$5*กำหนดอัตราส่วนคะแนน!$U$4/100,\"ผ\",\"มผ\")))","v":""},null,null,{"$f":"IF(CT7=\"\",\"\",IF(CT7=\"ร\",\"ร\",IF(CU7=\"ร\",\"ร\",MAX(CT7:CU7))))","v":""},{"$f":"IF(CT7=\"\",\"\",IF(CV7=\"ร\",\"มผ\",IF(CV7>=$CT$5*กำหนดอัตราส่วนคะแนน!$U$4/100,\"ผ\",\"มผ\")))","v":""},null,null,{"$f":"IF(CX7=\"\",\"\",IF(CX7=\"ร\",\"ร\",IF(CY7=\"ร\",\"ร\",MAX(CX7:CY7))))","v":""},{"$f":"IF(CX7=\"\",\"\",IF(CZ7=\"ร\",\"มผ\",IF(CZ7>=$CX$5*กำหนดอัตราส่วนคะแนน!$U$4/100,\"ผ\",\"มผ\")))","v":""},null,null,{"$f":"IF(DB7=\"\",\"\",IF(DB7=\"ร\",\"ร\",IF(DC7=\"ร\",\"ร\",MAX(DB7:DC7))))","v":""},{"$f":"IF(DB7=\"\",\"\",IF(DD7=\"ร\",\"มผ\",IF(DD7>=$DB$5*กำหนดอัตราส่วนคะแนน!$U$4/100,\"ผ\",\"มผ\")))","v":""},null,null,{"$f":"IF(DF7=\"\",\"\",IF(DF7=\"ร\",\"ร\",IF(DG7=\"ร\",\"ร\",MAX(DF7:DG7))))","v":""},{"$f":"IF(DF7=\"\",\"\",IF(DH7=\"ร\",\"มผ\",IF(DH7>=$DF$5*กำหนดอัตราส่วนคะแนน!$U$4/100,\"ผ\",\"มผ\")))","v":""},null,null,{"$f":"IF(DJ7=\"\",\"\",IF(DJ7=\"ร\",\"ร\",IF(DK7=\"ร\",\"ร\",MAX(DJ7:DK7))))","v":""},{"$f":"IF(DJ7=\"\",\"\",IF(DL7=\"ร\",\"มผ\",IF(DL7>=$DJ$5*กำหนดอัตราส่วนคะแนน!$U$4/100,\"ผ\",\"มผ\")))","v":""},null,null,{"$f":"IF(DN7=\"\",\"\",IF(DN7=\"ร\",\"ร\",IF(DO7=\"ร\",\"ร\",MAX(DN7:DO7))))","v":""},{"$f":"IF(DN7=\"\",\"\",IF(DP7=\"ร\",\"มผ\",IF(DP7>=$DN$5*กำหนดอัตราส่วนคะแนน!$U$4/100,\"ผ\",\"มผ\")))","v":""},null,null,{"$f":"IF(DR7=\"\",\"\",IF(DR7=\"ร\",\"ร\",IF(DS7=\"ร\",\"ร\",MAX(DR7:DS7))))","v":""},{"$f":"IF(DR7=\"\",\"\",IF(DT7=\"ร\",\"มผ\",IF(DT7>=$DR$5*กำหนดอัตราส่วนคะแนน!$U$4/100,\"ผ\",\"มผ\")))","v":""},null,null,{"$f":"IF(DV7=\"\",\"\",IF(DV7=\"ร\",\"ร\",IF(DW7=\"ร\",\"ร\",MAX(DV7:DW7))))","v":""},{"$f":"IF(DV7=\"\",\"\",IF(DX7=\"ร\",\"มผ\",IF(DX7>=$DV$5*กำหนดอัตราส่วนคะแนน!$U$4/100,\"ผ\",\"มผ\")))","v":""},null,null,{"$f":"IF(DZ7=\"\",\"\",IF(DZ7=\"ร\",\"ร\",IF(EA7=\"ร\",\"ร\",MAX(DZ7:EA7))))","v":""},{"$f":"IF(DZ7=\"\",\"\",IF(EB7=\"ร\",\"มผ\",IF(EB7>=$DZ$5*กำหนดอัตราส่วนคะแนน!$U$4/100,\"ผ\",\"มผ\")))","v":""},null,null,{"$f":"IF(ED7=\"\",\"\",IF(ED7=\"ร\",\"ร\",IF(EE7=\"ร\",\"ร\",MAX(ED7:EE7))))","v":""},{"$f":"IF(ED7=\"\",\"\",IF(EF7=\"ร\",\"มผ\",IF(EF7>=$ED$5*กำหนดอัตราส่วนคะแนน!$U$4/100,\"ผ\",\"มผ\")))","v":""},null,null,{"$f":"IF(EH7=\"\",\"\",IF(EH7=\"ร\",\"ร\",IF(EI7=\"ร\",\"ร\",MAX(EH7:EI7))))","v":""},{"$f":"IF(EH7=\"\",\"\",IF(EJ7=\"ร\",\"มผ\",IF(EJ7>=$EH$5*กำหนดอัตราส่วนคะแนน!$U$4/100,\"ผ\",\"มผ\")))","v":""},null,null,{"$f":"IF(EL7=\"\",\"\",IF(EL7=\"ร\",\"ร\",IF(EM7=\"ร\",\"ร\",MAX(EL7:EM7))))","v":""},{"$f":"IF(EL7=\"\",\"\",IF(EN7=\"ร\",\"มผ\",IF(EN77>=$EL$5*กำหนดอัตราส่วนคะแนน!$U$4/100,\"ผ\",\"มผ\")))","v":""},null,null,{"$f":"IF(EP7=\"\",\"\",IF(EP7=\"ร\",\"ร\",IF(EQ7=\"ร\",\"ร\",MAX(EP7:EQ7))))","v":""},{"$f":"IF(EP7=\"\",\"\",IF(ER7=\"ร\",\"มผ\",IF(ER7>=$EP$5*กำหนดอัตราส่วนคะแนน!$U$4/100,\"ผ\",\"มผ\")))","v":""},null,null,{"$f":"IF(ET7=\"\",\"\",IF(ET7=\"ร\",\"ร\",IF(EU7=\"ร\",\"ร\",MAX(ET7:EU7))))","v":""},{"$f":"IF(ET7=\"\",\"\",IF(EV7=\"ร\",\"มผ\",IF(EV7>=$ET$5*กำหนดอัตราส่วนคะแนน!$U$4/100,\"ผ\",\"มผ\")))","v":""},null,null,{"$f":"IF(EX7=\"\",\"\",IF(EX7=\"ร\",\"ร\",IF(EY7=\"ร\",\"ร\",MAX(EX7:EY7))))","v":""},{"$f":"IF(EX7=\"\",\"\",IF(EZ7=\"ร\",\"มผ\",IF(EZ7>=$EX$5*กำหนดอัตราส่วนคะแนน!$U$4/100,\"ผ\",\"มผ\")))","v":""},null,null,{"$f":"IF(FB7=\"\",\"\",IF(FB7=\"ร\",\"ร\",IF(FC7=\"ร\",\"ร\",MAX(FB7:FC7))))","v":""},{"$f":"IF(FB7=\"\",\"\",IF(FD7=\"ร\",\"มผ\",IF(FD7>=$FB$5*กำหนดอัตราส่วนคะแนน!$U$4/100,\"ผ\",\"มผ\")))","v":""},null,null,{"$f":"IF(FF7=\"\",\"\",IF(FF7=\"ร\",\"ร\",IF(FG7=\"ร\",\"ร\",MAX(FF7:FG7))))","v":""},{"$f":"IF(FF7=\"\",\"\",IF(FH7=\"ร\",\"มผ\",IF(FH7>=$FF$5*กำหนดอัตราส่วนคะแนน!$U$4/100,\"ผ\",\"มผ\")))","v":""},{"$f":"IF(Sheet1!#REF!=\"\",\"\",IF(COUNTIF(F7:FI7,\"ร\"),\"ร\",IF(FW7=\"ปกติ\",SUM(H7,L7,P7,T7,X7,AB7,AF7,AJ7,AN7,AR7,AV7,AZ7,BD7,BH7,BL7,BP7,BT7,BX7,CB7,CF7,CJ7,CN7,CR7,CV7,CZ7,DD7,DH7,DL7,DP7,DT7,DX7,EB7,EF7,EJ7,EN7,ER7,EV7,EZ7,FD7,FH7),\"-\")))","v":{"$error":"#REF!"}},null,{"$f":"IF(FJ7=\"\",\"\",IF(FJ7=\"-\",\"-\",IF(FJ7=\"ร\",\"ร\",IF(FJ7=0,\"\",IF($FK$6=0,\"\",ROUND(FJ7/$FK$6,0))))))","v":{"$error":"#REF!"}},null,null,{"$f":"IF(COUNTIF(FL7:FM7,\"ร\"),\"ร\",IF(COUNTIF(FL7,\"\"),\"\",IF(COUNTIF(FL7,\"-\"),\"-\",IF(FM7>$FM$6,\"เกิน\",IF(FN7>$FN$6,\"เกิน\",IF(FM7=\"ร\",\"ร\",SUM(FL7+IF(FN7=\"\",FM7,FN7))))))))","v":{"$error":"#REF!"}},null,null,null,{"$f":"IF(COUNTIF(FQ7:FR7,\"ร\"),\"ร\",IF(FQ7=\"\",\"\",IF(FQ7=0,0,IF(FQ7>$FQ$6,\"เกิน\",IF(FR7>$FR$6,\"เกิน\",SUM(FQ7:FR7))))))","v":""},null,{"$f":"IF(COUNTIF(Sheet1!#REF!:Sheet1!#REF!,\"\"),\"\",IF(COUNTIF(FJ7:FS7,\"ร\"),\"ร\",IF(COUNTIF(FL7:FS7,\"-\"),\"-\",IF(FW7=\"ปกติ\",SUM(FO7,FS7)))))","v":{"$error":"#REF!"}},null,{"$f":"เวลาเรียน!DZ9","v":0}]
[2,2498,{"$f":"CONCATENATE(Sheet1!B3)","v":"12896"},{"$f":"CONCATENATE(Sheet1!D3&Sheet1!#REF!&\"       \"&Sheet1!#REF!)","v":{"$error":"#REF!"}},2,null,null,{"$f":"IF(F8=\"\",\"\",IF(F8=\"ร\",\"ร\",IF(G8=\"ร\",\"ร\",MAX(F8:G8))))","v":""},{"$f":"IF(F8=\"\",\"\",IF(H8=\"ร\",\"มผ\",IF(H8>=$F$5*กำหนดอัตราส่วนคะแนน!$U$4/100,\"ผ\",\"มผ\")))","v":""},null,null,{"$f":"IF(J8=\"\",\"\",IF(J8=\"ร\",\"ร\",IF(K8=\"ร\",\"ร\",MAX(J8:K8))))","v":""},{"$f":"IF(J8=\"\",\"\",IF(L8=\"ร\",\"มผ\",IF(L8>=$J$5*กำหนดอัตราส่วนคะแนน!$U$4/100,\"ผ\",\"มผ\")))","v":""},null,null,{"$f":"IF(N8=\"\",\"\",IF(N8=\"ร\",\"ร\",IF(O8=\"ร\",\"ร\",MAX(N8:O8))))","v":""},{"$f":"IF(N8=\"\",\"\",IF(P8=\"ร\",\"มผ\",IF(P8>=$N$5*กำหนดอัตราส่วนคะแนน!$U$4/100,\"ผ\",\"มผ\")))","v":""},null,null,{"$f":"IF(R8=\"\",\"\",IF(R8=\"ร\",\"ร\",IF(S8=\"ร\",\"ร\",MAX(R8:S8))))","v":""},{"$f":"IF(R8=\"\",\"\",IF(T8=\"ร\",\"มผ\",IF(T8>=$R$5*กำหนดอัตราส่วนคะแนน!$U$4/100,\"ผ\",\"มผ\")))","v":""},null,null,{"$f":"IF(V8=\"\",\"\",IF(V8=\"ร\",\"ร\",IF(W8=\"ร\",\"ร\",MAX(V8:W8))))","v":""},{"$f":"IF(V8=\"\",\"\",IF(X8=\"ร\",\"มผ\",IF(X8>=$V$5*กำหนดอัตราส่วนคะแนน!$U$4/100,\"ผ\",\"มผ\")))","v":""},null,null,{"$f":"IF(Z8=\"\",\"\",IF(Z8=\"ร\",\"ร\",IF(AA8=\"ร\",\"ร\",MAX(Z8:AA8))))","v":""},{"$f":"IF(Z8=\"\",\"\",IF(AB8=\"ร\",\"มผ\",IF(AB8>=$Z$5*กำหนดอัตราส่วนคะแนน!$U$4/100,\"ผ\",\"มผ\")))","v":""},null,null,{"$f":"IF(AD8=\"\",\"\",IF(AD8=\"ร\",\"ร\",IF(AE8=\"ร\",\"ร\",MAX(AD8:AE8))))","v":""},{"$f":"IF(AD8=\"\",\"\",IF(AF8=\"ร\",\"มผ\",IF(AF8>=$AD$5*กำหนดอัตราส่วนคะแนน!$U$4/100,\"ผ\",\"มผ\")))","v":""},null,null,{"$f":"IF(AH8=\"\",\"\",IF(AH8=\"ร\",\"ร\",IF(AI8=\"ร\",\"ร\",MAX(AH8:AI8))))","v":""},{"$f":"IF(AH8=\"\",\"\",IF(AJ8=\"ร\",\"มผ\",IF(AJ8>=$AH$5*กำหนดอัตราส่วนคะแนน!$U$4/100,\"ผ\",\"มผ\")))","v":""},null,null,{"$f":"IF(AL8=\"\",\"\",IF(AL8=\"ร\",\"ร\",IF(AM8=\"ร\",\"ร\",MAX(AL8:AM8))))","v":""},{"$f":"IF(AL8=\"\",\"\",IF(AN8=\"ร\",\"มผ\",IF(AN8>=$AL$5*กำหนดอัตราส่วนคะแนน!$U$4/100,\"ผ\",\"มผ\")))","v":""},null,null,{"$f":"IF(AP8=\"\",\"\",IF(AP8=\"ร\",\"ร\",IF(AQ8=\"ร\",\"ร\",MAX(AP8:AQ8))))","v":""},{"$f":"IF(AP8=\"\",\"\",IF(AR8=\"ร\",\"มผ\",IF(AR8>=$AP$5*กำหนดอัตราส่วนคะแนน!$U$4/100,\"ผ\",\"มผ\")))","v":""},null,null,{"$f":"IF(AT8=\"\",\"\",IF(AT8=\"ร\",\"ร\",IF(AU8=\"ร\",\"ร\",MAX(AT8:AU8))))","v":""},{"$f":"IF(AT8=\"\",\"\",IF(AV8=\"ร\",\"มผ\",IF(AV8>=$AT$5*กำหนดอัตราส่วนคะแนน!$U$4/100,\"ผ\",\"มผ\")))","v":""},null,null,{"$f":"IF(AX8=\"\",\"\",IF(AX8=\"ร\",\"ร\",IF(AY8=\"ร\",\"ร\",MAX(AX8:AY8))))","v":""},{"$f":"IF(AX8=\"\",\"\",IF(AZ8=\"ร\",\"มผ\",IF(AZ8>=$AX$5*กำหนดอัตราส่วนคะแนน!$U$4/100,\"ผ\",\"มผ\")))","v":""},null,null,{"$f":"IF(BB8=\"\",\"\",IF(BB8=\"ร\",\"ร\",IF(BC8=\"ร\",\"ร\",MAX(BB8:BC8))))","v":""},{"$f":"IF(BB8=\"\",\"\",IF(BD8=\"ร\",\"มผ\",IF(BD8>=$BB$5*กำหนดอัตราส่วนคะแนน!$U$4/100,\"ผ\",\"มผ\")))","v":""},null,null,{"$f":"IF(BF8=\"\",\"\",IF(BF8=\"ร\",\"ร\",IF(BG8=\"ร\",\"ร\",MAX(BF8:BG8))))","v":""},{"$f":"IF(BF8=\"\",\"\",IF(BH8=\"ร\",\"มผ\",IF(BH8>=$BJ$5*กำหนดอัตราส่วนคะแนน!$U$4/100,\"ผ\",\"มผ\")))","v":""},null,null,{"$f":"IF(BJ8=\"\",\"\",IF(BJ8=\"ร\",\"ร\",IF(BK8=\"ร\",\"ร\",MAX(BJ8:BK8))))","v":""},{"$f":"IF(BJ8=\"\",\"\",IF(BL8=\"ร\",\"มผ\",IF(BL8>=$BJ$5*กำหนดอัตราส่วนคะแนน!$U$4/100,\"ผ\",\"มผ\")))","v":""},null,null,{"$f":"IF(BN8=\"\",\"\",IF(BN8=\"ร\",\"ร\",IF(BO8=\"ร\",\"ร\",MAX(BN8:BO8))))","v":""},{"$f":"IF(BN8=\"\",\"\",IF(BP8=\"ร\",\"มผ\",IF(BP8>=$BN$5*กำหนดอัตราส่วนคะแนน!$U$4/100,\"ผ\",\"มผ\")))","v":""},null,null,{"$f":"IF(BR8=\"\",\"\",IF(BR8=\"ร\",\"ร\",IF(BS8=\"ร\",\"ร\",MAX(BR8:BS8))))","v":""},{"$f":"IF(BR8=\"\",\"\",IF(BT8=\"ร\",\"มผ\",IF(BT8>=$BR$5*กำหนดอัตราส่วนคะแนน!$U$4/100,\"ผ\",\"มผ\")))","v":""},null,null,{"$f":"IF(BV8=\"\",\"\",IF(BV8=\"ร\",\"ร\",IF(BW8=\"ร\",\"ร\",MAX(BV8:BW8))))","v":""},{"$f":"IF(BV8=\"\",\"\",IF(BX8=\"ร\",\"มผ\",IF(BX8>=$BV$5*กำหนดอัตราส่วนคะแนน!$U$4/100,\"ผ\",\"มผ\")))","v":""},null,null,{"$f":"IF(BZ8=\"\",\"\",IF(BZ8=\"ร\",\"ร\",IF(CA8=\"ร\",\"ร\",MAX(BZ8:CA8))))","v":""},{"$f":"IF(BZ8=\"\",\"\",IF(CB8=\"ร\",\"มผ\",IF(CB8>=$BZ$5*กำหนดอัตราส่วนคะแนน!$U$4/100,\"ผ\",\"มผ\")))","v":""},null,null,{"$f":"IF(CD8=\"\",\"\",IF(CD8=\"ร\",\"ร\",IF(CE8=\"ร\",\"ร\",MAX(CD8:CE8))))","v":""},{"$f":"IF(CD8=\"\",\"\",IF(CF8=\"ร\",\"มผ\",IF(CF8>=$CD$5*กำหนดอัตราส่วนคะแนน!$U$4/100,\"ผ\",\"มผ\")))","v":""},null,null,{"$f":"IF(CH8=\"\",\"\",IF(CH8=\"ร\",\"ร\",IF(CI8=\"ร\",\"ร\",MAX(CH8:CI8))))","v":""},{"$f":"IF(CH8=\"\",\"\",IF(CJ8=\"ร\",\"มผ\",IF(CJ8>=$CH$5*กำหนดอัตราส่วนคะแนน!$U$4/100,\"ผ\",\"มผ\")))","v":""},null,null,{"$f":"IF(CL8=\"\",\"\",IF(CL8=\"ร\",\"ร\",IF(CM8=\"ร\",\"ร\",MAX(CL8:CM8))))","v":""},{"$f":"IF(CL8=\"\",\"\",IF(CN8=\"ร\",\"มผ\",IF(CN8>=$CL$5*กำหนดอัตราส่วนคะแนน!$U$4/100,\"ผ\",\"มผ\")))","v":""},null,null,{"$f":"IF(CP8=\"\",\"\",IF(CP8=\"ร\",\"ร\",IF(CQ8=\"ร\",\"ร\",MAX(CP8:CQ8))))","v":""},{"$f":"IF(CP8=\"\",\"\",IF(CR8=\"ร\",\"มผ\",IF(CR8>=$CP$5*กำหนดอัตราส่วนคะแนน!$U$4/100,\"ผ\",\"มผ\")))","v":""},null,null,{"$f":"IF(CT8=\"\",\"\",IF(CT8=\"ร\",\"ร\",IF(CU8=\"ร\",\"ร\",MAX(CT8:CU8))))","v":""},{"$f":"IF(CT8=\"\",\"\",IF(CV8=\"ร\",\"มผ\",IF(CV8>=$CT$5*กำหนดอัตราส่วนคะแนน!$U$4/100,\"ผ\",\"มผ\")))","v":""},null,null,{"$f":"IF(CX8=\"\",\"\",IF(CX8=\"ร\",\"ร\",IF(CY8=\"ร\",\"ร\",MAX(CX8:CY8))))","v":""},{"$f":"IF(CX8=\"\",\"\",IF(CZ8=\"ร\",\"มผ\",IF(CZ8>=$CX$5*กำหนดอัตราส่วนคะแนน!$U$4/100,\"ผ\",\"มผ\")))","v":""},null,null,{"$f":"IF(DB8=\"\",\"\",IF(DB8=\"ร\",\"ร\",IF(DC8=\"ร\",\"ร\",MAX(DB8:DC8))))","v":""},{"$f":"IF(DB8=\"\",\"\",IF(DD8=\"ร\",\"มผ\",IF(DD8>=$DB$5*กำหนดอัตราส่วนคะแนน!$U$4/100,\"ผ\",\"มผ\")))","v":""},null,null,{"$f":"IF(DF8=\"\",\"\",IF(DF8=\"ร\",\"ร\",IF(DG8=\"ร\",\"ร\",MAX(DF8:DG8))))","v":""},{"$f":"IF(DF8=\"\",\"\",IF(DH8=\"ร\",\"มผ\",IF(DH8>=$DF$5*กำหนดอัตราส่วนคะแนน!$U$4/100,\"ผ\",\"มผ\")))","v":""},null,null,{"$f":"IF(DJ8=\"\",\"\",IF(DJ8=\"ร\",\"ร\",IF(DK8=\"ร\",\"ร\",MAX(DJ8:DK8))))","v":""},{"$f":"IF(DJ8=\"\",\"\",IF(DL8=\"ร\",\"มผ\",IF(DL8>=$DJ$5*กำหนดอัตราส่วนคะแนน!$U$4/100,\"ผ\",\"มผ\")))","v":""},null,null,{"$f":"IF(DN8=\"\",\"\",IF(DN8=\"ร\",\"ร\",IF(DO8=\"ร\",\"ร\",MAX(DN8:DO8))))","v":""},{"$f":"IF(DN8=\"\",\"\",IF(DP8=\"ร\",\"มผ\",IF(DP8>=$DN$5*กำหนดอัตราส่วนคะแนน!$U$4/100,\"ผ\",\"มผ\")))","v":""},null,null,{"$f":"IF(DR8=\"\",\"\",IF(DR8=\"ร\",\"ร\",IF(DS8=\"ร\",\"ร\",MAX(DR8:DS8))))","v":""},{"$f":"IF(DR8=\"\",\"\",IF(DT8=\"ร\",\"มผ\",IF(DT8>=$DR$5*กำหนดอัตราส่วนคะแนน!$U$4/100,\"ผ\",\"มผ\")))","v":""},null,null,{"$f":"IF(DV8=\"\",\"\",IF(DV8=\"ร\",\"ร\",IF(DW8=\"ร\",\"ร\",MAX(DV8:DW8))))","v":""},{"$f":"IF(DV8=\"\",\"\",IF(DX8=\"ร\",\"มผ\",IF(DX8>=$DV$5*กำหนดอัตราส่วนคะแนน!$U$4/100,\"ผ\",\"มผ\")))","v":""},null,null,{"$f":"IF(DZ8=\"\",\"\",IF(DZ8=\"ร\",\"ร\",IF(EA8=\"ร\",\"ร\",MAX(DZ8:EA8))))","v":""},{"$f":"IF(DZ8=\"\",\"\",IF(EB8=\"ร\",\"มผ\",IF(EB8>=$DZ$5*กำหนดอัตราส่วนคะแนน!$U$4/100,\"ผ\",\"มผ\")))","v":""},null,null,{"$f":"IF(ED8=\"\",\"\",IF(ED8=\"ร\",\"ร\",IF(EE8=\"ร\",\"ร\",MAX(ED8:EE8))))","v":""},{"$f":"IF(ED8=\"\",\"\",IF(EF8=\"ร\",\"มผ\",IF(EF8>=$ED$5*กำหนดอัตราส่วนคะแนน!$U$4/100,\"ผ\",\"มผ\")))","v":""},null,null,{"$f":"IF(EH8=\"\",\"\",IF(EH8=\"ร\",\"ร\",IF(EI8=\"ร\",\"ร\",MAX(EH8:EI8))))","v":""},{"$f":"IF(EH8=\"\",\"\",IF(EJ8=\"ร\",\"มผ\",IF(EJ8>=$EH$5*กำหนดอัตราส่วนคะแนน!$U$4/100,\"ผ\",\"มผ\")))","v":""},null,null,{"$f":"IF(EL8=\"\",\"\",IF(EL8=\"ร\",\"ร\",IF(EM8=\"ร\",\"ร\",MAX(EL8:EM8))))","v":""},{"$f":"IF(EL8=\"\",\"\",IF(EN8=\"ร\",\"มผ\",IF(EN78>=$EL$5*กำหนดอัตราส่วนคะแนน!$U$4/100,\"ผ\",\"มผ\")))","v":""},null,null,{"$f":"IF(EP8=\"\",\"\",IF(EP8=\"ร\",\"ร\",IF(EQ8=\"ร\",\"ร\",MAX(EP8:EQ8))))","v":""},{"$f":"IF(EP8=\"\",\"\",IF(ER8=\"ร\",\"มผ\",IF(ER8>=$EP$5*กำหนดอัตราส่วนคะแนน!$U$4/100,\"ผ\",\"มผ\")))","v":""},null,null,{"$f":"IF(ET8=\"\",\"\",IF(ET8=\"ร\",\"ร\",IF(EU8=\"ร\",\"ร\",MAX(ET8:EU8))))","v":""},{"$f":"IF(ET8=\"\",\"\",IF(EV8=\"ร\",\"มผ\",IF(EV8>=$ET$5*กำหนดอัตราส่วนคะแนน!$U$4/100,\"ผ\",\"มผ\")))","v":""},null,null,{"$f":"IF(EX8=\"\",\"\",IF(EX8=\"ร\",\"ร\",IF(EY8=\"ร\",\"ร\",MAX(EX8:EY8))))","v":""},{"$f":"IF(EX8=\"\",\"\",IF(EZ8=\"ร\",\"มผ\",IF(EZ8>=$EX$5*กำหนดอัตราส่วนคะแนน!$U$4/100,\"ผ\",\"มผ\")))","v":""},null,null,{"$f":"IF(FB8=\"\",\"\",IF(FB8=\"ร\",\"ร\",IF(FC8=\"ร\",\"ร\",MAX(FB8:FC8))))","v":""},{"$f":"IF(FB8=\"\",\"\",IF(FD8=\"ร\",\"มผ\",IF(FD8>=$FB$5*กำหนดอัตราส่วนคะแนน!$U$4/100,\"ผ\",\"มผ\")))","v":""},null,null,{"$f":"IF(FF8=\"\",\"\",IF(FF8=\"ร\",\"ร\",IF(FG8=\"ร\",\"ร\",MAX(FF8:FG8))))","v":""},{"$f":"IF(FF8=\"\",\"\",IF(FH8=\"ร\",\"มผ\",IF(FH8>=$FF$5*กำหนดอัตราส่วนคะแนน!$U$4/100,\"ผ\",\"มผ\")))","v":""},{"$f":"IF(Sheet1!#REF!=\"\",\"\",IF(COUNTIF(F8:FI8,\"ร\"),\"ร\",IF(FW8=\"ปกติ\",SUM(H8,L8,P8,T8,X8,AB8,AF8,AJ8,AN8,AR8,AV8,AZ8,BD8,BH8,BL8,BP8,BT8,BX8,CB8,CF8,CJ8,CN8,CR8,CV8,CZ8,DD8,DH8,DL8,DP8,DT8,DX8,EB8,EF8,EJ8,EN8,ER8,EV8,EZ8,FD8,FH8),\"-\")))","v":{"$error":"#REF!"}},null,{"$f":"IF(FJ8=\"\",\"\",IF(FJ8=\"-\",\"-\",IF(FJ8=\"ร\",\"ร\",IF(FJ8=0,\"\",IF($FK$6=0,\"\",ROUND(FJ8/$FK$6,0))))))","v":{"$error":"#REF!"}},null,null,{"$f":"IF(COUNTIF(FL8:FM8,\"ร\"),\"ร\",IF(COUNTIF(FL8,\"\"),\"\",IF(COUNTIF(FL8,\"-\"),\"-\",IF(FM8>$FM$6,\"เกิน\",IF(FN8>$FN$6,\"เกิน\",IF(FM8=\"ร\",\"ร\",SUM(FL8+IF(FN8=\"\",FM8,FN8))))))))","v":{"$error":"#REF!"}},null,null,null,{"$f":"IF(COUNTIF(FQ8:FR8,\"ร\"),\"ร\",IF(FQ8=\"\",\"\",IF(FQ8=0,0,IF(FQ8>$FQ$6,\"เกิน\",IF(FR8>$FR$6,\"เกิน\",SUM(FQ8:FR8))))))","v":""},null,{"$f":"IF(COUNTIF(Sheet1!#REF!:Sheet1!#REF!,\"\"),\"\",IF(COUNTIF(FJ8:FS8,\"ร\"),\"ร\",IF(COUNTIF(FL8:FS8,\"-\"),\"-\",IF(FW8=\"ปกติ\",SUM(FO8,FS8)))))","v":{"$error":"#REF!"}},null,{"$f":"เวลาเรียน!DZ10","v":0}]
[3,2499,{"$f":"CONCATENATE(Sheet1!B4)","v":"12914"},{"$f":"CONCATENATE(Sheet1!D4&Sheet1!#REF!&\"       \"&Sheet1!#REF!)","v":{"$error":"#REF!"}},3,null,null,"",{"$f":"IF(F9=\"\",\"\",IF(H9=\"ร\",\"มผ\",IF(H9>=$F$5*กำหนดอัตราส่วนคะแนน!$U$4/100,\"ผ\",\"มผ\")))","v":""},null,null,"",{"$f":"IF(J9=\"\",\"\",IF(L9=\"ร\",\"มผ\",IF(L9>=$J$5*กำหนดอัตราส่วนคะแนน!$U$4/100,\"ผ\",\"มผ\")))","v":""},null,null,"",{"$f":"IF(N9=\"\",\"\",IF(P9=\"ร\",\"มผ\",IF(P9>=$N$5*กำหนดอัตราส่วนคะแนน!$U$4/100,\"ผ\",\"มผ\")))","v":""},null,null,"",{"$f":"IF(R9=\"\",\"\",IF(T9=\"ร\",\"มผ\",IF(T9>=$R$5*กำหนดอัตราส่วนคะแนน!$U$4/100,\"ผ\",\"มผ\")))","v":""},null,null,"",{"$f":"IF(V9=\"\",\"\",IF(X9=\"ร\",\"มผ\",IF(X9>=$V$5*กำหนดอัตราส่วนคะแนน!$U$4/100,\"ผ\",\"มผ\")))","v":""},null,null,"",{"$f":"IF(Z9=\"\",\"\",IF(AB9=\"ร\",\"มผ\",IF(AB9>=$Z$5*กำหนดอัตราส่วนคะแนน!$U$4/100,\"ผ\",\"มผ\")))","v":""},null,null,"",{"$f":"IF(AD9=\"\",\"\",IF(AF9=\"ร\",\"มผ\",IF(AF9>=$AD$5*กำหนดอัตราส่วนคะแนน!$U$4/100,\"ผ\",\"มผ\")))","v":""},null,null,"",{"$f":"IF(AH9=\"\",\"\",IF(AJ9=\"ร\",\"มผ\",IF(AJ9>=$AH$5*กำหนดอัตราส่วนคะแนน!$U$4/100,\"ผ\",\"มผ\")))","v":""},null,null,"",{"$f":"IF(AL9=\"\",\"\",IF(AN9=\"ร\",\"มผ\",IF(AN9>=$AL$5*กำหนดอัตราส่วนคะแนน!$U$4/100,\"ผ\",\"มผ\")))","v":""},null,null,"",{"$f":"IF(AP9=\"\",\"\",IF(AR9=\"ร\",\"มผ\",IF(AR9>=$AP$5*กำหนดอัตราส่วนคะแนน!$U$4/100,\"ผ\",\"มผ\")))","v":""},null,null,"",{"$f":"IF(AT9=\"\",\"\",IF(AV9=\"ร\",\"มผ\",IF(AV9>=$AT$5*กำหนดอัตราส่วนคะแนน!$U$4/100,\"ผ\",\"มผ\")))","v":""},null,null,"",{"$f":"IF(AX9=\"\",\"\",IF(AZ9=\"ร\",\"มผ\",IF(AZ9>=$AX$5*กำหนดอัตราส่วนคะแนน!$U$4/100,\"ผ\",\"มผ\")))","v":""},null,null,"",{"$f":"IF(BB9=\"\",\"\",IF(BD9=\"ร\",\"มผ\",IF(BD9>=$BB$5*กำหนดอัตราส่วนคะแนน!$U$4/100,\"ผ\",\"มผ\")))","v":""},null,null,"",{"$f":"IF(BF9=\"\",\"\",IF(BH9=\"ร\",\"มผ\",IF(BH9>=$BJ$5*กำหนดอัตราส่วนคะแนน!$U$4/100,\"ผ\",\"มผ\")))","v":""},null,null,"",{"$f":"IF(BJ9=\"\",\"\",IF(BL9=\"ร\",\"มผ\",IF(BL9>=$BJ$5*กำหนดอัตราส่วนคะแนน!$U$4/100,\"ผ\",\"มผ\")))","v":""},null,null,"",{"$f":"IF(BN9=\"\",\"\",IF(BP9=\"ร\",\"มผ\",IF(BP9>=$BN$5*กำหนดอัตราส่วนคะแนน!$U$4/100,\"ผ\",\"มผ\")))","v":""},null,null,"",{"$f":"IF(BR9=\"\",\"\",IF(BT9=\"ร\",\"มผ\",IF(BT9>=$BR$5*กำหนดอัตราส่วนคะแนน!$U$4/100,\"ผ\",\"มผ\")))","v":""},null,null,"",{"$f":"IF(BV9=\"\",\"\",IF(BX9=\"ร\",\"มผ\",IF(BX9>=$BV$5*กำหนดอัตราส่วนคะแนน!$U$4/100,\"ผ\",\"มผ\")))","v":""},null,null,"",{"$f":"IF(BZ9=\"\",\"\",IF(CB9=\"ร\",\"มผ\",IF(CB9>=$BZ$5*กำหนดอัตราส่วนคะแนน!$U$4/100,\"ผ\",\"มผ\")))","v":""},null,null,"",{"$f":"IF(CD9=\"\",\"\",IF(CF9=\"ร\",\"มผ\",IF(CF9>=$CD$5*กำหนดอัตราส่วนคะแนน!$U$4/100,\"ผ\",\"มผ\")))","v":""},null,null,"",{"$f":"IF(CH9=\"\",\"\",IF(CJ9=\"ร\",\"มผ\",IF(CJ9>=$CH$5*กำหนดอัตราส่วนคะแนน!$U$4/100,\"ผ\",\"มผ\")))","v":""},null,null,"",{"$f":"IF(CL9=\"\",\"\",IF(CN9=\"ร\",\"มผ\",IF(CN9>=$CL$5*กำหนดอัตราส่วนคะแนน!$U$4/100,\"ผ\",\"มผ\")))","v":""},null,null,"",{"$f":"IF(CP9=\"\",\"\",IF(CR9=\"ร\",\"มผ\",IF(CR9>=$CP$5*กำหนดอัตราส่วนคะแนน!$U$4/100,\"ผ\",\"มผ\")))","v":""},null,null,"",{"$f":"IF(CT9=\"\",\"\",IF(CV9=\"ร\",\"มผ\",IF(CV9>=$CT$5*กำหนดอัตราส่วนคะแนน!$U$4/100,\"ผ\",\"มผ\")))","v":""},null,null,"",{"$f":"IF(CX9=\"\",\"\",IF(CZ9=\"ร\",\"มผ\",IF(CZ9>=$CX$5*กำหนดอัตราส่วนคะแนน!$U$4/100,\"ผ\",\"มผ\")))","v":""},null,null,"",{"$f":"IF(DB9=\"\",\"\",IF(DD9=\"ร\",\"มผ\",IF(DD9>=$DB$5*กำหนดอัตราส่วนคะแนน!$U$4/100,\"ผ\",\"มผ\")))","v":""},null,null,"",{"$f":"IF(DF9=\"\",\"\",IF(DH9=\"ร\",\"มผ\",IF(DH9>=$DF$5*กำหนดอัตราส่วนคะแนน!$U$4/100,\"ผ\",\"มผ\")))","v":""},null,null,"",{"$f":"IF(DJ9=\"\",\"\",IF(DL9=\"ร\",\"มผ\",IF(DL9>=$DJ$5*กำหนดอัตราส่วนคะแนน!$U$4/100,\"ผ\",\"มผ\")))","v":""},null,null,"",{"$f":"IF(DN9=\"\",\"\",IF(DP9=\"ร\",\"มผ\",IF(DP9>=$DN$5*กำหนดอัตราส่วนคะแนน!$U$4/100,\"ผ\",\"มผ\")))","v":""},null,null,"",{"$f":"IF(DR9=\"\",\"\",IF(DT9=\"ร\",\"มผ\",IF(DT9>=$DR$5*กำหนดอัตราส่วนคะแนน!$U$4/100,\"ผ\",\"มผ\")))","v":""},null,null,"",{"$f":"IF(DV9=\"\",\"\",IF(DX9=\"ร\",\"มผ\",IF(DX9>=$DV$5*กำหนดอัตราส่วนคะแนน!$U$4/100,\"ผ\",\"มผ\")))","v":""},null,null,"",{"$f":"IF(DZ9=\"\",\"\",IF(EB9=\"ร\",\"มผ\",IF(EB9>=$DZ$5*กำหนดอัตราส่วนคะแนน!$U$4/100,\"ผ\",\"มผ\")))","v":""},null,null,"",{"$f":"IF(ED9=\"\",\"\",IF(EF9=\"ร\",\"มผ\",IF(EF9>=$ED$5*กำหนดอัตราส่วนคะแนน!$U$4/100,\"ผ\",\"มผ\")))","v":""},null,null,"",{"$f":"IF(EH9=\"\",\"\",IF(EJ9=\"ร\",\"มผ\",IF(EJ9>=$EH$5*กำหนดอัตราส่วนคะแนน!$U$4/100,\"ผ\",\"มผ\")))","v":""},null,null,"",{"$f":"IF(EL9=\"\",\"\",IF(EN9=\"ร\",\"มผ\",IF(EN79>=$EL$5*กำหนดอัตราส่วนคะแนน!$U$4/100,\"ผ\",\"มผ\")))","v":""},null,null,"",{"$f":"IF(EP9=\"\",\"\",IF(ER9=\"ร\",\"มผ\",IF(ER9>=$EP$5*กำหนดอัตราส่วนคะแนน!$U$4/100,\"ผ\",\"มผ\")))","v":""},null,null,"",{"$f":"IF(ET9=\"\",\"\",IF(EV9=\"ร\",\"มผ\",IF(EV9>=$ET$5*กำหนดอัตราส่วนคะแนน!$U$4/100,\"ผ\",\"มผ\")))","v":""},null,null,"",{"$f":"IF(EX9=\"\",\"\",IF(EZ9=\"ร\",\"มผ\",IF(EZ9>=$EX$5*กำหนดอัตราส่วนคะแนน!$U$4/100,\"ผ\",\"มผ\")))","v":""},null,null,"",{"$f":"IF(FB9=\"\",\"\",IF(FD9=\"ร\",\"มผ\",IF(FD9>=$FB$5*กำหนดอัตราส่วนคะแนน!$U$4/100,\"ผ\",\"มผ\")))","v":""},null,null,"",{"$f":"IF(FF9=\"\",\"\",IF(FH9=\"ร\",\"มผ\",IF(FH9>=$FF$5*กำหนดอัตราส่วนคะแนน!$U$4/100,\"ผ\",\"มผ\")))","v":""},{"$f":"IF(Sheet1!#REF!=\"\",\"\",IF(COUNTIF(F9:FI9,\"ร\"),\"ร\",IF(FW9=\"ปกติ\",SUM(H9,L9,P9,T9,X9,AB9,AF9,AJ9,AN9,AR9,AV9,AZ9,BD9,BH9,BL9,BP9,BT9,BX9,CB9,CF9,CJ9,CN9,CR9,CV9,CZ9,DD9,DH9,DL9,DP9,DT9,DX9,EB9,EF9,EJ9,EN9,ER9,EV9,EZ9,FD9,FH9),\"-\")))","v":{"$error":"#REF!"}},null,{"$f":"IF(FJ9=\"\",\"\",IF(FJ9=\"-\",\"-\",IF(FJ9=\"ร\",\"ร\",IF(FJ9=0,\"\",IF($FK$6=0,\"\",ROUND(FJ9/$FK$6,0))))))","v":{"$error":"#REF!"}},null,null,{"$error":"#REF!"},null,null,null,"",null,{"$f":"IF(COUNTIF(Sheet1!#REF!:Sheet1!#REF!,\"\"),\"\",IF(COUNTIF(FJ9:FS9,\"ร\"),\"ร\",IF(COUNTIF(FL9:FS9,\"-\"),\"-\",IF(FW9=\"ปกติ\",SUM(FO9,FS9)))))","v":{"$error":"#REF!"}},null,{"$f":"เวลาเรียน!DZ11","v":0}]
[4,2500,{"$f":"CONCATENATE(Sheet1!B5)","v":"12920"},{"$f":"CONCATENATE(Sheet1!D5&Sheet1!#REF!&\"       \"&Sheet1!#REF!)","v":{"$error":"#REF!"}},4,null,null,"",{"$f":"IF(F10=\"\",\"\",IF(H10=\"ร\",\"มผ\",IF(H10>=$F$5*กำหนดอัตราส่วนคะแนน!$U$4/100,\"ผ\",\"มผ\")))","v":""},null,null,"",{"$f":"IF(J10=\"\",\"\",IF(L10=\"ร\",\"มผ\",IF(L10>=$J$5*กำหนดอัตราส่วนคะแนน!$U$4/100,\"ผ\",\"มผ\")))","v":""},null,null,"",{"$f":"IF(N10=\"\",\"\",IF(P10=\"ร\",\"มผ\",IF(P10>=$N$5*กำหนดอัตราส่วนคะแนน!$U$4/100,\"ผ\",\"มผ\")))","v":""},null,null,"",{"$f":"IF(R10=\"\",\"\",IF(T10=\"ร\",\"มผ\",IF(T10>=$R$5*กำหนดอัตราส่วนคะแนน!$U$4/100,\"ผ\",\"มผ\")))","v":""},null,null,"",{"$f":"IF(V10=\"\",\"\",IF(X10=\"ร\",\"มผ\",IF(X10>=$V$5*กำหนดอัตราส่วนคะแนน!$U$4/100,\"ผ\",\"มผ\")))","v":""},null,null,"",{"$f":"IF(Z10=\"\",\"\",IF(AB10=\"ร\",\"มผ\",IF(AB10>=$Z$5*กำหนดอัตราส่วนคะแนน!$U$4/100,\"ผ\",\"มผ\")))","v":""},null,null,"",{"$f":"IF(AD10=\"\",\"\",IF(AF10=\"ร\",\"มผ\",IF(AF10>=$AD$5*กำหนดอัตราส่วนคะแนน!$U$4/100,\"ผ\",\"มผ\")))","v":""},null,null,"",{"$f":"IF(AH10=\"\",\"\",IF(AJ10=\"ร\",\"มผ\",IF(AJ10>=$AH$5*กำหนดอัตราส่วนคะแนน!$U$4/100,\"ผ\",\"มผ\")))","v":""},null,null,"",{"$f":"IF(AL10=\"\",\"\",IF(AN10=\"ร\",\"มผ\",IF(AN10>=$AL$5*กำหนดอัตราส่วนคะแนน!$U$4/100,\"ผ\",\"มผ\")))","v":""},null,null,"",{"$f":"IF(AP10=\"\",\"\",IF(AR10=\"ร\",\"มผ\",IF(AR10>=$AP$5*กำหนดอัตราส่วนคะแนน!$U$4/100,\"ผ\",\"มผ\")))","v":""},null,null,"",{"$f":"IF(AT10=\"\",\"\",IF(AV10=\"ร\",\"มผ\",IF(AV10>=$AT$5*กำหนดอัตราส่วนคะแนน!$U$4/100,\"ผ\",\"มผ\")))","v":""},null,null,"",{"$f":"IF(AX10=\"\",\"\",IF(AZ10=\"ร\",\"มผ\",IF(AZ10>=$AX$5*กำหนดอัตราส่วนคะแนน!$U$4/100,\"ผ\",\"มผ\")))","v":""},null,null,"",{"$f":"IF(BB10=\"\",\"\",IF(BD10=\"ร\",\"มผ\",IF(BD10>=$BB$5*กำหนดอัตราส่วนคะแนน!$U$4/100,\"ผ\",\"มผ\")))","v":""},null,null,"",{"$f":"IF(BF10=\"\",\"\",IF(BH10=\"ร\",\"มผ\",IF(BH10>=$BJ$5*กำหนดอัตราส่วนคะแนน!$U$4/100,\"ผ\",\"มผ\")))","v":""},null,null,"",{"$f":"IF(BJ10=\"\",\"\",IF(BL10=\"ร\",\"มผ\",IF(BL10>=$BJ$5*กำหนดอัตราส่วนคะแนน!$U$4/100,\"ผ\",\"มผ\")))","v":""},null,null,"",{"$f":"IF(BN10=\"\",\"\",IF(BP10=\"ร\",\"มผ\",IF(BP10>=$BN$5*กำหนดอัตราส่วนคะแนน!$U$4/100,\"ผ\",\"มผ\")))","v":""},null,null,"",{"$f":"IF(BR10=\"\",\"\",IF(BT10=\"ร\",\"มผ\",IF(BT10>=$BR$5*กำหนดอัตราส่วนคะแนน!$U$4/100,\"ผ\",\"มผ\")))","v":""},null,null,"",{"$f":"IF(BV10=\"\",\"\",IF(BX10=\"ร\",\"มผ\",IF(BX10>=$BV$5*กำหนดอัตราส่วนคะแนน!$U$4/100,\"ผ\",\"มผ\")))","v":""},null,null,"",{"$f":"IF(BZ10=\"\",\"\",IF(CB10=\"ร\",\"มผ\",IF(CB10>=$BZ$5*กำหนดอัตราส่วนคะแนน!$U$4/100,\"ผ\",\"มผ\")))","v":""},null,null,"",{"$f":"IF(CD10=\"\",\"\",IF(CF10=\"ร\",\"มผ\",IF(CF10>=$CD$5*กำหนดอัตราส่วนคะแนน!$U$4/100,\"ผ\",\"มผ\")))","v":""},null,null,"",{"$f":"IF(CH10=\"\",\"\",IF(CJ10=\"ร\",\"มผ\",IF(CJ10>=$CH$5*กำหนดอัตราส่วนคะแนน!$U$4/100,\"ผ\",\"มผ\")))","v":""},null,null,"",{"$f":"IF(CL10=\"\",\"\",IF(CN10=\"ร\",\"มผ\",IF(CN10>=$CL$5*กำหนดอัตราส่วนคะแนน!$U$4/100,\"ผ\",\"มผ\")))","v":""},null,null,"",{"$f":"IF(CP10=\"\",\"\",IF(CR10=\"ร\",\"มผ\",IF(CR10>=$CP$5*กำหนดอัตราส่วนคะแนน!$U$4/100,\"ผ\",\"มผ\")))","v":""},null,null,"",{"$f":"IF(CT10=\"\",\"\",IF(CV10=\"ร\",\"มผ\",IF(CV10>=$CT$5*กำหนดอัตราส่วนคะแนน!$U$4/100,\"ผ\",\"มผ\")))","v":""},null,null,"",{"$f":"IF(CX10=\"\",\"\",IF(CZ10=\"ร\",\"มผ\",IF(CZ10>=$CX$5*กำหนดอัตราส่วนคะแนน!$U$4/100,\"ผ\",\"มผ\")))","v":""},null,null,"",{"$f":"IF(DB10=\"\",\"\",IF(DD10=\"ร\",\"มผ\",IF(DD10>=$DB$5*กำหนดอัตราส่วนคะแนน!$U$4/100,\"ผ\",\"มผ\")))","v":""},null,null,"",{"$f":"IF(DF10=\"\",\"\",IF(DH10=\"ร\",\"มผ\",IF(DH10>=$DF$5*กำหนดอัตราส่วนคะแนน!$U$4/100,\"ผ\",\"มผ\")))","v":""},null,null,"",{"$f":"IF(DJ10=\"\",\"\",IF(DL10=\"ร\",\"มผ\",IF(DL10>=$DJ$5*กำหนดอัตราส่วนคะแนน!$U$4/100,\"ผ\",\"มผ\")))","v":""},null,null,"",{"$f":"IF(DN10=\"\",\"\",IF(DP10=\"ร\",\"มผ\",IF(DP10>=$DN$5*กำหนดอัตราส่วนคะแนน!$U$4/100,\"ผ\",\"มผ\")))","v":""},null,null,"",{"$f":"IF(DR10=\"\",\"\",IF(DT10=\"ร\",\"มผ\",IF(DT10>=$DR$5*กำหนดอัตราส่วนคะแนน!$U$4/100,\"ผ\",\"มผ\")))","v":""},null,null,"",{"$f":"IF(DV10=\"\",\"\",IF(DX10=\"ร\",\"มผ\",IF(DX10>=$DV$5*กำหนดอัตราส่วนคะแนน!$U$4/100,\"ผ\",\"มผ\")))","v":""},null,null,"",{"$f":"IF(DZ10=\"\",\"\",IF(EB10=\"ร\",\"มผ\",IF(EB10>=$DZ$5*กำหนดอัตราส่วนคะแนน!$U$4/100,\"ผ\",\"มผ\")))","v":""},null,null,"",{"$f":"IF(ED10=\"\",\"\",IF(EF10=\"ร\",\"มผ\",IF(EF10>=$ED$5*กำหนดอัตราส่วนคะแนน!$U$4/100,\"ผ\",\"มผ\")))","v":""},null,null,"",{"$f":"IF(EH10=\"\",\"\",IF(EJ10=\"ร\",\"มผ\",IF(EJ10>=$EH$5*กำหนดอัตราส่วนคะแนน!$U$4/100,\"ผ\",\"มผ\")))","v":""},null,null,"",{"$f":"IF(EL10=\"\",\"\",IF(EN10=\"ร\",\"มผ\",IF(EN80>=$EL$5*กำหนดอัตราส่วนคะแนน!$U$4/100,\"ผ\",\"มผ\")))","v":""},null,null,"",{"$f":"IF(EP10=\"\",\"\",IF(ER10=\"ร\",\"มผ\",IF(ER10>=$EP$5*กำหนดอัตราส่วนคะแนน!$U$4/100,\"ผ\",\"มผ\")))","v":""},null,null,"",{"$f":"IF(ET10=\"\",\"\",IF(EV10=\"ร\",\"มผ\",IF(EV10>=$ET$5*กำหนดอัตราส่วนคะแนน!$U$4/100,\"ผ\",\"มผ\")))","v":""},null,null,"",{"$f":"IF(EX10=\"\",\"\",IF(EZ10=\"ร\",\"มผ\",IF(EZ10>=$EX$5*กำหนดอัตราส่วนคะแนน!$U$4/100,\"ผ\",\"มผ\")))","v":""},null,null,"",{"$f":"IF(FB10=\"\",\"\",IF(FD10=\"ร\",\"มผ\",IF(FD10>=$FB$5*กำหนดอัตราส่วนคะแนน!$U$4/100,\"ผ\",\"มผ\")))","v":""},null,null,"",{"$f":"IF(FF10=\"\",\"\",IF(FH10=\"ร\",\"มผ\",IF(FH10>=$FF$5*กำหนดอัตราส่วนคะแนน!$U$4/100,\"ผ\",\"มผ\")))","v":""},{"$f":"IF(Sheet1!#REF!=\"\",\"\",IF(COUNTIF(F10:FI10,\"ร\"),\"ร\",IF(FW10=\"ปกติ\",SUM(H10,L10,P10,T10,X10,AB10,AF10,AJ10,AN10,AR10,AV10,AZ10,BD10,BH10,BL10,BP10,BT10,BX10,CB10,CF10,CJ10,CN10,CR10,CV10,CZ10,DD10,DH10,DL10,DP10,DT10,DX10,EB10,EF10,EJ10,EN10,ER10,EV10,EZ10,FD10,FH10),\"-\")))","v":{"$error":"#REF!"}},null,{"$error":"#REF!"},null,null,{"$error":"#REF!"},null,null,null,"",null,{"$f":"IF(COUNTIF(Sheet1!#REF!:Sheet1!#REF!,\"\"),\"\",IF(COUNTIF(FJ10:FS10,\"ร\"),\"ร\",IF(COUNTIF(FL10:FS10,\"-\"),\"-\",IF(FW10=\"ปกติ\",SUM(FO10,FS10)))))","v":{"$error":"#REF!"}},null,{"$f":"เวลาเรียน!DZ12","v":0}]
[5,2501,{"$f":"CONCATENATE(Sheet1!B6)","v":"12924"},{"$f":"CONCATENATE(Sheet1!D6&Sheet1!#REF!&\"       \"&Sheet1!#REF!)","v":{"$error":"#REF!"}},5,null,null,"",{"$f":"IF(F11=\"\",\"\",IF(H11=\"ร\",\"มผ\",IF(H11>=$F$5*กำหนดอัตราส่วนคะแนน!$U$4/100,\"ผ\",\"มผ\")))","v":""},null,null,"",{"$f":"IF(J11=\"\",\"\",IF(L11=\"ร\",\"มผ\",IF(L11>=$J$5*กำหนดอัตราส่วนคะแนน!$U$4/100,\"ผ\",\"มผ\")))","v":""},null,null,"",{"$f":"IF(N11=\"\",\"\",IF(P11=\"ร\",\"มผ\",IF(P11>=$N$5*กำหนดอัตราส่วนคะแนน!$U$4/100,\"ผ\",\"มผ\")))","v":""},null,null,"",{"$f":"IF(R11=\"\",\"\",IF(T11=\"ร\",\"มผ\",IF(T11>=$R$5*กำหนดอัตราส่วนคะแนน!$U$4/100,\"ผ\",\"มผ\")))","v":""},null,null,"",{"$f":"IF(V11=\"\",\"\",IF(X11=\"ร\",\"มผ\",IF(X11>=$V$5*กำหนดอัตราส่วนคะแนน!$U$4/100,\"ผ\",\"มผ\")))","v":""},null,null,"",{"$f":"IF(Z11=\"\",\"\",IF(AB11=\"ร\",\"มผ\",IF(AB11>=$Z$5*กำหนดอัตราส่วนคะแนน!$U$4/100,\"ผ\",\"มผ\")))","v":""},null,null,"",{"$f":"IF(AD11=\"\",\"\",IF(AF11=\"ร\",\"มผ\",IF(AF11>=$AD$5*กำหนดอัตราส่วนคะแนน!$U$4/100,\"ผ\",\"มผ\")))","v":""},null,null,"",{"$f":"IF(AH11=\"\",\"\",IF(AJ11=\"ร\",\"มผ\",IF(AJ11>=$AH$5*กำหนดอัตราส่วนคะแนน!$U$4/100,\"ผ\",\"มผ\")))","v":""},null,null,"",{"$f":"IF(AL11=\"\",\"\",IF(AN11=\"ร\",\"มผ\",IF(AN11>=$AL$5*กำหนดอัตราส่วนคะแนน!$U$4/100,\"ผ\",\"มผ\")))","v":""},null,null,"",{"$f":"IF(AP11=\"\",\"\",IF(AR11=\"ร\",\"มผ\",IF(AR11>=$AP$5*กำหนดอัตราส่วนคะแนน!$U$4/100,\"ผ\",\"มผ\")))","v":""},null,null,"",{"$f":"IF(AT11=\"\",\"\",IF(AV11=\"ร\",\"มผ\",IF(AV11>=$AT$5*กำหนดอัตราส่วนคะแนน!$U$4/100,\"ผ\",\"มผ\")))","v":""},null,null,"",{"$f":"IF(AX11=\"\",\"\",IF(AZ11=\"ร\",\"มผ\",IF(AZ11>=$AX$5*กำหนดอัตราส่วนคะแนน!$U$4/100,\"ผ\",\"มผ\")))","v":""},null,null,"",{"$f":"IF(BB11=\"\",\"\",IF(BD11=\"ร\",\"มผ\",IF(BD11>=$BB$5*กำหนดอัตราส่วนคะแนน!$U$4/100,\"ผ\",\"มผ\")))","v":""},null,null,"",{"$f":"IF(BF11=\"\",\"\",IF(BH11=\"ร\",\"มผ\",IF(BH11>=$BJ$5*กำหนดอัตราส่วนคะแนน!$U$4/100,\"ผ\",\"มผ\")))","v":""},null,null,"",{"$f":"IF(BJ11=\"\",\"\",IF(BL11=\"ร\",\"มผ\",IF(BL11>=$BJ$5*กำหนดอัตราส่วนคะแนน!$U$4/100,\"ผ\",\"มผ\")))","v":""},null,null,"",{"$f":"IF(BN11=\"\",\"\",IF(BP11=\"ร\",\"มผ\",IF(BP11>=$BN$5*กำหนดอัตราส่วนคะแนน!$U$4/100,\"ผ\",\"มผ\")))","v":""},null,null,"",{"$f":"IF(BR11=\"\",\"\",IF(BT11=\"ร\",\"มผ\",IF(BT11>=$BR$5*กำหนดอัตราส่วนคะแนน!$U$4/100,\"ผ\",\"มผ\")))","v":""},null,null,"",{"$f":"IF(BV11=\"\",\"\",IF(BX11=\"ร\",\"มผ\",IF(BX11>=$BV$5*กำหนดอัตราส่วนคะแนน!$U$4/100,\"ผ\",\"มผ\")))","v":""},null,null,"",{"$f":"IF(BZ11=\"\",\"\",IF(CB11=\"ร\",\"มผ\",IF(CB11>=$BZ$5*กำหนดอัตราส่วนคะแนน!$U$4/100,\"ผ\",\"มผ\")))","v":""},null,null,"",{"$f":"IF(CD11=\"\",\"\",IF(CF11=\"ร\",\"มผ\",IF(CF11>=$CD$5*กำหนดอัตราส่วนคะแนน!$U$4/100,\"ผ\",\"มผ\")))","v":""},null,null,"",{"$f":"IF(CH11=\"\",\"\",IF(CJ11=\"ร\",\"มผ\",IF(CJ11>=$CH$5*กำหนดอัตราส่วนคะแนน!$U$4/100,\"ผ\",\"มผ\")))","v":""},null,null,"",{"$f":"IF(CL11=\"\",\"\",IF(CN11=\"ร\",\"มผ\",IF(CN11>=$CL$5*กำหนดอัตราส่วนคะแนน!$U$4/100,\"ผ\",\"มผ\")))","v":""},null,null,"",{"$f":"IF(CP11=\"\",\"\",IF(CR11=\"ร\",\"มผ\",IF(CR11>=$CP$5*กำหนดอัตราส่วนคะแนน!$U$4/100,\"ผ\",\"มผ\")))","v":""},null,null,"",{"$f":"IF(CT11=\"\",\"\",IF(CV11=\"ร\",\"มผ\",IF(CV11>=$CT$5*กำหนดอัตราส่วนคะแนน!$U$4/100,\"ผ\",\"มผ\")))","v":""},null,null,"",{"$f":"IF(CX11=\"\",\"\",IF(CZ11=\"ร\",\"มผ\",IF(CZ11>=$CX$5*กำหนดอัตราส่วนคะแนน!$U$4/100,\"ผ\",\"มผ\")))","v":""},null,null,"",{"$f":"IF(DB11=\"\",\"\",IF(DD11=\"ร\",\"มผ\",IF(DD11>=$DB$5*กำหนดอัตราส่วนคะแนน!$U$4/100,\"ผ\",\"มผ\")))","v":""},null,null,"",{"$f":"IF(DF11=\"\",\"\",IF(DH11=\"ร\",\"มผ\",IF(DH11>=$DF$5*กำหนดอัตราส่วนคะแนน!$U$4/100,\"ผ\",\"มผ\")))","v":""},null,null,"",{"$f":"IF(DJ11=\"\",\"\",IF(DL11=\"ร\",\"มผ\",IF(DL11>=$DJ$5*กำหนดอัตราส่วนคะแนน!$U$4/100,\"ผ\",\"มผ\")))","v":""},null,null,"",{"$f":"IF(DN11=\"\",\"\",IF(DP11=\"ร\",\"มผ\",IF(DP11>=$DN$5*กำหนดอัตราส่วนคะแนน!$U$4/100,\"ผ\",\"มผ\")))","v":""},null,null,"",{"$f":"IF(DR11=\"\",\"\",IF(DT11=\"ร\",\"มผ\",IF(DT11>=$DR$5*กำหนดอัตราส่วนคะแนน!$U$4/100,\"ผ\",\"มผ\")))","v":""},null,null,"",{"$f":"IF(DV11=\"\",\"\",IF(DX11=\"ร\",\"มผ\",IF(DX11>=$DV$5*กำหนดอัตราส่วนคะแนน!$U$4/100,\"ผ\",\"มผ\")))","v":""},null,null,"",{"$f":"IF(DZ11=\"\",\"\",IF(EB11=\"ร\",\"มผ\",IF(EB11>=$DZ$5*กำหนดอัตราส่วนคะแนน!$U$4/100,\"ผ\",\"มผ\")))","v":""},null,null,"",{"$f":"IF(ED11=\"\",\"\",IF(EF11=\"ร\",\"มผ\",IF(EF11>=$ED$5*กำหนดอัตราส่วนคะแนน!$U$4/100,\"ผ\",\"มผ\")))","v":""},null,null,"",{"$f":"IF(EH11=\"\",\"\",IF(EJ11=\"ร\",\"มผ\",IF(EJ11>=$EH$5*กำหนดอัตราส่วนคะแนน!$U$4/100,\"ผ\",\"มผ\")))","v":""},null,null,"",{"$f":"IF(EL11=\"\",\"\",IF(EN11=\"ร\",\"มผ\",IF(EN81>=$EL$5*กำหนดอัตราส่วนคะแนน!$U$4/100,\"ผ\",\"มผ\")))","v":""},null,null,"",{"$f":"IF(EP11=\"\",\"\",IF(ER11=\"ร\",\"มผ\",IF(ER11>=$EP$5*กำหนดอัตราส่วนคะแนน!$U$4/100,\"ผ\",\"มผ\")))","v":""},null,null,"",{"$f":"IF(ET11=\"\",\"\",IF(EV11=\"ร\",\"มผ\",IF(EV11>=$ET$5*กำหนดอัตราส่วนคะแนน!$U$4/100,\"ผ\",\"มผ\")))","v":""},null,null,"",{"$f":"IF(EX11=\"\",\"\",IF(EZ11=\"ร\",\"มผ\",IF(EZ11>=$EX$5*กำหนดอัตราส่วนคะแนน!$U$4/100,\"ผ\",\"มผ\")))","v":""},null,null,"",{"$f":"IF(FB11=\"\",\"\",IF(FD11=\"ร\",\"มผ\",IF(FD11>=$FB$5*กำหนดอัตราส่วนคะแนน!$U$4/100,\"ผ\",\"มผ\")))","v":""},null,null,"",{"$f":"IF(FF11=\"\",\"\",IF(FH11=\"ร\",\"มผ\",IF(FH11>=$FF$5*กำหนดอัตราส่วนคะแนน!$U$4/100,\"ผ\",\"มผ\")))","v":""},{"$f":"IF(Sheet1!#REF!=\"\",\"\",IF(COUNTIF(F11:FI11,\"ร\"),\"ร\",IF(FW11=\"ปกติ\",SUM(H11,L11,P11,T11,X11,AB11,AF11,AJ11,AN11,AR11,AV11,AZ11,BD11,BH11,BL11,BP11,BT11,BX11,CB11,CF11,CJ11,CN11,CR11,CV11,CZ11,DD11,DH11,DL11,DP11,DT11,DX11,EB11,EF11,EJ11,EN11,ER11,EV11,EZ11,FD11,FH11),\"-\")))","v":{"$error":"#REF!"}},null,{"$error":"#REF!"},null,null,{"$error":"#REF!"},null,null,null,"",null,{"$f":"IF(COUNTIF(Sheet1!#REF!:Sheet1!#REF!,\"\"),\"\",IF(COUNTIF(FJ11:FS11,\"ร\"),\"ร\",IF(COUNTIF(FL11:FS11,\"-\"),\"-\",IF(FW11=\"ปกติ\",SUM(FO11,FS11)))))","v":{"$error":"#REF!"}},null,{"$f":"เวลาเรียน!DZ13","v":0}]
[6,2502,{"$f":"CONCATENATE(Sheet1!B7)","v":"12926"},{"$f":"CONCATENATE(Sheet1!D7&Sheet1!#REF!&\"       \"&Sheet1!#REF!)","v":{"$error":"#REF!"}},6,null,null,"",{"$f":"IF(F12=\"\",\"\",IF(H12=\"ร\",\"มผ\",IF(H12>=$F$5*กำหนดอัตราส่วนคะแนน!$U$4/100,\"ผ\",\"มผ\")))","v":""},null,null,"",{"$f":"IF(J12=\"\",\"\",IF(L12=\"ร\",\"มผ\",IF(L12>=$J$5*กำหนดอัตราส่วนคะแนน!$U$4/100,\"ผ\",\"มผ\")))","v":""},null,null,"",{"$f":"IF(N12=\"\",\"\",IF(P12=\"ร\",\"มผ\",IF(P12>=$N$5*กำหนดอัตราส่วนคะแนน!$U$4/100,\"ผ\",\"มผ\")))","v":""},null,null,"",{"$f":"IF(R12=\"\",\"\",IF(T12=\"ร\",\"มผ\",IF(T12>=$R$5*กำหนดอัตราส่วนคะแนน!$U$4/100,\"ผ\",\"มผ\")))","v":""},null,null,"",{"$f":"IF(V12=\"\",\"\",IF(X12=\"ร\",\"มผ\",IF(X12>=$V$5*กำหนดอัตราส่วนคะแนน!$U$4/100,\"ผ\",\"มผ\")))","v":""},null,null,"",{"$f":"IF(Z12=\"\",\"\",IF(AB12=\"ร\",\"มผ\",IF(AB12>=$Z$5*กำหนดอัตราส่วนคะแนน!$U$4/100,\"ผ\",\"มผ\")))","v":""},null,null,"",{"$f":"IF(AD12=\"\",\"\",IF(AF12=\"ร\",\"มผ\",IF(AF12>=$AD$5*กำหนดอัตราส่วนคะแนน!$U$4/100,\"ผ\",\"มผ\")))","v":""},null,null,"",{"$f":"IF(AH12=\"\",\"\",IF(AJ12=\"ร\",\"มผ\",IF(AJ12>=$AH$5*กำหนดอัตราส่วนคะแนน!$U$4/100,\"ผ\",\"มผ\")))","v":""},null,null,"",{"$f":"IF(AL12=\"\",\"\",IF(AN12=\"ร\",\"มผ\",IF(AN12>=$AL$5*กำหนดอัตราส่วนคะแนน!$U$4/100,\"ผ\",\"มผ\")))","v":""},null,null,"",{"$f":"IF(AP12=\"\",\"\",IF(AR12=\"ร\",\"มผ\",IF(AR12>=$AP$5*กำหนดอัตราส่วนคะแนน!$U$4/100,\"ผ\",\"มผ\")))","v":""},null,null,"",{"$f":"IF(AT12=\"\",\"\",IF(AV12=\"ร\",\"มผ\",IF(AV12>=$AT$5*กำหนดอัตราส่วนคะแนน!$U$4/100,\"ผ\",\"มผ\")))","v":""},null,null,"",{"$f":"IF(AX12=\"\",\"\",IF(AZ12=\"ร\",\"มผ\",IF(AZ12>=$AX$5*กำหนดอัตราส่วนคะแนน!$U$4/100,\"ผ\",\"มผ\")))","v":""},null,null,"",{"$f":"IF(BB12=\"\",\"\",IF(BD12=\"ร\",\"มผ\",IF(BD12>=$BB$5*กำหนดอัตราส่วนคะแนน!$U$4/100,\"ผ\",\"มผ\")))","v":""},null,null,"",{"$f":"IF(BF12=\"\",\"\",IF(BH12=\"ร\",\"มผ\",IF(BH12>=$BJ$5*กำหนดอัตราส่วนคะแนน!$U$4/100,\"ผ\",\"มผ\")))","v":""},null,null,"",{"$f":"IF(BJ12=\"\",\"\",IF(BL12=\"ร\",\"มผ\",IF(BL12>=$BJ$5*กำหนดอัตราส่วนคะแนน!$U$4/100,\"ผ\",\"มผ\")))","v":""},null,null,"",{"$f":"IF(BN12=\"\",\"\",IF(BP12=\"ร\",\"มผ\",IF(BP12>=$BN$5*กำหนดอัตราส่วนคะแนน!$U$4/100,\"ผ\",\"มผ\")))","v":""},null,null,"",{"$f":"IF(BR12=\"\",\"\",IF(BT12=\"ร\",\"มผ\",IF(BT12>=$BR$5*กำหนดอัตราส่วนคะแนน!$U$4/100,\"ผ\",\"มผ\")))","v":""},null,null,"",{"$f":"IF(BV12=\"\",\"\",IF(BX12=\"ร\",\"มผ\",IF(BX12>=$BV$5*กำหนดอัตราส่วนคะแนน!$U$4/100,\"ผ\",\"มผ\")))","v":""},null,null,"",{"$f":"IF(BZ12=\"\",\"\",IF(CB12=\"ร\",\"มผ\",IF(CB12>=$BZ$5*กำหนดอัตราส่วนคะแนน!$U$4/100,\"ผ\",\"มผ\")))","v":""},null,null,"",{"$f":"IF(CD12=\"\",\"\",IF(CF12=\"ร\",\"มผ\",IF(CF12>=$CD$5*กำหนดอัตราส่วนคะแนน!$U$4/100,\"ผ\",\"มผ\")))","v":""},null,null,"",{"$f":"IF(CH12=\"\",\"\",IF(CJ12=\"ร\",\"มผ\",IF(CJ12>=$CH$5*กำหนดอัตราส่วนคะแนน!$U$4/100,\"ผ\",\"มผ\")))","v":""},null,null,"",{"$f":"IF(CL12=\"\",\"\",IF(CN12=\"ร\",\"มผ\",IF(CN12>=$CL$5*กำหนดอัตราส่วนคะแนน!$U$4/100,\"ผ\",\"มผ\")))","v":""},null,null,"",{"$f":"IF(CP12=\"\",\"\",IF(CR12=\"ร\",\"มผ\",IF(CR12>=$CP$5*กำหนดอัตราส่วนคะแนน!$U$4/100,\"ผ\",\"มผ\")))","v":""},null,null,"",{"$f":"IF(CT12=\"\",\"\",IF(CV12=\"ร\",\"มผ\",IF(CV12>=$CT$5*กำหนดอัตราส่วนคะแนน!$U$4/100,\"ผ\",\"มผ\")))","v":""},null,null,"",{"$f":"IF(CX12=\"\",\"\",IF(CZ12=\"ร\",\"มผ\",IF(CZ12>=$CX$5*กำหนดอัตราส่วนคะแนน!$U$4/100,\"ผ\",\"มผ\")))","v":""},null,null,"",{"$f":"IF(DB12=\"\",\"\",IF(DD12=\"ร\",\"มผ\",IF(DD12>=$DB$5*กำหนดอัตราส่วนคะแนน!$U$4/100,\"ผ\",\"มผ\")))","v":""},null,null,"",{"$f":"IF(DF12=\"\",\"\",IF(DH12=\"ร\",\"มผ\",IF(DH12>=$DF$5*กำหนดอัตราส่วนคะแนน!$U$4/100,\"ผ\",\"มผ\")))","v":""},null,null,"",{"$f":"IF(DJ12=\"\",\"\",IF(DL12=\"ร\",\"มผ\",IF(DL12>=$DJ$5*กำหนดอัตราส่วนคะแนน!$U$4/100,\"ผ\",\"มผ\")))","v":""},null,null,"",{"$f":"IF(DN12=\"\",\"\",IF(DP12=\"ร\",\"มผ\",IF(DP12>=$DN$5*กำหนดอัตราส่วนคะแนน!$U$4/100,\"ผ\",\"มผ\")))","v":""},null,null,"",{"$f":"IF(DR12=\"\",\"\",IF(DT12=\"ร\",\"มผ\",IF(DT12>=$DR$5*กำหนดอัตราส่วนคะแนน!$U$4/100,\"ผ\",\"มผ\")))","v":""},null,null,"",{"$f":"IF(DV12=\"\",\"\",IF(DX12=\"ร\",\"มผ\",IF(DX12>=$DV$5*กำหนดอัตราส่วนคะแนน!$U$4/100,\"ผ\",\"มผ\")))","v":""},null,null,"",{"$f":"IF(DZ12=\"\",\"\",IF(EB12=\"ร\",\"มผ\",IF(EB12>=$DZ$5*กำหนดอัตราส่วนคะแนน!$U$4/100,\"ผ\",\"มผ\")))","v":""},null,null,"",{"$f":"IF(ED12=\"\",\"\",IF(EF12=\"ร\",\"มผ\",IF(EF12>=$ED$5*กำหนดอัตราส่วนคะแนน!$U$4/100,\"ผ\",\"มผ\")))","v":""},null,null,"",{"$f":"IF(EH12=\"\",\"\",IF(EJ12=\"ร\",\"มผ\",IF(EJ12>=$EH$5*กำหนดอัตราส่วนคะแนน!$U$4/100,\"ผ\",\"มผ\")))","v":""},null,null,"",{"$f":"IF(EL12=\"\",\"\",IF(EN12=\"ร\",\"มผ\",IF(EN82>=$EL$5*กำหนดอัตราส่วนคะแนน!$U$4/100,\"ผ\",\"มผ\")))","v":""},null,null,"",{"$f":"IF(EP12=\"\",\"\",IF(ER12=\"ร\",\"มผ\",IF(ER12>=$EP$5*กำหนดอัตราส่วนคะแนน!$U$4/100,\"ผ\",\"มผ\")))","v":""},null,null,"",{"$f":"IF(ET12=\"\",\"\",IF(EV12=\"ร\",\"มผ\",IF(EV12>=$ET$5*กำหนดอัตราส่วนคะแนน!$U$4/100,\"ผ\",\"มผ\")))","v":""},null,null,"",{"$f":"IF(EX12=\"\",\"\",IF(EZ12=\"ร\",\"มผ\",IF(EZ12>=$EX$5*กำหนดอัตราส่วนคะแนน!$U$4/100,\"ผ\",\"มผ\")))","v":""},null,null,"",{"$f":"IF(FB12=\"\",\"\",IF(FD12=\"ร\",\"มผ\",IF(FD12>=$FB$5*กำหนดอัตราส่วนคะแนน!$U$4/100,\"ผ\",\"มผ\")))","v":""},null,null,"",{"$f":"IF(FF12=\"\",\"\",IF(FH12=\"ร\",\"มผ\",IF(FH12>=$FF$5*กำหนดอัตราส่วนคะแนน!$U$4/100,\"ผ\",\"มผ\")))","v":""},{"$f":"IF(Sheet1!#REF!=\"\",\"\",IF(COUNTIF(F12:FI12,\"ร\"),\"ร\",IF(FW12=\"ปกติ\",SUM(H12,L12,P12,T12,X12,AB12,AF12,AJ12,AN12,AR12,AV12,AZ12,BD12,BH12,BL12,BP12,BT12,BX12,CB12,CF12,CJ12,CN12,CR12,CV12,CZ12,DD12,DH12,DL12,DP12,DT12,DX12,EB12,EF12,EJ12,EN12,ER12,EV12,EZ12,FD12,FH12),\"-\")))","v":{"$error":"#REF!"}},null,{"$error":"#REF!"},null,null,{"$error":"#REF!"},null,null,null,"",null,{"$f":"IF(COUNTIF(Sheet1!#REF!:Sheet1!#REF!,\"\"),\"\",IF(COUNTIF(FJ12:FS12,\"ร\"),\"ร\",IF(COUNTIF(FL12:FS12,\"-\"),\"-\",IF(FW12=\"ปกติ\",SUM(FO12,FS12)))))","v":{"$error":"#REF!"}},null,{"$f":"เวลาเรียน!DZ14","v":0}]
[7,2503,{"$f":"CONCATENATE(Sheet1!B8)","v":"12938"},{"$f":"CONCATENATE(Sheet1!D8&Sheet1!#REF!&\"       \"&Sheet1!#REF!)","v":{"$error":"#REF!"}},7,null,null,"",{"$f":"IF(F13=\"\",\"\",IF(H13=\"ร\",\"มผ\",IF(H13>=$F$5*กำหนดอัตราส่วนคะแนน!$U$4/100,\"ผ\",\"มผ\")))","v":""},null,null,"",{"$f":"IF(J13=\"\",\"\",IF(L13=\"ร\",\"มผ\",IF(L13>=$J$5*กำหนดอัตราส่วนคะแนน!$U$4/100,\"ผ\",\"มผ\")))","v":""},null,null,"",{"$f":"IF(N13=\"\",\"\",IF(P13=\"ร\",\"มผ\",IF(P13>=$N$5*กำหนดอัตราส่วนคะแนน!$U$4/100,\"ผ\",\"มผ\")))","v":""},null,null,"",{"$f":"IF(R13=\"\",\"\",IF(T13=\"ร\",\"มผ\",IF(T13>=$R$5*กำหนดอัตราส่วนคะแนน!$U$4/100,\"ผ\",\"มผ\")))","v":""},null,null,"",{"$f":"IF(V13=\"\",\"\",IF(X13=\"ร\",\"มผ\",IF(X13>=$V$5*กำหนดอัตราส่วนคะแนน!$U$4/100,\"ผ\",\"มผ\")))","v":""},null,null,"",{"$f":"IF(Z13=\"\",\"\",IF(AB13=\"ร\",\"มผ\",IF(AB13>=$Z$5*กำหนดอัตราส่วนคะแนน!$U$4/100,\"ผ\",\"มผ\")))","v":""},null,null,"",{"$f":"IF(AD13=\"\",\"\",IF(AF13=\"ร\",\"มผ\",IF(AF13>=$AD$5*กำหนดอัตราส่วนคะแนน!$U$4/100,\"ผ\",\"มผ\")))","v":""},null,null,"",{"$f":"IF(AH13=\"\",\"\",IF(AJ13=\"ร\",\"มผ\",IF(AJ13>=$AH$5*กำหนดอัตราส่วนคะแนน!$U$4/100,\"ผ\",\"มผ\")))","v":""},null,null,"",{"$f":"IF(AL13=\"\",\"\",IF(AN13=\"ร\",\"มผ\",IF(AN13>=$AL$5*กำหนดอัตราส่วนคะแนน!$U$4/100,\"ผ\",\"มผ\")))","v":""},null,null,"",{"$f":"IF(AP13=\"\",\"\",IF(AR13=\"ร\",\"มผ\",IF(AR13>=$AP$5*กำหนดอัตราส่วนคะแนน!$U$4/100,\"ผ\",\"มผ\")))","v":""},null,null,"",{"$f":"IF(AT13=\"\",\"\",IF(AV13=\"ร\",\"มผ\",IF(AV13>=$AT$5*กำหนดอัตราส่วนคะแนน!$U$4/100,\"ผ\",\"มผ\")))","v":""},null,null,"",{"$f":"IF(AX13=\"\",\"\",IF(AZ13=\"ร\",\"มผ\",IF(AZ13>=$AX$5*กำหนดอัตราส่วนคะแนน!$U$4/100,\"ผ\",\"มผ\")))","v":""},null,null,"",{"$f":"IF(BB13=\"\",\"\",IF(BD13=\"ร\",\"มผ\",IF(BD13>=$BB$5*กำหนดอัตราส่วนคะแนน!$U$4/100,\"ผ\",\"มผ\")))","v":""},null,null,"",{"$f":"IF(BF13=\"\",\"\",IF(BH13=\"ร\",\"มผ\",IF(BH13>=$BJ$5*กำหนดอัตราส่วนคะแนน!$U$4/100,\"ผ\",\"มผ\")))","v":""},null,null,"",{"$f":"IF(BJ13=\"\",\"\",IF(BL13=\"ร\",\"มผ\",IF(BL13>=$BJ$5*กำหนดอัตราส่วนคะแนน!$U$4/100,\"ผ\",\"มผ\")))","v":""},null,null,"",{"$f":"IF(BN13=\"\",\"\",IF(BP13=\"ร\",\"มผ\",IF(BP13>=$BN$5*กำหนดอัตราส่วนคะแนน!$U$4/100,\"ผ\",\"มผ\")))","v":""},null,null,"",{"$f":"IF(BR13=\"\",\"\",IF(BT13=\"ร\",\"มผ\",IF(BT13>=$BR$5*กำหนดอัตราส่วนคะแนน!$U$4/100,\"ผ\",\"มผ\")))","v":""},null,null,"",{"$f":"IF(BV13=\"\",\"\",IF(BX13=\"ร\",\"มผ\",IF(BX13>=$BV$5*กำหนดอัตราส่วนคะแนน!$U$4/100,\"ผ\",\"มผ\")))","v":""},null,null,"",{"$f":"IF(BZ13=\"\",\"\",IF(CB13=\"ร\",\"มผ\",IF(CB13>=$BZ$5*กำหนดอัตราส่วนคะแนน!$U$4/100,\"ผ\",\"มผ\")))","v":""},null,null,"",{"$f":"IF(CD13=\"\",\"\",IF(CF13=\"ร\",\"มผ\",IF(CF13>=$CD$5*กำหนดอัตราส่วนคะแนน!$U$4/100,\"ผ\",\"มผ\")))","v":""},null,null,"",{"$f":"IF(CH13=\"\",\"\",IF(CJ13=\"ร\",\"มผ\",IF(CJ13>=$CH$5*กำหนดอัตราส่วนคะแนน!$U$4/100,\"ผ\",\"มผ\")))","v":""},null,null,"",{"$f":"IF(CL13=\"\",\"\",IF(CN13=\"ร\",\"มผ\",IF(CN13>=$CL$5*กำหนดอัตราส่วนคะแนน!$U$4/100,\"ผ\",\"มผ\")))","v":""},null,null,"",{"$f":"IF(CP13=\"\",\"\",IF(CR13=\"ร\",\"มผ\",IF(CR13>=$CP$5*กำหนดอัตราส่วนคะแนน!$U$4/100,\"ผ\",\"มผ\")))","v":""},null,null,"",{"$f":"IF(CT13=\"\",\"\",IF(CV13=\"ร\",\"มผ\",IF(CV13>=$CT$5*กำหนดอัตราส่วนคะแนน!$U$4/100,\"ผ\",\"มผ\")))","v":""},null,null,"",{"$f":"IF(CX13=\"\",\"\",IF(CZ13=\"ร\",\"มผ\",IF(CZ13>=$CX$5*กำหนดอัตราส่วนคะแนน!$U$4/100,\"ผ\",\"มผ\")))","v":""},null,null,"",{"$f":"IF(DB13=\"\",\"\",IF(DD13=\"ร\",\"มผ\",IF(DD13>=$DB$5*กำหนดอัตราส่วนคะแนน!$U$4/100,\"ผ\",\"มผ\")))","v":""},null,null,"",{"$f":"IF(DF13=\"\",\"\",IF(DH13=\"ร\",\"มผ\",IF(DH13>=$DF$5*กำหนดอัตราส่วนคะแนน!$U$4/100,\"ผ\",\"มผ\")))","v":""},null,null,"",{"$f":"IF(DJ13=\"\",\"\",IF(DL13=\"ร\",\"มผ\",IF(DL13>=$DJ$5*กำหนดอัตราส่วนคะแนน!$U$4/100,\"ผ\",\"มผ\")))","v":""},null,null,"",{"$f":"IF(DN13=\"\",\"\",IF(DP13=\"ร\",\"มผ\",IF(DP13>=$DN$5*กำหนดอัตราส่วนคะแนน!$U$4/100,\"ผ\",\"มผ\")))","v":""},null,null,"",{"$f":"IF(DR13=\"\",\"\",IF(DT13=\"ร\",\"มผ\",IF(DT13>=$DR$5*กำหนดอัตราส่วนคะแนน!$U$4/100,\"ผ\",\"มผ\")))","v":""},null,null,"",{"$f":"IF(DV13=\"\",\"\",IF(DX13=\"ร\",\"มผ\",IF(DX13>=$DV$5*กำหนดอัตราส่วนคะแนน!$U$4/100,\"ผ\",\"มผ\")))","v":""},null,null,"",{"$f":"IF(DZ13=\"\",\"\",IF(EB13=\"ร\",\"มผ\",IF(EB13>=$DZ$5*กำหนดอัตราส่วนคะแนน!$U$4/100,\"ผ\",\"มผ\")))","v":""},null,null,"",{"$f":"IF(ED13=\"\",\"\",IF(EF13=\"ร\",\"มผ\",IF(EF13>=$ED$5*กำหนดอัตราส่วนคะแนน!$U$4/100,\"ผ\",\"มผ\")))","v":""},null,null,"",{"$f":"IF(EH13=\"\",\"\",IF(EJ13=\"ร\",\"มผ\",IF(EJ13>=$EH$5*กำหนดอัตราส่วนคะแนน!$U$4/100,\"ผ\",\"มผ\")))","v":""},null,null,"",{"$f":"IF(EL13=\"\",\"\",IF(EN13=\"ร\",\"มผ\",IF(EN83>=$EL$5*กำหนดอัตราส่วนคะแนน!$U$4/100,\"ผ\",\"มผ\")))","v":""},null,null,"",{"$f":"IF(EP13=\"\",\"\",IF(ER13=\"ร\",\"มผ\",IF(ER13>=$EP$5*กำหนดอัตราส่วนคะแนน!$U$4/100,\"ผ\",\"มผ\")))","v":""},null,null,"",{"$f":"IF(ET13=\"\",\"\",IF(EV13=\"ร\",\"มผ\",IF(EV13>=$ET$5*กำหนดอัตราส่วนคะแนน!$U$4/100,\"ผ\",\"มผ\")))","v":""},null,null,"",{"$f":"IF(EX13=\"\",\"\",IF(EZ13=\"ร\",\"มผ\",IF(EZ13>=$EX$5*กำหนดอัตราส่วนคะแนน!$U$4/100,\"ผ\",\"มผ\")))","v":""},null,null,"",{"$f":"IF(FB13=\"\",\"\",IF(FD13=\"ร\",\"มผ\",IF(FD13>=$FB$5*กำหนดอัตราส่วนคะแนน!$U$4/100,\"ผ\",\"มผ\")))","v":""},null,null,"",{"$f":"IF(FF13=\"\",\"\",IF(FH13=\"ร\",\"มผ\",IF(FH13>=$FF$5*กำหนดอัตราส่วนคะแนน!$U$4/100,\"ผ\",\"มผ\")))","v":""},{"$f":"IF(Sheet1!#REF!=\"\",\"\",IF(COUNTIF(F13:FI13,\"ร\"),\"ร\",IF(FW13=\"ปกติ\",SUM(H13,L13,P13,T13,X13,AB13,AF13,AJ13,AN13,AR13,AV13,AZ13,BD13,BH13,BL13,BP13,BT13,BX13,CB13,CF13,CJ13,CN13,CR13,CV13,CZ13,DD13,DH13,DL13,DP13,DT13,DX13,EB13,EF13,EJ13,EN13,ER13,EV13,EZ13,FD13,FH13),\"-\")))","v":{"$error":"#REF!"}},null,{"$error":"#REF!"},null,null,{"$error":"#REF!"},null,null,null,"",null,{"$f":"IF(COUNTIF(Sheet1!#REF!:Sheet1!#REF!,\"\"),\"\",IF(COUNTIF(FJ13:FS13,\"ร\"),\"ร\",IF(COUNTIF(FL13:FS13,\"-\"),\"-\",IF(FW13=\"ปกติ\",SUM(FO13,FS13)))))","v":{"$error":"#REF!"}},null,{"$f":"เวลาเรียน!DZ15","v":0}]
[8,2504,{"$f":"CONCATENATE(Sheet1!B9)","v":"12942"},{"$f":"CONCATENATE(Sheet1!D9&Sheet1!#REF!&\"       \"&Sheet1!#REF!)","v":{"$error":"#REF!"}},8,null,null,"",{"$f":"IF(F14=\"\",\"\",IF(H14=\"ร\",\"มผ\",IF(H14>=$F$5*กำหนดอัตราส่วนคะแนน!$U$4/100,\"ผ\",\"มผ\")))","v":""},null,null,"",{"$f":"IF(J14=\"\",\"\",IF(L14=\"ร\",\"มผ\",IF(L14>=$J$5*กำหนดอัตราส่วนคะแนน!$U$4/100,\"ผ\",\"มผ\")))","v":""},null,null,"",{"$f":"IF(N14=\"\",\"\",IF(P14=\"ร\",\"มผ\",IF(P14>=$N$5*กำหนดอัตราส่วนคะแนน!$U$4/100,\"ผ\",\"มผ\")))","v":""},null,null,"",{"$f":"IF(R14=\"\",\"\",IF(T14=\"ร\",\"มผ\",IF(T14>=$R$5*กำหนดอัตราส่วนคะแนน!$U$4/100,\"ผ\",\"มผ\")))","v":""},null,null,"",{"$f":"IF(V14=\"\",\"\",IF(X14=\"ร\",\"มผ\",IF(X14>=$V$5*กำหนดอัตราส่วนคะแนน!$U$4/100,\"ผ\",\"มผ\")))","v":""},null,null,"",{"$f":"IF(Z14=\"\",\"\",IF(AB14=\"ร\",\"มผ\",IF(AB14>=$Z$5*กำหนดอัตราส่วนคะแนน!$U$4/100,\"ผ\",\"มผ\")))","v":""},null,null,"",{"$f":"IF(AD14=\"\",\"\",IF(AF14=\"ร\",\"มผ\",IF(AF14>=$AD$5*กำหนดอัตราส่วนคะแนน!$U$4/100,\"ผ\",\"มผ\")))","v":""},null,null,"",{"$f":"IF(AH14=\"\",\"\",IF(AJ14=\"ร\",\"มผ\",IF(AJ14>=$AH$5*กำหนดอัตราส่วนคะแนน!$U$4/100,\"ผ\",\"มผ\")))","v":""},null,null,"",{"$f":"IF(AL14=\"\",\"\",IF(AN14=\"ร\",\"มผ\",IF(AN14>=$AL$5*กำหนดอัตราส่วนคะแนน!$U$4/100,\"ผ\",\"มผ\")))","v":""},null,null,"",{"$f":"IF(AP14=\"\",\"\",IF(AR14=\"ร\",\"มผ\",IF(AR14>=$AP$5*กำหนดอัตราส่วนคะแนน!$U$4/100,\"ผ\",\"มผ\")))","v":""},null,null,"",{"$f":"IF(AT14=\"\",\"\",IF(AV14=\"ร\",\"มผ\",IF(AV14>=$AT$5*กำหนดอัตราส่วนคะแนน!$U$4/100,\"ผ\",\"มผ\")))","v":""},null,null,"",{"$f":"IF(AX14=\"\",\"\",IF(AZ14=\"ร\",\"มผ\",IF(AZ14>=$AX$5*กำหนดอัตราส่วนคะแนน!$U$4/100,\"ผ\",\"มผ\")))","v":""},null,null,"",{"$f":"IF(BB14=\"\",\"\",IF(BD14=\"ร\",\"มผ\",IF(BD14>=$BB$5*กำหนดอัตราส่วนคะแนน!$U$4/100,\"ผ\",\"มผ\")))","v":""},null,null,"",{"$f":"IF(BF14=\"\",\"\",IF(BH14=\"ร\",\"มผ\",IF(BH14>=$BJ$5*กำหนดอัตราส่วนคะแนน!$U$4/100,\"ผ\",\"มผ\")))","v":""},null,null,"",{"$f":"IF(BJ14=\"\",\"\",IF(BL14=\"ร\",\"มผ\",IF(BL14>=$BJ$5*กำหนดอัตราส่วนคะแนน!$U$4/100,\"ผ\",\"มผ\")))","v":""},null,null,"",{"$f":"IF(BN14=\"\",\"\",IF(BP14=\"ร\",\"มผ\",IF(BP14>=$BN$5*กำหนดอัตราส่วนคะแนน!$U$4/100,\"ผ\",\"มผ\")))","v":""},null,null,"",{"$f":"IF(BR14=\"\",\"\",IF(BT14=\"ร\",\"มผ\",IF(BT14>=$BR$5*กำหนดอัตราส่วนคะแนน!$U$4/100,\"ผ\",\"มผ\")))","v":""},null,null,"",{"$f":"IF(BV14=\"\",\"\",IF(BX14=\"ร\",\"มผ\",IF(BX14>=$BV$5*กำหนดอัตราส่วนคะแนน!$U$4/100,\"ผ\",\"มผ\")))","v":""},null,null,"",{"$f":"IF(BZ14=\"\",\"\",IF(CB14=\"ร\",\"มผ\",IF(CB14>=$BZ$5*กำหนดอัตราส่วนคะแนน!$U$4/100,\"ผ\",\"มผ\")))","v":""},null,null,"",{"$f":"IF(CD14=\"\",\"\",IF(CF14=\"ร\",\"มผ\",IF(CF14>=$CD$5*กำหนดอัตราส่วนคะแนน!$U$4/100,\"ผ\",\"มผ\")))","v":""},null,null,"",{"$f":"IF(CH14=\"\",\"\",IF(CJ14=\"ร\",\"มผ\",IF(CJ14>=$CH$5*กำหนดอัตราส่วนคะแนน!$U$4/100,\"ผ\",\"มผ\")))","v":""},null,null,"",{"$f":"IF(CL14=\"\",\"\",IF(CN14=\"ร\",\"มผ\",IF(CN14>=$CL$5*กำหนดอัตราส่วนคะแนน!$U$4/100,\"ผ\",\"มผ\")))","v":""},null,null,"",{"$f":"IF(CP14=\"\",\"\",IF(CR14=\"ร\",\"มผ\",IF(CR14>=$CP$5*กำหนดอัตราส่วนคะแนน!$U$4/100,\"ผ\",\"มผ\")))","v":""},null,null,"",{"$f":"IF(CT14=\"\",\"\",IF(CV14=\"ร\",\"มผ\",IF(CV14>=$CT$5*กำหนดอัตราส่วนคะแนน!$U$4/100,\"ผ\",\"มผ\")))","v":""},null,null,"",{"$f":"IF(CX14=\"\",\"\",IF(CZ14=\"ร\",\"มผ\",IF(CZ14>=$CX$5*กำหนดอัตราส่วนคะแนน!$U$4/100,\"ผ\",\"มผ\")))","v":""},null,null,"",{"$f":"IF(DB14=\"\",\"\",IF(DD14=\"ร\",\"มผ\",IF(DD14>=$DB$5*กำหนดอัตราส่วนคะแนน!$U$4/100,\"ผ\",\"มผ\")))","v":""},null,null,"",{"$f":"IF(DF14=\"\",\"\",IF(DH14=\"ร\",\"มผ\",IF(DH14>=$DF$5*กำหนดอัตราส่วนคะแนน!$U$4/100,\"ผ\",\"มผ\")))","v":""},null,null,"",{"$f":"IF(DJ14=\"\",\"\",IF(DL14=\"ร\",\"มผ\",IF(DL14>=$DJ$5*กำหนดอัตราส่วนคะแนน!$U$4/100,\"ผ\",\"มผ\")))","v":""},null,null,"",{"$f":"IF(DN14=\"\",\"\",IF(DP14=\"ร\",\"มผ\",IF(DP14>=$DN$5*กำหนดอัตราส่วนคะแนน!$U$4/100,\"ผ\",\"มผ\")))","v":""},null,null,"",{"$f":"IF(DR14=\"\",\"\",IF(DT14=\"ร\",\"มผ\",IF(DT14>=$DR$5*กำหนดอัตราส่วนคะแนน!$U$4/100,\"ผ\",\"มผ\")))","v":""},null,null,"",{"$f":"IF(DV14=\"\",\"\",IF(DX14=\"ร\",\"มผ\",IF(DX14>=$DV$5*กำหนดอัตราส่วนคะแนน!$U$4/100,\"ผ\",\"มผ\")))","v":""},null,null,"",{"$f":"IF(DZ14=\"\",\"\",IF(EB14=\"ร\",\"มผ\",IF(EB14>=$DZ$5*กำหนดอัตราส่วนคะแนน!$U$4/100,\"ผ\",\"มผ\")))","v":""},null,null,"",{"$f":"IF(ED14=\"\",\"\",IF(EF14=\"ร\",\"มผ\",IF(EF14>=$ED$5*กำหนดอัตราส่วนคะแนน!$U$4/100,\"ผ\",\"มผ\")))","v":""},null,null,"",{"$f":"IF(EH14=\"\",\"\",IF(EJ14=\"ร\",\"มผ\",IF(EJ14>=$EH$5*กำหนดอัตราส่วนคะแนน!$U$4/100,\"ผ\",\"มผ\")))","v":""},null,null,"",{"$f":"IF(EL14=\"\",\"\",IF(EN14=\"ร\",\"มผ\",IF(EN84>=$EL$5*กำหนดอัตราส่วนคะแนน!$U$4/100,\"ผ\",\"มผ\")))","v":""},null,null,"",{"$f":"IF(EP14=\"\",\"\",IF(ER14=\"ร\",\"มผ\",IF(ER14>=$EP$5*กำหนดอัตราส่วนคะแนน!$U$4/100,\"ผ\",\"มผ\")))","v":""},null,null,"",{"$f":"IF(ET14=\"\",\"\",IF(EV14=\"ร\",\"มผ\",IF(EV14>=$ET$5*กำหนดอัตราส่วนคะแนน!$U$4/100,\"ผ\",\"มผ\")))","v":""},null,null,"",{"$f":"IF(EX14=\"\",\"\",IF(EZ14=\"ร\",\"มผ\",IF(EZ14>=$EX$5*กำหนดอัตราส่วนคะแนน!$U$4/100,\"ผ\",\"มผ\")))","v":""},null,null,"",{"$f":"IF(FB14=\"\",\"\",IF(FD14=\"ร\",\"มผ\",IF(FD14>=$FB$5*กำหนดอัตราส่วนคะแนน!$U$4/100,\"ผ\",\"มผ\")))","v":""},null,null,"",{"$f":"IF(FF14=\"\",\"\",IF(FH14=\"ร\",\"มผ\",IF(FH14>=$FF$5*กำหนดอัตราส่วนคะแนน!$U$4/100,\"ผ\",\"มผ\")))","v":""},{"$f":"IF(Sheet1!#REF!=\"\",\"\",IF(COUNTIF(F14:FI14,\"ร\"),\"ร\",IF(FW14=\"ปกติ\",SUM(H14,L14,P14,T14,X14,AB14,AF14,AJ14,AN14,AR14,AV14,AZ14,BD14,BH14,BL14,BP14,BT14,BX14,CB14,CF14,CJ14,CN14,CR14,CV14,CZ14,DD14,DH14,DL14,DP14,DT14,DX14,EB14,EF14,EJ14,EN14,ER14,EV14,EZ14,FD14,FH14),\"-\")))","v":{"$error":"#REF!"}},null,{"$error":"#REF!"},null,null,{"$error":"#REF!"},null,null,null,"",null,{"$f":"IF(COUNTIF(Sheet1!#REF!:Sheet1!#REF!,\"\"),\"\",IF(COUNTIF(FJ14:FS14,\"ร\"),\"ร\",IF(COUNTIF(FL14:FS14,\"-\"),\"-\",IF(FW14=\"ปกติ\",SUM(FO14,FS14)))))","v":{"$error":"#REF!"}},null,{"$f":"เวลาเรียน!DZ16","v":0},null,null,null,null,null,null,null,null,null,null,null," "]
[9,2505,{"$f":"CONCATENATE(Sheet1!B10)","v":"14067"},{"$f":"CONCATENATE(Sheet1!D10&Sheet1!#REF!&\"       \"&Sheet1!#REF!)","v":{"$error":"#REF!"}},9,null,null,"",{"$f":"IF(F15=\"\",\"\",IF(H15=\"ร\",\"มผ\",IF(H15>=$F$5*กำหนดอัตราส่วนคะแนน!$U$4/100,\"ผ\",\"มผ\")))","v":""},null,null,"",{"$f":"IF(J15=\"\",\"\",IF(L15=\"ร\",\"มผ\",IF(L15>=$J$5*กำหนดอัตราส่วนคะแนน!$U$4/100,\"ผ\",\"มผ\")))","v":""},null,null,"",{"$f":"IF(N15=\"\",\"\",IF(P15=\"ร\",\"มผ\",IF(P15>=$N$5*กำหนดอัตราส่วนคะแนน!$U$4/100,\"ผ\",\"มผ\")))","v":""},null,null,"",{"$f":"IF(R15=\"\",\"\",IF(T15=\"ร\",\"มผ\",IF(T15>=$R$5*กำหนดอัตราส่วนคะแนน!$U$4/100,\"ผ\",\"มผ\")))","v":""},null,null,"",{"$f":"IF(V15=\"\",\"\",IF(X15=\"ร\",\"มผ\",IF(X15>=$V$5*กำหนดอัตราส่วนคะแนน!$U$4/100,\"ผ\",\"มผ\")))","v":""},null,null,"",{"$f":"IF(Z15=\"\",\"\",IF(AB15=\"ร\",\"มผ\",IF(AB15>=$Z$5*กำหนดอัตราส่วนคะแนน!$U$4/100,\"ผ\",\"มผ\")))","v":""},null,null,"",{"$f":"IF(AD15=\"\",\"\",IF(AF15=\"ร\",\"มผ\",IF(AF15>=$AD$5*กำหนดอัตราส่วนคะแนน!$U$4/100,\"ผ\",\"มผ\")))","v":""},null,null,"",{"$f":"IF(AH15=\"\",\"\",IF(AJ15=\"ร\",\"มผ\",IF(AJ15>=$AH$5*กำหนดอัตราส่วนคะแนน!$U$4/100,\"ผ\",\"มผ\")))","v":""},null,null,"",{"$f":"IF(AL15=\"\",\"\",IF(AN15=\"ร\",\"มผ\",IF(AN15>=$AL$5*กำหนดอัตราส่วนคะแนน!$U$4/100,\"ผ\",\"มผ\")))","v":""},null,null,"",{"$f":"IF(AP15=\"\",\"\",IF(AR15=\"ร\",\"มผ\",IF(AR15>=$AP$5*กำหนดอัตราส่วนคะแนน!$U$4/100,\"ผ\",\"มผ\")))","v":""},null,null,"",{"$f":"IF(AT15=\"\",\"\",IF(AV15=\"ร\",\"มผ\",IF(AV15>=$AT$5*กำหนดอัตราส่วนคะแนน!$U$4/100,\"ผ\",\"มผ\")))","v":""},null,null,"",{"$f":"IF(AX15=\"\",\"\",IF(AZ15=\"ร\",\"มผ\",IF(AZ15>=$AX$5*กำหนดอัตราส่วนคะแนน!$U$4/100,\"ผ\",\"มผ\")))","v":""},null,null,"",{"$f":"IF(BB15=\"\",\"\",IF(BD15=\"ร\",\"มผ\",IF(BD15>=$BB$5*กำหนดอัตราส่วนคะแนน!$U$4/100,\"ผ\",\"มผ\")))","v":""},null,null,"",{"$f":"IF(BF15=\"\",\"\",IF(BH15=\"ร\",\"มผ\",IF(BH15>=$BJ$5*กำหนดอัตราส่วนคะแนน!$U$4/100,\"ผ\",\"มผ\")))","v":""},null,null,"",{"$f":"IF(BJ15=\"\",\"\",IF(BL15=\"ร\",\"มผ\",IF(BL15>=$BJ$5*กำหนดอัตราส่วนคะแนน!$U$4/100,\"ผ\",\"มผ\")))","v":""},null,null,"",{"$f":"IF(BN15=\"\",\"\",IF(BP15=\"ร\",\"มผ\",IF(BP15>=$BN$5*กำหนดอัตราส่วนคะแนน!$U$4/100,\"ผ\",\"มผ\")))","v":""},null,null,"",{"$f":"IF(BR15=\"\",\"\",IF(BT15=\"ร\",\"มผ\",IF(BT15>=$BR$5*กำหนดอัตราส่วนคะแนน!$U$4/100,\"ผ\",\"มผ\")))","v":""},null,null,"",{"$f":"IF(BV15=\"\",\"\",IF(BX15=\"ร\",\"มผ\",IF(BX15>=$BV$5*กำหนดอัตราส่วนคะแนน!$U$4/100,\"ผ\",\"มผ\")))","v":""},null,null,"",{"$f":"IF(BZ15=\"\",\"\",IF(CB15=\"ร\",\"มผ\",IF(CB15>=$BZ$5*กำหนดอัตราส่วนคะแนน!$U$4/100,\"ผ\",\"มผ\")))","v":""},null,null,"",{"$f":"IF(CD15=\"\",\"\",IF(CF15=\"ร\",\"มผ\",IF(CF15>=$CD$5*กำหนดอัตราส่วนคะแนน!$U$4/100,\"ผ\",\"มผ\")))","v":""},null,null,"",{"$f":"IF(CH15=\"\",\"\",IF(CJ15=\"ร\",\"มผ\",IF(CJ15>=$CH$5*กำหนดอัตราส่วนคะแนน!$U$4/100,\"ผ\",\"มผ\")))","v":""},null,null,"",{"$f":"IF(CL15=\"\",\"\",IF(CN15=\"ร\",\"มผ\",IF(CN15>=$CL$5*กำหนดอัตราส่วนคะแนน!$U$4/100,\"ผ\",\"มผ\")))","v":""},null,null,"",{"$f":"IF(CP15=\"\",\"\",IF(CR15=\"ร\",\"มผ\",IF(CR15>=$CP$5*กำหนดอัตราส่วนคะแนน!$U$4/100,\"ผ\",\"มผ\")))","v":""},null,null,"",{"$f":"IF(CT15=\"\",\"\",IF(CV15=\"ร\",\"มผ\",IF(CV15>=$CT$5*กำหนดอัตราส่วนคะแนน!$U$4/100,\"ผ\",\"มผ\")))","v":""},null,null,"",{"$f":"IF(CX15=\"\",\"\",IF(CZ15=\"ร\",\"มผ\",IF(CZ15>=$CX$5*กำหนดอัตราส่วนคะแนน!$U$4/100,\"ผ\",\"มผ\")))","v":""},null,null,"",{"$f":"IF(DB15=\"\",\"\",IF(DD15=\"ร\",\"มผ\",IF(DD15>=$DB$5*กำหนดอัตราส่วนคะแนน!$U$4/100,\"ผ\",\"มผ\")))","v":""},null,null,"",{"$f":"IF(DF15=\"\",\"\",IF(DH15=\"ร\",\"มผ\",IF(DH15>=$DF$5*กำหนดอัตราส่วนคะแนน!$U$4/100,\"ผ\",\"มผ\")))","v":""},null,null,"",{"$f":"IF(DJ15=\"\",\"\",IF(DL15=\"ร\",\"มผ\",IF(DL15>=$DJ$5*กำหนดอัตราส่วนคะแนน!$U$4/100,\"ผ\",\"มผ\")))","v":""},null,null,"",{"$f":"IF(DN15=\"\",\"\",IF(DP15=\"ร\",\"มผ\",IF(DP15>=$DN$5*กำหนดอัตราส่วนคะแนน!$U$4/100,\"ผ\",\"มผ\")))","v":""},null,null,"",{"$f":"IF(DR15=\"\",\"\",IF(DT15=\"ร\",\"มผ\",IF(DT15>=$DR$5*กำหนดอัตราส่วนคะแนน!$U$4/100,\"ผ\",\"มผ\")))","v":""},null,null,"",{"$f":"IF(DV15=\"\",\"\",IF(DX15=\"ร\",\"มผ\",IF(DX15>=$DV$5*กำหนดอัตราส่วนคะแนน!$U$4/100,\"ผ\",\"มผ\")))","v":""},null,null,"",{"$f":"IF(DZ15=\"\",\"\",IF(EB15=\"ร\",\"มผ\",IF(EB15>=$DZ$5*กำหนดอัตราส่วนคะแนน!$U$4/100,\"ผ\",\"มผ\")))","v":""},null,null,"",{"$f":"IF(ED15=\"\",\"\",IF(EF15=\"ร\",\"มผ\",IF(EF15>=$ED$5*กำหนดอัตราส่วนคะแนน!$U$4/100,\"ผ\",\"มผ\")))","v":""},null,null,"",{"$f":"IF(EH15=\"\",\"\",IF(EJ15=\"ร\",\"มผ\",IF(EJ15>=$EH$5*กำหนดอัตราส่วนคะแนน!$U$4/100,\"ผ\",\"มผ\")))","v":""},null,null,"",{"$f":"IF(EL15=\"\",\"\",IF(EN15=\"ร\",\"มผ\",IF(EN85>=$EL$5*กำหนดอัตราส่วนคะแนน!$U$4/100,\"ผ\",\"มผ\")))","v":""},null,null,"",{"$f":"IF(EP15=\"\",\"\",IF(ER15=\"ร\",\"มผ\",IF(ER15>=$EP$5*กำหนดอัตราส่วนคะแนน!$U$4/100,\"ผ\",\"มผ\")))","v":""},null,null,"",{"$f":"IF(ET15=\"\",\"\",IF(EV15=\"ร\",\"มผ\",IF(EV15>=$ET$5*กำหนดอัตราส่วนคะแนน!$U$4/100,\"ผ\",\"มผ\")))","v":""},null,null,"",{"$f":"IF(EX15=\"\",\"\",IF(EZ15=\"ร\",\"มผ\",IF(EZ15>=$EX$5*กำหนดอัตราส่วนคะแนน!$U$4/100,\"ผ\",\"มผ\")))","v":""},null,null,"",{"$f":"IF(FB15=\"\",\"\",IF(FD15=\"ร\",\"มผ\",IF(FD15>=$FB$5*กำหนดอัตราส่วนคะแนน!$U$4/100,\"ผ\",\"มผ\")))","v":""},null,null,"",{"$f":"IF(FF15=\"\",\"\",IF(FH15=\"ร\",\"มผ\",IF(FH15>=$FF$5*กำหนดอัตราส่วนคะแนน!$U$4/100,\"ผ\",\"มผ\")))","v":""},{"$f":"IF(Sheet1!#REF!=\"\",\"\",IF(COUNTIF(F15:FI15,\"ร\"),\"ร\",IF(FW15=\"ปกติ\",SUM(H15,L15,P15,T15,X15,AB15,AF15,AJ15,AN15,AR15,AV15,AZ15,BD15,BH15,BL15,BP15,BT15,BX15,CB15,CF15,CJ15,CN15,CR15,CV15,CZ15,DD15,DH15,DL15,DP15,DT15,DX15,EB15,EF15,EJ15,EN15,ER15,EV15,EZ15,FD15,FH15),\"-\")))","v":{"$error":"#REF!"}},null,{"$error":"#REF!"},null,null,{"$error":"#REF!"},null,null,null,"",null,{"$f":"IF(COUNTIF(Sheet1!#REF!:Sheet1!#REF!,\"\"),\"\",IF(COUNTIF(FJ15:FS15,\"ร\"),\"ร\",IF(COUNTIF(FL15:FS15,\"-\"),\"-\",IF(FW15=\"ปกติ\",SUM(FO15,FS15)))))","v":{"$error":"#REF!"}},null,{"$f":"เวลาเรียน!DZ17","v":0}]
[10,2506,{"$f":"CONCATENATE(Sheet1!B11)","v":"14070"},{"$f":"CONCATENATE(Sheet1!D11&Sheet1!#REF!&\"       \"&Sheet1!#REF!)","v":{"$error":"#REF!"}},10,null,null,"",{"$f":"IF(F16=\"\",\"\",IF(H16=\"ร\",\"มผ\",IF(H16>=$F$5*กำหนดอัตราส่วนคะแนน!$U$4/100,\"ผ\",\"มผ\")))","v":""},null,null,"",{"$f":"IF(J16=\"\",\"\",IF(L16=\"ร\",\"มผ\",IF(L16>=$J$5*กำหนดอัตราส่วนคะแนน!$U$4/100,\"ผ\",\"มผ\")))","v":""},null,null,"",{"$f":"IF(N16=\"\",\"\",IF(P16=\"ร\",\"มผ\",IF(P16>=$N$5*กำหนดอัตราส่วนคะแนน!$U$4/100,\"ผ\",\"มผ\")))","v":""},null,null,"",{"$f":"IF(R16=\"\",\"\",IF(T16=\"ร\",\"มผ\",IF(T16>=$R$5*กำหนดอัตราส่วนคะแนน!$U$4/100,\"ผ\",\"มผ\")))","v":""},null,null,"",{"$f":"IF(V16=\"\",\"\",IF(X16=\"ร\",\"มผ\",IF(X16>=$V$5*กำหนดอัตราส่วนคะแนน!$U$4/100,\"ผ\",\"มผ\")))","v":""},null,null,"",{"$f":"IF(Z16=\"\",\"\",IF(AB16=\"ร\",\"มผ\",IF(AB16>=$Z$5*กำหนดอัตราส่วนคะแนน!$U$4/100,\"ผ\",\"มผ\")))","v":""},null,null,"",{"$f":"IF(AD16=\"\",\"\",IF(AF16=\"ร\",\"มผ\",IF(AF16>=$AD$5*กำหนดอัตราส่วนคะแนน!$U$4/100,\"ผ\",\"มผ\")))","v":""},null,null,"",{"$f":"IF(AH16=\"\",\"\",IF(AJ16=\"ร\",\"มผ\",IF(AJ16>=$AH$5*กำหนดอัตราส่วนคะแนน!$U$4/100,\"ผ\",\"มผ\")))","v":""},null,null,"",{"$f":"IF(AL16=\"\",\"\",IF(AN16=\"ร\",\"มผ\",IF(AN16>=$AL$5*กำหนดอัตราส่วนคะแนน!$U$4/100,\"ผ\",\"มผ\")))","v":""},null,null,"",{"$f":"IF(AP16=\"\",\"\",IF(AR16=\"ร\",\"มผ\",IF(AR16>=$AP$5*กำหนดอัตราส่วนคะแนน!$U$4/100,\"ผ\",\"มผ\")))","v":""},null,null,"",{"$f":"IF(AT16=\"\",\"\",IF(AV16=\"ร\",\"มผ\",IF(AV16>=$AT$5*กำหนดอัตราส่วนคะแนน!$U$4/100,\"ผ\",\"มผ\")))","v":""},null,null,"",{"$f":"IF(AX16=\"\",\"\",IF(AZ16=\"ร\",\"มผ\",IF(AZ16>=$AX$5*กำหนดอัตราส่วนคะแนน!$U$4/100,\"ผ\",\"มผ\")))","v":""},null,null,"",{"$f":"IF(BB16=\"\",\"\",IF(BD16=\"ร\",\"มผ\",IF(BD16>=$BB$5*กำหนดอัตราส่วนคะแนน!$U$4/100,\"ผ\",\"มผ\")))","v":""},null,null,"",{"$f":"IF(BF16=\"\",\"\",IF(BH16=\"ร\",\"มผ\",IF(BH16>=$BJ$5*กำหนดอัตราส่วนคะแนน!$U$4/100,\"ผ\",\"มผ\")))","v":""},null,null,"",{"$f":"IF(BJ16=\"\",\"\",IF(BL16=\"ร\",\"มผ\",IF(BL16>=$BJ$5*กำหนดอัตราส่วนคะแนน!$U$4/100,\"ผ\",\"มผ\")))","v":""},null,null,"",{"$f":"IF(BN16=\"\",\"\",IF(BP16=\"ร\",\"มผ\",IF(BP16>=$BN$5*กำหนดอัตราส่วนคะแนน!$U$4/100,\"ผ\",\"มผ\")))","v":""},null,null,"",{"$f":"IF(BR16=\"\",\"\",IF(BT16=\"ร\",\"มผ\",IF(BT16>=$BR$5*กำหนดอัตราส่วนคะแนน!$U$4/100,\"ผ\",\"มผ\")))","v":""},null,null,"",{"$f":"IF(BV16=\"\",\"\",IF(BX16=\"ร\",\"มผ\",IF(BX16>=$BV$5*กำหนดอัตราส่วนคะแนน!$U$4/100,\"ผ\",\"มผ\")))","v":""},null,null,"",{"$f":"IF(BZ16=\"\",\"\",IF(CB16=\"ร\",\"มผ\",IF(CB16>=$BZ$5*กำหนดอัตราส่วนคะแนน!$U$4/100,\"ผ\",\"มผ\")))","v":""},null,null,"",{"$f":"IF(CD16=\"\",\"\",IF(CF16=\"ร\",\"มผ\",IF(CF16>=$CD$5*กำหนดอัตราส่วนคะแนน!$U$4/100,\"ผ\",\"มผ\")))","v":""},null,null,"",{"$f":"IF(CH16=\"\",\"\",IF(CJ16=\"ร\",\"มผ\",IF(CJ16>=$CH$5*กำหนดอัตราส่วนคะแนน!$U$4/100,\"ผ\",\"มผ\")))","v":""},null,null,"",{"$f":"IF(CL16=\"\",\"\",IF(CN16=\"ร\",\"มผ\",IF(CN16>=$CL$5*กำหนดอัตราส่วนคะแนน!$U$4/100,\"ผ\",\"มผ\")))","v":""},null,null,"",{"$f":"IF(CP16=\"\",\"\",IF(CR16=\"ร\",\"มผ\",IF(CR16>=$CP$5*กำหนดอัตราส่วนคะแนน!$U$4/100,\"ผ\",\"มผ\")))","v":""},null,null,"",{"$f":"IF(CT16=\"\",\"\",IF(CV16=\"ร\",\"มผ\",IF(CV16>=$CT$5*กำหนดอัตราส่วนคะแนน!$U$4/100,\"ผ\",\"มผ\")))","v":""},null,null,"",{"$f":"IF(CX16=\"\",\"\",IF(CZ16=\"ร\",\"มผ\",IF(CZ16>=$CX$5*กำหนดอัตราส่วนคะแนน!$U$4/100,\"ผ\",\"มผ\")))","v":""},null,null,"",{"$f":"IF(DB16=\"\",\"\",IF(DD16=\"ร\",\"มผ\",IF(DD16>=$DB$5*กำหนดอัตราส่วนคะแนน!$U$4/100,\"ผ\",\"มผ\")))","v":""},null,null,"",{"$f":"IF(DF16=\"\",\"\",IF(DH16=\"ร\",\"มผ\",IF(DH16>=$DF$5*กำหนดอัตราส่วนคะแนน!$U$4/100,\"ผ\",\"มผ\")))","v":""},null,null,"",{"$f":"IF(DJ16=\"\",\"\",IF(DL16=\"ร\",\"มผ\",IF(DL16>=$DJ$5*กำหนดอัตราส่วนคะแนน!$U$4/100,\"ผ\",\"มผ\")))","v":""},null,null,"",{"$f":"IF(DN16=\"\",\"\",IF(DP16=\"ร\",\"มผ\",IF(DP16>=$DN$5*กำหนดอัตราส่วนคะแนน!$U$4/100,\"ผ\",\"มผ\")))","v":""},null,null,"",{"$f":"IF(DR16=\"\",\"\",IF(DT16=\"ร\",\"มผ\",IF(DT16>=$DR$5*กำหนดอัตราส่วนคะแนน!$U$4/100,\"ผ\",\"มผ\")))","v":""},null,null,"",{"$f":"IF(DV16=\"\",\"\",IF(DX16=\"ร\",\"มผ\",IF(DX16>=$DV$5*กำหนดอัตราส่วนคะแนน!$U$4/100,\"ผ\",\"มผ\")))","v":""},null,null,"",{"$f":"IF(DZ16=\"\",\"\",IF(EB16=\"ร\",\"มผ\",IF(EB16>=$DZ$5*กำหนดอัตราส่วนคะแนน!$U$4/100,\"ผ\",\"มผ\")))","v":""},null,null,"",{"$f":"IF(ED16=\"\",\"\",IF(EF16=\"ร\",\"มผ\",IF(EF16>=$ED$5*กำหนดอัตราส่วนคะแนน!$U$4/100,\"ผ\",\"มผ\")))","v":""},null,null,"",{"$f":"IF(EH16=\"\",\"\",IF(EJ16=\"ร\",\"มผ\",IF(EJ16>=$EH$5*กำหนดอัตราส่วนคะแนน!$U$4/100,\"ผ\",\"มผ\")))","v":""},null,null,"",{"$f":"IF(EL16=\"\",\"\",IF(EN16=\"ร\",\"มผ\",IF(EN86>=$EL$5*กำหนดอัตราส่วนคะแนน!$U$4/100,\"ผ\",\"มผ\")))","v":""},null,null,"",{"$f":"IF(EP16=\"\",\"\",IF(ER16=\"ร\",\"มผ\",IF(ER16>=$EP$5*กำหนดอัตราส่วนคะแนน!$U$4/100,\"ผ\",\"มผ\")))","v":""},null,null,"",{"$f":"IF(ET16=\"\",\"\",IF(EV16=\"ร\",\"มผ\",IF(EV16>=$ET$5*กำหนดอัตราส่วนคะแนน!$U$4/100,\"ผ\",\"มผ\")))","v":""},null,null,"",{"$f":"IF(EX16=\"\",\"\",IF(EZ16=\"ร\",\"มผ\",IF(EZ16>=$EX$5*กำหนดอัตราส่วนคะแนน!$U$4/100,\"ผ\",\"มผ\")))","v":""},null,null,"",{"$f":"IF(FB16=\"\",\"\",IF(FD16=\"ร\",\"มผ\",IF(FD16>=$FB$5*กำหนดอัตราส่วนคะแนน!$U$4/100,\"ผ\",\"มผ\")))","v":""},null,null,"",{"$f":"IF(FF16=\"\",\"\",IF(FH16=\"ร\",\"มผ\",IF(FH16>=$FF$5*กำหนดอัตราส่วนคะแนน!$U$4/100,\"ผ\",\"มผ\")))","v":""},{"$f":"IF(Sheet1!#REF!=\"\",\"\",IF(COUNTIF(F16:FI16,\"ร\"),\"ร\",IF(FW16=\"ปกติ\",SUM(H16,L16,P16,T16,X16,AB16,AF16,AJ16,AN16,AR16,AV16,AZ16,BD16,BH16,BL16,BP16,BT16,BX16,CB16,CF16,CJ16,CN16,CR16,CV16,CZ16,DD16,DH16,DL16,DP16,DT16,DX16,EB16,EF16,EJ16,EN16,ER16,EV16,EZ16,FD16,FH16),\"-\")))","v":{"$error":"#REF!"}},null,{"$error":"#REF!"},null,null,{"$error":"#REF!"},null,null,null,"",null,{"$f":"IF(COUNTIF(Sheet1!#REF!:Sheet1!#REF!,\"\"),\"\",IF(COUNTIF(FJ16:FS16,\"ร\"),\"ร\",IF(COUNTIF(FL16:FS16,\"-\"),\"-\",IF(FW16=\"ปกติ\",SUM(FO16,FS16)))))","v":{"$error":"#REF!"}},null,{"$f":"เวลาเรียน!DZ18","v":0}]
[11,2507,{"$f":"CONCATENATE(Sheet1!B12)","v":"14073"},{"$f":"CONCATENATE(Sheet1!D12&Sheet1!#REF!&\"       \"&Sheet1!#REF!)","v":{"$error":"#REF!"}},11,null,null,"",{"$f":"IF(F17=\"\",\"\",IF(H17=\"ร\",\"มผ\",IF(H17>=$F$5*กำหนดอัตราส่วนคะแนน!$U$4/100,\"ผ\",\"มผ\")))","v":""},null,null,"",{"$f":"IF(J17=\"\",\"\",IF(L17=\"ร\",\"มผ\",IF(L17>=$J$5*กำหนดอัตราส่วนคะแนน!$U$4/100,\"ผ\",\"มผ\")))","v":""},null,null,"",{"$f":"IF(N17=\"\",\"\",IF(P17=\"ร\",\"มผ\",IF(P17>=$N$5*กำหนดอัตราส่วนคะแนน!$U$4/100,\"ผ\",\"มผ\")))","v":""},null,null,"",{"$f":"IF(R17=\"\",\"\",IF(T17=\"ร\",\"มผ\",IF(T17>=$R$5*กำหนดอัตราส่วนคะแนน!$U$4/100,\"ผ\",\"มผ\")))","v":""},null,null,"",{"$f":"IF(V17=\"\",\"\",IF(X17=\"ร\",\"มผ\",IF(X17>=$V$5*กำหนดอัตราส่วนคะแนน!$U$4/100,\"ผ\",\"มผ\")))","v":""},null,null,"",{"$f":"IF(Z17=\"\",\"\",IF(AB17=\"ร\",\"มผ\",IF(AB17>=$Z$5*กำหนดอัตราส่วนคะแนน!$U$4/100,\"ผ\",\"มผ\")))","v":""},null,null,"",{"$f":"IF(AD17=\"\",\"\",IF(AF17=\"ร\",\"มผ\",IF(AF17>=$AD$5*กำหนดอัตราส่วนคะแนน!$U$4/100,\"ผ\",\"มผ\")))","v":""},null,null,"",{"$f":"IF(AH17=\"\",\"\",IF(AJ17=\"ร\",\"มผ\",IF(AJ17>=$AH$5*กำหนดอัตราส่วนคะแนน!$U$4/100,\"ผ\",\"มผ\")))","v":""},null,null,"",{"$f":"IF(AL17=\"\",\"\",IF(AN17=\"ร\",\"มผ\",IF(AN17>=$AL$5*กำหนดอัตราส่วนคะแนน!$U$4/100,\"ผ\",\"มผ\")))","v":""},null,null,"",{"$f":"IF(AP17=\"\",\"\",IF(AR17=\"ร\",\"มผ\",IF(AR17>=$AP$5*กำหนดอัตราส่วนคะแนน!$U$4/100,\"ผ\",\"มผ\")))","v":""},null,null,"",{"$f":"IF(AT17=\"\",\"\",IF(AV17=\"ร\",\"มผ\",IF(AV17>=$AT$5*กำหนดอัตราส่วนคะแนน!$U$4/100,\"ผ\",\"มผ\")))","v":""},null,null,"",{"$f":"IF(AX17=\"\",\"\",IF(AZ17=\"ร\",\"มผ\",IF(AZ17>=$AX$5*กำหนดอัตราส่วนคะแนน!$U$4/100,\"ผ\",\"มผ\")))","v":""},null,null,"",{"$f":"IF(BB17=\"\",\"\",IF(BD17=\"ร\",\"มผ\",IF(BD17>=$BB$5*กำหนดอัตราส่วนคะแนน!$U$4/100,\"ผ\",\"มผ\")))","v":""},null,null,"",{"$f":"IF(BF17=\"\",\"\",IF(BH17=\"ร\",\"มผ\",IF(BH17>=$BJ$5*กำหนดอัตราส่วนคะแนน!$U$4/100,\"ผ\",\"มผ\")))","v":""},null,null,"",{"$f":"IF(BJ17=\"\",\"\",IF(BL17=\"ร\",\"มผ\",IF(BL17>=$BJ$5*กำหนดอัตราส่วนคะแนน!$U$4/100,\"ผ\",\"มผ\")))","v":""},null,null,"",{"$f":"IF(BN17=\"\",\"\",IF(BP17=\"ร\",\"มผ\",IF(BP17>=$BN$5*กำหนดอัตราส่วนคะแนน!$U$4/100,\"ผ\",\"มผ\")))","v":""},null,null,"",{"$f":"IF(BR17=\"\",\"\",IF(BT17=\"ร\",\"มผ\",IF(BT17>=$BR$5*กำหนดอัตราส่วนคะแนน!$U$4/100,\"ผ\",\"มผ\")))","v":""},null,null,"",{"$f":"IF(BV17=\"\",\"\",IF(BX17=\"ร\",\"มผ\",IF(BX17>=$BV$5*กำหนดอัตราส่วนคะแนน!$U$4/100,\"ผ\",\"มผ\")))","v":""},null,null,"",{"$f":"IF(BZ17=\"\",\"\",IF(CB17=\"ร\",\"มผ\",IF(CB17>=$BZ$5*กำหนดอัตราส่วนคะแนน!$U$4/100,\"ผ\",\"มผ\")))","v":""},null,null,"",{"$f":"IF(CD17=\"\",\"\",IF(CF17=\"ร\",\"มผ\",IF(CF17>=$CD$5*กำหนดอัตราส่วนคะแนน!$U$4/100,\"ผ\",\"มผ\")))","v":""},null,null,"",{"$f":"IF(CH17=\"\",\"\",IF(CJ17=\"ร\",\"มผ\",IF(CJ17>=$CH$5*กำหนดอัตราส่วนคะแนน!$U$4/100,\"ผ\",\"มผ\")))","v":""},null,null,"",{"$f":"IF(CL17=\"\",\"\",IF(CN17=\"ร\",\"มผ\",IF(CN17>=$CL$5*กำหนดอัตราส่วนคะแนน!$U$4/100,\"ผ\",\"มผ\")))","v":""},null,null,"",{"$f":"IF(CP17=\"\",\"\",IF(CR17=\"ร\",\"มผ\",IF(CR17>=$CP$5*กำหนดอัตราส่วนคะแนน!$U$4/100,\"ผ\",\"มผ\")))","v":""},null,null,"",{"$f":"IF(CT17=\"\",\"\",IF(CV17=\"ร\",\"มผ\",IF(CV17>=$CT$5*กำหนดอัตราส่วนคะแนน!$U$4/100,\"ผ\",\"มผ\")))","v":""},null,null,"",{"$f":"IF(CX17=\"\",\"\",IF(CZ17=\"ร\",\"มผ\",IF(CZ17>=$CX$5*กำหนดอัตราส่วนคะแนน!$U$4/100,\"ผ\",\"มผ\")))","v":""},null,null,"",{"$f":"IF(DB17=\"\",\"\",IF(DD17=\"ร\",\"มผ\",IF(DD17>=$DB$5*กำหนดอัตราส่วนคะแนน!$U$4/100,\"ผ\",\"มผ\")))","v":""},null,null,"",{"$f":"IF(DF17=\"\",\"\",IF(DH17=\"ร\",\"มผ\",IF(DH17>=$DF$5*กำหนดอัตราส่วนคะแนน!$U$4/100,\"ผ\",\"มผ\")))","v":""},null,null,"",{"$f":"IF(DJ17=\"\",\"\",IF(DL17=\"ร\",\"มผ\",IF(DL17>=$DJ$5*กำหนดอัตราส่วนคะแนน!$U$4/100,\"ผ\",\"มผ\")))","v":""},null,null,"",{"$f":"IF(DN17=\"\",\"\",IF(DP17=\"ร\",\"มผ\",IF(DP17>=$DN$5*กำหนดอัตราส่วนคะแนน!$U$4/100,\"ผ\",\"มผ\")))","v":""},null,null,"",{"$f":"IF(DR17=\"\",\"\",IF(DT17=\"ร\",\"มผ\",IF(DT17>=$DR$5*กำหนดอัตราส่วนคะแนน!$U$4/100,\"ผ\",\"มผ\")))","v":""},null,null,"",{"$f":"IF(DV17=\"\",\"\",IF(DX17=\"ร\",\"มผ\",IF(DX17>=$DV$5*กำหนดอัตราส่วนคะแนน!$U$4/100,\"ผ\",\"มผ\")))","v":""},null,null,"",{"$f":"IF(DZ17=\"\",\"\",IF(EB17=\"ร\",\"มผ\",IF(EB17>=$DZ$5*กำหนดอัตราส่วนคะแนน!$U$4/100,\"ผ\",\"มผ\")))","v":""},null,null,"",{"$f":"IF(ED17=\"\",\"\",IF(EF17=\"ร\",\"มผ\",IF(EF17>=$ED$5*กำหนดอัตราส่วนคะแนน!$U$4/100,\"ผ\",\"มผ\")))","v":""},null,null,"",{"$f":"IF(EH17=\"\",\"\",IF(EJ17=\"ร\",\"มผ\",IF(EJ17>=$EH$5*กำหนดอัตราส่วนคะแนน!$U$4/100,\"ผ\",\"มผ\")))","v":""},null,null,"",{"$f":"IF(EL17=\"\",\"\",IF(EN17=\"ร\",\"มผ\",IF(EN87>=$EL$5*กำหนดอัตราส่วนคะแนน!$U$4/100,\"ผ\",\"มผ\")))","v":""},null,null,"",{"$f":"IF(EP17=\"\",\"\",IF(ER17=\"ร\",\"มผ\",IF(ER17>=$EP$5*กำหนดอัตราส่วนคะแนน!$U$4/100,\"ผ\",\"มผ\")))","v":""},null,null,"",{"$f":"IF(ET17=\"\",\"\",IF(EV17=\"ร\",\"มผ\",IF(EV17>=$ET$5*กำหนดอัตราส่วนคะแนน!$U$4/100,\"ผ\",\"มผ\")))","v":""},null,null,"",{"$f":"IF(EX17=\"\",\"\",IF(EZ17=\"ร\",\"มผ\",IF(EZ17>=$EX$5*กำหนดอัตราส่วนคะแนน!$U$4/100,\"ผ\",\"มผ\")))","v":""},null,null,"",{"$f":"IF(FB17=\"\",\"\",IF(FD17=\"ร\",\"มผ\",IF(FD17>=$FB$5*กำหนดอัตราส่วนคะแนน!$U$4/100,\"ผ\",\"มผ\")))","v":""},null,null,"",{"$f":"IF(FF17=\"\",\"\",IF(FH17=\"ร\",\"มผ\",IF(FH17>=$FF$5*กำหนดอัตราส่วนคะแนน!$U$4/100,\"ผ\",\"มผ\")))","v":""},{"$f":"IF(Sheet1!#REF!=\"\",\"\",IF(COUNTIF(F17:FI17,\"ร\"),\"ร\",IF(FW17=\"ปกติ\",SUM(H17,L17,P17,T17,X17,AB17,AF17,AJ17,AN17,AR17,AV17,AZ17,BD17,BH17,BL17,BP17,BT17,BX17,CB17,CF17,CJ17,CN17,CR17,CV17,CZ17,DD17,DH17,DL17,DP17,DT17,DX17,EB17,EF17,EJ17,EN17,ER17,EV17,EZ17,FD17,FH17),\"-\")))","v":{"$error":"#REF!"}},null,{"$error":"#REF!"},null,null,{"$error":"#REF!"},null,null,null,"",null,{"$f":"IF(COUNTIF(Sheet1!#REF!:Sheet1!#REF!,\"\"),\"\",IF(COUNTIF(FJ17:FS17,\"ร\"),\"ร\",IF(COUNTIF(FL17:FS17,\"-\"),\"-\",IF(FW17=\"ปกติ\",SUM(FO17,FS17)))))","v":{"$error":"#REF!"}},null,{"$f":"เวลาเรียน!DZ19","v":0}]
[12,2508,{"$f":"CONCATENATE(Sheet1!B13)","v":"14090"},{"$f":"CONCATENATE(Sheet1!D13&Sheet1!#REF!&\"       \"&Sheet1!#REF!)","v":{"$error":"#REF!"}},12,null,null,"",{"$f":"IF(F18=\"\",\"\",IF(H18=\"ร\",\"มผ\",IF(H18>=$F$5*กำหนดอัตราส่วนคะแนน!$U$4/100,\"ผ\",\"มผ\")))","v":""},null,null,"",{"$f":"IF(J18=\"\",\"\",IF(L18=\"ร\",\"มผ\",IF(L18>=$J$5*กำหนดอัตราส่วนคะแนน!$U$4/100,\"ผ\",\"มผ\")))","v":""},null,null,"",{"$f":"IF(N18=\"\",\"\",IF(P18=\"ร\",\"มผ\",IF(P18>=$N$5*กำหนดอัตราส่วนคะแนน!$U$4/100,\"ผ\",\"มผ\")))","v":""},null,null,"",{"$f":"IF(R18=\"\",\"\",IF(T18=\"ร\",\"มผ\",IF(T18>=$R$5*กำหนดอัตราส่วนคะแนน!$U$4/100,\"ผ\",\"มผ\")))","v":""},null,null,"",{"$f":"IF(V18=\"\",\"\",IF(X18=\"ร\",\"มผ\",IF(X18>=$V$5*กำหนดอัตราส่วนคะแนน!$U$4/100,\"ผ\",\"มผ\")))","v":""},null,null,"",{"$f":"IF(Z18=\"\",\"\",IF(AB18=\"ร\",\"มผ\",IF(AB18>=$Z$5*กำหนดอัตราส่วนคะแนน!$U$4/100,\"ผ\",\"มผ\")))","v":""},null,null,"",{"$f":"IF(AD18=\"\",\"\",IF(AF18=\"ร\",\"มผ\",IF(AF18>=$AD$5*กำหนดอัตราส่วนคะแนน!$U$4/100,\"ผ\",\"มผ\")))","v":""},null,null,"",{"$f":"IF(AH18=\"\",\"\",IF(AJ18=\"ร\",\"มผ\",IF(AJ18>=$AH$5*กำหนดอัตราส่วนคะแนน!$U$4/100,\"ผ\",\"มผ\")))","v":""},null,null,"",{"$f":"IF(AL18=\"\",\"\",IF(AN18=\"ร\",\"มผ\",IF(AN18>=$AL$5*กำหนดอัตราส่วนคะแนน!$U$4/100,\"ผ\",\"มผ\")))","v":""},null,null,"",{"$f":"IF(AP18=\"\",\"\",IF(AR18=\"ร\",\"มผ\",IF(AR18>=$AP$5*กำหนดอัตราส่วนคะแนน!$U$4/100,\"ผ\",\"มผ\")))","v":""},null,null,"",{"$f":"IF(AT18=\"\",\"\",IF(AV18=\"ร\",\"มผ\",IF(AV18>=$AT$5*กำหนดอัตราส่วนคะแนน!$U$4/100,\"ผ\",\"มผ\")))","v":""},null,null,"",{"$f":"IF(AX18=\"\",\"\",IF(AZ18=\"ร\",\"มผ\",IF(AZ18>=$AX$5*กำหนดอัตราส่วนคะแนน!$U$4/100,\"ผ\",\"มผ\")))","v":""},null,null,"",{"$f":"IF(BB18=\"\",\"\",IF(BD18=\"ร\",\"มผ\",IF(BD18>=$BB$5*กำหนดอัตราส่วนคะแนน!$U$4/100,\"ผ\",\"มผ\")))","v":""},null,null,"",{"$f":"IF(BF18=\"\",\"\",IF(BH18=\"ร\",\"มผ\",IF(BH18>=$BJ$5*กำหนดอัตราส่วนคะแนน!$U$4/100,\"ผ\",\"มผ\")))","v":""},null,null,"",{"$f":"IF(BJ18=\"\",\"\",IF(BL18=\"ร\",\"มผ\",IF(BL18>=$BJ$5*กำหนดอัตราส่วนคะแนน!$U$4/100,\"ผ\",\"มผ\")))","v":""},null,null,"",{"$f":"IF(BN18=\"\",\"\",IF(BP18=\"ร\",\"มผ\",IF(BP18>=$BN$5*กำหนดอัตราส่วนคะแนน!$U$4/100,\"ผ\",\"มผ\")))","v":""},null,null,"",{"$f":"IF(BR18=\"\",\"\",IF(BT18=\"ร\",\"มผ\",IF(BT18>=$BR$5*กำหนดอัตราส่วนคะแนน!$U$4/100,\"ผ\",\"มผ\")))","v":""},null,null,"",{"$f":"IF(BV18=\"\",\"\",IF(BX18=\"ร\",\"มผ\",IF(BX18>=$BV$5*กำหนดอัตราส่วนคะแนน!$U$4/100,\"ผ\",\"มผ\")))","v":""},null,null,"",{"$f":"IF(BZ18=\"\",\"\",IF(CB18=\"ร\",\"มผ\",IF(CB18>=$BZ$5*กำหนดอัตราส่วนคะแนน!$U$4/100,\"ผ\",\"มผ\")))","v":""},null,null,"",{"$f":"IF(CD18=\"\",\"\",IF(CF18=\"ร\",\"มผ\",IF(CF18>=$CD$5*กำหนดอัตราส่วนคะแนน!$U$4/100,\"ผ\",\"มผ\")))","v":""},null,null,"",{"$f":"IF(CH18=\"\",\"\",IF(CJ18=\"ร\",\"มผ\",IF(CJ18>=$CH$5*กำหนดอัตราส่วนคะแนน!$U$4/100,\"ผ\",\"มผ\")))","v":""},null,null,"",{"$f":"IF(CL18=\"\",\"\",IF(CN18=\"ร\",\"มผ\",IF(CN18>=$CL$5*กำหนดอัตราส่วนคะแนน!$U$4/100,\"ผ\",\"มผ\")))","v":""},null,null,"",{"$f":"IF(CP18=\"\",\"\",IF(CR18=\"ร\",\"มผ\",IF(CR18>=$CP$5*กำหนดอัตราส่วนคะแนน!$U$4/100,\"ผ\",\"มผ\")))","v":""},null,null,"",{"$f":"IF(CT18=\"\",\"\",IF(CV18=\"ร\",\"มผ\",IF(CV18>=$CT$5*กำหนดอัตราส่วนคะแนน!$U$4/100,\"ผ\",\"มผ\")))","v":""},null,null,"",{"$f":"IF(CX18=\"\",\"\",IF(CZ18=\"ร\",\"มผ\",IF(CZ18>=$CX$5*กำหนดอัตราส่วนคะแนน!$U$4/100,\"ผ\",\"มผ\")))","v":""},null,null,"",{"$f":"IF(DB18=\"\",\"\",IF(DD18=\"ร\",\"มผ\",IF(DD18>=$DB$5*กำหนดอัตราส่วนคะแนน!$U$4/100,\"ผ\",\"มผ\")))","v":""},null,null,"",{"$f":"IF(DF18=\"\",\"\",IF(DH18=\"ร\",\"มผ\",IF(DH18>=$DF$5*กำหนดอัตราส่วนคะแนน!$U$4/100,\"ผ\",\"มผ\")))","v":""},null,null,"",{"$f":"IF(DJ18=\"\",\"\",IF(DL18=\"ร\",\"มผ\",IF(DL18>=$DJ$5*กำหนดอัตราส่วนคะแนน!$U$4/100,\"ผ\",\"มผ\")))","v":""},null,null,"",{"$f":"IF(DN18=\"\",\"\",IF(DP18=\"ร\",\"มผ\",IF(DP18>=$DN$5*กำหนดอัตราส่วนคะแนน!$U$4/100,\"ผ\",\"มผ\")))","v":""},null,null,"",{"$f":"IF(DR18=\"\",\"\",IF(DT18=\"ร\",\"มผ\",IF(DT18>=$DR$5*กำหนดอัตราส่วนคะแนน!$U$4/100,\"ผ\",\"มผ\")))","v":""},null,null,"",{"$f":"IF(DV18=\"\",\"\",IF(DX18=\"ร\",\"มผ\",IF(DX18>=$DV$5*กำหนดอัตราส่วนคะแนน!$U$4/100,\"ผ\",\"มผ\")))","v":""},null,null,"",{"$f":"IF(DZ18=\"\",\"\",IF(EB18=\"ร\",\"มผ\",IF(EB18>=$DZ$5*กำหนดอัตราส่วนคะแนน!$U$4/100,\"ผ\",\"มผ\")))","v":""},null,null,"",{"$f":"IF(ED18=\"\",\"\",IF(EF18=\"ร\",\"มผ\",IF(EF18>=$ED$5*กำหนดอัตราส่วนคะแนน!$U$4/100,\"ผ\",\"มผ\")))","v":""},null,null,"",{"$f":"IF(EH18=\"\",\"\",IF(EJ18=\"ร\",\"มผ\",IF(EJ18>=$EH$5*กำหนดอัตราส่วนคะแนน!$U$4/100,\"ผ\",\"มผ\")))","v":""},null,null,"",{"$f":"IF(EL18=\"\",\"\",IF(EN18=\"ร\",\"มผ\",IF(EN88>=$EL$5*กำหนดอัตราส่วนคะแนน!$U$4/100,\"ผ\",\"มผ\")))","v":""},null,null,"",{"$f":"IF(EP18=\"\",\"\",IF(ER18=\"ร\",\"มผ\",IF(ER18>=$EP$5*กำหนดอัตราส่วนคะแนน!$U$4/100,\"ผ\",\"มผ\")))","v":""},null,null,"",{"$f":"IF(ET18=\"\",\"\",IF(EV18=\"ร\",\"มผ\",IF(EV18>=$ET$5*กำหนดอัตราส่วนคะแนน!$U$4/100,\"ผ\",\"มผ\")))","v":""},null,null,"",{"$f":"IF(EX18=\"\",\"\",IF(EZ18=\"ร\",\"มผ\",IF(EZ18>=$EX$5*กำหนดอัตราส่วนคะแนน!$U$4/100,\"ผ\",\"มผ\")))","v":""},null,null,"",{"$f":"IF(FB18=\"\",\"\",IF(FD18=\"ร\",\"มผ\",IF(FD18>=$FB$5*กำหนดอัตราส่วนคะแนน!$U$4/100,\"ผ\",\"มผ\")))","v":""},null,null,"",{"$f":"IF(FF18=\"\",\"\",IF(FH18=\"ร\",\"มผ\",IF(FH18>=$FF$5*กำหนดอัตราส่วนคะแนน!$U$4/100,\"ผ\",\"มผ\")))","v":""},{"$f":"IF(Sheet1!#REF!=\"\",\"\",IF(COUNTIF(F18:FI18,\"ร\"),\"ร\",IF(FW18=\"ปกติ\",SUM(H18,L18,P18,T18,X18,AB18,AF18,AJ18,AN18,AR18,AV18,AZ18,BD18,BH18,BL18,BP18,BT18,BX18,CB18,CF18,CJ18,CN18,CR18,CV18,CZ18,DD18,DH18,DL18,DP18,DT18,DX18,EB18,EF18,EJ18,EN18,ER18,EV18,EZ18,FD18,FH18),\"-\")))","v":{"$error":"#REF!"}},null,{"$error":"#REF!"},null,null,{"$error":"#REF!"},null,null,null,"",null,{"$f":"IF(COUNTIF(Sheet1!#REF!:Sheet1!#REF!,\"\"),\"\",IF(COUNTIF(FJ18:FS18,\"ร\"),\"ร\",IF(COUNTIF(FL18:FS18,\"-\"),\"-\",IF(FW18=\"ปกติ\",SUM(FO18,FS18)))))","v":{"$error":"#REF!"}},null,{"$f":"เวลาเรียน!DZ20","v":0}]
[13,2509,{"$f":"CONCATENATE(Sheet1!B14)","v":"14096"},{"$f":"CONCATENATE(Sheet1!D14&Sheet1!#REF!&\"       \"&Sheet1!#REF!)","v":{"$error":"#REF!"}},13,null,null,"",{"$f":"IF(F19=\"\",\"\",IF(H19=\"ร\",\"มผ\",IF(H19>=$F$5*กำหนดอัตราส่วนคะแนน!$U$4/100,\"ผ\",\"มผ\")))","v":""},null,null,"",{"$f":"IF(J19=\"\",\"\",IF(L19=\"ร\",\"มผ\",IF(L19>=$J$5*กำหนดอัตราส่วนคะแนน!$U$4/100,\"ผ\",\"มผ\")))","v":""},null,null,"",{"$f":"IF(N19=\"\",\"\",IF(P19=\"ร\",\"มผ\",IF(P19>=$N$5*กำหนดอัตราส่วนคะแนน!$U$4/100,\"ผ\",\"มผ\")))","v":""},null,null,"",{"$f":"IF(R19=\"\",\"\",IF(T19=\"ร\",\"มผ\",IF(T19>=$R$5*กำหนดอัตราส่วนคะแนน!$U$4/100,\"ผ\",\"มผ\")))","v":""},null,null,"",{"$f":"IF(V19=\"\",\"\",IF(X19=\"ร\",\"มผ\",IF(X19>=$V$5*กำหนดอัตราส่วนคะแนน!$U$4/100,\"ผ\",\"มผ\")))","v":""},null,null,"",{"$f":"IF(Z19=\"\",\"\",IF(AB19=\"ร\",\"มผ\",IF(AB19>=$Z$5*กำหนดอัตราส่วนคะแนน!$U$4/100,\"ผ\",\"มผ\")))","v":""},null,null,"",{"$f":"IF(AD19=\"\",\"\",IF(AF19=\"ร\",\"มผ\",IF(AF19>=$AD$5*กำหนดอัตราส่วนคะแนน!$U$4/100,\"ผ\",\"มผ\")))","v":""},null,null,"",{"$f":"IF(AH19=\"\",\"\",IF(AJ19=\"ร\",\"มผ\",IF(AJ19>=$AH$5*กำหนดอัตราส่วนคะแนน!$U$4/100,\"ผ\",\"มผ\")))","v":""},null,null,"",{"$f":"IF(AL19=\"\",\"\",IF(AN19=\"ร\",\"มผ\",IF(AN19>=$AL$5*กำหนดอัตราส่วนคะแนน!$U$4/100,\"ผ\",\"มผ\")))","v":""},null,null,"",{"$f":"IF(AP19=\"\",\"\",IF(AR19=\"ร\",\"มผ\",IF(AR19>=$AP$5*กำหนดอัตราส่วนคะแนน!$U$4/100,\"ผ\",\"มผ\")))","v":""},null,null,"",{"$f":"IF(AT19=\"\",\"\",IF(AV19=\"ร\",\"มผ\",IF(AV19>=$AT$5*กำหนดอัตราส่วนคะแนน!$U$4/100,\"ผ\",\"มผ\")))","v":""},null,null,"",{"$f":"IF(AX19=\"\",\"\",IF(AZ19=\"ร\",\"มผ\",IF(AZ19>=$AX$5*กำหนดอัตราส่วนคะแนน!$U$4/100,\"ผ\",\"มผ\")))","v":""},null,null,"",{"$f":"IF(BB19=\"\",\"\",IF(BD19=\"ร\",\"มผ\",IF(BD19>=$BB$5*กำหนดอัตราส่วนคะแนน!$U$4/100,\"ผ\",\"มผ\")))","v":""},null,null,"",{"$f":"IF(BF19=\"\",\"\",IF(BH19=\"ร\",\"มผ\",IF(BH19>=$BJ$5*กำหนดอัตราส่วนคะแนน!$U$4/100,\"ผ\",\"มผ\")))","v":""},null,null,"",{"$f":"IF(BJ19=\"\",\"\",IF(BL19=\"ร\",\"มผ\",IF(BL19>=$BJ$5*กำหนดอัตราส่วนคะแนน!$U$4/100,\"ผ\",\"มผ\")))","v":""},null,null,"",{"$f":"IF(BN19=\"\",\"\",IF(BP19=\"ร\",\"มผ\",IF(BP19>=$BN$5*กำหนดอัตราส่วนคะแนน!$U$4/100,\"ผ\",\"มผ\")))","v":""},null,null,"",{"$f":"IF(BR19=\"\",\"\",IF(BT19=\"ร\",\"มผ\",IF(BT19>=$BR$5*กำหนดอัตราส่วนคะแนน!$U$4/100,\"ผ\",\"มผ\")))","v":""},null,null,"",{"$f":"IF(BV19=\"\",\"\",IF(BX19=\"ร\",\"มผ\",IF(BX19>=$BV$5*กำหนดอัตราส่วนคะแนน!$U$4/100,\"ผ\",\"มผ\")))","v":""},null,null,"",{"$f":"IF(BZ19=\"\",\"\",IF(CB19=\"ร\",\"มผ\",IF(CB19>=$BZ$5*กำหนดอัตราส่วนคะแนน!$U$4/100,\"ผ\",\"มผ\")))","v":""},null,null,"",{"$f":"IF(CD19=\"\",\"\",IF(CF19=\"ร\",\"มผ\",IF(CF19>=$CD$5*กำหนดอัตราส่วนคะแนน!$U$4/100,\"ผ\",\"มผ\")))","v":""},null,null,"",{"$f":"IF(CH19=\"\",\"\",IF(CJ19=\"ร\",\"มผ\",IF(CJ19>=$CH$5*กำหนดอัตราส่วนคะแนน!$U$4/100,\"ผ\",\"มผ\")))","v":""},null,null,"",{"$f":"IF(CL19=\"\",\"\",IF(CN19=\"ร\",\"มผ\",IF(CN19>=$CL$5*กำหนดอัตราส่วนคะแนน!$U$4/100,\"ผ\",\"มผ\")))","v":""},null,null,"",{"$f":"IF(CP19=\"\",\"\",IF(CR19=\"ร\",\"มผ\",IF(CR19>=$CP$5*กำหนดอัตราส่วนคะแนน!$U$4/100,\"ผ\",\"มผ\")))","v":""},null,null,"",{"$f":"IF(CT19=\"\",\"\",IF(CV19=\"ร\",\"มผ\",IF(CV19>=$CT$5*กำหนดอัตราส่วนคะแนน!$U$4/100,\"ผ\",\"มผ\")))","v":""},null,null,"",{"$f":"IF(CX19=\"\",\"\",IF(CZ19=\"ร\",\"มผ\",IF(CZ19>=$CX$5*กำหนดอัตราส่วนคะแนน!$U$4/100,\"ผ\",\"มผ\")))","v":""},null,null,"",{"$f":"IF(DB19=\"\",\"\",IF(DD19=\"ร\",\"มผ\",IF(DD19>=$DB$5*กำหนดอัตราส่วนคะแนน!$U$4/100,\"ผ\",\"มผ\")))","v":""},null,null,"",{"$f":"IF(DF19=\"\",\"\",IF(DH19=\"ร\",\"มผ\",IF(DH19>=$DF$5*กำหนดอัตราส่วนคะแนน!$U$4/100,\"ผ\",\"มผ\")))","v":""},null,null,"",{"$f":"IF(DJ19=\"\",\"\",IF(DL19=\"ร\",\"มผ\",IF(DL19>=$DJ$5*กำหนดอัตราส่วนคะแนน!$U$4/100,\"ผ\",\"มผ\")))","v":""},null,null,"",{"$f":"IF(DN19=\"\",\"\",IF(DP19=\"ร\",\"มผ\",IF(DP19>=$DN$5*กำหนดอัตราส่วนคะแนน!$U$4/100,\"ผ\",\"มผ\")))","v":""},null,null,"",{"$f":"IF(DR19=\"\",\"\",IF(DT19=\"ร\",\"มผ\",IF(DT19>=$DR$5*กำหนดอัตราส่วนคะแนน!$U$4/100,\"ผ\",\"มผ\")))","v":""},null,null,"",{"$f":"IF(DV19=\"\",\"\",IF(DX19=\"ร\",\"มผ\",IF(DX19>=$DV$5*กำหนดอัตราส่วนคะแนน!$U$4/100,\"ผ\",\"มผ\")))","v":""},null,null,"",{"$f":"IF(DZ19=\"\",\"\",IF(EB19=\"ร\",\"มผ\",IF(EB19>=$DZ$5*กำหนดอัตราส่วนคะแนน!$U$4/100,\"ผ\",\"มผ\")))","v":""},null,null,"",{"$f":"IF(ED19=\"\",\"\",IF(EF19=\"ร\",\"มผ\",IF(EF19>=$ED$5*กำหนดอัตราส่วนคะแนน!$U$4/100,\"ผ\",\"มผ\")))","v":""},null,null,"",{"$f":"IF(EH19=\"\",\"\",IF(EJ19=\"ร\",\"มผ\",IF(EJ19>=$EH$5*กำหนดอัตราส่วนคะแนน!$U$4/100,\"ผ\",\"มผ\")))","v":""},null,null,"",{"$f":"IF(EL19=\"\",\"\",IF(EN19=\"ร\",\"มผ\",IF(EN89>=$EL$5*กำหนดอัตราส่วนคะแนน!$U$4/100,\"ผ\",\"มผ\")))","v":""},null,null,"",{"$f":"IF(EP19=\"\",\"\",IF(ER19=\"ร\",\"มผ\",IF(ER19>=$EP$5*กำหนดอัตราส่วนคะแนน!$U$4/100,\"ผ\",\"มผ\")))","v":""},null,null,"",{"$f":"IF(ET19=\"\",\"\",IF(EV19=\"ร\",\"มผ\",IF(EV19>=$ET$5*กำหนดอัตราส่วนคะแนน!$U$4/100,\"ผ\",\"มผ\")))","v":""},null,null,"",{"$f":"IF(EX19=\"\",\"\",IF(EZ19=\"ร\",\"มผ\",IF(EZ19>=$EX$5*กำหนดอัตราส่วนคะแนน!$U$4/100,\"ผ\",\"มผ\")))","v":""},null,null,"",{"$f":"IF(FB19=\"\",\"\",IF(FD19=\"ร\",\"มผ\",IF(FD19>=$FB$5*กำหนดอัตราส่วนคะแนน!$U$4/100,\"ผ\",\"มผ\")))","v":""},null,null,"",{"$f":"IF(FF19=\"\",\"\",IF(FH19=\"ร\",\"มผ\",IF(FH19>=$FF$5*กำหนดอัตราส่วนคะแนน!$U$4/100,\"ผ\",\"มผ\")))","v":""},{"$f":"IF(Sheet1!#REF!=\"\",\"\",IF(COUNTIF(F19:FI19,\"ร\"),\"ร\",IF(FW19=\"ปกติ\",SUM(H19,L19,P19,T19,X19,AB19,AF19,AJ19,AN19,AR19,AV19,AZ19,BD19,BH19,BL19,BP19,BT19,BX19,CB19,CF19,CJ19,CN19,CR19,CV19,CZ19,DD19,DH19,DL19,DP19,DT19,DX19,EB19,EF19,EJ19,EN19,ER19,EV19,EZ19,FD19,FH19),\"-\")))","v":{"$error":"#REF!"}},null,{"$error":"#REF!"},null,null,{"$error":"#REF!"},null,null,null,"",null,{"$f":"IF(COUNTIF(Sheet1!#REF!:Sheet1!#REF!,\"\"),\"\",IF(COUNTIF(FJ19:FS19,\"ร\"),\"ร\",IF(COUNTIF(FL19:FS19,\"-\"),\"-\",IF(FW19=\"ปกติ\",SUM(FO19,FS19)))))","v":{"$error":"#REF!"}},null,{"$f":"เวลาเรียน!DZ21","v":0}]
[14,2510,{"$f":"CONCATENATE(Sheet1!B15)","v":"14099"},{"$f":"CONCATENATE(Sheet1!D15&Sheet1!#REF!&\"       \"&Sheet1!#REF!)","v":{"$error":"#REF!"}},14,null,null,"",{"$f":"IF(F20=\"\",\"\",IF(H20=\"ร\",\"มผ\",IF(H20>=$F$5*กำหนดอัตราส่วนคะแนน!$U$4/100,\"ผ\",\"มผ\")))","v":""},null,null,"",{"$f":"IF(J20=\"\",\"\",IF(L20=\"ร\",\"มผ\",IF(L20>=$J$5*กำหนดอัตราส่วนคะแนน!$U$4/100,\"ผ\",\"มผ\")))","v":""},null,null,"",{"$f":"IF(N20=\"\",\"\",IF(P20=\"ร\",\"มผ\",IF(P20>=$N$5*กำหนดอัตราส่วนคะแนน!$U$4/100,\"ผ\",\"มผ\")))","v":""},null,null,"",{"$f":"IF(R20=\"\",\"\",IF(T20=\"ร\",\"มผ\",IF(T20>=$R$5*กำหนดอัตราส่วนคะแนน!$U$4/100,\"ผ\",\"มผ\")))","v":""},null,null,"",{"$f":"IF(V20=\"\",\"\",IF(X20=\"ร\",\"มผ\",IF(X20>=$V$5*กำหนดอัตราส่วนคะแนน!$U$4/100,\"ผ\",\"มผ\")))","v":""},null,null,"",{"$f":"IF(Z20=\"\",\"\",IF(AB20=\"ร\",\"มผ\",IF(AB20>=$Z$5*กำหนดอัตราส่วนคะแนน!$U$4/100,\"ผ\",\"มผ\")))","v":""},null,null,"",{"$f":"IF(AD20=\"\",\"\",IF(AF20=\"ร\",\"มผ\",IF(AF20>=$AD$5*กำหนดอัตราส่วนคะแนน!$U$4/100,\"ผ\",\"มผ\")))","v":""},null,null,"",{"$f":"IF(AH20=\"\",\"\",IF(AJ20=\"ร\",\"มผ\",IF(AJ20>=$AH$5*กำหนดอัตราส่วนคะแนน!$U$4/100,\"ผ\",\"มผ\")))","v":""},null,null,"",{"$f":"IF(AL20=\"\",\"\",IF(AN20=\"ร\",\"มผ\",IF(AN20>=$AL$5*กำหนดอัตราส่วนคะแนน!$U$4/100,\"ผ\",\"มผ\")))","v":""},null,null,"",{"$f":"IF(AP20=\"\",\"\",IF(AR20=\"ร\",\"มผ\",IF(AR20>=$AP$5*กำหนดอัตราส่วนคะแนน!$U$4/100,\"ผ\",\"มผ\")))","v":""},null,null,"",{"$f":"IF(AT20=\"\",\"\",IF(AV20=\"ร\",\"มผ\",IF(AV20>=$AT$5*กำหนดอัตราส่วนคะแนน!$U$4/100,\"ผ\",\"มผ\")))","v":""},null,null,"",{"$f":"IF(AX20=\"\",\"\",IF(AZ20=\"ร\",\"มผ\",IF(AZ20>=$AX$5*กำหนดอัตราส่วนคะแนน!$U$4/100,\"ผ\",\"มผ\")))","v":""},null,null,"",{"$f":"IF(BB20=\"\",\"\",IF(BD20=\"ร\",\"มผ\",IF(BD20>=$BB$5*กำหนดอัตราส่วนคะแนน!$U$4/100,\"ผ\",\"มผ\")))","v":""},null,null,"",{"$f":"IF(BF20=\"\",\"\",IF(BH20=\"ร\",\"มผ\",IF(BH20>=$BJ$5*กำหนดอัตราส่วนคะแนน!$U$4/100,\"ผ\",\"มผ\")))","v":""},null,null,"",{"$f":"IF(BJ20=\"\",\"\",IF(BL20=\"ร\",\"มผ\",IF(BL20>=$BJ$5*กำหนดอัตราส่วนคะแนน!$U$4/100,\"ผ\",\"มผ\")))","v":""},null,null,"",{"$f":"IF(BN20=\"\",\"\",IF(BP20=\"ร\",\"มผ\",IF(BP20>=$BN$5*กำหนดอัตราส่วนคะแนน!$U$4/100,\"ผ\",\"มผ\")))","v":""},null,null,"",{"$f":"IF(BR20=\"\",\"\",IF(BT20=\"ร\",\"มผ\",IF(BT20>=$BR$5*กำหนดอัตราส่วนคะแนน!$U$4/100,\"ผ\",\"มผ\")))","v":""},null,null,"",{"$f":"IF(BV20=\"\",\"\",IF(BX20=\"ร\",\"มผ\",IF(BX20>=$BV$5*กำหนดอัตราส่วนคะแนน!$U$4/100,\"ผ\",\"มผ\")))","v":""},null,null,"",{"$f":"IF(BZ20=\"\",\"\",IF(CB20=\"ร\",\"มผ\",IF(CB20>=$BZ$5*กำหนดอัตราส่วนคะแนน!$U$4/100,\"ผ\",\"มผ\")))","v":""},null,null,"",{"$f":"IF(CD20=\"\",\"\",IF(CF20=\"ร\",\"มผ\",IF(CF20>=$CD$5*กำหนดอัตราส่วนคะแนน!$U$4/100,\"ผ\",\"มผ\")))","v":""},null,null,"",{"$f":"IF(CH20=\"\",\"\",IF(CJ20=\"ร\",\"มผ\",IF(CJ20>=$CH$5*กำหนดอัตราส่วนคะแนน!$U$4/100,\"ผ\",\"มผ\")))","v":""},null,null,"",{"$f":"IF(CL20=\"\",\"\",IF(CN20=\"ร\",\"มผ\",IF(CN20>=$CL$5*กำหนดอัตราส่วนคะแนน!$U$4/100,\"ผ\",\"มผ\")))","v":""},null,null,"",{"$f":"IF(CP20=\"\",\"\",IF(CR20=\"ร\",\"มผ\",IF(CR20>=$CP$5*กำหนดอัตราส่วนคะแนน!$U$4/100,\"ผ\",\"มผ\")))","v":""},null,null,"",{"$f":"IF(CT20=\"\",\"\",IF(CV20=\"ร\",\"มผ\",IF(CV20>=$CT$5*กำหนดอัตราส่วนคะแนน!$U$4/100,\"ผ\",\"มผ\")))","v":""},null,null,"",{"$f":"IF(CX20=\"\",\"\",IF(CZ20=\"ร\",\"มผ\",IF(CZ20>=$CX$5*กำหนดอัตราส่วนคะแนน!$U$4/100,\"ผ\",\"มผ\")))","v":""},null,null,"",{"$f":"IF(DB20=\"\",\"\",IF(DD20=\"ร\",\"มผ\",IF(DD20>=$DB$5*กำหนดอัตราส่วนคะแนน!$U$4/100,\"ผ\",\"มผ\")))","v":""},null,null,"",{"$f":"IF(DF20=\"\",\"\",IF(DH20=\"ร\",\"มผ\",IF(DH20>=$DF$5*กำหนดอัตราส่วนคะแนน!$U$4/100,\"ผ\",\"มผ\")))","v":""},null,null,"",{"$f":"IF(DJ20=\"\",\"\",IF(DL20=\"ร\",\"มผ\",IF(DL20>=$DJ$5*กำหนดอัตราส่วนคะแนน!$U$4/100,\"ผ\",\"มผ\")))","v":""},null,null,"",{"$f":"IF(DN20=\"\",\"\",IF(DP20=\"ร\",\"มผ\",IF(DP20>=$DN$5*กำหนดอัตราส่วนคะแนน!$U$4/100,\"ผ\",\"มผ\")))","v":""},null,null,"",{"$f":"IF(DR20=\"\",\"\",IF(DT20=\"ร\",\"มผ\",IF(DT20>=$DR$5*กำหนดอัตราส่วนคะแนน!$U$4/100,\"ผ\",\"มผ\")))","v":""},null,null,"",{"$f":"IF(DV20=\"\",\"\",IF(DX20=\"ร\",\"มผ\",IF(DX20>=$DV$5*กำหนดอัตราส่วนคะแนน!$U$4/100,\"ผ\",\"มผ\")))","v":""},null,null,"",{"$f":"IF(DZ20=\"\",\"\",IF(EB20=\"ร\",\"มผ\",IF(EB20>=$DZ$5*กำหนดอัตราส่วนคะแนน!$U$4/100,\"ผ\",\"มผ\")))","v":""},null,null,"",{"$f":"IF(ED20=\"\",\"\",IF(EF20=\"ร\",\"มผ\",IF(EF20>=$ED$5*กำหนดอัตราส่วนคะแนน!$U$4/100,\"ผ\",\"มผ\")))","v":""},null,null,"",{"$f":"IF(EH20=\"\",\"\",IF(EJ20=\"ร\",\"มผ\",IF(EJ20>=$EH$5*กำหนดอัตราส่วนคะแนน!$U$4/100,\"ผ\",\"มผ\")))","v":""},null,null,"",{"$f":"IF(EL20=\"\",\"\",IF(EN20=\"ร\",\"มผ\",IF(EN90>=$EL$5*กำหนดอัตราส่วนคะแนน!$U$4/100,\"ผ\",\"มผ\")))","v":""},null,null,"",{"$f":"IF(EP20=\"\",\"\",IF(ER20=\"ร\",\"มผ\",IF(ER20>=$EP$5*กำหนดอัตราส่วนคะแนน!$U$4/100,\"ผ\",\"มผ\")))","v":""},null,null,"",{"$f":"IF(ET20=\"\",\"\",IF(EV20=\"ร\",\"มผ\",IF(EV20>=$ET$5*กำหนดอัตราส่วนคะแนน!$U$4/100,\"ผ\",\"มผ\")))","v":""},null,null,"",{"$f":"IF(EX20=\"\",\"\",IF(EZ20=\"ร\",\"มผ\",IF(EZ20>=$EX$5*กำหนดอัตราส่วนคะแนน!$U$4/100,\"ผ\",\"มผ\")))","v":""},null,null,"",{"$f":"IF(FB20=\"\",\"\",IF(FD20=\"ร\",\"มผ\",IF(FD20>=$FB$5*กำหนดอัตราส่วนคะแนน!$U$4/100,\"ผ\",\"มผ\")))","v":""},null,null,"",{"$f":"IF(FF20=\"\",\"\",IF(FH20=\"ร\",\"มผ\",IF(FH20>=$FF$5*กำหนดอัตราส่วนคะแนน!$U$4/100,\"ผ\",\"มผ\")))","v":""},{"$f":"IF(Sheet1!#REF!=\"\",\"\",IF(COUNTIF(F20:FI20,\"ร\"),\"ร\",IF(FW20=\"ปกติ\",SUM(H20,L20,P20,T20,X20,AB20,AF20,AJ20,AN20,AR20,AV20,AZ20,BD20,BH20,BL20,BP20,BT20,BX20,CB20,CF20,CJ20,CN20,CR20,CV20,CZ20,DD20,DH20,DL20,DP20,DT20,DX20,EB20,EF20,EJ20,EN20,ER20,EV20,EZ20,FD20,FH20),\"-\")))","v":{"$error":"#REF!"}},null,{"$error":"#REF!"},null,null,{"$error":"#REF!"},null,null,null,"",null,{"$f":"IF(COUNTIF(Sheet1!#REF!:Sheet1!#REF!,\"\"),\"\",IF(COUNTIF(FJ20:FS20,\"ร\"),\"ร\",IF(COUNTIF(FL20:FS20,\"-\"),\"-\",IF(FW20=\"ปกติ\",SUM(FO20,FS20)))))","v":{"$error":"#REF!"}},null,{"$f":"เวลาเรียน!DZ22","v":0}]
[15,2511,{"$f":"CONCATENATE(Sheet1!B16)","v":"14107"},{"$f":"CONCATENATE(Sheet1!D16&Sheet1!#REF!&\"       \"&Sheet1!#REF!)","v":{"$error":"#REF!"}},15,null,null,"",{"$f":"IF(F21=\"\",\"\",IF(H21=\"ร\",\"มผ\",IF(H21>=$F$5*กำหนดอัตราส่วนคะแนน!$U$4/100,\"ผ\",\"มผ\")))","v":""},null,null,"",{"$f":"IF(J21=\"\",\"\",IF(L21=\"ร\",\"มผ\",IF(L21>=$J$5*กำหนดอัตราส่วนคะแนน!$U$4/100,\"ผ\",\"มผ\")))","v":""},null,null,"",{"$f":"IF(N21=\"\",\"\",IF(P21=\"ร\",\"มผ\",IF(P21>=$N$5*กำหนดอัตราส่วนคะแนน!$U$4/100,\"ผ\",\"มผ\")))","v":""},null,null,"",{"$f":"IF(R21=\"\",\"\",IF(T21=\"ร\",\"มผ\",IF(T21>=$R$5*กำหนดอัตราส่วนคะแนน!$U$4/100,\"ผ\",\"มผ\")))","v":""},null,null,"",{"$f":"IF(V21=\"\",\"\",IF(X21=\"ร\",\"มผ\",IF(X21>=$V$5*กำหนดอัตราส่วนคะแนน!$U$4/100,\"ผ\",\"มผ\")))","v":""},null,null,"",{"$f":"IF(Z21=\"\",\"\",IF(AB21=\"ร\",\"มผ\",IF(AB21>=$Z$5*กำหนดอัตราส่วนคะแนน!$U$4/100,\"ผ\",\"มผ\")))","v":""},null,null,"",{"$f":"IF(AD21=\"\",\"\",IF(AF21=\"ร\",\"มผ\",IF(AF21>=$AD$5*กำหนดอัตราส่วนคะแนน!$U$4/100,\"ผ\",\"มผ\")))","v":""},null,null,"",{"$f":"IF(AH21=\"\",\"\",IF(AJ21=\"ร\",\"มผ\",IF(AJ21>=$AH$5*กำหนดอัตราส่วนคะแนน!$U$4/100,\"ผ\",\"มผ\")))","v":""},null,null,"",{"$f":"IF(AL21=\"\",\"\",IF(AN21=\"ร\",\"มผ\",IF(AN21>=$AL$5*กำหนดอัตราส่วนคะแนน!$U$4/100,\"ผ\",\"มผ\")))","v":""},null,null,"",{"$f":"IF(AP21=\"\",\"\",IF(AR21=\"ร\",\"มผ\",IF(AR21>=$AP$5*กำหนดอัตราส่วนคะแนน!$U$4/100,\"ผ\",\"มผ\")))","v":""},null,null,"",{"$f":"IF(AT21=\"\",\"\",IF(AV21=\"ร\",\"มผ\",IF(AV21>=$AT$5*กำหนดอัตราส่วนคะแนน!$U$4/100,\"ผ\",\"มผ\")))","v":""},null,null,"",{"$f":"IF(AX21=\"\",\"\",IF(AZ21=\"ร\",\"มผ\",IF(AZ21>=$AX$5*กำหนดอัตราส่วนคะแนน!$U$4/100,\"ผ\",\"มผ\")))","v":""},null,null,"",{"$f":"IF(BB21=\"\",\"\",IF(BD21=\"ร\",\"มผ\",IF(BD21>=$BB$5*กำหนดอัตราส่วนคะแนน!$U$4/100,\"ผ\",\"มผ\")))","v":""},null,null,"",{"$f":"IF(BF21=\"\",\"\",IF(BH21=\"ร\",\"มผ\",IF(BH21>=$BJ$5*กำหนดอัตราส่วนคะแนน!$U$4/100,\"ผ\",\"มผ\")))","v":""},null,null,"",{"$f":"IF(BJ21=\"\",\"\",IF(BL21=\"ร\",\"มผ\",IF(BL21>=$BJ$5*กำหนดอัตราส่วนคะแนน!$U$4/100,\"ผ\",\"มผ\")))","v":""},null,null,"",{"$f":"IF(BN21=\"\",\"\",IF(BP21=\"ร\",\"มผ\",IF(BP21>=$BN$5*กำหนดอัตราส่วนคะแนน!$U$4/100,\"ผ\",\"มผ\")))","v":""},null,null,"",{"$f":"IF(BR21=\"\",\"\",IF(BT21=\"ร\",\"มผ\",IF(BT21>=$BR$5*กำหนดอัตราส่วนคะแนน!$U$4/100,\"ผ\",\"มผ\")))","v":""},null,null,"",{"$f":"IF(BV21=\"\",\"\",IF(BX21=\"ร\",\"มผ\",IF(BX21>=$BV$5*กำหนดอัตราส่วนคะแนน!$U$4/100,\"ผ\",\"มผ\")))","v":""},null,null,"",{"$f":"IF(BZ21=\"\",\"\",IF(CB21=\"ร\",\"มผ\",IF(CB21>=$BZ$5*กำหนดอัตราส่วนคะแนน!$U$4/100,\"ผ\",\"มผ\")))","v":""},null,null,"",{"$f":"IF(CD21=\"\",\"\",IF(CF21=\"ร\",\"มผ\",IF(CF21>=$CD$5*กำหนดอัตราส่วนคะแนน!$U$4/100,\"ผ\",\"มผ\")))","v":""},null,null,"",{"$f":"IF(CH21=\"\",\"\",IF(CJ21=\"ร\",\"มผ\",IF(CJ21>=$CH$5*กำหนดอัตราส่วนคะแนน!$U$4/100,\"ผ\",\"มผ\")))","v":""},null,null,"",{"$f":"IF(CL21=\"\",\"\",IF(CN21=\"ร\",\"มผ\",IF(CN21>=$CL$5*กำหนดอัตราส่วนคะแนน!$U$4/100,\"ผ\",\"มผ\")))","v":""},null,null,"",{"$f":"IF(CP21=\"\",\"\",IF(CR21=\"ร\",\"มผ\",IF(CR21>=$CP$5*กำหนดอัตราส่วนคะแนน!$U$4/100,\"ผ\",\"มผ\")))","v":""},null,null,"",{"$f":"IF(CT21=\"\",\"\",IF(CV21=\"ร\",\"มผ\",IF(CV21>=$CT$5*กำหนดอัตราส่วนคะแนน!$U$4/100,\"ผ\",\"มผ\")))","v":""},null,null,"",{"$f":"IF(CX21=\"\",\"\",IF(CZ21=\"ร\",\"มผ\",IF(CZ21>=$CX$5*กำหนดอัตราส่วนคะแนน!$U$4/100,\"ผ\",\"มผ\")))","v":""},null,null,"",{"$f":"IF(DB21=\"\",\"\",IF(DD21=\"ร\",\"มผ\",IF(DD21>=$DB$5*กำหนดอัตราส่วนคะแนน!$U$4/100,\"ผ\",\"มผ\")))","v":""},null,null,"",{"$f":"IF(DF21=\"\",\"\",IF(DH21=\"ร\",\"มผ\",IF(DH21>=$DF$5*กำหนดอัตราส่วนคะแนน!$U$4/100,\"ผ\",\"มผ\")))","v":""},null,null,"",{"$f":"IF(DJ21=\"\",\"\",IF(DL21=\"ร\",\"มผ\",IF(DL21>=$DJ$5*กำหนดอัตราส่วนคะแนน!$U$4/100,\"ผ\",\"มผ\")))","v":""},null,null,"",{"$f":"IF(DN21=\"\",\"\",IF(DP21=\"ร\",\"มผ\",IF(DP21>=$DN$5*กำหนดอัตราส่วนคะแนน!$U$4/100,\"ผ\",\"มผ\")))","v":""},null,null,"",{"$f":"IF(DR21=\"\",\"\",IF(DT21=\"ร\",\"มผ\",IF(DT21>=$DR$5*กำหนดอัตราส่วนคะแนน!$U$4/100,\"ผ\",\"มผ\")))","v":""},null,null,"",{"$f":"IF(DV21=\"\",\"\",IF(DX21=\"ร\",\"มผ\",IF(DX21>=$DV$5*กำหนดอัตราส่วนคะแนน!$U$4/100,\"ผ\",\"มผ\")))","v":""},null,null,"",{"$f":"IF(DZ21=\"\",\"\",IF(EB21=\"ร\",\"มผ\",IF(EB21>=$DZ$5*กำหนดอัตราส่วนคะแนน!$U$4/100,\"ผ\",\"มผ\")))","v":""},null,null,"",{"$f":"IF(ED21=\"\",\"\",IF(EF21=\"ร\",\"มผ\",IF(EF21>=$ED$5*กำหนดอัตราส่วนคะแนน!$U$4/100,\"ผ\",\"มผ\")))","v":""},null,null,"",{"$f":"IF(EH21=\"\",\"\",IF(EJ21=\"ร\",\"มผ\",IF(EJ21>=$EH$5*กำหนดอัตราส่วนคะแนน!$U$4/100,\"ผ\",\"มผ\")))","v":""},null,null,"",{"$f":"IF(EL21=\"\",\"\",IF(EN21=\"ร\",\"มผ\",IF(EN91>=$EL$5*กำหนดอัตราส่วนคะแนน!$U$4/100,\"ผ\",\"มผ\")))","v":""},null,null,"",{"$f":"IF(EP21=\"\",\"\",IF(ER21=\"ร\",\"มผ\",IF(ER21>=$EP$5*กำหนดอัตราส่วนคะแนน!$U$4/100,\"ผ\",\"มผ\")))","v":""},null,null,"",{"$f":"IF(ET21=\"\",\"\",IF(EV21=\"ร\",\"มผ\",IF(EV21>=$ET$5*กำหนดอัตราส่วนคะแนน!$U$4/100,\"ผ\",\"มผ\")))","v":""},null,null,"",{"$f":"IF(EX21=\"\",\"\",IF(EZ21=\"ร\",\"มผ\",IF(EZ21>=$EX$5*กำหนดอัตราส่วนคะแนน!$U$4/100,\"ผ\",\"มผ\")))","v":""},null,null,"",{"$f":"IF(FB21=\"\",\"\",IF(FD21=\"ร\",\"มผ\",IF(FD21>=$FB$5*กำหนดอัตราส่วนคะแนน!$U$4/100,\"ผ\",\"มผ\")))","v":""},null,null,"",{"$f":"IF(FF21=\"\",\"\",IF(FH21=\"ร\",\"มผ\",IF(FH21>=$FF$5*กำหนดอัตราส่วนคะแนน!$U$4/100,\"ผ\",\"มผ\")))","v":""},{"$f":"IF(Sheet1!#REF!=\"\",\"\",IF(COUNTIF(F21:FI21,\"ร\"),\"ร\",IF(FW21=\"ปกติ\",SUM(H21,L21,P21,T21,X21,AB21,AF21,AJ21,AN21,AR21,AV21,AZ21,BD21,BH21,BL21,BP21,BT21,BX21,CB21,CF21,CJ21,CN21,CR21,CV21,CZ21,DD21,DH21,DL21,DP21,DT21,DX21,EB21,EF21,EJ21,EN21,ER21,EV21,EZ21,FD21,FH21),\"-\")))","v":{"$error":"#REF!"}},null,{"$error":"#REF!"},null,null,{"$error":"#REF!"},null,null,null,"",null,{"$f":"IF(COUNTIF(Sheet1!#REF!:Sheet1!#REF!,\"\"),\"\",IF(COUNTIF(FJ21:FS21,\"ร\"),\"ร\",IF(COUNTIF(FL21:FS21,\"-\"),\"-\",IF(FW21=\"ปกติ\",SUM(FO21,FS21)))))","v":{"$error":"#REF!"}},null,{"$f":"เวลาเรียน!DZ23","v":0}]
[16,2512,{"$f":"CONCATENATE(Sheet1!B17)","v":"14112"},{"$f":"CONCATENATE(Sheet1!D17&Sheet1!#REF!&\"       \"&Sheet1!#REF!)","v":{"$error":"#REF!"}},16,null,null,"",{"$f":"IF(F22=\"\",\"\",IF(H22=\"ร\",\"มผ\",IF(H22>=$F$5*กำหนดอัตราส่วนคะแนน!$U$4/100,\"ผ\",\"มผ\")))","v":""},null,null,"",{"$f":"IF(J22=\"\",\"\",IF(L22=\"ร\",\"มผ\",IF(L22>=$J$5*กำหนดอัตราส่วนคะแนน!$U$4/100,\"ผ\",\"มผ\")))","v":""},null,null,"",{"$f":"IF(N22=\"\",\"\",IF(P22=\"ร\",\"มผ\",IF(P22>=$N$5*กำหนดอัตราส่วนคะแนน!$U$4/100,\"ผ\",\"มผ\")))","v":""},null,null,"",{"$f":"IF(R22=\"\",\"\",IF(T22=\"ร\",\"มผ\",IF(T22>=$R$5*กำหนดอัตราส่วนคะแนน!$U$4/100,\"ผ\",\"มผ\")))","v":""},null,null,"",{"$f":"IF(V22=\"\",\"\",IF(X22=\"ร\",\"มผ\",IF(X22>=$V$5*กำหนดอัตราส่วนคะแนน!$U$4/100,\"ผ\",\"มผ\")))","v":""},null,null,"",{"$f":"IF(Z22=\"\",\"\",IF(AB22=\"ร\",\"มผ\",IF(AB22>=$Z$5*กำหนดอัตราส่วนคะแนน!$U$4/100,\"ผ\",\"มผ\")))","v":""},null,null,"",{"$f":"IF(AD22=\"\",\"\",IF(AF22=\"ร\",\"มผ\",IF(AF22>=$AD$5*กำหนดอัตราส่วนคะแนน!$U$4/100,\"ผ\",\"มผ\")))","v":""},null,null,"",{"$f":"IF(AH22=\"\",\"\",IF(AJ22=\"ร\",\"มผ\",IF(AJ22>=$AH$5*กำหนดอัตราส่วนคะแนน!$U$4/100,\"ผ\",\"มผ\")))","v":""},null,null,"",{"$f":"IF(AL22=\"\",\"\",IF(AN22=\"ร\",\"มผ\",IF(AN22>=$AL$5*กำหนดอัตราส่วนคะแนน!$U$4/100,\"ผ\",\"มผ\")))","v":""},null,null,"",{"$f":"IF(AP22=\"\",\"\",IF(AR22=\"ร\",\"มผ\",IF(AR22>=$AP$5*กำหนดอัตราส่วนคะแนน!$U$4/100,\"ผ\",\"มผ\")))","v":""},null,null,"",{"$f":"IF(AT22=\"\",\"\",IF(AV22=\"ร\",\"มผ\",IF(AV22>=$AT$5*กำหนดอัตราส่วนคะแนน!$U$4/100,\"ผ\",\"มผ\")))","v":""},null,null,"",{"$f":"IF(AX22=\"\",\"\",IF(AZ22=\"ร\",\"มผ\",IF(AZ22>=$AX$5*กำหนดอัตราส่วนคะแนน!$U$4/100,\"ผ\",\"มผ\")))","v":""},null,null,"",{"$f":"IF(BB22=\"\",\"\",IF(BD22=\"ร\",\"มผ\",IF(BD22>=$BB$5*กำหนดอัตราส่วนคะแนน!$U$4/100,\"ผ\",\"มผ\")))","v":""},null,null,"",{"$f":"IF(BF22=\"\",\"\",IF(BH22=\"ร\",\"มผ\",IF(BH22>=$BJ$5*กำหนดอัตราส่วนคะแนน!$U$4/100,\"ผ\",\"มผ\")))","v":""},null,null,"",{"$f":"IF(BJ22=\"\",\"\",IF(BL22=\"ร\",\"มผ\",IF(BL22>=$BJ$5*กำหนดอัตราส่วนคะแนน!$U$4/100,\"ผ\",\"มผ\")))","v":""},null,null,"",{"$f":"IF(BN22=\"\",\"\",IF(BP22=\"ร\",\"มผ\",IF(BP22>=$BN$5*กำหนดอัตราส่วนคะแนน!$U$4/100,\"ผ\",\"มผ\")))","v":""},null,null,"",{"$f":"IF(BR22=\"\",\"\",IF(BT22=\"ร\",\"มผ\",IF(BT22>=$BR$5*กำหนดอัตราส่วนคะแนน!$U$4/100,\"ผ\",\"มผ\")))","v":""},null,null,"",{"$f":"IF(BV22=\"\",\"\",IF(BX22=\"ร\",\"มผ\",IF(BX22>=$BV$5*กำหนดอัตราส่วนคะแนน!$U$4/100,\"ผ\",\"มผ\")))","v":""},null,null,"",{"$f":"IF(BZ22=\"\",\"\",IF(CB22=\"ร\",\"มผ\",IF(CB22>=$BZ$5*กำหนดอัตราส่วนคะแนน!$U$4/100,\"ผ\",\"มผ\")))","v":""},null,null,"",{"$f":"IF(CD22=\"\",\"\",IF(CF22=\"ร\",\"มผ\",IF(CF22>=$CD$5*กำหนดอัตราส่วนคะแนน!$U$4/100,\"ผ\",\"มผ\")))","v":""},null,null,"",{"$f":"IF(CH22=\"\",\"\",IF(CJ22=\"ร\",\"มผ\",IF(CJ22>=$CH$5*กำหนดอัตราส่วนคะแนน!$U$4/100,\"ผ\",\"มผ\")))","v":""},null,null,"",{"$f":"IF(CL22=\"\",\"\",IF(CN22=\"ร\",\"มผ\",IF(CN22>=$CL$5*กำหนดอัตราส่วนคะแนน!$U$4/100,\"ผ\",\"มผ\")))","v":""},null,null,"",{"$f":"IF(CP22=\"\",\"\",IF(CR22=\"ร\",\"มผ\",IF(CR22>=$CP$5*กำหนดอัตราส่วนคะแนน!$U$4/100,\"ผ\",\"มผ\")))","v":""},null,null,"",{"$f":"IF(CT22=\"\",\"\",IF(CV22=\"ร\",\"มผ\",IF(CV22>=$CT$5*กำหนดอัตราส่วนคะแนน!$U$4/100,\"ผ\",\"มผ\")))","v":""},null,null,"",{"$f":"IF(CX22=\"\",\"\",IF(CZ22=\"ร\",\"มผ\",IF(CZ22>=$CX$5*กำหนดอัตราส่วนคะแนน!$U$4/100,\"ผ\",\"มผ\")))","v":""},null,null,"",{"$f":"IF(DB22=\"\",\"\",IF(DD22=\"ร\",\"มผ\",IF(DD22>=$DB$5*กำหนดอัตราส่วนคะแนน!$U$4/100,\"ผ\",\"มผ\")))","v":""},null,null,"",{"$f":"IF(DF22=\"\",\"\",IF(DH22=\"ร\",\"มผ\",IF(DH22>=$DF$5*กำหนดอัตราส่วนคะแนน!$U$4/100,\"ผ\",\"มผ\")))","v":""},null,null,"",{"$f":"IF(DJ22=\"\",\"\",IF(DL22=\"ร\",\"มผ\",IF(DL22>=$DJ$5*กำหนดอัตราส่วนคะแนน!$U$4/100,\"ผ\",\"มผ\")))","v":""},null,null,"",{"$f":"IF(DN22=\"\",\"\",IF(DP22=\"ร\",\"มผ\",IF(DP22>=$DN$5*กำหนดอัตราส่วนคะแนน!$U$4/100,\"ผ\",\"มผ\")))","v":""},null,null,"",{"$f":"IF(DR22=\"\",\"\",IF(DT22=\"ร\",\"มผ\",IF(DT22>=$DR$5*กำหนดอัตราส่วนคะแนน!$U$4/100,\"ผ\",\"มผ\")))","v":""},null,null,"",{"$f":"IF(DV22=\"\",\"\",IF(DX22=\"ร\",\"มผ\",IF(DX22>=$DV$5*กำหนดอัตราส่วนคะแนน!$U$4/100,\"ผ\",\"มผ\")))","v":""},null,null,"",{"$f":"IF(DZ22=\"\",\"\",IF(EB22=\"ร\",\"มผ\",IF(EB22>=$DZ$5*กำหนดอัตราส่วนคะแนน!$U$4/100,\"ผ\",\"มผ\")))","v":""},null,null,"",{"$f":"IF(ED22=\"\",\"\",IF(EF22=\"ร\",\"มผ\",IF(EF22>=$ED$5*กำหนดอัตราส่วนคะแนน!$U$4/100,\"ผ\",\"มผ\")))","v":""},null,null,"",{"$f":"IF(EH22=\"\",\"\",IF(EJ22=\"ร\",\"มผ\",IF(EJ22>=$EH$5*กำหนดอัตราส่วนคะแนน!$U$4/100,\"ผ\",\"มผ\")))","v":""},null,null,"",{"$f":"IF(EL22=\"\",\"\",IF(EN22=\"ร\",\"มผ\",IF(EN92>=$EL$5*กำหนดอัตราส่วนคะแนน!$U$4/100,\"ผ\",\"มผ\")))","v":""},null,null,"",{"$f":"IF(EP22=\"\",\"\",IF(ER22=\"ร\",\"มผ\",IF(ER22>=$EP$5*กำหนดอัตราส่วนคะแนน!$U$4/100,\"ผ\",\"มผ\")))","v":""},null,null,"",{"$f":"IF(ET22=\"\",\"\",IF(EV22=\"ร\",\"มผ\",IF(EV22>=$ET$5*กำหนดอัตราส่วนคะแนน!$U$4/100,\"ผ\",\"มผ\")))","v":""},null,null,"",{"$f":"IF(EX22=\"\",\"\",IF(EZ22=\"ร\",\"มผ\",IF(EZ22>=$EX$5*กำหนดอัตราส่วนคะแนน!$U$4/100,\"ผ\",\"มผ\")))","v":""},null,null,"",{"$f":"IF(FB22=\"\",\"\",IF(FD22=\"ร\",\"มผ\",IF(FD22>=$FB$5*กำหนดอัตราส่วนคะแนน!$U$4/100,\"ผ\",\"มผ\")))","v":""},null,null,"",{"$f":"IF(FF22=\"\",\"\",IF(FH22=\"ร\",\"มผ\",IF(FH22>=$FF$5*กำหนดอัตราส่วนคะแนน!$U$4/100,\"ผ\",\"มผ\")))","v":""},{"$f":"IF(Sheet1!#REF!=\"\",\"\",IF(COUNTIF(F22:FI22,\"ร\"),\"ร\",IF(FW22=\"ปกติ\",SUM(H22,L22,P22,T22,X22,AB22,AF22,AJ22,AN22,AR22,AV22,AZ22,BD22,BH22,BL22,BP22,BT22,BX22,CB22,CF22,CJ22,CN22,CR22,CV22,CZ22,DD22,DH22,DL22,DP22,DT22,DX22,EB22,EF22,EJ22,EN22,ER22,EV22,EZ22,FD22,FH22),\"-\")))","v":{"$error":"#REF!"}},null,{"$error":"#REF!"},null,null,{"$error":"#REF!"},null,null,null,"",null,{"$f":"IF(COUNTIF(Sheet1!#REF!:Sheet1!#REF!,\"\"),\"\",IF(COUNTIF(FJ22:FS22,\"ร\"),\"ร\",IF(COUNTIF(FL22:FS22,\"-\"),\"-\",IF(FW22=\"ปกติ\",SUM(FO22,FS22)))))","v":{"$error":"#REF!"}},null,{"$f":"เวลาเรียน!DZ24","v":0}]
[17,2513,{"$f":"CONCATENATE(Sheet1!B18)","v":"14118"},{"$f":"CONCATENATE(Sheet1!D18&Sheet1!#REF!&\"       \"&Sheet1!#REF!)","v":{"$error":"#REF!"}},17,null,null,"",{"$f":"IF(F23=\"\",\"\",IF(H23=\"ร\",\"มผ\",IF(H23>=$F$5*กำหนดอัตราส่วนคะแนน!$U$4/100,\"ผ\",\"มผ\")))","v":""},null,null,"",{"$f":"IF(J23=\"\",\"\",IF(L23=\"ร\",\"มผ\",IF(L23>=$J$5*กำหนดอัตราส่วนคะแนน!$U$4/100,\"ผ\",\"มผ\")))","v":""},null,null,"",{"$f":"IF(N23=\"\",\"\",IF(P23=\"ร\",\"มผ\",IF(P23>=$N$5*กำหนดอัตราส่วนคะแนน!$U$4/100,\"ผ\",\"มผ\")))","v":""},null,null,"",{"$f":"IF(R23=\"\",\"\",IF(T23=\"ร\",\"มผ\",IF(T23>=$R$5*กำหนดอัตราส่วนคะแนน!$U$4/100,\"ผ\",\"มผ\")))","v":""},null,null,"",{"$f":"IF(V23=\"\",\"\",IF(X23=\"ร\",\"มผ\",IF(X23>=$V$5*กำหนดอัตราส่วนคะแนน!$U$4/100,\"ผ\",\"มผ\")))","v":""},null,null,"",{"$f":"IF(Z23=\"\",\"\",IF(AB23=\"ร\",\"มผ\",IF(AB23>=$Z$5*กำหนดอัตราส่วนคะแนน!$U$4/100,\"ผ\",\"มผ\")))","v":""},null,null,"",{"$f":"IF(AD23=\"\",\"\",IF(AF23=\"ร\",\"มผ\",IF(AF23>=$AD$5*กำหนดอัตราส่วนคะแนน!$U$4/100,\"ผ\",\"มผ\")))","v":""},null,null,"",{"$f":"IF(AH23=\"\",\"\",IF(AJ23=\"ร\",\"มผ\",IF(AJ23>=$AH$5*กำหนดอัตราส่วนคะแนน!$U$4/100,\"ผ\",\"มผ\")))","v":""},null,null,"",{"$f":"IF(AL23=\"\",\"\",IF(AN23=\"ร\",\"มผ\",IF(AN23>=$AL$5*กำหนดอัตราส่วนคะแนน!$U$4/100,\"ผ\",\"มผ\")))","v":""},null,null,"",{"$f":"IF(AP23=\"\",\"\",IF(AR23=\"ร\",\"มผ\",IF(AR23>=$AP$5*กำหนดอัตราส่วนคะแนน!$U$4/100,\"ผ\",\"มผ\")))","v":""},null,null,"",{"$f":"IF(AT23=\"\",\"\",IF(AV23=\"ร\",\"มผ\",IF(AV23>=$AT$5*กำหนดอัตราส่วนคะแนน!$U$4/100,\"ผ\",\"มผ\")))","v":""},null,null,"",{"$f":"IF(AX23=\"\",\"\",IF(AZ23=\"ร\",\"มผ\",IF(AZ23>=$AX$5*กำหนดอัตราส่วนคะแนน!$U$4/100,\"ผ\",\"มผ\")))","v":""},null,null,"",{"$f":"IF(BB23=\"\",\"\",IF(BD23=\"ร\",\"มผ\",IF(BD23>=$BB$5*กำหนดอัตราส่วนคะแนน!$U$4/100,\"ผ\",\"มผ\")))","v":""},null,null,"",{"$f":"IF(BF23=\"\",\"\",IF(BH23=\"ร\",\"มผ\",IF(BH23>=$BJ$5*กำหนดอัตราส่วนคะแนน!$U$4/100,\"ผ\",\"มผ\")))","v":""},null,null,"",{"$f":"IF(BJ23=\"\",\"\",IF(BL23=\"ร\",\"มผ\",IF(BL23>=$BJ$5*กำหนดอัตราส่วนคะแนน!$U$4/100,\"ผ\",\"มผ\")))","v":""},null,null,"",{"$f":"IF(BN23=\"\",\"\",IF(BP23=\"ร\",\"มผ\",IF(BP23>=$BN$5*กำหนดอัตราส่วนคะแนน!$U$4/100,\"ผ\",\"มผ\")))","v":""},null,null,"",{"$f":"IF(BR23=\"\",\"\",IF(BT23=\"ร\",\"มผ\",IF(BT23>=$BR$5*กำหนดอัตราส่วนคะแนน!$U$4/100,\"ผ\",\"มผ\")))","v":""},null,null,"",{"$f":"IF(BV23=\"\",\"\",IF(BX23=\"ร\",\"มผ\",IF(BX23>=$BV$5*กำหนดอัตราส่วนคะแนน!$U$4/100,\"ผ\",\"มผ\")))","v":""},null,null,"",{"$f":"IF(BZ23=\"\",\"\",IF(CB23=\"ร\",\"มผ\",IF(CB23>=$BZ$5*กำหนดอัตราส่วนคะแนน!$U$4/100,\"ผ\",\"มผ\")))","v":""},null,null,"",{"$f":"IF(CD23=\"\",\"\",IF(CF23=\"ร\",\"มผ\",IF(CF23>=$CD$5*กำหนดอัตราส่วนคะแนน!$U$4/100,\"ผ\",\"มผ\")))","v":""},null,null,"",{"$f":"IF(CH23=\"\",\"\",IF(CJ23=\"ร\",\"มผ\",IF(CJ23>=$CH$5*กำหนดอัตราส่วนคะแนน!$U$4/100,\"ผ\",\"มผ\")))","v":""},null,null,"",{"$f":"IF(CL23=\"\",\"\",IF(CN23=\"ร\",\"มผ\",IF(CN23>=$CL$5*กำหนดอัตราส่วนคะแนน!$U$4/100,\"ผ\",\"มผ\")))","v":""},null,null,"",{"$f":"IF(CP23=\"\",\"\",IF(CR23=\"ร\",\"มผ\",IF(CR23>=$CP$5*กำหนดอัตราส่วนคะแนน!$U$4/100,\"ผ\",\"มผ\")))","v":""},null,null,"",{"$f":"IF(CT23=\"\",\"\",IF(CV23=\"ร\",\"มผ\",IF(CV23>=$CT$5*กำหนดอัตราส่วนคะแนน!$U$4/100,\"ผ\",\"มผ\")))","v":""},null,null,"",{"$f":"IF(CX23=\"\",\"\",IF(CZ23=\"ร\",\"มผ\",IF(CZ23>=$CX$5*กำหนดอัตราส่วนคะแนน!$U$4/100,\"ผ\",\"มผ\")))","v":""},null,null,"",{"$f":"IF(DB23=\"\",\"\",IF(DD23=\"ร\",\"มผ\",IF(DD23>=$DB$5*กำหนดอัตราส่วนคะแนน!$U$4/100,\"ผ\",\"มผ\")))","v":""},null,null,"",{"$f":"IF(DF23=\"\",\"\",IF(DH23=\"ร\",\"มผ\",IF(DH23>=$DF$5*กำหนดอัตราส่วนคะแนน!$U$4/100,\"ผ\",\"มผ\")))","v":""},null,null,"",{"$f":"IF(DJ23=\"\",\"\",IF(DL23=\"ร\",\"มผ\",IF(DL23>=$DJ$5*กำหนดอัตราส่วนคะแนน!$U$4/100,\"ผ\",\"มผ\")))","v":""},null,null,"",{"$f":"IF(DN23=\"\",\"\",IF(DP23=\"ร\",\"มผ\",IF(DP23>=$DN$5*กำหนดอัตราส่วนคะแนน!$U$4/100,\"ผ\",\"มผ\")))","v":""},null,null,"",{"$f":"IF(DR23=\"\",\"\",IF(DT23=\"ร\",\"มผ\",IF(DT23>=$DR$5*กำหนดอัตราส่วนคะแนน!$U$4/100,\"ผ\",\"มผ\")))","v":""},null,null,"",{"$f":"IF(DV23=\"\",\"\",IF(DX23=\"ร\",\"มผ\",IF(DX23>=$DV$5*กำหนดอัตราส่วนคะแนน!$U$4/100,\"ผ\",\"มผ\")))","v":""},null,null,"",{"$f":"IF(DZ23=\"\",\"\",IF(EB23=\"ร\",\"มผ\",IF(EB23>=$DZ$5*กำหนดอัตราส่วนคะแนน!$U$4/100,\"ผ\",\"มผ\")))","v":""},null,null,"",{"$f":"IF(ED23=\"\",\"\",IF(EF23=\"ร\",\"มผ\",IF(EF23>=$ED$5*กำหนดอัตราส่วนคะแนน!$U$4/100,\"ผ\",\"มผ\")))","v":""},null,null,"",{"$f":"IF(EH23=\"\",\"\",IF(EJ23=\"ร\",\"มผ\",IF(EJ23>=$EH$5*กำหนดอัตราส่วนคะแนน!$U$4/100,\"ผ\",\"มผ\")))","v":""},null,null,"",{"$f":"IF(EL23=\"\",\"\",IF(EN23=\"ร\",\"มผ\",IF(EN93>=$EL$5*กำหนดอัตราส่วนคะแนน!$U$4/100,\"ผ\",\"มผ\")))","v":""},null,null,"",{"$f":"IF(EP23=\"\",\"\",IF(ER23=\"ร\",\"มผ\",IF(ER23>=$EP$5*กำหนดอัตราส่วนคะแนน!$U$4/100,\"ผ\",\"มผ\")))","v":""},null,null,"",{"$f":"IF(ET23=\"\",\"\",IF(EV23=\"ร\",\"มผ\",IF(EV23>=$ET$5*กำหนดอัตราส่วนคะแนน!$U$4/100,\"ผ\",\"มผ\")))","v":""},null,null,"",{"$f":"IF(EX23=\"\",\"\",IF(EZ23=\"ร\",\"มผ\",IF(EZ23>=$EX$5*กำหนดอัตราส่วนคะแนน!$U$4/100,\"ผ\",\"มผ\")))","v":""},null,null,"",{"$f":"IF(FB23=\"\",\"\",IF(FD23=\"ร\",\"มผ\",IF(FD23>=$FB$5*กำหนดอัตราส่วนคะแนน!$U$4/100,\"ผ\",\"มผ\")))","v":""},null,null,"",{"$f":"IF(FF23=\"\",\"\",IF(FH23=\"ร\",\"มผ\",IF(FH23>=$FF$5*กำหนดอัตราส่วนคะแนน!$U$4/100,\"ผ\",\"มผ\")))","v":""},{"$f":"IF(Sheet1!#REF!=\"\",\"\",IF(COUNTIF(F23:FI23,\"ร\"),\"ร\",IF(FW23=\"ปกติ\",SUM(H23,L23,P23,T23,X23,AB23,AF23,AJ23,AN23,AR23,AV23,AZ23,BD23,BH23,BL23,BP23,BT23,BX23,CB23,CF23,CJ23,CN23,CR23,CV23,CZ23,DD23,DH23,DL23,DP23,DT23,DX23,EB23,EF23,EJ23,EN23,ER23,EV23,EZ23,FD23,FH23),\"-\")))","v":{"$error":"#REF!"}},null,{"$error":"#REF!"},null,null,{"$error":"#REF!"},null,null,null,"",null,{"$f":"IF(COUNTIF(Sheet1!#REF!:Sheet1!#REF!,\"\"),\"\",IF(COUNTIF(FJ23:FS23,\"ร\"),\"ร\",IF(COUNTIF(FL23:FS23,\"-\"),\"-\",IF(FW23=\"ปกติ\",SUM(FO23,FS23)))))","v":{"$error":"#REF!"}},null,{"$f":"เวลาเรียน!DZ25","v":0},null," "]
[18,2514,{"$f":"CONCATENATE(Sheet1!B19)","v":"14120"},{"$f":"CONCATENATE(Sheet1!D19&Sheet1!#REF!&\"       \"&Sheet1!#REF!)","v":{"$error":"#REF!"}},18,null,null,"",{"$f":"IF(F24=\"\",\"\",IF(H24=\"ร\",\"มผ\",IF(H24>=$F$5*กำหนดอัตราส่วนคะแนน!$U$4/100,\"ผ\",\"มผ\")))","v":""},null,null,"",{"$f":"IF(J24=\"\",\"\",IF(L24=\"ร\",\"มผ\",IF(L24>=$J$5*กำหนดอัตราส่วนคะแนน!$U$4/100,\"ผ\",\"มผ\")))","v":""},null,null,"",{"$f":"IF(N24=\"\",\"\",IF(P24=\"ร\",\"มผ\",IF(P24>=$N$5*กำหนดอัตราส่วนคะแนน!$U$4/100,\"ผ\",\"มผ\")))","v":""},null,null,"",{"$f":"IF(R24=\"\",\"\",IF(T24=\"ร\",\"มผ\",IF(T24>=$R$5*กำหนดอัตราส่วนคะแนน!$U$4/100,\"ผ\",\"มผ\")))","v":""},null,null,"",{"$f":"IF(V24=\"\",\"\",IF(X24=\"ร\",\"มผ\",IF(X24>=$V$5*กำหนดอัตราส่วนคะแนน!$U$4/100,\"ผ\",\"มผ\")))","v":""},null,null,"",{"$f":"IF(Z24=\"\",\"\",IF(AB24=\"ร\",\"มผ\",IF(AB24>=$Z$5*กำหนดอัตราส่วนคะแนน!$U$4/100,\"ผ\",\"มผ\")))","v":""},null,null,"",{"$f":"IF(AD24=\"\",\"\",IF(AF24=\"ร\",\"มผ\",IF(AF24>=$AD$5*กำหนดอัตราส่วนคะแนน!$U$4/100,\"ผ\",\"มผ\")))","v":""},null,null,"",{"$f":"IF(AH24=\"\",\"\",IF(AJ24=\"ร\",\"มผ\",IF(AJ24>=$AH$5*กำหนดอัตราส่วนคะแนน!$U$4/100,\"ผ\",\"มผ\")))","v":""},null,null,"",{"$f":"IF(AL24=\"\",\"\",IF(AN24=\"ร\",\"มผ\",IF(AN24>=$AL$5*กำหนดอัตราส่วนคะแนน!$U$4/100,\"ผ\",\"มผ\")))","v":""},null,null,"",{"$f":"IF(AP24=\"\",\"\",IF(AR24=\"ร\",\"มผ\",IF(AR24>=$AP$5*กำหนดอัตราส่วนคะแนน!$U$4/100,\"ผ\",\"มผ\")))","v":""},null,null,"",{"$f":"IF(AT24=\"\",\"\",IF(AV24=\"ร\",\"มผ\",IF(AV24>=$AT$5*กำหนดอัตราส่วนคะแนน!$U$4/100,\"ผ\",\"มผ\")))","v":""},null,null,"",{"$f":"IF(AX24=\"\",\"\",IF(AZ24=\"ร\",\"มผ\",IF(AZ24>=$AX$5*กำหนดอัตราส่วนคะแนน!$U$4/100,\"ผ\",\"มผ\")))","v":""},null,null,"",{"$f":"IF(BB24=\"\",\"\",IF(BD24=\"ร\",\"มผ\",IF(BD24>=$BB$5*กำหนดอัตราส่วนคะแนน!$U$4/100,\"ผ\",\"มผ\")))","v":""},null,null,"",{"$f":"IF(BF24=\"\",\"\",IF(BH24=\"ร\",\"มผ\",IF(BH24>=$BJ$5*กำหนดอัตราส่วนคะแนน!$U$4/100,\"ผ\",\"มผ\")))","v":""},null,null,"",{"$f":"IF(BJ24=\"\",\"\",IF(BL24=\"ร\",\"มผ\",IF(BL24>=$BJ$5*กำหนดอัตราส่วนคะแนน!$U$4/100,\"ผ\",\"มผ\")))","v":""},null,null,"",{"$f":"IF(BN24=\"\",\"\",IF(BP24=\"ร\",\"มผ\",IF(BP24>=$BN$5*กำหนดอัตราส่วนคะแนน!$U$4/100,\"ผ\",\"มผ\")))","v":""},null,null,"",{"$f":"IF(BR24=\"\",\"\",IF(BT24=\"ร\",\"มผ\",IF(BT24>=$BR$5*กำหนดอัตราส่วนคะแนน!$U$4/100,\"ผ\",\"มผ\")))","v":""},null,null,"",{"$f":"IF(BV24=\"\",\"\",IF(BX24=\"ร\",\"มผ\",IF(BX24>=$BV$5*กำหนดอัตราส่วนคะแนน!$U$4/100,\"ผ\",\"มผ\")))","v":""},null,null,"",{"$f":"IF(BZ24=\"\",\"\",IF(CB24=\"ร\",\"มผ\",IF(CB24>=$BZ$5*กำหนดอัตราส่วนคะแนน!$U$4/100,\"ผ\",\"มผ\")))","v":""},null,null,"",{"$f":"IF(CD24=\"\",\"\",IF(CF24=\"ร\",\"มผ\",IF(CF24>=$CD$5*กำหนดอัตราส่วนคะแนน!$U$4/100,\"ผ\",\"มผ\")))","v":""},null,null,"",{"$f":"IF(CH24=\"\",\"\",IF(CJ24=\"ร\",\"มผ\",IF(CJ24>=$CH$5*กำหนดอัตราส่วนคะแนน!$U$4/100,\"ผ\",\"มผ\")))","v":""},null,null,"",{"$f":"IF(CL24=\"\",\"\",IF(CN24=\"ร\",\"มผ\",IF(CN24>=$CL$5*กำหนดอัตราส่วนคะแนน!$U$4/100,\"ผ\",\"มผ\")))","v":""},null,null,"",{"$f":"IF(CP24=\"\",\"\",IF(CR24=\"ร\",\"มผ\",IF(CR24>=$CP$5*กำหนดอัตราส่วนคะแนน!$U$4/100,\"ผ\",\"มผ\")))","v":""},null,null,"",{"$f":"IF(CT24=\"\",\"\",IF(CV24=\"ร\",\"มผ\",IF(CV24>=$CT$5*กำหนดอัตราส่วนคะแนน!$U$4/100,\"ผ\",\"มผ\")))","v":""},null,null,"",{"$f":"IF(CX24=\"\",\"\",IF(CZ24=\"ร\",\"มผ\",IF(CZ24>=$CX$5*กำหนดอัตราส่วนคะแนน!$U$4/100,\"ผ\",\"มผ\")))","v":""},null,null,"",{"$f":"IF(DB24=\"\",\"\",IF(DD24=\"ร\",\"มผ\",IF(DD24>=$DB$5*กำหนดอัตราส่วนคะแนน!$U$4/100,\"ผ\",\"มผ\")))","v":""},null,null,"",{"$f":"IF(DF24=\"\",\"\",IF(DH24=\"ร\",\"มผ\",IF(DH24>=$DF$5*กำหนดอัตราส่วนคะแนน!$U$4/100,\"ผ\",\"มผ\")))","v":""},null,null,"",{"$f":"IF(DJ24=\"\",\"\",IF(DL24=\"ร\",\"มผ\",IF(DL24>=$DJ$5*กำหนดอัตราส่วนคะแนน!$U$4/100,\"ผ\",\"มผ\")))","v":""},null,null,"",{"$f":"IF(DN24=\"\",\"\",IF(DP24=\"ร\",\"มผ\",IF(DP24>=$DN$5*กำหนดอัตราส่วนคะแนน!$U$4/100,\"ผ\",\"มผ\")))","v":""},null,null,"",{"$f":"IF(DR24=\"\",\"\",IF(DT24=\"ร\",\"มผ\",IF(DT24>=$DR$5*กำหนดอัตราส่วนคะแนน!$U$4/100,\"ผ\",\"มผ\")))","v":""},null,null,"",{"$f":"IF(DV24=\"\",\"\",IF(DX24=\"ร\",\"มผ\",IF(DX24>=$DV$5*กำหนดอัตราส่วนคะแนน!$U$4/100,\"ผ\",\"มผ\")))","v":""},null,null,"",{"$f":"IF(DZ24=\"\",\"\",IF(EB24=\"ร\",\"มผ\",IF(EB24>=$DZ$5*กำหนดอัตราส่วนคะแนน!$U$4/100,\"ผ\",\"มผ\")))","v":""},null,null,"",{"$f":"IF(ED24=\"\",\"\",IF(EF24=\"ร\",\"มผ\",IF(EF24>=$ED$5*กำหนดอัตราส่วนคะแนน!$U$4/100,\"ผ\",\"มผ\")))","v":""},null,null,"",{"$f":"IF(EH24=\"\",\"\",IF(EJ24=\"ร\",\"มผ\",IF(EJ24>=$EH$5*กำหนดอัตราส่วนคะแนน!$U$4/100,\"ผ\",\"มผ\")))","v":""},null,null,"",{"$f":"IF(EL24=\"\",\"\",IF(EN24=\"ร\",\"มผ\",IF(EN94>=$EL$5*กำหนดอัตราส่วนคะแนน!$U$4/100,\"ผ\",\"มผ\")))","v":""},null,null,"",{"$f":"IF(EP24=\"\",\"\",IF(ER24=\"ร\",\"มผ\",IF(ER24>=$EP$5*กำหนดอัตราส่วนคะแนน!$U$4/100,\"ผ\",\"มผ\")))","v":""},null,null,"",{"$f":"IF(ET24=\"\",\"\",IF(EV24=\"ร\",\"มผ\",IF(EV24>=$ET$5*กำหนดอัตราส่วนคะแนน!$U$4/100,\"ผ\",\"มผ\")))","v":""},null,null,"",{"$f":"IF(EX24=\"\",\"\",IF(EZ24=\"ร\",\"มผ\",IF(EZ24>=$EX$5*กำหนดอัตราส่วนคะแนน!$U$4/100,\"ผ\",\"มผ\")))","v":""},null,null,"",{"$f":"IF(FB24=\"\",\"\",IF(FD24=\"ร\",\"มผ\",IF(FD24>=$FB$5*กำหนดอัตราส่วนคะแนน!$U$4/100,\"ผ\",\"มผ\")))","v":""},null,null,"",{"$f":"IF(FF24=\"\",\"\",IF(FH24=\"ร\",\"มผ\",IF(FH24>=$FF$5*กำหนดอัตราส่วนคะแนน!$U$4/100,\"ผ\",\"มผ\")))","v":""},{"$f":"IF(Sheet1!#REF!=\"\",\"\",IF(COUNTIF(F24:FI24,\"ร\"),\"ร\",IF(FW24=\"ปกติ\",SUM(H24,L24,P24,T24,X24,AB24,AF24,AJ24,AN24,AR24,AV24,AZ24,BD24,BH24,BL24,BP24,BT24,BX24,CB24,CF24,CJ24,CN24,CR24,CV24,CZ24,DD24,DH24,DL24,DP24,DT24,DX24,EB24,EF24,EJ24,EN24,ER24,EV24,EZ24,FD24,FH24),\"-\")))","v":{"$error":"#REF!"}},null,{"$error":"#REF!"},null,null,{"$error":"#REF!"},null,null,null,"",null,{"$f":"IF(COUNTIF(Sheet1!#REF!:Sheet1!#REF!,\"\"),\"\",IF(COUNTIF(FJ24:FS24,\"ร\"),\"ร\",IF(COUNTIF(FL24:FS24,\"-\"),\"-\",IF(FW24=\"ปกติ\",SUM(FO24,FS24)))))","v":{"$error":"#REF!"}},null,{"$f":"เวลาเรียน!DZ26","v":0}]
[19,2515,{"$f":"CONCATENATE(Sheet1!B20)","v":"14123"},{"$f":"CONCATENATE(Sheet1!D20&Sheet1!#REF!&\"       \"&Sheet1!#REF!)","v":{"$error":"#REF!"}},19,null,null,"",{"$f":"IF(F25=\"\",\"\",IF(H25=\"ร\",\"มผ\",IF(H25>=$F$5*กำหนดอัตราส่วนคะแนน!$U$4/100,\"ผ\",\"มผ\")))","v":""},null,null,"",{"$f":"IF(J25=\"\",\"\",IF(L25=\"ร\",\"มผ\",IF(L25>=$J$5*กำหนดอัตราส่วนคะแนน!$U$4/100,\"ผ\",\"มผ\")))","v":""},null,null,"",{"$f":"IF(N25=\"\",\"\",IF(P25=\"ร\",\"มผ\",IF(P25>=$N$5*กำหนดอัตราส่วนคะแนน!$U$4/100,\"ผ\",\"มผ\")))","v":""},null,null,"",{"$f":"IF(R25=\"\",\"\",IF(T25=\"ร\",\"มผ\",IF(T25>=$R$5*กำหนดอัตราส่วนคะแนน!$U$4/100,\"ผ\",\"มผ\")))","v":""},null,null,"",{"$f":"IF(V25=\"\",\"\",IF(X25=\"ร\",\"มผ\",IF(X25>=$V$5*กำหนดอัตราส่วนคะแนน!$U$4/100,\"ผ\",\"มผ\")))","v":""},null,null,"",{"$f":"IF(Z25=\"\",\"\",IF(AB25=\"ร\",\"มผ\",IF(AB25>=$Z$5*กำหนดอัตราส่วนคะแนน!$U$4/100,\"ผ\",\"มผ\")))","v":""},null,null,"",{"$f":"IF(AD25=\"\",\"\",IF(AF25=\"ร\",\"มผ\",IF(AF25>=$AD$5*กำหนดอัตราส่วนคะแนน!$U$4/100,\"ผ\",\"มผ\")))","v":""},null,null,"",{"$f":"IF(AH25=\"\",\"\",IF(AJ25=\"ร\",\"มผ\",IF(AJ25>=$AH$5*กำหนดอัตราส่วนคะแนน!$U$4/100,\"ผ\",\"มผ\")))","v":""},null,null,"",{"$f":"IF(AL25=\"\",\"\",IF(AN25=\"ร\",\"มผ\",IF(AN25>=$AL$5*กำหนดอัตราส่วนคะแนน!$U$4/100,\"ผ\",\"มผ\")))","v":""},null,null,"",{"$f":"IF(AP25=\"\",\"\",IF(AR25=\"ร\",\"มผ\",IF(AR25>=$AP$5*กำหนดอัตราส่วนคะแนน!$U$4/100,\"ผ\",\"มผ\")))","v":""},null,null,"",{"$f":"IF(AT25=\"\",\"\",IF(AV25=\"ร\",\"มผ\",IF(AV25>=$AT$5*กำหนดอัตราส่วนคะแนน!$U$4/100,\"ผ\",\"มผ\")))","v":""},null,null,"",{"$f":"IF(AX25=\"\",\"\",IF(AZ25=\"ร\",\"มผ\",IF(AZ25>=$AX$5*กำหนดอัตราส่วนคะแนน!$U$4/100,\"ผ\",\"มผ\")))","v":""},null,null,"",{"$f":"IF(BB25=\"\",\"\",IF(BD25=\"ร\",\"มผ\",IF(BD25>=$BB$5*กำหนดอัตราส่วนคะแนน!$U$4/100,\"ผ\",\"มผ\")))","v":""},null,null,"",{"$f":"IF(BF25=\"\",\"\",IF(BH25=\"ร\",\"มผ\",IF(BH25>=$BJ$5*กำหนดอัตราส่วนคะแนน!$U$4/100,\"ผ\",\"มผ\")))","v":""},null,null,"",{"$f":"IF(BJ25=\"\",\"\",IF(BL25=\"ร\",\"มผ\",IF(BL25>=$BJ$5*กำหนดอัตราส่วนคะแนน!$U$4/100,\"ผ\",\"มผ\")))","v":""},null,null,"",{"$f":"IF(BN25=\"\",\"\",IF(BP25=\"ร\",\"มผ\",IF(BP25>=$BN$5*กำหนดอัตราส่วนคะแนน!$U$4/100,\"ผ\",\"มผ\")))","v":""},null,null,"",{"$f":"IF(BR25=\"\",\"\",IF(BT25=\"ร\",\"มผ\",IF(BT25>=$BR$5*กำหนดอัตราส่วนคะแนน!$U$4/100,\"ผ\",\"มผ\")))","v":""},null,null,"",{"$f":"IF(BV25=\"\",\"\",IF(BX25=\"ร\",\"มผ\",IF(BX25>=$BV$5*กำหนดอัตราส่วนคะแนน!$U$4/100,\"ผ\",\"มผ\")))","v":""},null,null,"",{"$f":"IF(BZ25=\"\",\"\",IF(CB25=\"ร\",\"มผ\",IF(CB25>=$BZ$5*กำหนดอัตราส่วนคะแนน!$U$4/100,\"ผ\",\"มผ\")))","v":""},null,null,"",{"$f":"IF(CD25=\"\",\"\",IF(CF25=\"ร\",\"มผ\",IF(CF25>=$CD$5*กำหนดอัตราส่วนคะแนน!$U$4/100,\"ผ\",\"มผ\")))","v":""},null,null,"",{"$f":"IF(CH25=\"\",\"\",IF(CJ25=\"ร\",\"มผ\",IF(CJ25>=$CH$5*กำหนดอัตราส่วนคะแนน!$U$4/100,\"ผ\",\"มผ\")))","v":""},null,null,"",{"$f":"IF(CL25=\"\",\"\",IF(CN25=\"ร\",\"มผ\",IF(CN25>=$CL$5*กำหนดอัตราส่วนคะแนน!$U$4/100,\"ผ\",\"มผ\")))","v":""},null,null,"",{"$f":"IF(CP25=\"\",\"\",IF(CR25=\"ร\",\"มผ\",IF(CR25>=$CP$5*กำหนดอัตราส่วนคะแนน!$U$4/100,\"ผ\",\"มผ\")))","v":""},null,null,"",{"$f":"IF(CT25=\"\",\"\",IF(CV25=\"ร\",\"มผ\",IF(CV25>=$CT$5*กำหนดอัตราส่วนคะแนน!$U$4/100,\"ผ\",\"มผ\")))","v":""},null,null,"",{"$f":"IF(CX25=\"\",\"\",IF(CZ25=\"ร\",\"มผ\",IF(CZ25>=$CX$5*กำหนดอัตราส่วนคะแนน!$U$4/100,\"ผ\",\"มผ\")))","v":""},null,null,"",{"$f":"IF(DB25=\"\",\"\",IF(DD25=\"ร\",\"มผ\",IF(DD25>=$DB$5*กำหนดอัตราส่วนคะแนน!$U$4/100,\"ผ\",\"มผ\")))","v":""},null,null,"",{"$f":"IF(DF25=\"\",\"\",IF(DH25=\"ร\",\"มผ\",IF(DH25>=$DF$5*กำหนดอัตราส่วนคะแนน!$U$4/100,\"ผ\",\"มผ\")))","v":""},null,null,"",{"$f":"IF(DJ25=\"\",\"\",IF(DL25=\"ร\",\"มผ\",IF(DL25>=$DJ$5*กำหนดอัตราส่วนคะแนน!$U$4/100,\"ผ\",\"มผ\")))","v":""},null,null,"",{"$f":"IF(DN25=\"\",\"\",IF(DP25=\"ร\",\"มผ\",IF(DP25>=$DN$5*กำหนดอัตราส่วนคะแนน!$U$4/100,\"ผ\",\"มผ\")))","v":""},null,null,"",{"$f":"IF(DR25=\"\",\"\",IF(DT25=\"ร\",\"มผ\",IF(DT25>=$DR$5*กำหนดอัตราส่วนคะแนน!$U$4/100,\"ผ\",\"มผ\")))","v":""},null,null,"",{"$f":"IF(DV25=\"\",\"\",IF(DX25=\"ร\",\"มผ\",IF(DX25>=$DV$5*กำหนดอัตราส่วนคะแนน!$U$4/100,\"ผ\",\"มผ\")))","v":""},null,null,"",{"$f":"IF(DZ25=\"\",\"\",IF(EB25=\"ร\",\"มผ\",IF(EB25>=$DZ$5*กำหนดอัตราส่วนคะแนน!$U$4/100,\"ผ\",\"มผ\")))","v":""},null,null,"",{"$f":"IF(ED25=\"\",\"\",IF(EF25=\"ร\",\"มผ\",IF(EF25>=$ED$5*กำหนดอัตราส่วนคะแนน!$U$4/100,\"ผ\",\"มผ\")))","v":""},null,null,"",{"$f":"IF(EH25=\"\",\"\",IF(EJ25=\"ร\",\"มผ\",IF(EJ25>=$EH$5*กำหนดอัตราส่วนคะแนน!$U$4/100,\"ผ\",\"มผ\")))","v":""},null,null,"",{"$f":"IF(EL25=\"\",\"\",IF(EN25=\"ร\",\"มผ\",IF(EN95>=$EL$5*กำหนดอัตราส่วนคะแนน!$U$4/100,\"ผ\",\"มผ\")))","v":""},null,null,"",{"$f":"IF(EP25=\"\",\"\",IF(ER25=\"ร\",\"มผ\",IF(ER25>=$EP$5*กำหนดอัตราส่วนคะแนน!$U$4/100,\"ผ\",\"มผ\")))","v":""},null,null,"",{"$f":"IF(ET25=\"\",\"\",IF(EV25=\"ร\",\"มผ\",IF(EV25>=$ET$5*กำหนดอัตราส่วนคะแนน!$U$4/100,\"ผ\",\"มผ\")))","v":""},null,null,"",{"$f":"IF(EX25=\"\",\"\",IF(EZ25=\"ร\",\"มผ\",IF(EZ25>=$EX$5*กำหนดอัตราส่วนคะแนน!$U$4/100,\"ผ\",\"มผ\")))","v":""},null,null,"",{"$f":"IF(FB25=\"\",\"\",IF(FD25=\"ร\",\"มผ\",IF(FD25>=$FB$5*กำหนดอัตราส่วนคะแนน!$U$4/100,\"ผ\",\"มผ\")))","v":""},null,null,"",{"$f":"IF(FF25=\"\",\"\",IF(FH25=\"ร\",\"มผ\",IF(FH25>=$FF$5*กำหนดอัตราส่วนคะแนน!$U$4/100,\"ผ\",\"มผ\")))","v":""},{"$f":"IF(Sheet1!#REF!=\"\",\"\",IF(COUNTIF(F25:FI25,\"ร\"),\"ร\",IF(FW25=\"ปกติ\",SUM(H25,L25,P25,T25,X25,AB25,AF25,AJ25,AN25,AR25,AV25,AZ25,BD25,BH25,BL25,BP25,BT25,BX25,CB25,CF25,CJ25,CN25,CR25,CV25,CZ25,DD25,DH25,DL25,DP25,DT25,DX25,EB25,EF25,EJ25,EN25,ER25,EV25,EZ25,FD25,FH25),\"-\")))","v":{"$error":"#REF!"}},null,{"$error":"#REF!"},null,null,{"$error":"#REF!"},null,null,null,"",null,{"$f":"IF(COUNTIF(Sheet1!#REF!:Sheet1!#REF!,\"\"),\"\",IF(COUNTIF(FJ25:FS25,\"ร\"),\"ร\",IF(COUNTIF(FL25:FS25,\"-\"),\"-\",IF(FW25=\"ปกติ\",SUM(FO25,FS25)))))","v":{"$error":"#REF!"}},null,{"$f":"เวลาเรียน!DZ27","v":0}]
[20,2516,{"$f":"CONCATENATE(Sheet1!B21)","v":"14126"},{"$f":"CONCATENATE(Sheet1!D21&Sheet1!#REF!&\"       \"&Sheet1!#REF!)","v":{"$error":"#REF!"}},20,null,null,"",{"$f":"IF(F26=\"\",\"\",IF(H26=\"ร\",\"มผ\",IF(H26>=$F$5*กำหนดอัตราส่วนคะแนน!$U$4/100,\"ผ\",\"มผ\")))","v":""},null,null,"",{"$f":"IF(J26=\"\",\"\",IF(L26=\"ร\",\"มผ\",IF(L26>=$J$5*กำหนดอัตราส่วนคะแนน!$U$4/100,\"ผ\",\"มผ\")))","v":""},null,null,"",{"$f":"IF(N26=\"\",\"\",IF(P26=\"ร\",\"มผ\",IF(P26>=$N$5*กำหนดอัตราส่วนคะแนน!$U$4/100,\"ผ\",\"มผ\")))","v":""},null,null,"",{"$f":"IF(R26=\"\",\"\",IF(T26=\"ร\",\"มผ\",IF(T26>=$R$5*กำหนดอัตราส่วนคะแนน!$U$4/100,\"ผ\",\"มผ\")))","v":""},null,null,"",{"$f":"IF(V26=\"\",\"\",IF(X26=\"ร\",\"มผ\",IF(X26>=$V$5*กำหนดอัตราส่วนคะแนน!$U$4/100,\"ผ\",\"มผ\")))","v":""},null,null,"",{"$f":"IF(Z26=\"\",\"\",IF(AB26=\"ร\",\"มผ\",IF(AB26>=$Z$5*กำหนดอัตราส่วนคะแนน!$U$4/100,\"ผ\",\"มผ\")))","v":""},null,null,"",{"$f":"IF(AD26=\"\",\"\",IF(AF26=\"ร\",\"มผ\",IF(AF26>=$AD$5*กำหนดอัตราส่วนคะแนน!$U$4/100,\"ผ\",\"มผ\")))","v":""},null,null,"",{"$f":"IF(AH26=\"\",\"\",IF(AJ26=\"ร\",\"มผ\",IF(AJ26>=$AH$5*กำหนดอัตราส่วนคะแนน!$U$4/100,\"ผ\",\"มผ\")))","v":""},null,null,"",{"$f":"IF(AL26=\"\",\"\",IF(AN26=\"ร\",\"มผ\",IF(AN26>=$AL$5*กำหนดอัตราส่วนคะแนน!$U$4/100,\"ผ\",\"มผ\")))","v":""},null,null,"",{"$f":"IF(AP26=\"\",\"\",IF(AR26=\"ร\",\"มผ\",IF(AR26>=$AP$5*กำหนดอัตราส่วนคะแนน!$U$4/100,\"ผ\",\"มผ\")))","v":""},null,null,"",{"$f":"IF(AT26=\"\",\"\",IF(AV26=\"ร\",\"มผ\",IF(AV26>=$AT$5*กำหนดอัตราส่วนคะแนน!$U$4/100,\"ผ\",\"มผ\")))","v":""},null,null,"",{"$f":"IF(AX26=\"\",\"\",IF(AZ26=\"ร\",\"มผ\",IF(AZ26>=$AX$5*กำหนดอัตราส่วนคะแนน!$U$4/100,\"ผ\",\"มผ\")))","v":""},null,null,"",{"$f":"IF(BB26=\"\",\"\",IF(BD26=\"ร\",\"มผ\",IF(BD26>=$BB$5*กำหนดอัตราส่วนคะแนน!$U$4/100,\"ผ\",\"มผ\")))","v":""},null,null,"",{"$f":"IF(BF26=\"\",\"\",IF(BH26=\"ร\",\"มผ\",IF(BH26>=$BJ$5*กำหนดอัตราส่วนคะแนน!$U$4/100,\"ผ\",\"มผ\")))","v":""},null,null,"",{"$f":"IF(BJ26=\"\",\"\",IF(BL26=\"ร\",\"มผ\",IF(BL26>=$BJ$5*กำหนดอัตราส่วนคะแนน!$U$4/100,\"ผ\",\"มผ\")))","v":""},null,null,"",{"$f":"IF(BN26=\"\",\"\",IF(BP26=\"ร\",\"มผ\",IF(BP26>=$BN$5*กำหนดอัตราส่วนคะแนน!$U$4/100,\"ผ\",\"มผ\")))","v":""},null,null,"",{"$f":"IF(BR26=\"\",\"\",IF(BT26=\"ร\",\"มผ\",IF(BT26>=$BR$5*กำหนดอัตราส่วนคะแนน!$U$4/100,\"ผ\",\"มผ\")))","v":""},null,null,"",{"$f":"IF(BV26=\"\",\"\",IF(BX26=\"ร\",\"มผ\",IF(BX26>=$BV$5*กำหนดอัตราส่วนคะแนน!$U$4/100,\"ผ\",\"มผ\")))","v":""},null,null,"",{"$f":"IF(BZ26=\"\",\"\",IF(CB26=\"ร\",\"มผ\",IF(CB26>=$BZ$5*กำหนดอัตราส่วนคะแนน!$U$4/100,\"ผ\",\"มผ\")))","v":""},null,null,"",{"$f":"IF(CD26=\"\",\"\",IF(CF26=\"ร\",\"มผ\",IF(CF26>=$CD$5*กำหนดอัตราส่วนคะแนน!$U$4/100,\"ผ\",\"มผ\")))","v":""},null,null,"",{"$f":"IF(CH26=\"\",\"\",IF(CJ26=\"ร\",\"มผ\",IF(CJ26>=$CH$5*กำหนดอัตราส่วนคะแนน!$U$4/100,\"ผ\",\"มผ\")))","v":""},null,null,"",{"$f":"IF(CL26=\"\",\"\",IF(CN26=\"ร\",\"มผ\",IF(CN26>=$CL$5*กำหนดอัตราส่วนคะแนน!$U$4/100,\"ผ\",\"มผ\")))","v":""},null,null,"",{"$f":"IF(CP26=\"\",\"\",IF(CR26=\"ร\",\"มผ\",IF(CR26>=$CP$5*กำหนดอัตราส่วนคะแนน!$U$4/100,\"ผ\",\"มผ\")))","v":""},null,null,"",{"$f":"IF(CT26=\"\",\"\",IF(CV26=\"ร\",\"มผ\",IF(CV26>=$CT$5*กำหนดอัตราส่วนคะแนน!$U$4/100,\"ผ\",\"มผ\")))","v":""},null,null,"",{"$f":"IF(CX26=\"\",\"\",IF(CZ26=\"ร\",\"มผ\",IF(CZ26>=$CX$5*กำหนดอัตราส่วนคะแนน!$U$4/100,\"ผ\",\"มผ\")))","v":""},null,null,"",{"$f":"IF(DB26=\"\",\"\",IF(DD26=\"ร\",\"มผ\",IF(DD26>=$DB$5*กำหนดอัตราส่วนคะแนน!$U$4/100,\"ผ\",\"มผ\")))","v":""},null,null,"",{"$f":"IF(DF26=\"\",\"\",IF(DH26=\"ร\",\"มผ\",IF(DH26>=$DF$5*กำหนดอัตราส่วนคะแนน!$U$4/100,\"ผ\",\"มผ\")))","v":""},null,null,"",{"$f":"IF(DJ26=\"\",\"\",IF(DL26=\"ร\",\"มผ\",IF(DL26>=$DJ$5*กำหนดอัตราส่วนคะแนน!$U$4/100,\"ผ\",\"มผ\")))","v":""},null,null,"",{"$f":"IF(DN26=\"\",\"\",IF(DP26=\"ร\",\"มผ\",IF(DP26>=$DN$5*กำหนดอัตราส่วนคะแนน!$U$4/100,\"ผ\",\"มผ\")))","v":""},null,null,"",{"$f":"IF(DR26=\"\",\"\",IF(DT26=\"ร\",\"มผ\",IF(DT26>=$DR$5*กำหนดอัตราส่วนคะแนน!$U$4/100,\"ผ\",\"มผ\")))","v":""},null,null,"",{"$f":"IF(DV26=\"\",\"\",IF(DX26=\"ร\",\"มผ\",IF(DX26>=$DV$5*กำหนดอัตราส่วนคะแนน!$U$4/100,\"ผ\",\"มผ\")))","v":""},null,null,"",{"$f":"IF(DZ26=\"\",\"\",IF(EB26=\"ร\",\"มผ\",IF(EB26>=$DZ$5*กำหนดอัตราส่วนคะแนน!$U$4/100,\"ผ\",\"มผ\")))","v":""},null,null,"",{"$f":"IF(ED26=\"\",\"\",IF(EF26=\"ร\",\"มผ\",IF(EF26>=$ED$5*กำหนดอัตราส่วนคะแนน!$U$4/100,\"ผ\",\"มผ\")))","v":""},null,null,"",{"$f":"IF(EH26=\"\",\"\",IF(EJ26=\"ร\",\"มผ\",IF(EJ26>=$EH$5*กำหนดอัตราส่วนคะแนน!$U$4/100,\"ผ\",\"มผ\")))","v":""},null,null,"",{"$f":"IF(EL26=\"\",\"\",IF(EN26=\"ร\",\"มผ\",IF(EN96>=$EL$5*กำหนดอัตราส่วนคะแนน!$U$4/100,\"ผ\",\"มผ\")))","v":""},null,null,"",{"$f":"IF(EP26=\"\",\"\",IF(ER26=\"ร\",\"มผ\",IF(ER26>=$EP$5*กำหนดอัตราส่วนคะแนน!$U$4/100,\"ผ\",\"มผ\")))","v":""},null,null,"",{"$f":"IF(ET26=\"\",\"\",IF(EV26=\"ร\",\"มผ\",IF(EV26>=$ET$5*กำหนดอัตราส่วนคะแนน!$U$4/100,\"ผ\",\"มผ\")))","v":""},null,null,"",{"$f":"IF(EX26=\"\",\"\",IF(EZ26=\"ร\",\"มผ\",IF(EZ26>=$EX$5*กำหนดอัตราส่วนคะแนน!$U$4/100,\"ผ\",\"มผ\")))","v":""},null,null,"",{"$f":"IF(FB26=\"\",\"\",IF(FD26=\"ร\",\"มผ\",IF(FD26>=$FB$5*กำหนดอัตราส่วนคะแนน!$U$4/100,\"ผ\",\"มผ\")))","v":""},null,null,"",{"$f":"IF(FF26=\"\",\"\",IF(FH26=\"ร\",\"มผ\",IF(FH26>=$FF$5*กำหนดอัตราส่วนคะแนน!$U$4/100,\"ผ\",\"มผ\")))","v":""},{"$f":"IF(Sheet1!#REF!=\"\",\"\",IF(COUNTIF(F26:FI26,\"ร\"),\"ร\",IF(FW26=\"ปกติ\",SUM(H26,L26,P26,T26,X26,AB26,AF26,AJ26,AN26,AR26,AV26,AZ26,BD26,BH26,BL26,BP26,BT26,BX26,CB26,CF26,CJ26,CN26,CR26,CV26,CZ26,DD26,DH26,DL26,DP26,DT26,DX26,EB26,EF26,EJ26,EN26,ER26,EV26,EZ26,FD26,FH26),\"-\")))","v":{"$error":"#REF!"}},null,{"$error":"#REF!"},null,null,{"$error":"#REF!"},null,null,null,"",null,{"$f":"IF(COUNTIF(Sheet1!#REF!:Sheet1!#REF!,\"\"),\"\",IF(COUNTIF(FJ26:FS26,\"ร\"),\"ร\",IF(COUNTIF(FL26:FS26,\"-\"),\"-\",IF(FW26=\"ปกติ\",SUM(FO26,FS26)))))","v":{"$error":"#REF!"}},null,{"$f":"เวลาเรียน!DZ28","v":0}]
[21,2517,{"$f":"CONCATENATE(Sheet1!B22)","v":"14127"},{"$f":"CONCATENATE(Sheet1!D22&Sheet1!#REF!&\"       \"&Sheet1!#REF!)","v":{"$error":"#REF!"}},21,null,null,"",{"$f":"IF(F27=\"\",\"\",IF(H27=\"ร\",\"มผ\",IF(H27>=$F$5*กำหนดอัตราส่วนคะแนน!$U$4/100,\"ผ\",\"มผ\")))","v":""},null,null,"",{"$f":"IF(J27=\"\",\"\",IF(L27=\"ร\",\"มผ\",IF(L27>=$J$5*กำหนดอัตราส่วนคะแนน!$U$4/100,\"ผ\",\"มผ\")))","v":""},null,null,"",{"$f":"IF(N27=\"\",\"\",IF(P27=\"ร\",\"มผ\",IF(P27>=$N$5*กำหนดอัตราส่วนคะแนน!$U$4/100,\"ผ\",\"มผ\")))","v":""},null,null,"",{"$f":"IF(R27=\"\",\"\",IF(T27=\"ร\",\"มผ\",IF(T27>=$R$5*กำหนดอัตราส่วนคะแนน!$U$4/100,\"ผ\",\"มผ\")))","v":""},null,null,"",{"$f":"IF(V27=\"\",\"\",IF(X27=\"ร\",\"มผ\",IF(X27>=$V$5*กำหนดอัตราส่วนคะแนน!$U$4/100,\"ผ\",\"มผ\")))","v":""},null,null,"",{"$f":"IF(Z27=\"\",\"\",IF(AB27=\"ร\",\"มผ\",IF(AB27>=$Z$5*กำหนดอัตราส่วนคะแนน!$U$4/100,\"ผ\",\"มผ\")))","v":""},null,null,"",{"$f":"IF(AD27=\"\",\"\",IF(AF27=\"ร\",\"มผ\",IF(AF27>=$AD$5*กำหนดอัตราส่วนคะแนน!$U$4/100,\"ผ\",\"มผ\")))","v":""},null,null,"",{"$f":"IF(AH27=\"\",\"\",IF(AJ27=\"ร\",\"มผ\",IF(AJ27>=$AH$5*กำหนดอัตราส่วนคะแนน!$U$4/100,\"ผ\",\"มผ\")))","v":""},null,null,"",{"$f":"IF(AL27=\"\",\"\",IF(AN27=\"ร\",\"มผ\",IF(AN27>=$AL$5*กำหนดอัตราส่วนคะแนน!$U$4/100,\"ผ\",\"มผ\")))","v":""},null,null,"",{"$f":"IF(AP27=\"\",\"\",IF(AR27=\"ร\",\"มผ\",IF(AR27>=$AP$5*กำหนดอัตราส่วนคะแนน!$U$4/100,\"ผ\",\"มผ\")))","v":""},null,null,"",{"$f":"IF(AT27=\"\",\"\",IF(AV27=\"ร\",\"มผ\",IF(AV27>=$AT$5*กำหนดอัตราส่วนคะแนน!$U$4/100,\"ผ\",\"มผ\")))","v":""},null,null,"",{"$f":"IF(AX27=\"\",\"\",IF(AZ27=\"ร\",\"มผ\",IF(AZ27>=$AX$5*กำหนดอัตราส่วนคะแนน!$U$4/100,\"ผ\",\"มผ\")))","v":""},null,null,"",{"$f":"IF(BB27=\"\",\"\",IF(BD27=\"ร\",\"มผ\",IF(BD27>=$BB$5*กำหนดอัตราส่วนคะแนน!$U$4/100,\"ผ\",\"มผ\")))","v":""},null,null,"",{"$f":"IF(BF27=\"\",\"\",IF(BH27=\"ร\",\"มผ\",IF(BH27>=$BJ$5*กำหนดอัตราส่วนคะแนน!$U$4/100,\"ผ\",\"มผ\")))","v":""},null,null,"",{"$f":"IF(BJ27=\"\",\"\",IF(BL27=\"ร\",\"มผ\",IF(BL27>=$BJ$5*กำหนดอัตราส่วนคะแนน!$U$4/100,\"ผ\",\"มผ\")))","v":""},null,null,"",{"$f":"IF(BN27=\"\",\"\",IF(BP27=\"ร\",\"มผ\",IF(BP27>=$BN$5*กำหนดอัตราส่วนคะแนน!$U$4/100,\"ผ\",\"มผ\")))","v":""},null,null,"",{"$f":"IF(BR27=\"\",\"\",IF(BT27=\"ร\",\"มผ\",IF(BT27>=$BR$5*กำหนดอัตราส่วนคะแนน!$U$4/100,\"ผ\",\"มผ\")))","v":""},null,null,"",{"$f":"IF(BV27=\"\",\"\",IF(BX27=\"ร\",\"มผ\",IF(BX27>=$BV$5*กำหนดอัตราส่วนคะแนน!$U$4/100,\"ผ\",\"มผ\")))","v":""},null,null,"",{"$f":"IF(BZ27=\"\",\"\",IF(CB27=\"ร\",\"มผ\",IF(CB27>=$BZ$5*กำหนดอัตราส่วนคะแนน!$U$4/100,\"ผ\",\"มผ\")))","v":""},null,null,"",{"$f":"IF(CD27=\"\",\"\",IF(CF27=\"ร\",\"มผ\",IF(CF27>=$CD$5*กำหนดอัตราส่วนคะแนน!$U$4/100,\"ผ\",\"มผ\")))","v":""},null,null,"",{"$f":"IF(CH27=\"\",\"\",IF(CJ27=\"ร\",\"มผ\",IF(CJ27>=$CH$5*กำหนดอัตราส่วนคะแนน!$U$4/100,\"ผ\",\"มผ\")))","v":""},null,null,"",{"$f":"IF(CL27=\"\",\"\",IF(CN27=\"ร\",\"มผ\",IF(CN27>=$CL$5*กำหนดอัตราส่วนคะแนน!$U$4/100,\"ผ\",\"มผ\")))","v":""},null,null,"",{"$f":"IF(CP27=\"\",\"\",IF(CR27=\"ร\",\"มผ\",IF(CR27>=$CP$5*กำหนดอัตราส่วนคะแนน!$U$4/100,\"ผ\",\"มผ\")))","v":""},null,null,"",{"$f":"IF(CT27=\"\",\"\",IF(CV27=\"ร\",\"มผ\",IF(CV27>=$CT$5*กำหนดอัตราส่วนคะแนน!$U$4/100,\"ผ\",\"มผ\")))","v":""},null,null,"",{"$f":"IF(CX27=\"\",\"\",IF(CZ27=\"ร\",\"มผ\",IF(CZ27>=$CX$5*กำหนดอัตราส่วนคะแนน!$U$4/100,\"ผ\",\"มผ\")))","v":""},null,null,"",{"$f":"IF(DB27=\"\",\"\",IF(DD27=\"ร\",\"มผ\",IF(DD27>=$DB$5*กำหนดอัตราส่วนคะแนน!$U$4/100,\"ผ\",\"มผ\")))","v":""},null,null,"",{"$f":"IF(DF27=\"\",\"\",IF(DH27=\"ร\",\"มผ\",IF(DH27>=$DF$5*กำหนดอัตราส่วนคะแนน!$U$4/100,\"ผ\",\"มผ\")))","v":""},null,null,"",{"$f":"IF(DJ27=\"\",\"\",IF(DL27=\"ร\",\"มผ\",IF(DL27>=$DJ$5*กำหนดอัตราส่วนคะแนน!$U$4/100,\"ผ\",\"มผ\")))","v":""},null,null,"",{"$f":"IF(DN27=\"\",\"\",IF(DP27=\"ร\",\"มผ\",IF(DP27>=$DN$5*กำหนดอัตราส่วนคะแนน!$U$4/100,\"ผ\",\"มผ\")))","v":""},null,null,"",{"$f":"IF(DR27=\"\",\"\",IF(DT27=\"ร\",\"มผ\",IF(DT27>=$DR$5*กำหนดอัตราส่วนคะแนน!$U$4/100,\"ผ\",\"มผ\")))","v":""},null,null,"",{"$f":"IF(DV27=\"\",\"\",IF(DX27=\"ร\",\"มผ\",IF(DX27>=$DV$5*กำหนดอัตราส่วนคะแนน!$U$4/100,\"ผ\",\"มผ\")))","v":""},null,null,"",{"$f":"IF(DZ27=\"\",\"\",IF(EB27=\"ร\",\"มผ\",IF(EB27>=$DZ$5*กำหนดอัตราส่วนคะแนน!$U$4/100,\"ผ\",\"มผ\")))","v":""},null,null,"",{"$f":"IF(ED27=\"\",\"\",IF(EF27=\"ร\",\"มผ\",IF(EF27>=$ED$5*กำหนดอัตราส่วนคะแนน!$U$4/100,\"ผ\",\"มผ\")))","v":""},null,null,"",{"$f":"IF(EH27=\"\",\"\",IF(EJ27=\"ร\",\"มผ\",IF(EJ27>=$EH$5*กำหนดอัตราส่วนคะแนน!$U$4/100,\"ผ\",\"มผ\")))","v":""},null,null,"",{"$f":"IF(EL27=\"\",\"\",IF(EN27=\"ร\",\"มผ\",IF(EN97>=$EL$5*กำหนดอัตราส่วนคะแนน!$U$4/100,\"ผ\",\"มผ\")))","v":""},null,null,"",{"$f":"IF(EP27=\"\",\"\",IF(ER27=\"ร\",\"มผ\",IF(ER27>=$EP$5*กำหนดอัตราส่วนคะแนน!$U$4/100,\"ผ\",\"มผ\")))","v":""},null,null,"",{"$f":"IF(ET27=\"\",\"\",IF(EV27=\"ร\",\"มผ\",IF(EV27>=$ET$5*กำหนดอัตราส่วนคะแนน!$U$4/100,\"ผ\",\"มผ\")))","v":""},null,null,"",{"$f":"IF(EX27=\"\",\"\",IF(EZ27=\"ร\",\"มผ\",IF(EZ27>=$EX$5*กำหนดอัตราส่วนคะแนน!$U$4/100,\"ผ\",\"มผ\")))","v":""},null,null,"",{"$f":"IF(FB27=\"\",\"\",IF(FD27=\"ร\",\"มผ\",IF(FD27>=$FB$5*กำหนดอัตราส่วนคะแนน!$U$4/100,\"ผ\",\"มผ\")))","v":""},null,null,"",{"$f":"IF(FF27=\"\",\"\",IF(FH27=\"ร\",\"มผ\",IF(FH27>=$FF$5*กำหนดอัตราส่วนคะแนน!$U$4/100,\"ผ\",\"มผ\")))","v":""},{"$f":"IF(Sheet1!#REF!=\"\",\"\",IF(COUNTIF(F27:FI27,\"ร\"),\"ร\",IF(FW27=\"ปกติ\",SUM(H27,L27,P27,T27,X27,AB27,AF27,AJ27,AN27,AR27,AV27,AZ27,BD27,BH27,BL27,BP27,BT27,BX27,CB27,CF27,CJ27,CN27,CR27,CV27,CZ27,DD27,DH27,DL27,DP27,DT27,DX27,EB27,EF27,EJ27,EN27,ER27,EV27,EZ27,FD27,FH27),\"-\")))","v":{"$error":"#REF!"}},null,{"$error":"#REF!"},null,null,{"$error":"#REF!"},null,null,null,"",null,{"$f":"IF(COUNTIF(Sheet1!#REF!:Sheet1!#REF!,\"\"),\"\",IF(COUNTIF(FJ27:FS27,\"ร\"),\"ร\",IF(COUNTIF(FL27:FS27,\"-\"),\"-\",IF(FW27=\"ปกติ\",SUM(FO27,FS27)))))","v":{"$error":"#REF!"}},null,{"$f":"เวลาเรียน!DZ29","v":0}]
[22,2518,{"$f":"CONCATENATE(Sheet1!B23)","v":"14142"},{"$f":"CONCATENATE(Sheet1!D23&Sheet1!#REF!&\"       \"&Sheet1!#REF!)","v":{"$error":"#REF!"}},22,null,null,"",{"$f":"IF(F28=\"\",\"\",IF(H28=\"ร\",\"มผ\",IF(H28>=$F$5*กำหนดอัตราส่วนคะแนน!$U$4/100,\"ผ\",\"มผ\")))","v":""},null,null,"",{"$f":"IF(J28=\"\",\"\",IF(L28=\"ร\",\"มผ\",IF(L28>=$J$5*กำหนดอัตราส่วนคะแนน!$U$4/100,\"ผ\",\"มผ\")))","v":""},null,null,"",{"$f":"IF(N28=\"\",\"\",IF(P28=\"ร\",\"มผ\",IF(P28>=$N$5*กำหนดอัตราส่วนคะแนน!$U$4/100,\"ผ\",\"มผ\")))","v":""},null,null,"",{"$f":"IF(R28=\"\",\"\",IF(T28=\"ร\",\"มผ\",IF(T28>=$R$5*กำหนดอัตราส่วนคะแนน!$U$4/100,\"ผ\",\"มผ\")))","v":""},null,null,"",{"$f":"IF(V28=\"\",\"\",IF(X28=\"ร\",\"มผ\",IF(X28>=$V$5*กำหนดอัตราส่วนคะแนน!$U$4/100,\"ผ\",\"มผ\")))","v":""},null,null,"",{"$f":"IF(Z28=\"\",\"\",IF(AB28=\"ร\",\"มผ\",IF(AB28>=$Z$5*กำหนดอัตราส่วนคะแนน!$U$4/100,\"ผ\",\"มผ\")))","v":""},null,null,"",{"$f":"IF(AD28=\"\",\"\",IF(AF28=\"ร\",\"มผ\",IF(AF28>=$AD$5*กำหนดอัตราส่วนคะแนน!$U$4/100,\"ผ\",\"มผ\")))","v":""},null,null,"",{"$f":"IF(AH28=\"\",\"\",IF(AJ28=\"ร\",\"มผ\",IF(AJ28>=$AH$5*กำหนดอัตราส่วนคะแนน!$U$4/100,\"ผ\",\"มผ\")))","v":""},null,null,"",{"$f":"IF(AL28=\"\",\"\",IF(AN28=\"ร\",\"มผ\",IF(AN28>=$AL$5*กำหนดอัตราส่วนคะแนน!$U$4/100,\"ผ\",\"มผ\")))","v":""},null,null,"",{"$f":"IF(AP28=\"\",\"\",IF(AR28=\"ร\",\"มผ\",IF(AR28>=$AP$5*กำหนดอัตราส่วนคะแนน!$U$4/100,\"ผ\",\"มผ\")))","v":""},null,null,"",{"$f":"IF(AT28=\"\",\"\",IF(AV28=\"ร\",\"มผ\",IF(AV28>=$AT$5*กำหนดอัตราส่วนคะแนน!$U$4/100,\"ผ\",\"มผ\")))","v":""},null,null,"",{"$f":"IF(AX28=\"\",\"\",IF(AZ28=\"ร\",\"มผ\",IF(AZ28>=$AX$5*กำหนดอัตราส่วนคะแนน!$U$4/100,\"ผ\",\"มผ\")))","v":""},null,null,"",{"$f":"IF(BB28=\"\",\"\",IF(BD28=\"ร\",\"มผ\",IF(BD28>=$BB$5*กำหนดอัตราส่วนคะแนน!$U$4/100,\"ผ\",\"มผ\")))","v":""},null,null,"",{"$f":"IF(BF28=\"\",\"\",IF(BH28=\"ร\",\"มผ\",IF(BH28>=$BJ$5*กำหนดอัตราส่วนคะแนน!$U$4/100,\"ผ\",\"มผ\")))","v":""},null,null,"",{"$f":"IF(BJ28=\"\",\"\",IF(BL28=\"ร\",\"มผ\",IF(BL28>=$BJ$5*กำหนดอัตราส่วนคะแนน!$U$4/100,\"ผ\",\"มผ\")))","v":""},null,null,"",{"$f":"IF(BN28=\"\",\"\",IF(BP28=\"ร\",\"มผ\",IF(BP28>=$BN$5*กำหนดอัตราส่วนคะแนน!$U$4/100,\"ผ\",\"มผ\")))","v":""},null,null,"",{"$f":"IF(BR28=\"\",\"\",IF(BT28=\"ร\",\"มผ\",IF(BT28>=$BR$5*กำหนดอัตราส่วนคะแนน!$U$4/100,\"ผ\",\"มผ\")))","v":""},null,null,"",{"$f":"IF(BV28=\"\",\"\",IF(BX28=\"ร\",\"มผ\",IF(BX28>=$BV$5*กำหนดอัตราส่วนคะแนน!$U$4/100,\"ผ\",\"มผ\")))","v":""},null,null,"",{"$f":"IF(BZ28=\"\",\"\",IF(CB28=\"ร\",\"มผ\",IF(CB28>=$BZ$5*กำหนดอัตราส่วนคะแนน!$U$4/100,\"ผ\",\"มผ\")))","v":""},null,null,"",{"$f":"IF(CD28=\"\",\"\",IF(CF28=\"ร\",\"มผ\",IF(CF28>=$CD$5*กำหนดอัตราส่วนคะแนน!$U$4/100,\"ผ\",\"มผ\")))","v":""},null,null,"",{"$f":"IF(CH28=\"\",\"\",IF(CJ28=\"ร\",\"มผ\",IF(CJ28>=$CH$5*กำหนดอัตราส่วนคะแนน!$U$4/100,\"ผ\",\"มผ\")))","v":""},null,null,"",{"$f":"IF(CL28=\"\",\"\",IF(CN28=\"ร\",\"มผ\",IF(CN28>=$CL$5*กำหนดอัตราส่วนคะแนน!$U$4/100,\"ผ\",\"มผ\")))","v":""},null,null,"",{"$f":"IF(CP28=\"\",\"\",IF(CR28=\"ร\",\"มผ\",IF(CR28>=$CP$5*กำหนดอัตราส่วนคะแนน!$U$4/100,\"ผ\",\"มผ\")))","v":""},null,null,"",{"$f":"IF(CT28=\"\",\"\",IF(CV28=\"ร\",\"มผ\",IF(CV28>=$CT$5*กำหนดอัตราส่วนคะแนน!$U$4/100,\"ผ\",\"มผ\")))","v":""},null,null,"",{"$f":"IF(CX28=\"\",\"\",IF(CZ28=\"ร\",\"มผ\",IF(CZ28>=$CX$5*กำหนดอัตราส่วนคะแนน!$U$4/100,\"ผ\",\"มผ\")))","v":""},null,null,"",{"$f":"IF(DB28=\"\",\"\",IF(DD28=\"ร\",\"มผ\",IF(DD28>=$DB$5*กำหนดอัตราส่วนคะแนน!$U$4/100,\"ผ\",\"มผ\")))","v":""},null,null,"",{"$f":"IF(DF28=\"\",\"\",IF(DH28=\"ร\",\"มผ\",IF(DH28>=$DF$5*กำหนดอัตราส่วนคะแนน!$U$4/100,\"ผ\",\"มผ\")))","v":""},null,null,"",{"$f":"IF(DJ28=\"\",\"\",IF(DL28=\"ร\",\"มผ\",IF(DL28>=$DJ$5*กำหนดอัตราส่วนคะแนน!$U$4/100,\"ผ\",\"มผ\")))","v":""},null,null,"",{"$f":"IF(DN28=\"\",\"\",IF(DP28=\"ร\",\"มผ\",IF(DP28>=$DN$5*กำหนดอัตราส่วนคะแนน!$U$4/100,\"ผ\",\"มผ\")))","v":""},null,null,"",{"$f":"IF(DR28=\"\",\"\",IF(DT28=\"ร\",\"มผ\",IF(DT28>=$DR$5*กำหนดอัตราส่วนคะแนน!$U$4/100,\"ผ\",\"มผ\")))","v":""},null,null,"",{"$f":"IF(DV28=\"\",\"\",IF(DX28=\"ร\",\"มผ\",IF(DX28>=$DV$5*กำหนดอัตราส่วนคะแนน!$U$4/100,\"ผ\",\"มผ\")))","v":""},null,null,"",{"$f":"IF(DZ28=\"\",\"\",IF(EB28=\"ร\",\"มผ\",IF(EB28>=$DZ$5*กำหนดอัตราส่วนคะแนน!$U$4/100,\"ผ\",\"มผ\")))","v":""},null,null,"",{"$f":"IF(ED28=\"\",\"\",IF(EF28=\"ร\",\"มผ\",IF(EF28>=$ED$5*กำหนดอัตราส่วนคะแนน!$U$4/100,\"ผ\",\"มผ\")))","v":""},null,null,"",{"$f":"IF(EH28=\"\",\"\",IF(EJ28=\"ร\",\"มผ\",IF(EJ28>=$EH$5*กำหนดอัตราส่วนคะแนน!$U$4/100,\"ผ\",\"มผ\")))","v":""},null,null,"",{"$f":"IF(EL28=\"\",\"\",IF(EN28=\"ร\",\"มผ\",IF(EN98>=$EL$5*กำหนดอัตราส่วนคะแนน!$U$4/100,\"ผ\",\"มผ\")))","v":""},null,null,"",{"$f":"IF(EP28=\"\",\"\",IF(ER28=\"ร\",\"มผ\",IF(ER28>=$EP$5*กำหนดอัตราส่วนคะแนน!$U$4/100,\"ผ\",\"มผ\")))","v":""},null,null,"",{"$f":"IF(ET28=\"\",\"\",IF(EV28=\"ร\",\"มผ\",IF(EV28>=$ET$5*กำหนดอัตราส่วนคะแนน!$U$4/100,\"ผ\",\"มผ\")))","v":""},null,null,"",{"$f":"IF(EX28=\"\",\"\",IF(EZ28=\"ร\",\"มผ\",IF(EZ28>=$EX$5*กำหนดอัตราส่วนคะแนน!$U$4/100,\"ผ\",\"มผ\")))","v":""},null,null,"",{"$f":"IF(FB28=\"\",\"\",IF(FD28=\"ร\",\"มผ\",IF(FD28>=$FB$5*กำหนดอัตราส่วนคะแนน!$U$4/100,\"ผ\",\"มผ\")))","v":""},null,null,"",{"$f":"IF(FF28=\"\",\"\",IF(FH28=\"ร\",\"มผ\",IF(FH28>=$FF$5*กำหนดอัตราส่วนคะแนน!$U$4/100,\"ผ\",\"มผ\")))","v":""},{"$f":"IF(Sheet1!#REF!=\"\",\"\",IF(COUNTIF(F28:FI28,\"ร\"),\"ร\",IF(FW28=\"ปกติ\",SUM(H28,L28,P28,T28,X28,AB28,AF28,AJ28,AN28,AR28,AV28,AZ28,BD28,BH28,BL28,BP28,BT28,BX28,CB28,CF28,CJ28,CN28,CR28,CV28,CZ28,DD28,DH28,DL28,DP28,DT28,DX28,EB28,EF28,EJ28,EN28,ER28,EV28,EZ28,FD28,FH28),\"-\")))","v":{"$error":"#REF!"}},null,{"$error":"#REF!"},null,null,{"$error":"#REF!"},null,null,null,"",null,{"$f":"IF(COUNTIF(Sheet1!#REF!:Sheet1!#REF!,\"\"),\"\",IF(COUNTIF(FJ28:FS28,\"ร\"),\"ร\",IF(COUNTIF(FL28:FS28,\"-\"),\"-\",IF(FW28=\"ปกติ\",SUM(FO28,FS28)))))","v":{"$error":"#REF!"}},null,{"$f":"เวลาเรียน!DZ30","v":0}]
[23,2519,{"$f":"CONCATENATE(Sheet1!B24)","v":"14434"},{"$f":"CONCATENATE(Sheet1!D24&Sheet1!#REF!&\"       \"&Sheet1!#REF!)","v":{"$error":"#REF!"}},23,null,null,"",{"$f":"IF(F29=\"\",\"\",IF(H29=\"ร\",\"มผ\",IF(H29>=$F$5*กำหนดอัตราส่วนคะแนน!$U$4/100,\"ผ\",\"มผ\")))","v":""},null,null,"",{"$f":"IF(J29=\"\",\"\",IF(L29=\"ร\",\"มผ\",IF(L29>=$J$5*กำหนดอัตราส่วนคะแนน!$U$4/100,\"ผ\",\"มผ\")))","v":""},null,null,"",{"$f":"IF(N29=\"\",\"\",IF(P29=\"ร\",\"มผ\",IF(P29>=$N$5*กำหนดอัตราส่วนคะแนน!$U$4/100,\"ผ\",\"มผ\")))","v":""},null,null,"",{"$f":"IF(R29=\"\",\"\",IF(T29=\"ร\",\"มผ\",IF(T29>=$R$5*กำหนดอัตราส่วนคะแนน!$U$4/100,\"ผ\",\"มผ\")))","v":""},null,null,"",{"$f":"IF(V29=\"\",\"\",IF(X29=\"ร\",\"มผ\",IF(X29>=$V$5*กำหนดอัตราส่วนคะแนน!$U$4/100,\"ผ\",\"มผ\")))","v":""},null,null,"",{"$f":"IF(Z29=\"\",\"\",IF(AB29=\"ร\",\"มผ\",IF(AB29>=$Z$5*กำหนดอัตราส่วนคะแนน!$U$4/100,\"ผ\",\"มผ\")))","v":""},null,null,"",{"$f":"IF(AD29=\"\",\"\",IF(AF29=\"ร\",\"มผ\",IF(AF29>=$AD$5*กำหนดอัตราส่วนคะแนน!$U$4/100,\"ผ\",\"มผ\")))","v":""},null,null,"",{"$f":"IF(AH29=\"\",\"\",IF(AJ29=\"ร\",\"มผ\",IF(AJ29>=$AH$5*กำหนดอัตราส่วนคะแนน!$U$4/100,\"ผ\",\"มผ\")))","v":""},null,null,"",{"$f":"IF(AL29=\"\",\"\",IF(AN29=\"ร\",\"มผ\",IF(AN29>=$AL$5*กำหนดอัตราส่วนคะแนน!$U$4/100,\"ผ\",\"มผ\")))","v":""},null,null,"",{"$f":"IF(AP29=\"\",\"\",IF(AR29=\"ร\",\"มผ\",IF(AR29>=$AP$5*กำหนดอัตราส่วนคะแนน!$U$4/100,\"ผ\",\"มผ\")))","v":""},null,null,"",{"$f":"IF(AT29=\"\",\"\",IF(AV29=\"ร\",\"มผ\",IF(AV29>=$AT$5*กำหนดอัตราส่วนคะแนน!$U$4/100,\"ผ\",\"มผ\")))","v":""},null,null,"",{"$f":"IF(AX29=\"\",\"\",IF(AZ29=\"ร\",\"มผ\",IF(AZ29>=$AX$5*กำหนดอัตราส่วนคะแนน!$U$4/100,\"ผ\",\"มผ\")))","v":""},null,null,"",{"$f":"IF(BB29=\"\",\"\",IF(BD29=\"ร\",\"มผ\",IF(BD29>=$BB$5*กำหนดอัตราส่วนคะแนน!$U$4/100,\"ผ\",\"มผ\")))","v":""},null,null,"",{"$f":"IF(BF29=\"\",\"\",IF(BH29=\"ร\",\"มผ\",IF(BH29>=$BJ$5*กำหนดอัตราส่วนคะแนน!$U$4/100,\"ผ\",\"มผ\")))","v":""},null,null,"",{"$f":"IF(BJ29=\"\",\"\",IF(BL29=\"ร\",\"มผ\",IF(BL29>=$BJ$5*กำหนดอัตราส่วนคะแนน!$U$4/100,\"ผ\",\"มผ\")))","v":""},null,null,"",{"$f":"IF(BN29=\"\",\"\",IF(BP29=\"ร\",\"มผ\",IF(BP29>=$BN$5*กำหนดอัตราส่วนคะแนน!$U$4/100,\"ผ\",\"มผ\")))","v":""},null,null,"",{"$f":"IF(BR29=\"\",\"\",IF(BT29=\"ร\",\"มผ\",IF(BT29>=$BR$5*กำหนดอัตราส่วนคะแนน!$U$4/100,\"ผ\",\"มผ\")))","v":""},null,null,"",{"$f":"IF(BV29=\"\",\"\",IF(BX29=\"ร\",\"มผ\",IF(BX29>=$BV$5*กำหนดอัตราส่วนคะแนน!$U$4/100,\"ผ\",\"มผ\")))","v":""},null,null,"",{"$f":"IF(BZ29=\"\",\"\",IF(CB29=\"ร\",\"มผ\",IF(CB29>=$BZ$5*กำหนดอัตราส่วนคะแนน!$U$4/100,\"ผ\",\"มผ\")))","v":""},null,null,"",{"$f":"IF(CD29=\"\",\"\",IF(CF29=\"ร\",\"มผ\",IF(CF29>=$CD$5*กำหนดอัตราส่วนคะแนน!$U$4/100,\"ผ\",\"มผ\")))","v":""},null,null,"",{"$f":"IF(CH29=\"\",\"\",IF(CJ29=\"ร\",\"มผ\",IF(CJ29>=$CH$5*กำหนดอัตราส่วนคะแนน!$U$4/100,\"ผ\",\"มผ\")))","v":""},null,null,"",{"$f":"IF(CL29=\"\",\"\",IF(CN29=\"ร\",\"มผ\",IF(CN29>=$CL$5*กำหนดอัตราส่วนคะแนน!$U$4/100,\"ผ\",\"มผ\")))","v":""},null,null,"",{"$f":"IF(CP29=\"\",\"\",IF(CR29=\"ร\",\"มผ\",IF(CR29>=$CP$5*กำหนดอัตราส่วนคะแนน!$U$4/100,\"ผ\",\"มผ\")))","v":""},null,null,"",{"$f":"IF(CT29=\"\",\"\",IF(CV29=\"ร\",\"มผ\",IF(CV29>=$CT$5*กำหนดอัตราส่วนคะแนน!$U$4/100,\"ผ\",\"มผ\")))","v":""},null,null,"",{"$f":"IF(CX29=\"\",\"\",IF(CZ29=\"ร\",\"มผ\",IF(CZ29>=$CX$5*กำหนดอัตราส่วนคะแนน!$U$4/100,\"ผ\",\"มผ\")))","v":""},null,null,"",{"$f":"IF(DB29=\"\",\"\",IF(DD29=\"ร\",\"มผ\",IF(DD29>=$DB$5*กำหนดอัตราส่วนคะแนน!$U$4/100,\"ผ\",\"มผ\")))","v":""},null,null,"",{"$f":"IF(DF29=\"\",\"\",IF(DH29=\"ร\",\"มผ\",IF(DH29>=$DF$5*กำหนดอัตราส่วนคะแนน!$U$4/100,\"ผ\",\"มผ\")))","v":""},null,null,"",{"$f":"IF(DJ29=\"\",\"\",IF(DL29=\"ร\",\"มผ\",IF(DL29>=$DJ$5*กำหนดอัตราส่วนคะแนน!$U$4/100,\"ผ\",\"มผ\")))","v":""},null,null,"",{"$f":"IF(DN29=\"\",\"\",IF(DP29=\"ร\",\"มผ\",IF(DP29>=$DN$5*กำหนดอัตราส่วนคะแนน!$U$4/100,\"ผ\",\"มผ\")))","v":""},null,null,"",{"$f":"IF(DR29=\"\",\"\",IF(DT29=\"ร\",\"มผ\",IF(DT29>=$DR$5*กำหนดอัตราส่วนคะแนน!$U$4/100,\"ผ\",\"มผ\")))","v":""},null,null,"",{"$f":"IF(DV29=\"\",\"\",IF(DX29=\"ร\",\"มผ\",IF(DX29>=$DV$5*กำหนดอัตราส่วนคะแนน!$U$4/100,\"ผ\",\"มผ\")))","v":""},null,null,"",{"$f":"IF(DZ29=\"\",\"\",IF(EB29=\"ร\",\"มผ\",IF(EB29>=$DZ$5*กำหนดอัตราส่วนคะแนน!$U$4/100,\"ผ\",\"มผ\")))","v":""},null,null,"",{"$f":"IF(ED29=\"\",\"\",IF(EF29=\"ร\",\"มผ\",IF(EF29>=$ED$5*กำหนดอัตราส่วนคะแนน!$U$4/100,\"ผ\",\"มผ\")))","v":""},null,null,"",{"$f":"IF(EH29=\"\",\"\",IF(EJ29=\"ร\",\"มผ\",IF(EJ29>=$EH$5*กำหนดอัตราส่วนคะแนน!$U$4/100,\"ผ\",\"มผ\")))","v":""},null,null,"",{"$f":"IF(EL29=\"\",\"\",IF(EN29=\"ร\",\"มผ\",IF(EN99>=$EL$5*กำหนดอัตราส่วนคะแนน!$U$4/100,\"ผ\",\"มผ\")))","v":""},null,null,"",{"$f":"IF(EP29=\"\",\"\",IF(ER29=\"ร\",\"มผ\",IF(ER29>=$EP$5*กำหนดอัตราส่วนคะแนน!$U$4/100,\"ผ\",\"มผ\")))","v":""},null,null,"",{"$f":"IF(ET29=\"\",\"\",IF(EV29=\"ร\",\"มผ\",IF(EV29>=$ET$5*กำหนดอัตราส่วนคะแนน!$U$4/100,\"ผ\",\"มผ\")))","v":""},null,null,"",{"$f":"IF(EX29=\"\",\"\",IF(EZ29=\"ร\",\"มผ\",IF(EZ29>=$EX$5*กำหนดอัตราส่วนคะแนน!$U$4/100,\"ผ\",\"มผ\")))","v":""},null,null,"",{"$f":"IF(FB29=\"\",\"\",IF(FD29=\"ร\",\"มผ\",IF(FD29>=$FB$5*กำหนดอัตราส่วนคะแนน!$U$4/100,\"ผ\",\"มผ\")))","v":""},null,null,"",{"$f":"IF(FF29=\"\",\"\",IF(FH29=\"ร\",\"มผ\",IF(FH29>=$FF$5*กำหนดอัตราส่วนคะแนน!$U$4/100,\"ผ\",\"มผ\")))","v":""},{"$f":"IF(Sheet1!#REF!=\"\",\"\",IF(COUNTIF(F29:FI29,\"ร\"),\"ร\",IF(FW29=\"ปกติ\",SUM(H29,L29,P29,T29,X29,AB29,AF29,AJ29,AN29,AR29,AV29,AZ29,BD29,BH29,BL29,BP29,BT29,BX29,CB29,CF29,CJ29,CN29,CR29,CV29,CZ29,DD29,DH29,DL29,DP29,DT29,DX29,EB29,EF29,EJ29,EN29,ER29,EV29,EZ29,FD29,FH29),\"-\")))","v":{"$error":"#REF!"}},null,{"$error":"#REF!"},null,null,{"$error":"#REF!"},null,null,null,"",null,{"$f":"IF(COUNTIF(Sheet1!#REF!:Sheet1!#REF!,\"\"),\"\",IF(COUNTIF(FJ29:FS29,\"ร\"),\"ร\",IF(COUNTIF(FL29:FS29,\"-\"),\"-\",IF(FW29=\"ปกติ\",SUM(FO29,FS29)))))","v":{"$error":"#REF!"}},null,{"$f":"เวลาเรียน!DZ31","v":0}]
[24,2520,{"$f":"CONCATENATE(Sheet1!B25)","v":"14445"},{"$f":"CONCATENATE(Sheet1!D25&Sheet1!#REF!&\"       \"&Sheet1!#REF!)","v":{"$error":"#REF!"}},24,null,null,"",{"$f":"IF(F30=\"\",\"\",IF(H30=\"ร\",\"มผ\",IF(H30>=$F$5*กำหนดอัตราส่วนคะแนน!$U$4/100,\"ผ\",\"มผ\")))","v":""},null,null,"",{"$f":"IF(J30=\"\",\"\",IF(L30=\"ร\",\"มผ\",IF(L30>=$J$5*กำหนดอัตราส่วนคะแนน!$U$4/100,\"ผ\",\"มผ\")))","v":""},null,null,"",{"$f":"IF(N30=\"\",\"\",IF(P30=\"ร\",\"มผ\",IF(P30>=$N$5*กำหนดอัตราส่วนคะแนน!$U$4/100,\"ผ\",\"มผ\")))","v":""},null,null,"",{"$f":"IF(R30=\"\",\"\",IF(T30=\"ร\",\"มผ\",IF(T30>=$R$5*กำหนดอัตราส่วนคะแนน!$U$4/100,\"ผ\",\"มผ\")))","v":""},null,null,"",{"$f":"IF(V30=\"\",\"\",IF(X30=\"ร\",\"มผ\",IF(X30>=$V$5*กำหนดอัตราส่วนคะแนน!$U$4/100,\"ผ\",\"มผ\")))","v":""},null,null,"",{"$f":"IF(Z30=\"\",\"\",IF(AB30=\"ร\",\"มผ\",IF(AB30>=$Z$5*กำหนดอัตราส่วนคะแนน!$U$4/100,\"ผ\",\"มผ\")))","v":""},null,null,"",{"$f":"IF(AD30=\"\",\"\",IF(AF30=\"ร\",\"มผ\",IF(AF30>=$AD$5*กำหนดอัตราส่วนคะแนน!$U$4/100,\"ผ\",\"มผ\")))","v":""},null,null,"",{"$f":"IF(AH30=\"\",\"\",IF(AJ30=\"ร\",\"มผ\",IF(AJ30>=$AH$5*กำหนดอัตราส่วนคะแนน!$U$4/100,\"ผ\",\"มผ\")))","v":""},null,null,"",{"$f":"IF(AL30=\"\",\"\",IF(AN30=\"ร\",\"มผ\",IF(AN30>=$AL$5*กำหนดอัตราส่วนคะแนน!$U$4/100,\"ผ\",\"มผ\")))","v":""},null,null,"",{"$f":"IF(AP30=\"\",\"\",IF(AR30=\"ร\",\"มผ\",IF(AR30>=$AP$5*กำหนดอัตราส่วนคะแนน!$U$4/100,\"ผ\",\"มผ\")))","v":""},null,null,"",{"$f":"IF(AT30=\"\",\"\",IF(AV30=\"ร\",\"มผ\",IF(AV30>=$AT$5*กำหนดอัตราส่วนคะแนน!$U$4/100,\"ผ\",\"มผ\")))","v":""},null,null,"",{"$f":"IF(AX30=\"\",\"\",IF(AZ30=\"ร\",\"มผ\",IF(AZ30>=$AX$5*กำหนดอัตราส่วนคะแนน!$U$4/100,\"ผ\",\"มผ\")))","v":""},null,null,"",{"$f":"IF(BB30=\"\",\"\",IF(BD30=\"ร\",\"มผ\",IF(BD30>=$BB$5*กำหนดอัตราส่วนคะแนน!$U$4/100,\"ผ\",\"มผ\")))","v":""},null,null,"",{"$f":"IF(BF30=\"\",\"\",IF(BH30=\"ร\",\"มผ\",IF(BH30>=$BJ$5*กำหนดอัตราส่วนคะแนน!$U$4/100,\"ผ\",\"มผ\")))","v":""},null,null,"",{"$f":"IF(BJ30=\"\",\"\",IF(BL30=\"ร\",\"มผ\",IF(BL30>=$BJ$5*กำหนดอัตราส่วนคะแนน!$U$4/100,\"ผ\",\"มผ\")))","v":""},null,null,"",{"$f":"IF(BN30=\"\",\"\",IF(BP30=\"ร\",\"มผ\",IF(BP30>=$BN$5*กำหนดอัตราส่วนคะแนน!$U$4/100,\"ผ\",\"มผ\")))","v":""},null,null,"",{"$f":"IF(BR30=\"\",\"\",IF(BT30=\"ร\",\"มผ\",IF(BT30>=$BR$5*กำหนดอัตราส่วนคะแนน!$U$4/100,\"ผ\",\"มผ\")))","v":""},null,null,"",{"$f":"IF(BV30=\"\",\"\",IF(BX30=\"ร\",\"มผ\",IF(BX30>=$BV$5*กำหนดอัตราส่วนคะแนน!$U$4/100,\"ผ\",\"มผ\")))","v":""},null,null,"",{"$f":"IF(BZ30=\"\",\"\",IF(CB30=\"ร\",\"มผ\",IF(CB30>=$BZ$5*กำหนดอัตราส่วนคะแนน!$U$4/100,\"ผ\",\"มผ\")))","v":""},null,null,"",{"$f":"IF(CD30=\"\",\"\",IF(CF30=\"ร\",\"มผ\",IF(CF30>=$CD$5*กำหนดอัตราส่วนคะแนน!$U$4/100,\"ผ\",\"มผ\")))","v":""},null,null,"",{"$f":"IF(CH30=\"\",\"\",IF(CJ30=\"ร\",\"มผ\",IF(CJ30>=$CH$5*กำหนดอัตราส่วนคะแนน!$U$4/100,\"ผ\",\"มผ\")))","v":""},null,null,"",{"$f":"IF(CL30=\"\",\"\",IF(CN30=\"ร\",\"มผ\",IF(CN30>=$CL$5*กำหนดอัตราส่วนคะแนน!$U$4/100,\"ผ\",\"มผ\")))","v":""},null,null,"",{"$f":"IF(CP30=\"\",\"\",IF(CR30=\"ร\",\"มผ\",IF(CR30>=$CP$5*กำหนดอัตราส่วนคะแนน!$U$4/100,\"ผ\",\"มผ\")))","v":""},null,null,"",{"$f":"IF(CT30=\"\",\"\",IF(CV30=\"ร\",\"มผ\",IF(CV30>=$CT$5*กำหนดอัตราส่วนคะแนน!$U$4/100,\"ผ\",\"มผ\")))","v":""},null,null,"",{"$f":"IF(CX30=\"\",\"\",IF(CZ30=\"ร\",\"มผ\",IF(CZ30>=$CX$5*กำหนดอัตราส่วนคะแนน!$U$4/100,\"ผ\",\"มผ\")))","v":""},null,null,"",{"$f":"IF(DB30=\"\",\"\",IF(DD30=\"ร\",\"มผ\",IF(DD30>=$DB$5*กำหนดอัตราส่วนคะแนน!$U$4/100,\"ผ\",\"มผ\")))","v":""},null,null,"",{"$f":"IF(DF30=\"\",\"\",IF(DH30=\"ร\",\"มผ\",IF(DH30>=$DF$5*กำหนดอัตราส่วนคะแนน!$U$4/100,\"ผ\",\"มผ\")))","v":""},null,null,"",{"$f":"IF(DJ30=\"\",\"\",IF(DL30=\"ร\",\"มผ\",IF(DL30>=$DJ$5*กำหนดอัตราส่วนคะแนน!$U$4/100,\"ผ\",\"มผ\")))","v":""},null,null,"",{"$f":"IF(DN30=\"\",\"\",IF(DP30=\"ร\",\"มผ\",IF(DP30>=$DN$5*กำหนดอัตราส่วนคะแนน!$U$4/100,\"ผ\",\"มผ\")))","v":""},null,null,"",{"$f":"IF(DR30=\"\",\"\",IF(DT30=\"ร\",\"มผ\",IF(DT30>=$DR$5*กำหนดอัตราส่วนคะแนน!$U$4/100,\"ผ\",\"มผ\")))","v":""},null,null,"",{"$f":"IF(DV30=\"\",\"\",IF(DX30=\"ร\",\"มผ\",IF(DX30>=$DV$5*กำหนดอัตราส่วนคะแนน!$U$4/100,\"ผ\",\"มผ\")))","v":""},null,null,"",{"$f":"IF(DZ30=\"\",\"\",IF(EB30=\"ร\",\"มผ\",IF(EB30>=$DZ$5*กำหนดอัตราส่วนคะแนน!$U$4/100,\"ผ\",\"มผ\")))","v":""},null,null,"",{"$f":"IF(ED30=\"\",\"\",IF(EF30=\"ร\",\"มผ\",IF(EF30>=$ED$5*กำหนดอัตราส่วนคะแนน!$U$4/100,\"ผ\",\"มผ\")))","v":""},null,null,"",{"$f":"IF(EH30=\"\",\"\",IF(EJ30=\"ร\",\"มผ\",IF(EJ30>=$EH$5*กำหนดอัตราส่วนคะแนน!$U$4/100,\"ผ\",\"มผ\")))","v":""},null,null,"",{"$f":"IF(EL30=\"\",\"\",IF(EN30=\"ร\",\"มผ\",IF(EN100>=$EL$5*กำหนดอัตราส่วนคะแนน!$U$4/100,\"ผ\",\"มผ\")))","v":""},null,null,"",{"$f":"IF(EP30=\"\",\"\",IF(ER30=\"ร\",\"มผ\",IF(ER30>=$EP$5*กำหนดอัตราส่วนคะแนน!$U$4/100,\"ผ\",\"มผ\")))","v":""},null,null,"",{"$f":"IF(ET30=\"\",\"\",IF(EV30=\"ร\",\"มผ\",IF(EV30>=$ET$5*กำหนดอัตราส่วนคะแนน!$U$4/100,\"ผ\",\"มผ\")))","v":""},null,null,"",{"$f":"IF(EX30=\"\",\"\",IF(EZ30=\"ร\",\"มผ\",IF(EZ30>=$EX$5*กำหนดอัตราส่วนคะแนน!$U$4/100,\"ผ\",\"มผ\")))","v":""},null,null,"",{"$f":"IF(FB30=\"\",\"\",IF(FD30=\"ร\",\"มผ\",IF(FD30>=$FB$5*กำหนดอัตราส่วนคะแนน!$U$4/100,\"ผ\",\"มผ\")))","v":""},null,null,"",{"$f":"IF(FF30=\"\",\"\",IF(FH30=\"ร\",\"มผ\",IF(FH30>=$FF$5*กำหนดอัตราส่วนคะแนน!$U$4/100,\"ผ\",\"มผ\")))","v":""},{"$f":"IF(Sheet1!#REF!=\"\",\"\",IF(COUNTIF(F30:FI30,\"ร\"),\"ร\",IF(FW30=\"ปกติ\",SUM(H30,L30,P30,T30,X30,AB30,AF30,AJ30,AN30,AR30,AV30,AZ30,BD30,BH30,BL30,BP30,BT30,BX30,CB30,CF30,CJ30,CN30,CR30,CV30,CZ30,DD30,DH30,DL30,DP30,DT30,DX30,EB30,EF30,EJ30,EN30,ER30,EV30,EZ30,FD30,FH30),\"-\")))","v":{"$error":"#REF!"}},null,{"$error":"#REF!"},null,null,{"$error":"#REF!"},null,null,null,"",null,{"$f":"IF(COUNTIF(Sheet1!#REF!:Sheet1!#REF!,\"\"),\"\",IF(COUNTIF(FJ30:FS30,\"ร\"),\"ร\",IF(COUNTIF(FL30:FS30,\"-\"),\"-\",IF(FW30=\"ปกติ\",SUM(FO30,FS30)))))","v":{"$error":"#REF!"}},null,{"$f":"เวลาเรียน!DZ32","v":0}]
[25,2521,{"$f":"CONCATENATE(Sheet1!B26)","v":"14924"},{"$f":"CONCATENATE(Sheet1!D26&Sheet1!#REF!&\"       \"&Sheet1!#REF!)","v":{"$error":"#REF!"}},25,null,null,"",{"$f":"IF(F31=\"\",\"\",IF(H31=\"ร\",\"มผ\",IF(H31>=$F$5*กำหนดอัตราส่วนคะแนน!$U$4/100,\"ผ\",\"มผ\")))","v":""},null,null,"",{"$f":"IF(J31=\"\",\"\",IF(L31=\"ร\",\"มผ\",IF(L31>=$J$5*กำหนดอัตราส่วนคะแนน!$U$4/100,\"ผ\",\"มผ\")))","v":""},null,null,"",{"$f":"IF(N31=\"\",\"\",IF(P31=\"ร\",\"มผ\",IF(P31>=$N$5*กำหนดอัตราส่วนคะแนน!$U$4/100,\"ผ\",\"มผ\")))","v":""},null,null,"",{"$f":"IF(R31=\"\",\"\",IF(T31=\"ร\",\"มผ\",IF(T31>=$R$5*กำหนดอัตราส่วนคะแนน!$U$4/100,\"ผ\",\"มผ\")))","v":""},null,null,"",{"$f":"IF(V31=\"\",\"\",IF(X31=\"ร\",\"มผ\",IF(X31>=$V$5*กำหนดอัตราส่วนคะแนน!$U$4/100,\"ผ\",\"มผ\")))","v":""},null,null,"",{"$f":"IF(Z31=\"\",\"\",IF(AB31=\"ร\",\"มผ\",IF(AB31>=$Z$5*กำหนดอัตราส่วนคะแนน!$U$4/100,\"ผ\",\"มผ\")))","v":""},null,null,"",{"$f":"IF(AD31=\"\",\"\",IF(AF31=\"ร\",\"มผ\",IF(AF31>=$AD$5*กำหนดอัตราส่วนคะแนน!$U$4/100,\"ผ\",\"มผ\")))","v":""},null,null,"",{"$f":"IF(AH31=\"\",\"\",IF(AJ31=\"ร\",\"มผ\",IF(AJ31>=$AH$5*กำหนดอัตราส่วนคะแนน!$U$4/100,\"ผ\",\"มผ\")))","v":""},null,null,"",{"$f":"IF(AL31=\"\",\"\",IF(AN31=\"ร\",\"มผ\",IF(AN31>=$AL$5*กำหนดอัตราส่วนคะแนน!$U$4/100,\"ผ\",\"มผ\")))","v":""},null,null,"",{"$f":"IF(AP31=\"\",\"\",IF(AR31=\"ร\",\"มผ\",IF(AR31>=$AP$5*กำหนดอัตราส่วนคะแนน!$U$4/100,\"ผ\",\"มผ\")))","v":""},null,null,"",{"$f":"IF(AT31=\"\",\"\",IF(AV31=\"ร\",\"มผ\",IF(AV31>=$AT$5*กำหนดอัตราส่วนคะแนน!$U$4/100,\"ผ\",\"มผ\")))","v":""},null,null,"",{"$f":"IF(AX31=\"\",\"\",IF(AZ31=\"ร\",\"มผ\",IF(AZ31>=$AX$5*กำหนดอัตราส่วนคะแนน!$U$4/100,\"ผ\",\"มผ\")))","v":""},null,null,"",{"$f":"IF(BB31=\"\",\"\",IF(BD31=\"ร\",\"มผ\",IF(BD31>=$BB$5*กำหนดอัตราส่วนคะแนน!$U$4/100,\"ผ\",\"มผ\")))","v":""},null,null,"",{"$f":"IF(BF31=\"\",\"\",IF(BH31=\"ร\",\"มผ\",IF(BH31>=$BJ$5*กำหนดอัตราส่วนคะแนน!$U$4/100,\"ผ\",\"มผ\")))","v":""},null,null,"",{"$f":"IF(BJ31=\"\",\"\",IF(BL31=\"ร\",\"มผ\",IF(BL31>=$BJ$5*กำหนดอัตราส่วนคะแนน!$U$4/100,\"ผ\",\"มผ\")))","v":""},null,null,"",{"$f":"IF(BN31=\"\",\"\",IF(BP31=\"ร\",\"มผ\",IF(BP31>=$BN$5*กำหนดอัตราส่วนคะแนน!$U$4/100,\"ผ\",\"มผ\")))","v":""},null,null,"",{"$f":"IF(BR31=\"\",\"\",IF(BT31=\"ร\",\"มผ\",IF(BT31>=$BR$5*กำหนดอัตราส่วนคะแนน!$U$4/100,\"ผ\",\"มผ\")))","v":""},null,null,"",{"$f":"IF(BV31=\"\",\"\",IF(BX31=\"ร\",\"มผ\",IF(BX31>=$BV$5*กำหนดอัตราส่วนคะแนน!$U$4/100,\"ผ\",\"มผ\")))","v":""},null,null,"",{"$f":"IF(BZ31=\"\",\"\",IF(CB31=\"ร\",\"มผ\",IF(CB31>=$BZ$5*กำหนดอัตราส่วนคะแนน!$U$4/100,\"ผ\",\"มผ\")))","v":""},null,null,"",{"$f":"IF(CD31=\"\",\"\",IF(CF31=\"ร\",\"มผ\",IF(CF31>=$CD$5*กำหนดอัตราส่วนคะแนน!$U$4/100,\"ผ\",\"มผ\")))","v":""},null,null,"",{"$f":"IF(CH31=\"\",\"\",IF(CJ31=\"ร\",\"มผ\",IF(CJ31>=$CH$5*กำหนดอัตราส่วนคะแนน!$U$4/100,\"ผ\",\"มผ\")))","v":""},null,null,"",{"$f":"IF(CL31=\"\",\"\",IF(CN31=\"ร\",\"มผ\",IF(CN31>=$CL$5*กำหนดอัตราส่วนคะแนน!$U$4/100,\"ผ\",\"มผ\")))","v":""},null,null,"",{"$f":"IF(CP31=\"\",\"\",IF(CR31=\"ร\",\"มผ\",IF(CR31>=$CP$5*กำหนดอัตราส่วนคะแนน!$U$4/100,\"ผ\",\"มผ\")))","v":""},null,null,"",{"$f":"IF(CT31=\"\",\"\",IF(CV31=\"ร\",\"มผ\",IF(CV31>=$CT$5*กำหนดอัตราส่วนคะแนน!$U$4/100,\"ผ\",\"มผ\")))","v":""},null,null,"",{"$f":"IF(CX31=\"\",\"\",IF(CZ31=\"ร\",\"มผ\",IF(CZ31>=$CX$5*กำหนดอัตราส่วนคะแนน!$U$4/100,\"ผ\",\"มผ\")))","v":""},null,null,"",{"$f":"IF(DB31=\"\",\"\",IF(DD31=\"ร\",\"มผ\",IF(DD31>=$DB$5*กำหนดอัตราส่วนคะแนน!$U$4/100,\"ผ\",\"มผ\")))","v":""},null,null,"",{"$f":"IF(DF31=\"\",\"\",IF(DH31=\"ร\",\"มผ\",IF(DH31>=$DF$5*กำหนดอัตราส่วนคะแนน!$U$4/100,\"ผ\",\"มผ\")))","v":""},null,null,"",{"$f":"IF(DJ31=\"\",\"\",IF(DL31=\"ร\",\"มผ\",IF(DL31>=$DJ$5*กำหนดอัตราส่วนคะแนน!$U$4/100,\"ผ\",\"มผ\")))","v":""},null,null,"",{"$f":"IF(DN31=\"\",\"\",IF(DP31=\"ร\",\"มผ\",IF(DP31>=$DN$5*กำหนดอัตราส่วนคะแนน!$U$4/100,\"ผ\",\"มผ\")))","v":""},null,null,"",{"$f":"IF(DR31=\"\",\"\",IF(DT31=\"ร\",\"มผ\",IF(DT31>=$DR$5*กำหนดอัตราส่วนคะแนน!$U$4/100,\"ผ\",\"มผ\")))","v":""},null,null,"",{"$f":"IF(DV31=\"\",\"\",IF(DX31=\"ร\",\"มผ\",IF(DX31>=$DV$5*กำหนดอัตราส่วนคะแนน!$U$4/100,\"ผ\",\"มผ\")))","v":""},null,null,"",{"$f":"IF(DZ31=\"\",\"\",IF(EB31=\"ร\",\"มผ\",IF(EB31>=$DZ$5*กำหนดอัตราส่วนคะแนน!$U$4/100,\"ผ\",\"มผ\")))","v":""},null,null,"",{"$f":"IF(ED31=\"\",\"\",IF(EF31=\"ร\",\"มผ\",IF(EF31>=$ED$5*กำหนดอัตราส่วนคะแนน!$U$4/100,\"ผ\",\"มผ\")))","v":""},null,null,"",{"$f":"IF(EH31=\"\",\"\",IF(EJ31=\"ร\",\"มผ\",IF(EJ31>=$EH$5*กำหนดอัตราส่วนคะแนน!$U$4/100,\"ผ\",\"มผ\")))","v":""},null,null,"",{"$f":"IF(EL31=\"\",\"\",IF(EN31=\"ร\",\"มผ\",IF(EN101>=$EL$5*กำหนดอัตราส่วนคะแนน!$U$4/100,\"ผ\",\"มผ\")))","v":""},null,null,"",{"$f":"IF(EP31=\"\",\"\",IF(ER31=\"ร\",\"มผ\",IF(ER31>=$EP$5*กำหนดอัตราส่วนคะแนน!$U$4/100,\"ผ\",\"มผ\")))","v":""},null,null,"",{"$f":"IF(ET31=\"\",\"\",IF(EV31=\"ร\",\"มผ\",IF(EV31>=$ET$5*กำหนดอัตราส่วนคะแนน!$U$4/100,\"ผ\",\"มผ\")))","v":""},null,null,"",{"$f":"IF(EX31=\"\",\"\",IF(EZ31=\"ร\",\"มผ\",IF(EZ31>=$EX$5*กำหนดอัตราส่วนคะแนน!$U$4/100,\"ผ\",\"มผ\")))","v":""},null,null,"",{"$f":"IF(FB31=\"\",\"\",IF(FD31=\"ร\",\"มผ\",IF(FD31>=$FB$5*กำหนดอัตราส่วนคะแนน!$U$4/100,\"ผ\",\"มผ\")))","v":""},null,null,"",{"$f":"IF(FF31=\"\",\"\",IF(FH31=\"ร\",\"มผ\",IF(FH31>=$FF$5*กำหนดอัตราส่วนคะแนน!$U$4/100,\"ผ\",\"มผ\")))","v":""},{"$f":"IF(Sheet1!#REF!=\"\",\"\",IF(COUNTIF(F31:FI31,\"ร\"),\"ร\",IF(FW31=\"ปกติ\",SUM(H31,L31,P31,T31,X31,AB31,AF31,AJ31,AN31,AR31,AV31,AZ31,BD31,BH31,BL31,BP31,BT31,BX31,CB31,CF31,CJ31,CN31,CR31,CV31,CZ31,DD31,DH31,DL31,DP31,DT31,DX31,EB31,EF31,EJ31,EN31,ER31,EV31,EZ31,FD31,FH31),\"-\")))","v":{"$error":"#REF!"}},null,{"$error":"#REF!"},null,null,{"$error":"#REF!"},null,null,null,"",null,{"$f":"IF(COUNTIF(Sheet1!#REF!:Sheet1!#REF!,\"\"),\"\",IF(COUNTIF(FJ31:FS31,\"ร\"),\"ร\",IF(COUNTIF(FL31:FS31,\"-\"),\"-\",IF(FW31=\"ปกติ\",SUM(FO31,FS31)))))","v":{"$error":"#REF!"}},null,{"$f":"เวลาเรียน!DZ33","v":0}]
[26,2522,{"$f":"CONCATENATE(Sheet1!B27)","v":"15041"},{"$f":"CONCATENATE(Sheet1!D27&Sheet1!#REF!&\"       \"&Sheet1!#REF!)","v":{"$error":"#REF!"}},26,null,null,"",{"$f":"IF(F32=\"\",\"\",IF(H32=\"ร\",\"มผ\",IF(H32>=$F$5*กำหนดอัตราส่วนคะแนน!$U$4/100,\"ผ\",\"มผ\")))","v":""},null,null,"",{"$f":"IF(J32=\"\",\"\",IF(L32=\"ร\",\"มผ\",IF(L32>=$J$5*กำหนดอัตราส่วนคะแนน!$U$4/100,\"ผ\",\"มผ\")))","v":""},null,null,"",{"$f":"IF(N32=\"\",\"\",IF(P32=\"ร\",\"มผ\",IF(P32>=$N$5*กำหนดอัตราส่วนคะแนน!$U$4/100,\"ผ\",\"มผ\")))","v":""},null,null,"",{"$f":"IF(R32=\"\",\"\",IF(T32=\"ร\",\"มผ\",IF(T32>=$R$5*กำหนดอัตราส่วนคะแนน!$U$4/100,\"ผ\",\"มผ\")))","v":""},null,null,"",{"$f":"IF(V32=\"\",\"\",IF(X32=\"ร\",\"มผ\",IF(X32>=$V$5*กำหนดอัตราส่วนคะแนน!$U$4/100,\"ผ\",\"มผ\")))","v":""},null,null,"",{"$f":"IF(Z32=\"\",\"\",IF(AB32=\"ร\",\"มผ\",IF(AB32>=$Z$5*กำหนดอัตราส่วนคะแนน!$U$4/100,\"ผ\",\"มผ\")))","v":""},null,null,"",{"$f":"IF(AD32=\"\",\"\",IF(AF32=\"ร\",\"มผ\",IF(AF32>=$AD$5*กำหนดอัตราส่วนคะแนน!$U$4/100,\"ผ\",\"มผ\")))","v":""},null,null,"",{"$f":"IF(AH32=\"\",\"\",IF(AJ32=\"ร\",\"มผ\",IF(AJ32>=$AH$5*กำหนดอัตราส่วนคะแนน!$U$4/100,\"ผ\",\"มผ\")))","v":""},null,null,"",{"$f":"IF(AL32=\"\",\"\",IF(AN32=\"ร\",\"มผ\",IF(AN32>=$AL$5*กำหนดอัตราส่วนคะแนน!$U$4/100,\"ผ\",\"มผ\")))","v":""},null,null,"",{"$f":"IF(AP32=\"\",\"\",IF(AR32=\"ร\",\"มผ\",IF(AR32>=$AP$5*กำหนดอัตราส่วนคะแนน!$U$4/100,\"ผ\",\"มผ\")))","v":""},null,null,"",{"$f":"IF(AT32=\"\",\"\",IF(AV32=\"ร\",\"มผ\",IF(AV32>=$AT$5*กำหนดอัตราส่วนคะแนน!$U$4/100,\"ผ\",\"มผ\")))","v":""},null,null,"",{"$f":"IF(AX32=\"\",\"\",IF(AZ32=\"ร\",\"มผ\",IF(AZ32>=$AX$5*กำหนดอัตราส่วนคะแนน!$U$4/100,\"ผ\",\"มผ\")))","v":""},null,null,"",{"$f":"IF(BB32=\"\",\"\",IF(BD32=\"ร\",\"มผ\",IF(BD32>=$BB$5*กำหนดอัตราส่วนคะแนน!$U$4/100,\"ผ\",\"มผ\")))","v":""},null,null,"",{"$f":"IF(BF32=\"\",\"\",IF(BH32=\"ร\",\"มผ\",IF(BH32>=$BJ$5*กำหนดอัตราส่วนคะแนน!$U$4/100,\"ผ\",\"มผ\")))","v":""},null,null,"",{"$f":"IF(BJ32=\"\",\"\",IF(BL32=\"ร\",\"มผ\",IF(BL32>=$BJ$5*กำหนดอัตราส่วนคะแนน!$U$4/100,\"ผ\",\"มผ\")))","v":""},null,null,"",{"$f":"IF(BN32=\"\",\"\",IF(BP32=\"ร\",\"มผ\",IF(BP32>=$BN$5*กำหนดอัตราส่วนคะแนน!$U$4/100,\"ผ\",\"มผ\")))","v":""},null,null,"",{"$f":"IF(BR32=\"\",\"\",IF(BT32=\"ร\",\"มผ\",IF(BT32>=$BR$5*กำหนดอัตราส่วนคะแนน!$U$4/100,\"ผ\",\"มผ\")))","v":""},null,null,"",{"$f":"IF(BV32=\"\",\"\",IF(BX32=\"ร\",\"มผ\",IF(BX32>=$BV$5*กำหนดอัตราส่วนคะแนน!$U$4/100,\"ผ\",\"มผ\")))","v":""},null,null,"",{"$f":"IF(BZ32=\"\",\"\",IF(CB32=\"ร\",\"มผ\",IF(CB32>=$BZ$5*กำหนดอัตราส่วนคะแนน!$U$4/100,\"ผ\",\"มผ\")))","v":""},null,null,"",{"$f":"IF(CD32=\"\",\"\",IF(CF32=\"ร\",\"มผ\",IF(CF32>=$CD$5*กำหนดอัตราส่วนคะแนน!$U$4/100,\"ผ\",\"มผ\")))","v":""},null,null,"",{"$f":"IF(CH32=\"\",\"\",IF(CJ32=\"ร\",\"มผ\",IF(CJ32>=$CH$5*กำหนดอัตราส่วนคะแนน!$U$4/100,\"ผ\",\"มผ\")))","v":""},null,null,"",{"$f":"IF(CL32=\"\",\"\",IF(CN32=\"ร\",\"มผ\",IF(CN32>=$CL$5*กำหนดอัตราส่วนคะแนน!$U$4/100,\"ผ\",\"มผ\")))","v":""},null,null,"",{"$f":"IF(CP32=\"\",\"\",IF(CR32=\"ร\",\"มผ\",IF(CR32>=$CP$5*กำหนดอัตราส่วนคะแนน!$U$4/100,\"ผ\",\"มผ\")))","v":""},null,null,"",{"$f":"IF(CT32=\"\",\"\",IF(CV32=\"ร\",\"มผ\",IF(CV32>=$CT$5*กำหนดอัตราส่วนคะแนน!$U$4/100,\"ผ\",\"มผ\")))","v":""},null,null,"",{"$f":"IF(CX32=\"\",\"\",IF(CZ32=\"ร\",\"มผ\",IF(CZ32>=$CX$5*กำหนดอัตราส่วนคะแนน!$U$4/100,\"ผ\",\"มผ\")))","v":""},null,null,"",{"$f":"IF(DB32=\"\",\"\",IF(DD32=\"ร\",\"มผ\",IF(DD32>=$DB$5*กำหนดอัตราส่วนคะแนน!$U$4/100,\"ผ\",\"มผ\")))","v":""},null,null,"",{"$f":"IF(DF32=\"\",\"\",IF(DH32=\"ร\",\"มผ\",IF(DH32>=$DF$5*กำหนดอัตราส่วนคะแนน!$U$4/100,\"ผ\",\"มผ\")))","v":""},null,null,"",{"$f":"IF(DJ32=\"\",\"\",IF(DL32=\"ร\",\"มผ\",IF(DL32>=$DJ$5*กำหนดอัตราส่วนคะแนน!$U$4/100,\"ผ\",\"มผ\")))","v":""},null,null,"",{"$f":"IF(DN32=\"\",\"\",IF(DP32=\"ร\",\"มผ\",IF(DP32>=$DN$5*กำหนดอัตราส่วนคะแนน!$U$4/100,\"ผ\",\"มผ\")))","v":""},null,null,"",{"$f":"IF(DR32=\"\",\"\",IF(DT32=\"ร\",\"มผ\",IF(DT32>=$DR$5*กำหนดอัตราส่วนคะแนน!$U$4/100,\"ผ\",\"มผ\")))","v":""},null,null,"",{"$f":"IF(DV32=\"\",\"\",IF(DX32=\"ร\",\"มผ\",IF(DX32>=$DV$5*กำหนดอัตราส่วนคะแนน!$U$4/100,\"ผ\",\"มผ\")))","v":""},null,null,"",{"$f":"IF(DZ32=\"\",\"\",IF(EB32=\"ร\",\"มผ\",IF(EB32>=$DZ$5*กำหนดอัตราส่วนคะแนน!$U$4/100,\"ผ\",\"มผ\")))","v":""},null,null,"",{"$f":"IF(ED32=\"\",\"\",IF(EF32=\"ร\",\"มผ\",IF(EF32>=$ED$5*กำหนดอัตราส่วนคะแนน!$U$4/100,\"ผ\",\"มผ\")))","v":""},null,null,"",{"$f":"IF(EH32=\"\",\"\",IF(EJ32=\"ร\",\"มผ\",IF(EJ32>=$EH$5*กำหนดอัตราส่วนคะแนน!$U$4/100,\"ผ\",\"มผ\")))","v":""},null,null,"",{"$f":"IF(EL32=\"\",\"\",IF(EN32=\"ร\",\"มผ\",IF(EN102>=$EL$5*กำหนดอัตราส่วนคะแนน!$U$4/100,\"ผ\",\"มผ\")))","v":""},null,null,"",{"$f":"IF(EP32=\"\",\"\",IF(ER32=\"ร\",\"มผ\",IF(ER32>=$EP$5*กำหนดอัตราส่วนคะแนน!$U$4/100,\"ผ\",\"มผ\")))","v":""},null,null,"",{"$f":"IF(ET32=\"\",\"\",IF(EV32=\"ร\",\"มผ\",IF(EV32>=$ET$5*กำหนดอัตราส่วนคะแนน!$U$4/100,\"ผ\",\"มผ\")))","v":""},null,null,"",{"$f":"IF(EX32=\"\",\"\",IF(EZ32=\"ร\",\"มผ\",IF(EZ32>=$EX$5*กำหนดอัตราส่วนคะแนน!$U$4/100,\"ผ\",\"มผ\")))","v":""},null,null,"",{"$f":"IF(FB32=\"\",\"\",IF(FD32=\"ร\",\"มผ\",IF(FD32>=$FB$5*กำหนดอัตราส่วนคะแนน!$U$4/100,\"ผ\",\"มผ\")))","v":""},null,null,"",{"$f":"IF(FF32=\"\",\"\",IF(FH32=\"ร\",\"มผ\",IF(FH32>=$FF$5*กำหนดอัตราส่วนคะแนน!$U$4/100,\"ผ\",\"มผ\")))","v":""},{"$f":"IF(Sheet1!#REF!=\"\",\"\",IF(COUNTIF(F32:FI32,\"ร\"),\"ร\",IF(FW32=\"ปกติ\",SUM(H32,L32,P32,T32,X32,AB32,AF32,AJ32,AN32,AR32,AV32,AZ32,BD32,BH32,BL32,BP32,BT32,BX32,CB32,CF32,CJ32,CN32,CR32,CV32,CZ32,DD32,DH32,DL32,DP32,DT32,DX32,EB32,EF32,EJ32,EN32,ER32,EV32,EZ32,FD32,FH32),\"-\")))","v":{"$error":"#REF!"}},null,{"$error":"#REF!"},null,null,{"$error":"#REF!"},null,null,null,"",null,{"$f":"IF(COUNTIF(Sheet1!#REF!:Sheet1!#REF!,\"\"),\"\",IF(COUNTIF(FJ32:FS32,\"ร\"),\"ร\",IF(COUNTIF(FL32:FS32,\"-\"),\"-\",IF(FW32=\"ปกติ\",SUM(FO32,FS32)))))","v":{"$error":"#REF!"}},null,{"$f":"เวลาเรียน!DZ34","v":0}]
[27,2523,{"$f":"CONCATENATE(Sheet1!B28)","v":"15720"},{"$f":"CONCATENATE(Sheet1!D28&Sheet1!#REF!&\"       \"&Sheet1!#REF!)","v":{"$error":"#REF!"}},27,null,null,"",{"$f":"IF(F33=\"\",\"\",IF(H33=\"ร\",\"มผ\",IF(H33>=$F$5*กำหนดอัตราส่วนคะแนน!$U$4/100,\"ผ\",\"มผ\")))","v":""},null,null,"",{"$f":"IF(J33=\"\",\"\",IF(L33=\"ร\",\"มผ\",IF(L33>=$J$5*กำหนดอัตราส่วนคะแนน!$U$4/100,\"ผ\",\"มผ\")))","v":""},null,null,"",{"$f":"IF(N33=\"\",\"\",IF(P33=\"ร\",\"มผ\",IF(P33>=$N$5*กำหนดอัตราส่วนคะแนน!$U$4/100,\"ผ\",\"มผ\")))","v":""},null,null,"",{"$f":"IF(R33=\"\",\"\",IF(T33=\"ร\",\"มผ\",IF(T33>=$R$5*กำหนดอัตราส่วนคะแนน!$U$4/100,\"ผ\",\"มผ\")))","v":""},null,null,"",{"$f":"IF(V33=\"\",\"\",IF(X33=\"ร\",\"มผ\",IF(X33>=$V$5*กำหนดอัตราส่วนคะแนน!$U$4/100,\"ผ\",\"มผ\")))","v":""},null,null,"",{"$f":"IF(Z33=\"\",\"\",IF(AB33=\"ร\",\"มผ\",IF(AB33>=$Z$5*กำหนดอัตราส่วนคะแนน!$U$4/100,\"ผ\",\"มผ\")))","v":""},null,null,"",{"$f":"IF(AD33=\"\",\"\",IF(AF33=\"ร\",\"มผ\",IF(AF33>=$AD$5*กำหนดอัตราส่วนคะแนน!$U$4/100,\"ผ\",\"มผ\")))","v":""},null,null,"",{"$f":"IF(AH33=\"\",\"\",IF(AJ33=\"ร\",\"มผ\",IF(AJ33>=$AH$5*กำหนดอัตราส่วนคะแนน!$U$4/100,\"ผ\",\"มผ\")))","v":""},null,null,"",{"$f":"IF(AL33=\"\",\"\",IF(AN33=\"ร\",\"มผ\",IF(AN33>=$AL$5*กำหนดอัตราส่วนคะแนน!$U$4/100,\"ผ\",\"มผ\")))","v":""},null,null,"",{"$f":"IF(AP33=\"\",\"\",IF(AR33=\"ร\",\"มผ\",IF(AR33>=$AP$5*กำหนดอัตราส่วนคะแนน!$U$4/100,\"ผ\",\"มผ\")))","v":""},null,null,"",{"$f":"IF(AT33=\"\",\"\",IF(AV33=\"ร\",\"มผ\",IF(AV33>=$AT$5*กำหนดอัตราส่วนคะแนน!$U$4/100,\"ผ\",\"มผ\")))","v":""},null,null,"",{"$f":"IF(AX33=\"\",\"\",IF(AZ33=\"ร\",\"มผ\",IF(AZ33>=$AX$5*กำหนดอัตราส่วนคะแนน!$U$4/100,\"ผ\",\"มผ\")))","v":""},null,null,"",{"$f":"IF(BB33=\"\",\"\",IF(BD33=\"ร\",\"มผ\",IF(BD33>=$BB$5*กำหนดอัตราส่วนคะแนน!$U$4/100,\"ผ\",\"มผ\")))","v":""},null,null,"",{"$f":"IF(BF33=\"\",\"\",IF(BH33=\"ร\",\"มผ\",IF(BH33>=$BJ$5*กำหนดอัตราส่วนคะแนน!$U$4/100,\"ผ\",\"มผ\")))","v":""},null,null,"",{"$f":"IF(BJ33=\"\",\"\",IF(BL33=\"ร\",\"มผ\",IF(BL33>=$BJ$5*กำหนดอัตราส่วนคะแนน!$U$4/100,\"ผ\",\"มผ\")))","v":""},null,null,"",{"$f":"IF(BN33=\"\",\"\",IF(BP33=\"ร\",\"มผ\",IF(BP33>=$BN$5*กำหนดอัตราส่วนคะแนน!$U$4/100,\"ผ\",\"มผ\")))","v":""},null,null,"",{"$f":"IF(BR33=\"\",\"\",IF(BT33=\"ร\",\"มผ\",IF(BT33>=$BR$5*กำหนดอัตราส่วนคะแนน!$U$4/100,\"ผ\",\"มผ\")))","v":""},null,null,"",{"$f":"IF(BV33=\"\",\"\",IF(BX33=\"ร\",\"มผ\",IF(BX33>=$BV$5*กำหนดอัตราส่วนคะแนน!$U$4/100,\"ผ\",\"มผ\")))","v":""},null,null,"",{"$f":"IF(BZ33=\"\",\"\",IF(CB33=\"ร\",\"มผ\",IF(CB33>=$BZ$5*กำหนดอัตราส่วนคะแนน!$U$4/100,\"ผ\",\"มผ\")))","v":""},null,null,"",{"$f":"IF(CD33=\"\",\"\",IF(CF33=\"ร\",\"มผ\",IF(CF33>=$CD$5*กำหนดอัตราส่วนคะแนน!$U$4/100,\"ผ\",\"มผ\")))","v":""},null,null,"",{"$f":"IF(CH33=\"\",\"\",IF(CJ33=\"ร\",\"มผ\",IF(CJ33>=$CH$5*กำหนดอัตราส่วนคะแนน!$U$4/100,\"ผ\",\"มผ\")))","v":""},null,null,"",{"$f":"IF(CL33=\"\",\"\",IF(CN33=\"ร\",\"มผ\",IF(CN33>=$CL$5*กำหนดอัตราส่วนคะแนน!$U$4/100,\"ผ\",\"มผ\")))","v":""},null,null,"",{"$f":"IF(CP33=\"\",\"\",IF(CR33=\"ร\",\"มผ\",IF(CR33>=$CP$5*กำหนดอัตราส่วนคะแนน!$U$4/100,\"ผ\",\"มผ\")))","v":""},null,null,"",{"$f":"IF(CT33=\"\",\"\",IF(CV33=\"ร\",\"มผ\",IF(CV33>=$CT$5*กำหนดอัตราส่วนคะแนน!$U$4/100,\"ผ\",\"มผ\")))","v":""},null,null,"",{"$f":"IF(CX33=\"\",\"\",IF(CZ33=\"ร\",\"มผ\",IF(CZ33>=$CX$5*กำหนดอัตราส่วนคะแนน!$U$4/100,\"ผ\",\"มผ\")))","v":""},null,null,"",{"$f":"IF(DB33=\"\",\"\",IF(DD33=\"ร\",\"มผ\",IF(DD33>=$DB$5*กำหนดอัตราส่วนคะแนน!$U$4/100,\"ผ\",\"มผ\")))","v":""},null,null,"",{"$f":"IF(DF33=\"\",\"\",IF(DH33=\"ร\",\"มผ\",IF(DH33>=$DF$5*กำหนดอัตราส่วนคะแนน!$U$4/100,\"ผ\",\"มผ\")))","v":""},null,null,"",{"$f":"IF(DJ33=\"\",\"\",IF(DL33=\"ร\",\"มผ\",IF(DL33>=$DJ$5*กำหนดอัตราส่วนคะแนน!$U$4/100,\"ผ\",\"มผ\")))","v":""},null,null,"",{"$f":"IF(DN33=\"\",\"\",IF(DP33=\"ร\",\"มผ\",IF(DP33>=$DN$5*กำหนดอัตราส่วนคะแนน!$U$4/100,\"ผ\",\"มผ\")))","v":""},null,null,"",{"$f":"IF(DR33=\"\",\"\",IF(DT33=\"ร\",\"มผ\",IF(DT33>=$DR$5*กำหนดอัตราส่วนคะแนน!$U$4/100,\"ผ\",\"มผ\")))","v":""},null,null,"",{"$f":"IF(DV33=\"\",\"\",IF(DX33=\"ร\",\"มผ\",IF(DX33>=$DV$5*กำหนดอัตราส่วนคะแนน!$U$4/100,\"ผ\",\"มผ\")))","v":""},null,null,"",{"$f":"IF(DZ33=\"\",\"\",IF(EB33=\"ร\",\"มผ\",IF(EB33>=$DZ$5*กำหนดอัตราส่วนคะแนน!$U$4/100,\"ผ\",\"มผ\")))","v":""},null,null,"",{"$f":"IF(ED33=\"\",\"\",IF(EF33=\"ร\",\"มผ\",IF(EF33>=$ED$5*กำหนดอัตราส่วนคะแนน!$U$4/100,\"ผ\",\"มผ\")))","v":""},null,null,"",{"$f":"IF(EH33=\"\",\"\",IF(EJ33=\"ร\",\"มผ\",IF(EJ33>=$EH$5*กำหนดอัตราส่วนคะแนน!$U$4/100,\"ผ\",\"มผ\")))","v":""},null,null,"",{"$f":"IF(EL33=\"\",\"\",IF(EN33=\"ร\",\"มผ\",IF(EN103>=$EL$5*กำหนดอัตราส่วนคะแนน!$U$4/100,\"ผ\",\"มผ\")))","v":""},null,null,"",{"$f":"IF(EP33=\"\",\"\",IF(ER33=\"ร\",\"มผ\",IF(ER33>=$EP$5*กำหนดอัตราส่วนคะแนน!$U$4/100,\"ผ\",\"มผ\")))","v":""},null,null,"",{"$f":"IF(ET33=\"\",\"\",IF(EV33=\"ร\",\"มผ\",IF(EV33>=$ET$5*กำหนดอัตราส่วนคะแนน!$U$4/100,\"ผ\",\"มผ\")))","v":""},null,null,"",{"$f":"IF(EX33=\"\",\"\",IF(EZ33=\"ร\",\"มผ\",IF(EZ33>=$EX$5*กำหนดอัตราส่วนคะแนน!$U$4/100,\"ผ\",\"มผ\")))","v":""},null,null,"",{"$f":"IF(FB33=\"\",\"\",IF(FD33=\"ร\",\"มผ\",IF(FD33>=$FB$5*กำหนดอัตราส่วนคะแนน!$U$4/100,\"ผ\",\"มผ\")))","v":""},null,null,"",{"$f":"IF(FF33=\"\",\"\",IF(FH33=\"ร\",\"มผ\",IF(FH33>=$FF$5*กำหนดอัตราส่วนคะแนน!$U$4/100,\"ผ\",\"มผ\")))","v":""},{"$f":"IF(Sheet1!#REF!=\"\",\"\",IF(COUNTIF(F33:FI33,\"ร\"),\"ร\",IF(FW33=\"ปกติ\",SUM(H33,L33,P33,T33,X33,AB33,AF33,AJ33,AN33,AR33,AV33,AZ33,BD33,BH33,BL33,BP33,BT33,BX33,CB33,CF33,CJ33,CN33,CR33,CV33,CZ33,DD33,DH33,DL33,DP33,DT33,DX33,EB33,EF33,EJ33,EN33,ER33,EV33,EZ33,FD33,FH33),\"-\")))","v":{"$error":"#REF!"}},null,{"$error":"#REF!"},null,null,{"$error":"#REF!"},null,null,null,"",null,{"$f":"IF(COUNTIF(Sheet1!#REF!:Sheet1!#REF!,\"\"),\"\",IF(COUNTIF(FJ33:FS33,\"ร\"),\"ร\",IF(COUNTIF(FL33:FS33,\"-\"),\"-\",IF(FW33=\"ปกติ\",SUM(FO33,FS33)))))","v":{"$error":"#REF!"}},null,{"$f":"เวลาเรียน!DZ35","v":0}]
[28,2524,{"$f":"CONCATENATE(Sheet1!B29)","v":"15727"},{"$f":"CONCATENATE(Sheet1!D29&Sheet1!#REF!&\"       \"&Sheet1!#REF!)","v":{"$error":"#REF!"}},28,null,null,"",{"$f":"IF(F34=\"\",\"\",IF(H34=\"ร\",\"มผ\",IF(H34>=$F$5*กำหนดอัตราส่วนคะแนน!$U$4/100,\"ผ\",\"มผ\")))","v":""},null,null,"",{"$f":"IF(J34=\"\",\"\",IF(L34=\"ร\",\"มผ\",IF(L34>=$J$5*กำหนดอัตราส่วนคะแนน!$U$4/100,\"ผ\",\"มผ\")))","v":""},null,null,"",{"$f":"IF(N34=\"\",\"\",IF(P34=\"ร\",\"มผ\",IF(P34>=$N$5*กำหนดอัตราส่วนคะแนน!$U$4/100,\"ผ\",\"มผ\")))","v":""},null,null,"",{"$f":"IF(R34=\"\",\"\",IF(T34=\"ร\",\"มผ\",IF(T34>=$R$5*กำหนดอัตราส่วนคะแนน!$U$4/100,\"ผ\",\"มผ\")))","v":""},null,null,"",{"$f":"IF(V34=\"\",\"\",IF(X34=\"ร\",\"มผ\",IF(X34>=$V$5*กำหนดอัตราส่วนคะแนน!$U$4/100,\"ผ\",\"มผ\")))","v":""},null,null,"",{"$f":"IF(Z34=\"\",\"\",IF(AB34=\"ร\",\"มผ\",IF(AB34>=$Z$5*กำหนดอัตราส่วนคะแนน!$U$4/100,\"ผ\",\"มผ\")))","v":""},null,null,"",{"$f":"IF(AD34=\"\",\"\",IF(AF34=\"ร\",\"มผ\",IF(AF34>=$AD$5*กำหนดอัตราส่วนคะแนน!$U$4/100,\"ผ\",\"มผ\")))","v":""},null,null,"",{"$f":"IF(AH34=\"\",\"\",IF(AJ34=\"ร\",\"มผ\",IF(AJ34>=$AH$5*กำหนดอัตราส่วนคะแนน!$U$4/100,\"ผ\",\"มผ\")))","v":""},null,null,"",{"$f":"IF(AL34=\"\",\"\",IF(AN34=\"ร\",\"มผ\",IF(AN34>=$AL$5*กำหนดอัตราส่วนคะแนน!$U$4/100,\"ผ\",\"มผ\")))","v":""},null,null,"",{"$f":"IF(AP34=\"\",\"\",IF(AR34=\"ร\",\"มผ\",IF(AR34>=$AP$5*กำหนดอัตราส่วนคะแนน!$U$4/100,\"ผ\",\"มผ\")))","v":""},null,null,"",{"$f":"IF(AT34=\"\",\"\",IF(AV34=\"ร\",\"มผ\",IF(AV34>=$AT$5*กำหนดอัตราส่วนคะแนน!$U$4/100,\"ผ\",\"มผ\")))","v":""},null,null,"",{"$f":"IF(AX34=\"\",\"\",IF(AZ34=\"ร\",\"มผ\",IF(AZ34>=$AX$5*กำหนดอัตราส่วนคะแนน!$U$4/100,\"ผ\",\"มผ\")))","v":""},null,null,"",{"$f":"IF(BB34=\"\",\"\",IF(BD34=\"ร\",\"มผ\",IF(BD34>=$BB$5*กำหนดอัตราส่วนคะแนน!$U$4/100,\"ผ\",\"มผ\")))","v":""},null,null,"",{"$f":"IF(BF34=\"\",\"\",IF(BH34=\"ร\",\"มผ\",IF(BH34>=$BJ$5*กำหนดอัตราส่วนคะแนน!$U$4/100,\"ผ\",\"มผ\")))","v":""},null,null,"",{"$f":"IF(BJ34=\"\",\"\",IF(BL34=\"ร\",\"มผ\",IF(BL34>=$BJ$5*กำหนดอัตราส่วนคะแนน!$U$4/100,\"ผ\",\"มผ\")))","v":""},null,null,"",{"$f":"IF(BN34=\"\",\"\",IF(BP34=\"ร\",\"มผ\",IF(BP34>=$BN$5*กำหนดอัตราส่วนคะแนน!$U$4/100,\"ผ\",\"มผ\")))","v":""},null,null,"",{"$f":"IF(BR34=\"\",\"\",IF(BT34=\"ร\",\"มผ\",IF(BT34>=$BR$5*กำหนดอัตราส่วนคะแนน!$U$4/100,\"ผ\",\"มผ\")))","v":""},null,null,"",{"$f":"IF(BV34=\"\",\"\",IF(BX34=\"ร\",\"มผ\",IF(BX34>=$BV$5*กำหนดอัตราส่วนคะแนน!$U$4/100,\"ผ\",\"มผ\")))","v":""},null,null,"",{"$f":"IF(BZ34=\"\",\"\",IF(CB34=\"ร\",\"มผ\",IF(CB34>=$BZ$5*กำหนดอัตราส่วนคะแนน!$U$4/100,\"ผ\",\"มผ\")))","v":""},null,null,"",{"$f":"IF(CD34=\"\",\"\",IF(CF34=\"ร\",\"มผ\",IF(CF34>=$CD$5*กำหนดอัตราส่วนคะแนน!$U$4/100,\"ผ\",\"มผ\")))","v":""},null,null,"",{"$f":"IF(CH34=\"\",\"\",IF(CJ34=\"ร\",\"มผ\",IF(CJ34>=$CH$5*กำหนดอัตราส่วนคะแนน!$U$4/100,\"ผ\",\"มผ\")))","v":""},null,null,"",{"$f":"IF(CL34=\"\",\"\",IF(CN34=\"ร\",\"มผ\",IF(CN34>=$CL$5*กำหนดอัตราส่วนคะแนน!$U$4/100,\"ผ\",\"มผ\")))","v":""},null,null,"",{"$f":"IF(CP34=\"\",\"\",IF(CR34=\"ร\",\"มผ\",IF(CR34>=$CP$5*กำหนดอัตราส่วนคะแนน!$U$4/100,\"ผ\",\"มผ\")))","v":""},null,null,"",{"$f":"IF(CT34=\"\",\"\",IF(CV34=\"ร\",\"มผ\",IF(CV34>=$CT$5*กำหนดอัตราส่วนคะแนน!$U$4/100,\"ผ\",\"มผ\")))","v":""},null,null,"",{"$f":"IF(CX34=\"\",\"\",IF(CZ34=\"ร\",\"มผ\",IF(CZ34>=$CX$5*กำหนดอัตราส่วนคะแนน!$U$4/100,\"ผ\",\"มผ\")))","v":""},null,null,"",{"$f":"IF(DB34=\"\",\"\",IF(DD34=\"ร\",\"มผ\",IF(DD34>=$DB$5*กำหนดอัตราส่วนคะแนน!$U$4/100,\"ผ\",\"มผ\")))","v":""},null,null,"",{"$f":"IF(DF34=\"\",\"\",IF(DH34=\"ร\",\"มผ\",IF(DH34>=$DF$5*กำหนดอัตราส่วนคะแนน!$U$4/100,\"ผ\",\"มผ\")))","v":""},null,null,"",{"$f":"IF(DJ34=\"\",\"\",IF(DL34=\"ร\",\"มผ\",IF(DL34>=$DJ$5*กำหนดอัตราส่วนคะแนน!$U$4/100,\"ผ\",\"มผ\")))","v":""},null,null,"",{"$f":"IF(DN34=\"\",\"\",IF(DP34=\"ร\",\"มผ\",IF(DP34>=$DN$5*กำหนดอัตราส่วนคะแนน!$U$4/100,\"ผ\",\"มผ\")))","v":""},null,null,"",{"$f":"IF(DR34=\"\",\"\",IF(DT34=\"ร\",\"มผ\",IF(DT34>=$DR$5*กำหนดอัตราส่วนคะแนน!$U$4/100,\"ผ\",\"มผ\")))","v":""},null,null,"",{"$f":"IF(DV34=\"\",\"\",IF(DX34=\"ร\",\"มผ\",IF(DX34>=$DV$5*กำหนดอัตราส่วนคะแนน!$U$4/100,\"ผ\",\"มผ\")))","v":""},null,null,"",{"$f":"IF(DZ34=\"\",\"\",IF(EB34=\"ร\",\"มผ\",IF(EB34>=$DZ$5*กำหนดอัตราส่วนคะแนน!$U$4/100,\"ผ\",\"มผ\")))","v":""},null,null,"",{"$f":"IF(ED34=\"\",\"\",IF(EF34=\"ร\",\"มผ\",IF(EF34>=$ED$5*กำหนดอัตราส่วนคะแนน!$U$4/100,\"ผ\",\"มผ\")))","v":""},null,null,"",{"$f":"IF(EH34=\"\",\"\",IF(EJ34=\"ร\",\"มผ\",IF(EJ34>=$EH$5*กำหนดอัตราส่วนคะแนน!$U$4/100,\"ผ\",\"มผ\")))","v":""},null,null,"",{"$f":"IF(EL34=\"\",\"\",IF(EN34=\"ร\",\"มผ\",IF(EN104>=$EL$5*กำหนดอัตราส่วนคะแนน!$U$4/100,\"ผ\",\"มผ\")))","v":""},null,null,"",{"$f":"IF(EP34=\"\",\"\",IF(ER34=\"ร\",\"มผ\",IF(ER34>=$EP$5*กำหนดอัตราส่วนคะแนน!$U$4/100,\"ผ\",\"มผ\")))","v":""},null,null,"",{"$f":"IF(ET34=\"\",\"\",IF(EV34=\"ร\",\"มผ\",IF(EV34>=$ET$5*กำหนดอัตราส่วนคะแนน!$U$4/100,\"ผ\",\"มผ\")))","v":""},null,null,"",{"$f":"IF(EX34=\"\",\"\",IF(EZ34=\"ร\",\"มผ\",IF(EZ34>=$EX$5*กำหนดอัตราส่วนคะแนน!$U$4/100,\"ผ\",\"มผ\")))","v":""},null,null,"",{"$f":"IF(FB34=\"\",\"\",IF(FD34=\"ร\",\"มผ\",IF(FD34>=$FB$5*กำหนดอัตราส่วนคะแนน!$U$4/100,\"ผ\",\"มผ\")))","v":""},null,null,"",{"$f":"IF(FF34=\"\",\"\",IF(FH34=\"ร\",\"มผ\",IF(FH34>=$FF$5*กำหนดอัตราส่วนคะแนน!$U$4/100,\"ผ\",\"มผ\")))","v":""},{"$f":"IF(Sheet1!#REF!=\"\",\"\",IF(COUNTIF(F34:FI34,\"ร\"),\"ร\",IF(FW34=\"ปกติ\",SUM(H34,L34,P34,T34,X34,AB34,AF34,AJ34,AN34,AR34,AV34,AZ34,BD34,BH34,BL34,BP34,BT34,BX34,CB34,CF34,CJ34,CN34,CR34,CV34,CZ34,DD34,DH34,DL34,DP34,DT34,DX34,EB34,EF34,EJ34,EN34,ER34,EV34,EZ34,FD34,FH34),\"-\")))","v":{"$error":"#REF!"}},null,{"$error":"#REF!"},null,null,{"$error":"#REF!"},null,null,null,"",null,{"$f":"IF(COUNTIF(Sheet1!#REF!:Sheet1!#REF!,\"\"),\"\",IF(COUNTIF(FJ34:FS34,\"ร\"),\"ร\",IF(COUNTIF(FL34:FS34,\"-\"),\"-\",IF(FW34=\"ปกติ\",SUM(FO34,FS34)))))","v":{"$error":"#REF!"}},null,{"$f":"เวลาเรียน!DZ36","v":0}]
[29,2525,{"$f":"CONCATENATE(Sheet1!B30)","v":"18137"},{"$f":"CONCATENATE(Sheet1!D30&Sheet1!#REF!&\"       \"&Sheet1!#REF!)","v":{"$error":"#REF!"}},29,null,null,"",{"$f":"IF(F35=\"\",\"\",IF(H35=\"ร\",\"มผ\",IF(H35>=$F$5*กำหนดอัตราส่วนคะแนน!$U$4/100,\"ผ\",\"มผ\")))","v":""},null,null,"",{"$f":"IF(J35=\"\",\"\",IF(L35=\"ร\",\"มผ\",IF(L35>=$J$5*กำหนดอัตราส่วนคะแนน!$U$4/100,\"ผ\",\"มผ\")))","v":""},null,null,"",{"$f":"IF(N35=\"\",\"\",IF(P35=\"ร\",\"มผ\",IF(P35>=$N$5*กำหนดอัตราส่วนคะแนน!$U$4/100,\"ผ\",\"มผ\")))","v":""},null,null,"",{"$f":"IF(R35=\"\",\"\",IF(T35=\"ร\",\"มผ\",IF(T35>=$R$5*กำหนดอัตราส่วนคะแนน!$U$4/100,\"ผ\",\"มผ\")))","v":""},null,null,"",{"$f":"IF(V35=\"\",\"\",IF(X35=\"ร\",\"มผ\",IF(X35>=$V$5*กำหนดอัตราส่วนคะแนน!$U$4/100,\"ผ\",\"มผ\")))","v":""},null,null,"",{"$f":"IF(Z35=\"\",\"\",IF(AB35=\"ร\",\"มผ\",IF(AB35>=$Z$5*กำหนดอัตราส่วนคะแนน!$U$4/100,\"ผ\",\"มผ\")))","v":""},null,null,"",{"$f":"IF(AD35=\"\",\"\",IF(AF35=\"ร\",\"มผ\",IF(AF35>=$AD$5*กำหนดอัตราส่วนคะแนน!$U$4/100,\"ผ\",\"มผ\")))","v":""},null,null,"",{"$f":"IF(AH35=\"\",\"\",IF(AJ35=\"ร\",\"มผ\",IF(AJ35>=$AH$5*กำหนดอัตราส่วนคะแนน!$U$4/100,\"ผ\",\"มผ\")))","v":""},null,null,"",{"$f":"IF(AL35=\"\",\"\",IF(AN35=\"ร\",\"มผ\",IF(AN35>=$AL$5*กำหนดอัตราส่วนคะแนน!$U$4/100,\"ผ\",\"มผ\")))","v":""},null,null,"",{"$f":"IF(AP35=\"\",\"\",IF(AR35=\"ร\",\"มผ\",IF(AR35>=$AP$5*กำหนดอัตราส่วนคะแนน!$U$4/100,\"ผ\",\"มผ\")))","v":""},null,null,"",{"$f":"IF(AT35=\"\",\"\",IF(AV35=\"ร\",\"มผ\",IF(AV35>=$AT$5*กำหนดอัตราส่วนคะแนน!$U$4/100,\"ผ\",\"มผ\")))","v":""},null,null,"",{"$f":"IF(AX35=\"\",\"\",IF(AZ35=\"ร\",\"มผ\",IF(AZ35>=$AX$5*กำหนดอัตราส่วนคะแนน!$U$4/100,\"ผ\",\"มผ\")))","v":""},null,null,"",{"$f":"IF(BB35=\"\",\"\",IF(BD35=\"ร\",\"มผ\",IF(BD35>=$BB$5*กำหนดอัตราส่วนคะแนน!$U$4/100,\"ผ\",\"มผ\")))","v":""},null,null,"",{"$f":"IF(BF35=\"\",\"\",IF(BH35=\"ร\",\"มผ\",IF(BH35>=$BJ$5*กำหนดอัตราส่วนคะแนน!$U$4/100,\"ผ\",\"มผ\")))","v":""},null,null,"",{"$f":"IF(BJ35=\"\",\"\",IF(BL35=\"ร\",\"มผ\",IF(BL35>=$BJ$5*กำหนดอัตราส่วนคะแนน!$U$4/100,\"ผ\",\"มผ\")))","v":""},null,null,"",{"$f":"IF(BN35=\"\",\"\",IF(BP35=\"ร\",\"มผ\",IF(BP35>=$BN$5*กำหนดอัตราส่วนคะแนน!$U$4/100,\"ผ\",\"มผ\")))","v":""},null,null,"",{"$f":"IF(BR35=\"\",\"\",IF(BT35=\"ร\",\"มผ\",IF(BT35>=$BR$5*กำหนดอัตราส่วนคะแนน!$U$4/100,\"ผ\",\"มผ\")))","v":""},null,null,"",{"$f":"IF(BV35=\"\",\"\",IF(BX35=\"ร\",\"มผ\",IF(BX35>=$BV$5*กำหนดอัตราส่วนคะแนน!$U$4/100,\"ผ\",\"มผ\")))","v":""},null,null,"",{"$f":"IF(BZ35=\"\",\"\",IF(CB35=\"ร\",\"มผ\",IF(CB35>=$BZ$5*กำหนดอัตราส่วนคะแนน!$U$4/100,\"ผ\",\"มผ\")))","v":""},null,null,"",{"$f":"IF(CD35=\"\",\"\",IF(CF35=\"ร\",\"มผ\",IF(CF35>=$CD$5*กำหนดอัตราส่วนคะแนน!$U$4/100,\"ผ\",\"มผ\")))","v":""},null,null,"",{"$f":"IF(CH35=\"\",\"\",IF(CJ35=\"ร\",\"มผ\",IF(CJ35>=$CH$5*กำหนดอัตราส่วนคะแนน!$U$4/100,\"ผ\",\"มผ\")))","v":""},null,null,"",{"$f":"IF(CL35=\"\",\"\",IF(CN35=\"ร\",\"มผ\",IF(CN35>=$CL$5*กำหนดอัตราส่วนคะแนน!$U$4/100,\"ผ\",\"มผ\")))","v":""},null,null,"",{"$f":"IF(CP35=\"\",\"\",IF(CR35=\"ร\",\"มผ\",IF(CR35>=$CP$5*กำหนดอัตราส่วนคะแนน!$U$4/100,\"ผ\",\"มผ\")))","v":""},null,null,"",{"$f":"IF(CT35=\"\",\"\",IF(CV35=\"ร\",\"มผ\",IF(CV35>=$CT$5*กำหนดอัตราส่วนคะแนน!$U$4/100,\"ผ\",\"มผ\")))","v":""},null,null,"",{"$f":"IF(CX35=\"\",\"\",IF(CZ35=\"ร\",\"มผ\",IF(CZ35>=$CX$5*กำหนดอัตราส่วนคะแนน!$U$4/100,\"ผ\",\"มผ\")))","v":""},null,null,"",{"$f":"IF(DB35=\"\",\"\",IF(DD35=\"ร\",\"มผ\",IF(DD35>=$DB$5*กำหนดอัตราส่วนคะแนน!$U$4/100,\"ผ\",\"มผ\")))","v":""},null,null,"",{"$f":"IF(DF35=\"\",\"\",IF(DH35=\"ร\",\"มผ\",IF(DH35>=$DF$5*กำหนดอัตราส่วนคะแนน!$U$4/100,\"ผ\",\"มผ\")))","v":""},null,null,"",{"$f":"IF(DJ35=\"\",\"\",IF(DL35=\"ร\",\"มผ\",IF(DL35>=$DJ$5*กำหนดอัตราส่วนคะแนน!$U$4/100,\"ผ\",\"มผ\")))","v":""},null,null,"",{"$f":"IF(DN35=\"\",\"\",IF(DP35=\"ร\",\"มผ\",IF(DP35>=$DN$5*กำหนดอัตราส่วนคะแนน!$U$4/100,\"ผ\",\"มผ\")))","v":""},null,null,"",{"$f":"IF(DR35=\"\",\"\",IF(DT35=\"ร\",\"มผ\",IF(DT35>=$DR$5*กำหนดอัตราส่วนคะแนน!$U$4/100,\"ผ\",\"มผ\")))","v":""},null,null,"",{"$f":"IF(DV35=\"\",\"\",IF(DX35=\"ร\",\"มผ\",IF(DX35>=$DV$5*กำหนดอัตราส่วนคะแนน!$U$4/100,\"ผ\",\"มผ\")))","v":""},null,null,"",{"$f":"IF(DZ35=\"\",\"\",IF(EB35=\"ร\",\"มผ\",IF(EB35>=$DZ$5*กำหนดอัตราส่วนคะแนน!$U$4/100,\"ผ\",\"มผ\")))","v":""},null,null,"",{"$f":"IF(ED35=\"\",\"\",IF(EF35=\"ร\",\"มผ\",IF(EF35>=$ED$5*กำหนดอัตราส่วนคะแนน!$U$4/100,\"ผ\",\"มผ\")))","v":""},null,null,"",{"$f":"IF(EH35=\"\",\"\",IF(EJ35=\"ร\",\"มผ\",IF(EJ35>=$EH$5*กำหนดอัตราส่วนคะแนน!$U$4/100,\"ผ\",\"มผ\")))","v":""},null,null,"",{"$f":"IF(EL35=\"\",\"\",IF(EN35=\"ร\",\"มผ\",IF(EN105>=$EL$5*กำหนดอัตราส่วนคะแนน!$U$4/100,\"ผ\",\"มผ\")))","v":""},null,null,"",{"$f":"IF(EP35=\"\",\"\",IF(ER35=\"ร\",\"มผ\",IF(ER35>=$EP$5*กำหนดอัตราส่วนคะแนน!$U$4/100,\"ผ\",\"มผ\")))","v":""},null,null,"",{"$f":"IF(ET35=\"\",\"\",IF(EV35=\"ร\",\"มผ\",IF(EV35>=$ET$5*กำหนดอัตราส่วนคะแนน!$U$4/100,\"ผ\",\"มผ\")))","v":""},null,null,"",{"$f":"IF(EX35=\"\",\"\",IF(EZ35=\"ร\",\"มผ\",IF(EZ35>=$EX$5*กำหนดอัตราส่วนคะแนน!$U$4/100,\"ผ\",\"มผ\")))","v":""},null,null,"",{"$f":"IF(FB35=\"\",\"\",IF(FD35=\"ร\",\"มผ\",IF(FD35>=$FB$5*กำหนดอัตราส่วนคะแนน!$U$4/100,\"ผ\",\"มผ\")))","v":""},null,null,"",{"$f":"IF(FF35=\"\",\"\",IF(FH35=\"ร\",\"มผ\",IF(FH35>=$FF$5*กำหนดอัตราส่วนคะแนน!$U$4/100,\"ผ\",\"มผ\")))","v":""},{"$f":"IF(Sheet1!#REF!=\"\",\"\",IF(COUNTIF(F35:FI35,\"ร\"),\"ร\",IF(FW35=\"ปกติ\",SUM(H35,L35,P35,T35,X35,AB35,AF35,AJ35,AN35,AR35,AV35,AZ35,BD35,BH35,BL35,BP35,BT35,BX35,CB35,CF35,CJ35,CN35,CR35,CV35,CZ35,DD35,DH35,DL35,DP35,DT35,DX35,EB35,EF35,EJ35,EN35,ER35,EV35,EZ35,FD35,FH35),\"-\")))","v":{"$error":"#REF!"}},null,{"$error":"#REF!"},null,null,{"$error":"#REF!"},null,null,null,"",null,{"$f":"IF(COUNTIF(Sheet1!#REF!:Sheet1!#REF!,\"\"),\"\",IF(COUNTIF(FJ35:FS35,\"ร\"),\"ร\",IF(COUNTIF(FL35:FS35,\"-\"),\"-\",IF(FW35=\"ปกติ\",SUM(FO35,FS35)))))","v":{"$error":"#REF!"}},null,{"$f":"เวลาเรียน!DZ37","v":0}]
[30,2526,{"$f":"CONCATENATE(Sheet1!B31)","v":"18157"},{"$f":"CONCATENATE(Sheet1!D31&Sheet1!#REF!&\"       \"&Sheet1!#REF!)","v":{"$error":"#REF!"}},30,null,null,"",{"$f":"IF(F36=\"\",\"\",IF(H36=\"ร\",\"มผ\",IF(H36>=$F$5*กำหนดอัตราส่วนคะแนน!$U$4/100,\"ผ\",\"มผ\")))","v":""},null,null,"",{"$f":"IF(J36=\"\",\"\",IF(L36=\"ร\",\"มผ\",IF(L36>=$J$5*กำหนดอัตราส่วนคะแนน!$U$4/100,\"ผ\",\"มผ\")))","v":""},null,null,"",{"$f":"IF(N36=\"\",\"\",IF(P36=\"ร\",\"มผ\",IF(P36>=$N$5*กำหนดอัตราส่วนคะแนน!$U$4/100,\"ผ\",\"มผ\")))","v":""},null,null,"",{"$f":"IF(R36=\"\",\"\",IF(T36=\"ร\",\"มผ\",IF(T36>=$R$5*กำหนดอัตราส่วนคะแนน!$U$4/100,\"ผ\",\"มผ\")))","v":""},null,null,"",{"$f":"IF(V36=\"\",\"\",IF(X36=\"ร\",\"มผ\",IF(X36>=$V$5*กำหนดอัตราส่วนคะแนน!$U$4/100,\"ผ\",\"มผ\")))","v":""},null,null,"",{"$f":"IF(Z36=\"\",\"\",IF(AB36=\"ร\",\"มผ\",IF(AB36>=$Z$5*กำหนดอัตราส่วนคะแนน!$U$4/100,\"ผ\",\"มผ\")))","v":""},null,null,"",{"$f":"IF(AD36=\"\",\"\",IF(AF36=\"ร\",\"มผ\",IF(AF36>=$AD$5*กำหนดอัตราส่วนคะแนน!$U$4/100,\"ผ\",\"มผ\")))","v":""},null,null,"",{"$f":"IF(AH36=\"\",\"\",IF(AJ36=\"ร\",\"มผ\",IF(AJ36>=$AH$5*กำหนดอัตราส่วนคะแนน!$U$4/100,\"ผ\",\"มผ\")))","v":""},null,null,"",{"$f":"IF(AL36=\"\",\"\",IF(AN36=\"ร\",\"มผ\",IF(AN36>=$AL$5*กำหนดอัตราส่วนคะแนน!$U$4/100,\"ผ\",\"มผ\")))","v":""},null,null,"",{"$f":"IF(AP36=\"\",\"\",IF(AR36=\"ร\",\"มผ\",IF(AR36>=$AP$5*กำหนดอัตราส่วนคะแนน!$U$4/100,\"ผ\",\"มผ\")))","v":""},null,null,"",{"$f":"IF(AT36=\"\",\"\",IF(AV36=\"ร\",\"มผ\",IF(AV36>=$AT$5*กำหนดอัตราส่วนคะแนน!$U$4/100,\"ผ\",\"มผ\")))","v":""},null,null,"",{"$f":"IF(AX36=\"\",\"\",IF(AZ36=\"ร\",\"มผ\",IF(AZ36>=$AX$5*กำหนดอัตราส่วนคะแนน!$U$4/100,\"ผ\",\"มผ\")))","v":""},null,null,"",{"$f":"IF(BB36=\"\",\"\",IF(BD36=\"ร\",\"มผ\",IF(BD36>=$BB$5*กำหนดอัตราส่วนคะแนน!$U$4/100,\"ผ\",\"มผ\")))","v":""},null,null,"",{"$f":"IF(BF36=\"\",\"\",IF(BH36=\"ร\",\"มผ\",IF(BH36>=$BJ$5*กำหนดอัตราส่วนคะแนน!$U$4/100,\"ผ\",\"มผ\")))","v":""},null,null,"",{"$f":"IF(BJ36=\"\",\"\",IF(BL36=\"ร\",\"มผ\",IF(BL36>=$BJ$5*กำหนดอัตราส่วนคะแนน!$U$4/100,\"ผ\",\"มผ\")))","v":""},null,null,"",{"$f":"IF(BN36=\"\",\"\",IF(BP36=\"ร\",\"มผ\",IF(BP36>=$BN$5*กำหนดอัตราส่วนคะแนน!$U$4/100,\"ผ\",\"มผ\")))","v":""},null,null,"",{"$f":"IF(BR36=\"\",\"\",IF(BT36=\"ร\",\"มผ\",IF(BT36>=$BR$5*กำหนดอัตราส่วนคะแนน!$U$4/100,\"ผ\",\"มผ\")))","v":""},null,null,"",{"$f":"IF(BV36=\"\",\"\",IF(BX36=\"ร\",\"มผ\",IF(BX36>=$BV$5*กำหนดอัตราส่วนคะแนน!$U$4/100,\"ผ\",\"มผ\")))","v":""},null,null,"",{"$f":"IF(BZ36=\"\",\"\",IF(CB36=\"ร\",\"มผ\",IF(CB36>=$BZ$5*กำหนดอัตราส่วนคะแนน!$U$4/100,\"ผ\",\"มผ\")))","v":""},null,null,"",{"$f":"IF(CD36=\"\",\"\",IF(CF36=\"ร\",\"มผ\",IF(CF36>=$CD$5*กำหนดอัตราส่วนคะแนน!$U$4/100,\"ผ\",\"มผ\")))","v":""},null,null,"",{"$f":"IF(CH36=\"\",\"\",IF(CJ36=\"ร\",\"มผ\",IF(CJ36>=$CH$5*กำหนดอัตราส่วนคะแนน!$U$4/100,\"ผ\",\"มผ\")))","v":""},null,null,"",{"$f":"IF(CL36=\"\",\"\",IF(CN36=\"ร\",\"มผ\",IF(CN36>=$CL$5*กำหนดอัตราส่วนคะแนน!$U$4/100,\"ผ\",\"มผ\")))","v":""},null,null,"",{"$f":"IF(CP36=\"\",\"\",IF(CR36=\"ร\",\"มผ\",IF(CR36>=$CP$5*กำหนดอัตราส่วนคะแนน!$U$4/100,\"ผ\",\"มผ\")))","v":""},null,null,"",{"$f":"IF(CT36=\"\",\"\",IF(CV36=\"ร\",\"มผ\",IF(CV36>=$CT$5*กำหนดอัตราส่วนคะแนน!$U$4/100,\"ผ\",\"มผ\")))","v":""},null,null,"",{"$f":"IF(CX36=\"\",\"\",IF(CZ36=\"ร\",\"มผ\",IF(CZ36>=$CX$5*กำหนดอัตราส่วนคะแนน!$U$4/100,\"ผ\",\"มผ\")))","v":""},null,null,"",{"$f":"IF(DB36=\"\",\"\",IF(DD36=\"ร\",\"มผ\",IF(DD36>=$DB$5*กำหนดอัตราส่วนคะแนน!$U$4/100,\"ผ\",\"มผ\")))","v":""},null,null,"",{"$f":"IF(DF36=\"\",\"\",IF(DH36=\"ร\",\"มผ\",IF(DH36>=$DF$5*กำหนดอัตราส่วนคะแนน!$U$4/100,\"ผ\",\"มผ\")))","v":""},null,null,"",{"$f":"IF(DJ36=\"\",\"\",IF(DL36=\"ร\",\"มผ\",IF(DL36>=$DJ$5*กำหนดอัตราส่วนคะแนน!$U$4/100,\"ผ\",\"มผ\")))","v":""},null,null,"",{"$f":"IF(DN36=\"\",\"\",IF(DP36=\"ร\",\"มผ\",IF(DP36>=$DN$5*กำหนดอัตราส่วนคะแนน!$U$4/100,\"ผ\",\"มผ\")))","v":""},null,null,"",{"$f":"IF(DR36=\"\",\"\",IF(DT36=\"ร\",\"มผ\",IF(DT36>=$DR$5*กำหนดอัตราส่วนคะแนน!$U$4/100,\"ผ\",\"มผ\")))","v":""},null,null,"",{"$f":"IF(DV36=\"\",\"\",IF(DX36=\"ร\",\"มผ\",IF(DX36>=$DV$5*กำหนดอัตราส่วนคะแนน!$U$4/100,\"ผ\",\"มผ\")))","v":""},null,null,"",{"$f":"IF(DZ36=\"\",\"\",IF(EB36=\"ร\",\"มผ\",IF(EB36>=$DZ$5*กำหนดอัตราส่วนคะแนน!$U$4/100,\"ผ\",\"มผ\")))","v":""},null,null,"",{"$f":"IF(ED36=\"\",\"\",IF(EF36=\"ร\",\"มผ\",IF(EF36>=$ED$5*กำหนดอัตราส่วนคะแนน!$U$4/100,\"ผ\",\"มผ\")))","v":""},null,null,"",{"$f":"IF(EH36=\"\",\"\",IF(EJ36=\"ร\",\"มผ\",IF(EJ36>=$EH$5*กำหนดอัตราส่วนคะแนน!$U$4/100,\"ผ\",\"มผ\")))","v":""},null,null,"",{"$f":"IF(EL36=\"\",\"\",IF(EN36=\"ร\",\"มผ\",IF(EN106>=$EL$5*กำหนดอัตราส่วนคะแนน!$U$4/100,\"ผ\",\"มผ\")))","v":""},null,null,"",{"$f":"IF(EP36=\"\",\"\",IF(ER36=\"ร\",\"มผ\",IF(ER36>=$EP$5*กำหนดอัตราส่วนคะแนน!$U$4/100,\"ผ\",\"มผ\")))","v":""},null,null,"",{"$f":"IF(ET36=\"\",\"\",IF(EV36=\"ร\",\"มผ\",IF(EV36>=$ET$5*กำหนดอัตราส่วนคะแนน!$U$4/100,\"ผ\",\"มผ\")))","v":""},null,null,"",{"$f":"IF(EX36=\"\",\"\",IF(EZ36=\"ร\",\"มผ\",IF(EZ36>=$EX$5*กำหนดอัตราส่วนคะแนน!$U$4/100,\"ผ\",\"มผ\")))","v":""},null,null,"",{"$f":"IF(FB36=\"\",\"\",IF(FD36=\"ร\",\"มผ\",IF(FD36>=$FB$5*กำหนดอัตราส่วนคะแนน!$U$4/100,\"ผ\",\"มผ\")))","v":""},null,null,"",{"$f":"IF(FF36=\"\",\"\",IF(FH36=\"ร\",\"มผ\",IF(FH36>=$FF$5*กำหนดอัตราส่วนคะแนน!$U$4/100,\"ผ\",\"มผ\")))","v":""},{"$f":"IF(Sheet1!#REF!=\"\",\"\",IF(COUNTIF(F36:FI36,\"ร\"),\"ร\",IF(FW36=\"ปกติ\",SUM(H36,L36,P36,T36,X36,AB36,AF36,AJ36,AN36,AR36,AV36,AZ36,BD36,BH36,BL36,BP36,BT36,BX36,CB36,CF36,CJ36,CN36,CR36,CV36,CZ36,DD36,DH36,DL36,DP36,DT36,DX36,EB36,EF36,EJ36,EN36,ER36,EV36,EZ36,FD36,FH36),\"-\")))","v":{"$error":"#REF!"}},null,{"$error":"#REF!"},null,null,{"$error":"#REF!"},null,null,null,"",null,{"$f":"IF(COUNTIF(Sheet1!#REF!:Sheet1!#REF!,\"\"),\"\",IF(COUNTIF(FJ36:FS36,\"ร\"),\"ร\",IF(COUNTIF(FL36:FS36,\"-\"),\"-\",IF(FW36=\"ปกติ\",SUM(FO36,FS36)))))","v":{"$error":"#REF!"}},null,{"$f":"เวลาเรียน!DZ38","v":0}]
[31,2528,{"$f":"CONCATENATE(Sheet1!B32)","v":"18158"},{"$f":"CONCATENATE(Sheet1!D32&Sheet1!#REF!&\"       \"&Sheet1!#REF!)","v":{"$error":"#REF!"}},31,null,null,"",{"$f":"IF(F37=\"\",\"\",IF(H37=\"ร\",\"มผ\",IF(H37>=$F$5*กำหนดอัตราส่วนคะแนน!$U$4/100,\"ผ\",\"มผ\")))","v":""},null,null,"",{"$f":"IF(J37=\"\",\"\",IF(L37=\"ร\",\"มผ\",IF(L37>=$J$5*กำหนดอัตราส่วนคะแนน!$U$4/100,\"ผ\",\"มผ\")))","v":""},null,null,"",{"$f":"IF(N37=\"\",\"\",IF(P37=\"ร\",\"มผ\",IF(P37>=$N$5*กำหนดอัตราส่วนคะแนน!$U$4/100,\"ผ\",\"มผ\")))","v":""},null,null,"",{"$f":"IF(R37=\"\",\"\",IF(T37=\"ร\",\"มผ\",IF(T37>=$R$5*กำหนดอัตราส่วนคะแนน!$U$4/100,\"ผ\",\"มผ\")))","v":""},null,null,"",{"$f":"IF(V37=\"\",\"\",IF(X37=\"ร\",\"มผ\",IF(X37>=$V$5*กำหนดอัตราส่วนคะแนน!$U$4/100,\"ผ\",\"มผ\")))","v":""},null,null,"",{"$f":"IF(Z37=\"\",\"\",IF(AB37=\"ร\",\"มผ\",IF(AB37>=$Z$5*กำหนดอัตราส่วนคะแนน!$U$4/100,\"ผ\",\"มผ\")))","v":""},null,null,"",{"$f":"IF(AD37=\"\",\"\",IF(AF37=\"ร\",\"มผ\",IF(AF37>=$AD$5*กำหนดอัตราส่วนคะแนน!$U$4/100,\"ผ\",\"มผ\")))","v":""},null,null,"",{"$f":"IF(AH37=\"\",\"\",IF(AJ37=\"ร\",\"มผ\",IF(AJ37>=$AH$5*กำหนดอัตราส่วนคะแนน!$U$4/100,\"ผ\",\"มผ\")))","v":""},null,null,"",{"$f":"IF(AL37=\"\",\"\",IF(AN37=\"ร\",\"มผ\",IF(AN37>=$AL$5*กำหนดอัตราส่วนคะแนน!$U$4/100,\"ผ\",\"มผ\")))","v":""},null,null,"",{"$f":"IF(AP37=\"\",\"\",IF(AR37=\"ร\",\"มผ\",IF(AR37>=$AP$5*กำหนดอัตราส่วนคะแนน!$U$4/100,\"ผ\",\"มผ\")))","v":""},null,null,"",{"$f":"IF(AT37=\"\",\"\",IF(AV37=\"ร\",\"มผ\",IF(AV37>=$AT$5*กำหนดอัตราส่วนคะแนน!$U$4/100,\"ผ\",\"มผ\")))","v":""},null,null,"",{"$f":"IF(AX37=\"\",\"\",IF(AZ37=\"ร\",\"มผ\",IF(AZ37>=$AX$5*กำหนดอัตราส่วนคะแนน!$U$4/100,\"ผ\",\"มผ\")))","v":""},null,null,"",{"$f":"IF(BB37=\"\",\"\",IF(BD37=\"ร\",\"มผ\",IF(BD37>=$BB$5*กำหนดอัตราส่วนคะแนน!$U$4/100,\"ผ\",\"มผ\")))","v":""},null,null,"",{"$f":"IF(BF37=\"\",\"\",IF(BH37=\"ร\",\"มผ\",IF(BH37>=$BJ$5*กำหนดอัตราส่วนคะแนน!$U$4/100,\"ผ\",\"มผ\")))","v":""},null,null,"",{"$f":"IF(BJ37=\"\",\"\",IF(BL37=\"ร\",\"มผ\",IF(BL37>=$BJ$5*กำหนดอัตราส่วนคะแนน!$U$4/100,\"ผ\",\"มผ\")))","v":""},null,null,"",{"$f":"IF(BN37=\"\",\"\",IF(BP37=\"ร\",\"มผ\",IF(BP37>=$BN$5*กำหนดอัตราส่วนคะแนน!$U$4/100,\"ผ\",\"มผ\")))","v":""},null,null,"",{"$f":"IF(BR37=\"\",\"\",IF(BT37=\"ร\",\"มผ\",IF(BT37>=$BR$5*กำหนดอัตราส่วนคะแนน!$U$4/100,\"ผ\",\"มผ\")))","v":""},null,null,"",{"$f":"IF(BV37=\"\",\"\",IF(BX37=\"ร\",\"มผ\",IF(BX37>=$BV$5*กำหนดอัตราส่วนคะแนน!$U$4/100,\"ผ\",\"มผ\")))","v":""},null,null,"",{"$f":"IF(BZ37=\"\",\"\",IF(CB37=\"ร\",\"มผ\",IF(CB37>=$BZ$5*กำหนดอัตราส่วนคะแนน!$U$4/100,\"ผ\",\"มผ\")))","v":""},null,null,"",{"$f":"IF(CD37=\"\",\"\",IF(CF37=\"ร\",\"มผ\",IF(CF37>=$CD$5*กำหนดอัตราส่วนคะแนน!$U$4/100,\"ผ\",\"มผ\")))","v":""},null,null,"",{"$f":"IF(CH37=\"\",\"\",IF(CJ37=\"ร\",\"มผ\",IF(CJ37>=$CH$5*กำหนดอัตราส่วนคะแนน!$U$4/100,\"ผ\",\"มผ\")))","v":""},null,null,"",{"$f":"IF(CL37=\"\",\"\",IF(CN37=\"ร\",\"มผ\",IF(CN37>=$CL$5*กำหนดอัตราส่วนคะแนน!$U$4/100,\"ผ\",\"มผ\")))","v":""},null,null,"",{"$f":"IF(CP37=\"\",\"\",IF(CR37=\"ร\",\"มผ\",IF(CR37>=$CP$5*กำหนดอัตราส่วนคะแนน!$U$4/100,\"ผ\",\"มผ\")))","v":""},null,null,"",{"$f":"IF(CT37=\"\",\"\",IF(CV37=\"ร\",\"มผ\",IF(CV37>=$CT$5*กำหนดอัตราส่วนคะแนน!$U$4/100,\"ผ\",\"มผ\")))","v":""},null,null,"",{"$f":"IF(CX37=\"\",\"\",IF(CZ37=\"ร\",\"มผ\",IF(CZ37>=$CX$5*กำหนดอัตราส่วนคะแนน!$U$4/100,\"ผ\",\"มผ\")))","v":""},null,null,"",{"$f":"IF(DB37=\"\",\"\",IF(DD37=\"ร\",\"มผ\",IF(DD37>=$DB$5*กำหนดอัตราส่วนคะแนน!$U$4/100,\"ผ\",\"มผ\")))","v":""},null,null,"",{"$f":"IF(DF37=\"\",\"\",IF(DH37=\"ร\",\"มผ\",IF(DH37>=$DF$5*กำหนดอัตราส่วนคะแนน!$U$4/100,\"ผ\",\"มผ\")))","v":""},null,null,"",{"$f":"IF(DJ37=\"\",\"\",IF(DL37=\"ร\",\"มผ\",IF(DL37>=$DJ$5*กำหนดอัตราส่วนคะแนน!$U$4/100,\"ผ\",\"มผ\")))","v":""},null,null,"",{"$f":"IF(DN37=\"\",\"\",IF(DP37=\"ร\",\"มผ\",IF(DP37>=$DN$5*กำหนดอัตราส่วนคะแนน!$U$4/100,\"ผ\",\"มผ\")))","v":""},null,null,"",{"$f":"IF(DR37=\"\",\"\",IF(DT37=\"ร\",\"มผ\",IF(DT37>=$DR$5*กำหนดอัตราส่วนคะแนน!$U$4/100,\"ผ\",\"มผ\")))","v":""},null,null,"",{"$f":"IF(DV37=\"\",\"\",IF(DX37=\"ร\",\"มผ\",IF(DX37>=$DV$5*กำหนดอัตราส่วนคะแนน!$U$4/100,\"ผ\",\"มผ\")))","v":""},null,null,"",{"$f":"IF(DZ37=\"\",\"\",IF(EB37=\"ร\",\"มผ\",IF(EB37>=$DZ$5*กำหนดอัตราส่วนคะแนน!$U$4/100,\"ผ\",\"มผ\")))","v":""},null,null,"",{"$f":"IF(ED37=\"\",\"\",IF(EF37=\"ร\",\"มผ\",IF(EF37>=$ED$5*กำหนดอัตราส่วนคะแนน!$U$4/100,\"ผ\",\"มผ\")))","v":""},null,null,"",{"$f":"IF(EH37=\"\",\"\",IF(EJ37=\"ร\",\"มผ\",IF(EJ37>=$EH$5*กำหนดอัตราส่วนคะแนน!$U$4/100,\"ผ\",\"มผ\")))","v":""},null,null,"",{"$f":"IF(EL37=\"\",\"\",IF(EN37=\"ร\",\"มผ\",IF(EN107>=$EL$5*กำหนดอัตราส่วนคะแนน!$U$4/100,\"ผ\",\"มผ\")))","v":""},null,null,"",{"$f":"IF(EP37=\"\",\"\",IF(ER37=\"ร\",\"มผ\",IF(ER37>=$EP$5*กำหนดอัตราส่วนคะแนน!$U$4/100,\"ผ\",\"มผ\")))","v":""},null,null,"",{"$f":"IF(ET37=\"\",\"\",IF(EV37=\"ร\",\"มผ\",IF(EV37>=$ET$5*กำหนดอัตราส่วนคะแนน!$U$4/100,\"ผ\",\"มผ\")))","v":""},null,null,"",{"$f":"IF(EX37=\"\",\"\",IF(EZ37=\"ร\",\"มผ\",IF(EZ37>=$EX$5*กำหนดอัตราส่วนคะแนน!$U$4/100,\"ผ\",\"มผ\")))","v":""},null,null,"",{"$f":"IF(FB37=\"\",\"\",IF(FD37=\"ร\",\"มผ\",IF(FD37>=$FB$5*กำหนดอัตราส่วนคะแนน!$U$4/100,\"ผ\",\"มผ\")))","v":""},null,null,"",{"$f":"IF(FF37=\"\",\"\",IF(FH37=\"ร\",\"มผ\",IF(FH37>=$FF$5*กำหนดอัตราส่วนคะแนน!$U$4/100,\"ผ\",\"มผ\")))","v":""},{"$f":"IF(Sheet1!#REF!=\"\",\"\",IF(COUNTIF(F37:FI37,\"ร\"),\"ร\",IF(FW37=\"ปกติ\",SUM(H37,L37,P37,T37,X37,AB37,AF37,AJ37,AN37,AR37,AV37,AZ37,BD37,BH37,BL37,BP37,BT37,BX37,CB37,CF37,CJ37,CN37,CR37,CV37,CZ37,DD37,DH37,DL37,DP37,DT37,DX37,EB37,EF37,EJ37,EN37,ER37,EV37,EZ37,FD37,FH37),\"-\")))","v":{"$error":"#REF!"}},null,{"$error":"#REF!"},null,null,{"$error":"#REF!"},null,null,null,"",null,{"$f":"IF(COUNTIF(Sheet1!#REF!:Sheet1!#REF!,\"\"),\"\",IF(COUNTIF(FJ37:FS37,\"ร\"),\"ร\",IF(COUNTIF(FL37:FS37,\"-\"),\"-\",IF(FW37=\"ปกติ\",SUM(FO37,FS37)))))","v":{"$error":"#REF!"}},null,{"$f":"เวลาเรียน!DZ39","v":0}]
[32,2529,{"$f":"CONCATENATE(Sheet1!B33)","v":"18159"},{"$f":"CONCATENATE(Sheet1!D33&Sheet1!#REF!&\"       \"&Sheet1!#REF!)","v":{"$error":"#REF!"}},32,null,null,"",{"$f":"IF(F38=\"\",\"\",IF(H38=\"ร\",\"มผ\",IF(H38>=$F$5*กำหนดอัตราส่วนคะแนน!$U$4/100,\"ผ\",\"มผ\")))","v":""},null,null,"",{"$f":"IF(J38=\"\",\"\",IF(L38=\"ร\",\"มผ\",IF(L38>=$J$5*กำหนดอัตราส่วนคะแนน!$U$4/100,\"ผ\",\"มผ\")))","v":""},null,null,"",{"$f":"IF(N38=\"\",\"\",IF(P38=\"ร\",\"มผ\",IF(P38>=$N$5*กำหนดอัตราส่วนคะแนน!$U$4/100,\"ผ\",\"มผ\")))","v":""},null,null,"",{"$f":"IF(R38=\"\",\"\",IF(T38=\"ร\",\"มผ\",IF(T38>=$R$5*กำหนดอัตราส่วนคะแนน!$U$4/100,\"ผ\",\"มผ\")))","v":""},null,null,"",{"$f":"IF(V38=\"\",\"\",IF(X38=\"ร\",\"มผ\",IF(X38>=$V$5*กำหนดอัตราส่วนคะแนน!$U$4/100,\"ผ\",\"มผ\")))","v":""},null,null,"",{"$f":"IF(Z38=\"\",\"\",IF(AB38=\"ร\",\"มผ\",IF(AB38>=$Z$5*กำหนดอัตราส่วนคะแนน!$U$4/100,\"ผ\",\"มผ\")))","v":""},null,null,"",{"$f":"IF(AD38=\"\",\"\",IF(AF38=\"ร\",\"มผ\",IF(AF38>=$AD$5*กำหนดอัตราส่วนคะแนน!$U$4/100,\"ผ\",\"มผ\")))","v":""},null,null,"",{"$f":"IF(AH38=\"\",\"\",IF(AJ38=\"ร\",\"มผ\",IF(AJ38>=$AH$5*กำหนดอัตราส่วนคะแนน!$U$4/100,\"ผ\",\"มผ\")))","v":""},null,null,"",{"$f":"IF(AL38=\"\",\"\",IF(AN38=\"ร\",\"มผ\",IF(AN38>=$AL$5*กำหนดอัตราส่วนคะแนน!$U$4/100,\"ผ\",\"มผ\")))","v":""},null,null,"",{"$f":"IF(AP38=\"\",\"\",IF(AR38=\"ร\",\"มผ\",IF(AR38>=$AP$5*กำหนดอัตราส่วนคะแนน!$U$4/100,\"ผ\",\"มผ\")))","v":""},null,null,"",{"$f":"IF(AT38=\"\",\"\",IF(AV38=\"ร\",\"มผ\",IF(AV38>=$AT$5*กำหนดอัตราส่วนคะแนน!$U$4/100,\"ผ\",\"มผ\")))","v":""},null,null,"",{"$f":"IF(AX38=\"\",\"\",IF(AZ38=\"ร\",\"มผ\",IF(AZ38>=$AX$5*กำหนดอัตราส่วนคะแนน!$U$4/100,\"ผ\",\"มผ\")))","v":""},null,null,"",{"$f":"IF(BB38=\"\",\"\",IF(BD38=\"ร\",\"มผ\",IF(BD38>=$BB$5*กำหนดอัตราส่วนคะแนน!$U$4/100,\"ผ\",\"มผ\")))","v":""},null,null,"",{"$f":"IF(BF38=\"\",\"\",IF(BH38=\"ร\",\"มผ\",IF(BH38>=$BJ$5*กำหนดอัตราส่วนคะแนน!$U$4/100,\"ผ\",\"มผ\")))","v":""},null,null,"",{"$f":"IF(BJ38=\"\",\"\",IF(BL38=\"ร\",\"มผ\",IF(BL38>=$BJ$5*กำหนดอัตราส่วนคะแนน!$U$4/100,\"ผ\",\"มผ\")))","v":""},null,null,"",{"$f":"IF(BN38=\"\",\"\",IF(BP38=\"ร\",\"มผ\",IF(BP38>=$BN$5*กำหนดอัตราส่วนคะแนน!$U$4/100,\"ผ\",\"มผ\")))","v":""},null,null,"",{"$f":"IF(BR38=\"\",\"\",IF(BT38=\"ร\",\"มผ\",IF(BT38>=$BR$5*กำหนดอัตราส่วนคะแนน!$U$4/100,\"ผ\",\"มผ\")))","v":""},null,null,"",{"$f":"IF(BV38=\"\",\"\",IF(BX38=\"ร\",\"มผ\",IF(BX38>=$BV$5*กำหนดอัตราส่วนคะแนน!$U$4/100,\"ผ\",\"มผ\")))","v":""},null,null,"",{"$f":"IF(BZ38=\"\",\"\",IF(CB38=\"ร\",\"มผ\",IF(CB38>=$BZ$5*กำหนดอัตราส่วนคะแนน!$U$4/100,\"ผ\",\"มผ\")))","v":""},null,null,"",{"$f":"IF(CD38=\"\",\"\",IF(CF38=\"ร\",\"มผ\",IF(CF38>=$CD$5*กำหนดอัตราส่วนคะแนน!$U$4/100,\"ผ\",\"มผ\")))","v":""},null,null,"",{"$f":"IF(CH38=\"\",\"\",IF(CJ38=\"ร\",\"มผ\",IF(CJ38>=$CH$5*กำหนดอัตราส่วนคะแนน!$U$4/100,\"ผ\",\"มผ\")))","v":""},null,null,"",{"$f":"IF(CL38=\"\",\"\",IF(CN38=\"ร\",\"มผ\",IF(CN38>=$CL$5*กำหนดอัตราส่วนคะแนน!$U$4/100,\"ผ\",\"มผ\")))","v":""},null,null,"",{"$f":"IF(CP38=\"\",\"\",IF(CR38=\"ร\",\"มผ\",IF(CR38>=$CP$5*กำหนดอัตราส่วนคะแนน!$U$4/100,\"ผ\",\"มผ\")))","v":""},null,null,"",{"$f":"IF(CT38=\"\",\"\",IF(CV38=\"ร\",\"มผ\",IF(CV38>=$CT$5*กำหนดอัตราส่วนคะแนน!$U$4/100,\"ผ\",\"มผ\")))","v":""},null,null,"",{"$f":"IF(CX38=\"\",\"\",IF(CZ38=\"ร\",\"มผ\",IF(CZ38>=$CX$5*กำหนดอัตราส่วนคะแนน!$U$4/100,\"ผ\",\"มผ\")))","v":""},null,null,"",{"$f":"IF(DB38=\"\",\"\",IF(DD38=\"ร\",\"มผ\",IF(DD38>=$DB$5*กำหนดอัตราส่วนคะแนน!$U$4/100,\"ผ\",\"มผ\")))","v":""},null,null,"",{"$f":"IF(DF38=\"\",\"\",IF(DH38=\"ร\",\"มผ\",IF(DH38>=$DF$5*กำหนดอัตราส่วนคะแนน!$U$4/100,\"ผ\",\"มผ\")))","v":""},null,null,"",{"$f":"IF(DJ38=\"\",\"\",IF(DL38=\"ร\",\"มผ\",IF(DL38>=$DJ$5*กำหนดอัตราส่วนคะแนน!$U$4/100,\"ผ\",\"มผ\")))","v":""},null,null,"",{"$f":"IF(DN38=\"\",\"\",IF(DP38=\"ร\",\"มผ\",IF(DP38>=$DN$5*กำหนดอัตราส่วนคะแนน!$U$4/100,\"ผ\",\"มผ\")))","v":""},null,null,"",{"$f":"IF(DR38=\"\",\"\",IF(DT38=\"ร\",\"มผ\",IF(DT38>=$DR$5*กำหนดอัตราส่วนคะแนน!$U$4/100,\"ผ\",\"มผ\")))","v":""},null,null,"",{"$f":"IF(DV38=\"\",\"\",IF(DX38=\"ร\",\"มผ\",IF(DX38>=$DV$5*กำหนดอัตราส่วนคะแนน!$U$4/100,\"ผ\",\"มผ\")))","v":""},null,null,"",{"$f":"IF(DZ38=\"\",\"\",IF(EB38=\"ร\",\"มผ\",IF(EB38>=$DZ$5*กำหนดอัตราส่วนคะแนน!$U$4/100,\"ผ\",\"มผ\")))","v":""},null,null,"",{"$f":"IF(ED38=\"\",\"\",IF(EF38=\"ร\",\"มผ\",IF(EF38>=$ED$5*กำหนดอัตราส่วนคะแนน!$U$4/100,\"ผ\",\"มผ\")))","v":""},null,null,"",{"$f":"IF(EH38=\"\",\"\",IF(EJ38=\"ร\",\"มผ\",IF(EJ38>=$EH$5*กำหนดอัตราส่วนคะแนน!$U$4/100,\"ผ\",\"มผ\")))","v":""},null,null,"",{"$f":"IF(EL38=\"\",\"\",IF(EN38=\"ร\",\"มผ\",IF(EN108>=$EL$5*กำหนดอัตราส่วนคะแนน!$U$4/100,\"ผ\",\"มผ\")))","v":""},null,null,"",{"$f":"IF(EP38=\"\",\"\",IF(ER38=\"ร\",\"มผ\",IF(ER38>=$EP$5*กำหนดอัตราส่วนคะแนน!$U$4/100,\"ผ\",\"มผ\")))","v":""},null,null,"",{"$f":"IF(ET38=\"\",\"\",IF(EV38=\"ร\",\"มผ\",IF(EV38>=$ET$5*กำหนดอัตราส่วนคะแนน!$U$4/100,\"ผ\",\"มผ\")))","v":""},null,null,"",{"$f":"IF(EX38=\"\",\"\",IF(EZ38=\"ร\",\"มผ\",IF(EZ38>=$EX$5*กำหนดอัตราส่วนคะแนน!$U$4/100,\"ผ\",\"มผ\")))","v":""},null,null,"",{"$f":"IF(FB38=\"\",\"\",IF(FD38=\"ร\",\"มผ\",IF(FD38>=$FB$5*กำหนดอัตราส่วนคะแนน!$U$4/100,\"ผ\",\"มผ\")))","v":""},null,null,"",{"$f":"IF(FF38=\"\",\"\",IF(FH38=\"ร\",\"มผ\",IF(FH38>=$FF$5*กำหนดอัตราส่วนคะแนน!$U$4/100,\"ผ\",\"มผ\")))","v":""},{"$f":"IF(Sheet1!#REF!=\"\",\"\",IF(COUNTIF(F38:FI38,\"ร\"),\"ร\",IF(FW38=\"ปกติ\",SUM(H38,L38,P38,T38,X38,AB38,AF38,AJ38,AN38,AR38,AV38,AZ38,BD38,BH38,BL38,BP38,BT38,BX38,CB38,CF38,CJ38,CN38,CR38,CV38,CZ38,DD38,DH38,DL38,DP38,DT38,DX38,EB38,EF38,EJ38,EN38,ER38,EV38,EZ38,FD38,FH38),\"-\")))","v":{"$error":"#REF!"}},null,{"$error":"#REF!"},null,null,{"$error":"#REF!"},null,null,null,"",null,{"$f":"IF(COUNTIF(Sheet1!#REF!:Sheet1!#REF!,\"\"),\"\",IF(COUNTIF(FJ38:FS38,\"ร\"),\"ร\",IF(COUNTIF(FL38:FS38,\"-\"),\"-\",IF(FW38=\"ปกติ\",SUM(FO38,FS38)))))","v":{"$error":"#REF!"}},null,{"$f":"เวลาเรียน!DZ40","v":0}]
[33,0,{"$f":"CONCATENATE(Sheet1!B34)","v":"18160"},{"$f":"CONCATENATE(Sheet1!D34&Sheet1!#REF!&\"       \"&Sheet1!#REF!)","v":{"$error":"#REF!"}},33,null,null,"",{"$f":"IF(F39=\"\",\"\",IF(H39=\"ร\",\"มผ\",IF(H39>=$F$5*กำหนดอัตราส่วนคะแนน!$U$4/100,\"ผ\",\"มผ\")))","v":""},null,null,"",{"$f":"IF(J39=\"\",\"\",IF(L39=\"ร\",\"มผ\",IF(L39>=$J$5*กำหนดอัตราส่วนคะแนน!$U$4/100,\"ผ\",\"มผ\")))","v":""},null,null,"",{"$f":"IF(N39=\"\",\"\",IF(P39=\"ร\",\"มผ\",IF(P39>=$N$5*กำหนดอัตราส่วนคะแนน!$U$4/100,\"ผ\",\"มผ\")))","v":""},null,null,"",{"$f":"IF(R39=\"\",\"\",IF(T39=\"ร\",\"มผ\",IF(T39>=$R$5*กำหนดอัตราส่วนคะแนน!$U$4/100,\"ผ\",\"มผ\")))","v":""},null,null,"",{"$f":"IF(V39=\"\",\"\",IF(X39=\"ร\",\"มผ\",IF(X39>=$V$5*กำหนดอัตราส่วนคะแนน!$U$4/100,\"ผ\",\"มผ\")))","v":""},null,null,"",{"$f":"IF(Z39=\"\",\"\",IF(AB39=\"ร\",\"มผ\",IF(AB39>=$Z$5*กำหนดอัตราส่วนคะแนน!$U$4/100,\"ผ\",\"มผ\")))","v":""},null,null,"",{"$f":"IF(AD39=\"\",\"\",IF(AF39=\"ร\",\"มผ\",IF(AF39>=$AD$5*กำหนดอัตราส่วนคะแนน!$U$4/100,\"ผ\",\"มผ\")))","v":""},null,null,"",{"$f":"IF(AH39=\"\",\"\",IF(AJ39=\"ร\",\"มผ\",IF(AJ39>=$AH$5*กำหนดอัตราส่วนคะแนน!$U$4/100,\"ผ\",\"มผ\")))","v":""},null,null,"",{"$f":"IF(AL39=\"\",\"\",IF(AN39=\"ร\",\"มผ\",IF(AN39>=$AL$5*กำหนดอัตราส่วนคะแนน!$U$4/100,\"ผ\",\"มผ\")))","v":""},null,null,"",{"$f":"IF(AP39=\"\",\"\",IF(AR39=\"ร\",\"มผ\",IF(AR39>=$AP$5*กำหนดอัตราส่วนคะแนน!$U$4/100,\"ผ\",\"มผ\")))","v":""},null,null,"",{"$f":"IF(AT39=\"\",\"\",IF(AV39=\"ร\",\"มผ\",IF(AV39>=$AT$5*กำหนดอัตราส่วนคะแนน!$U$4/100,\"ผ\",\"มผ\")))","v":""},null,null,"",{"$f":"IF(AX39=\"\",\"\",IF(AZ39=\"ร\",\"มผ\",IF(AZ39>=$AX$5*กำหนดอัตราส่วนคะแนน!$U$4/100,\"ผ\",\"มผ\")))","v":""},null,null,"",{"$f":"IF(BB39=\"\",\"\",IF(BD39=\"ร\",\"มผ\",IF(BD39>=$BB$5*กำหนดอัตราส่วนคะแนน!$U$4/100,\"ผ\",\"มผ\")))","v":""},null,null,"",{"$f":"IF(BF39=\"\",\"\",IF(BH39=\"ร\",\"มผ\",IF(BH39>=$BJ$5*กำหนดอัตราส่วนคะแนน!$U$4/100,\"ผ\",\"มผ\")))","v":""},null,null,"",{"$f":"IF(BJ39=\"\",\"\",IF(BL39=\"ร\",\"มผ\",IF(BL39>=$BJ$5*กำหนดอัตราส่วนคะแนน!$U$4/100,\"ผ\",\"มผ\")))","v":""},null,null,"",{"$f":"IF(BN39=\"\",\"\",IF(BP39=\"ร\",\"มผ\",IF(BP39>=$BN$5*กำหนดอัตราส่วนคะแนน!$U$4/100,\"ผ\",\"มผ\")))","v":""},null,null,"",{"$f":"IF(BR39=\"\",\"\",IF(BT39=\"ร\",\"มผ\",IF(BT39>=$BR$5*กำหนดอัตราส่วนคะแนน!$U$4/100,\"ผ\",\"มผ\")))","v":""},null,null,"",{"$f":"IF(BV39=\"\",\"\",IF(BX39=\"ร\",\"มผ\",IF(BX39>=$BV$5*กำหนดอัตราส่วนคะแนน!$U$4/100,\"ผ\",\"มผ\")))","v":""},null,null,"",{"$f":"IF(BZ39=\"\",\"\",IF(CB39=\"ร\",\"มผ\",IF(CB39>=$BZ$5*กำหนดอัตราส่วนคะแนน!$U$4/100,\"ผ\",\"มผ\")))","v":""},null,null,"",{"$f":"IF(CD39=\"\",\"\",IF(CF39=\"ร\",\"มผ\",IF(CF39>=$CD$5*กำหนดอัตราส่วนคะแนน!$U$4/100,\"ผ\",\"มผ\")))","v":""},null,null,"",{"$f":"IF(CH39=\"\",\"\",IF(CJ39=\"ร\",\"มผ\",IF(CJ39>=$CH$5*กำหนดอัตราส่วนคะแนน!$U$4/100,\"ผ\",\"มผ\")))","v":""},null,null,"",{"$f":"IF(CL39=\"\",\"\",IF(CN39=\"ร\",\"มผ\",IF(CN39>=$CL$5*กำหนดอัตราส่วนคะแนน!$U$4/100,\"ผ\",\"มผ\")))","v":""},null,null,"",{"$f":"IF(CP39=\"\",\"\",IF(CR39=\"ร\",\"มผ\",IF(CR39>=$CP$5*กำหนดอัตราส่วนคะแนน!$U$4/100,\"ผ\",\"มผ\")))","v":""},null,null,"",{"$f":"IF(CT39=\"\",\"\",IF(CV39=\"ร\",\"มผ\",IF(CV39>=$CT$5*กำหนดอัตราส่วนคะแนน!$U$4/100,\"ผ\",\"มผ\")))","v":""},null,null,"",{"$f":"IF(CX39=\"\",\"\",IF(CZ39=\"ร\",\"มผ\",IF(CZ39>=$CX$5*กำหนดอัตราส่วนคะแนน!$U$4/100,\"ผ\",\"มผ\")))","v":""},null,null,"",{"$f":"IF(DB39=\"\",\"\",IF(DD39=\"ร\",\"มผ\",IF(DD39>=$DB$5*กำหนดอัตราส่วนคะแนน!$U$4/100,\"ผ\",\"มผ\")))","v":""},null,null,"",{"$f":"IF(DF39=\"\",\"\",IF(DH39=\"ร\",\"มผ\",IF(DH39>=$DF$5*กำหนดอัตราส่วนคะแนน!$U$4/100,\"ผ\",\"มผ\")))","v":""},null,null,"",{"$f":"IF(DJ39=\"\",\"\",IF(DL39=\"ร\",\"มผ\",IF(DL39>=$DJ$5*กำหนดอัตราส่วนคะแนน!$U$4/100,\"ผ\",\"มผ\")))","v":""},null,null,"",{"$f":"IF(DN39=\"\",\"\",IF(DP39=\"ร\",\"มผ\",IF(DP39>=$DN$5*กำหนดอัตราส่วนคะแนน!$U$4/100,\"ผ\",\"มผ\")))","v":""},null,null,"",{"$f":"IF(DR39=\"\",\"\",IF(DT39=\"ร\",\"มผ\",IF(DT39>=$DR$5*กำหนดอัตราส่วนคะแนน!$U$4/100,\"ผ\",\"มผ\")))","v":""},null,null,"",{"$f":"IF(DV39=\"\",\"\",IF(DX39=\"ร\",\"มผ\",IF(DX39>=$DV$5*กำหนดอัตราส่วนคะแนน!$U$4/100,\"ผ\",\"มผ\")))","v":""},null,null,"",{"$f":"IF(DZ39=\"\",\"\",IF(EB39=\"ร\",\"มผ\",IF(EB39>=$DZ$5*กำหนดอัตราส่วนคะแนน!$U$4/100,\"ผ\",\"มผ\")))","v":""},null,null,"",{"$f":"IF(ED39=\"\",\"\",IF(EF39=\"ร\",\"มผ\",IF(EF39>=$ED$5*กำหนดอัตราส่วนคะแนน!$U$4/100,\"ผ\",\"มผ\")))","v":""},null,null,"",{"$f":"IF(EH39=\"\",\"\",IF(EJ39=\"ร\",\"มผ\",IF(EJ39>=$EH$5*กำหนดอัตราส่วนคะแนน!$U$4/100,\"ผ\",\"มผ\")))","v":""},null,null,"",{"$f":"IF(EL39=\"\",\"\",IF(EN39=\"ร\",\"มผ\",IF(EN109>=$EL$5*กำหนดอัตราส่วนคะแนน!$U$4/100,\"ผ\",\"มผ\")))","v":""},null,null,"",{"$f":"IF(EP39=\"\",\"\",IF(ER39=\"ร\",\"มผ\",IF(ER39>=$EP$5*กำหนดอัตราส่วนคะแนน!$U$4/100,\"ผ\",\"มผ\")))","v":""},null,null,"",{"$f":"IF(ET39=\"\",\"\",IF(EV39=\"ร\",\"มผ\",IF(EV39>=$ET$5*กำหนดอัตราส่วนคะแนน!$U$4/100,\"ผ\",\"มผ\")))","v":""},null,null,"",{"$f":"IF(EX39=\"\",\"\",IF(EZ39=\"ร\",\"มผ\",IF(EZ39>=$EX$5*กำหนดอัตราส่วนคะแนน!$U$4/100,\"ผ\",\"มผ\")))","v":""},null,null,"",{"$f":"IF(FB39=\"\",\"\",IF(FD39=\"ร\",\"มผ\",IF(FD39>=$FB$5*กำหนดอัตราส่วนคะแนน!$U$4/100,\"ผ\",\"มผ\")))","v":""},null,null,"",{"$f":"IF(FF39=\"\",\"\",IF(FH39=\"ร\",\"มผ\",IF(FH39>=$FF$5*กำหนดอัตราส่วนคะแนน!$U$4/100,\"ผ\",\"มผ\")))","v":""},{"$f":"IF(Sheet1!#REF!=\"\",\"\",IF(COUNTIF(F39:FI39,\"ร\"),\"ร\",IF(FW39=\"ปกติ\",SUM(H39,L39,P39,T39,X39,AB39,AF39,AJ39,AN39,AR39,AV39,AZ39,BD39,BH39,BL39,BP39,BT39,BX39,CB39,CF39,CJ39,CN39,CR39,CV39,CZ39,DD39,DH39,DL39,DP39,DT39,DX39,EB39,EF39,EJ39,EN39,ER39,EV39,EZ39,FD39,FH39),\"-\")))","v":{"$error":"#REF!"}},null,{"$error":"#REF!"},null,null,{"$error":"#REF!"},null,null,null,"",null,{"$f":"IF(COUNTIF(Sheet1!#REF!:Sheet1!#REF!,\"\"),\"\",IF(COUNTIF(FJ39:FS39,\"ร\"),\"ร\",IF(COUNTIF(FL39:FS39,\"-\"),\"-\",IF(FW39=\"ปกติ\",SUM(FO39,FS39)))))","v":{"$error":"#REF!"}},null,{"$f":"เวลาเรียน!DZ41","v":0}]
[34,0,{"$f":"CONCATENATE(Sheet1!B35)","v":"18161"},{"$f":"CONCATENATE(Sheet1!D35&Sheet1!#REF!&\"       \"&Sheet1!#REF!)","v":{"$error":"#REF!"}},34,null,null,"",{"$f":"IF(F40=\"\",\"\",IF(H40=\"ร\",\"มผ\",IF(H40>=$F$5*กำหนดอัตราส่วนคะแนน!$U$4/100,\"ผ\",\"มผ\")))","v":""},null,null,"",{"$f":"IF(J40=\"\",\"\",IF(L40=\"ร\",\"มผ\",IF(L40>=$J$5*กำหนดอัตราส่วนคะแนน!$U$4/100,\"ผ\",\"มผ\")))","v":""},null,null,"",{"$f":"IF(N40=\"\",\"\",IF(P40=\"ร\",\"มผ\",IF(P40>=$N$5*กำหนดอัตราส่วนคะแนน!$U$4/100,\"ผ\",\"มผ\")))","v":""},null,null,"",{"$f":"IF(R40=\"\",\"\",IF(T40=\"ร\",\"มผ\",IF(T40>=$R$5*กำหนดอัตราส่วนคะแนน!$U$4/100,\"ผ\",\"มผ\")))","v":""},null,null,"",{"$f":"IF(V40=\"\",\"\",IF(X40=\"ร\",\"มผ\",IF(X40>=$V$5*กำหนดอัตราส่วนคะแนน!$U$4/100,\"ผ\",\"มผ\")))","v":""},null,null,"",{"$f":"IF(Z40=\"\",\"\",IF(AB40=\"ร\",\"มผ\",IF(AB40>=$Z$5*กำหนดอัตราส่วนคะแนน!$U$4/100,\"ผ\",\"มผ\")))","v":""},null,null,"",{"$f":"IF(AD40=\"\",\"\",IF(AF40=\"ร\",\"มผ\",IF(AF40>=$AD$5*กำหนดอัตราส่วนคะแนน!$U$4/100,\"ผ\",\"มผ\")))","v":""},null,null,"",{"$f":"IF(AH40=\"\",\"\",IF(AJ40=\"ร\",\"มผ\",IF(AJ40>=$AH$5*กำหนดอัตราส่วนคะแนน!$U$4/100,\"ผ\",\"มผ\")))","v":""},null,null,"",{"$f":"IF(AL40=\"\",\"\",IF(AN40=\"ร\",\"มผ\",IF(AN40>=$AL$5*กำหนดอัตราส่วนคะแนน!$U$4/100,\"ผ\",\"มผ\")))","v":""},null,null,"",{"$f":"IF(AP40=\"\",\"\",IF(AR40=\"ร\",\"มผ\",IF(AR40>=$AP$5*กำหนดอัตราส่วนคะแนน!$U$4/100,\"ผ\",\"มผ\")))","v":""},null,null,"",{"$f":"IF(AT40=\"\",\"\",IF(AV40=\"ร\",\"มผ\",IF(AV40>=$AT$5*กำหนดอัตราส่วนคะแนน!$U$4/100,\"ผ\",\"มผ\")))","v":""},null,null,"",{"$f":"IF(AX40=\"\",\"\",IF(AZ40=\"ร\",\"มผ\",IF(AZ40>=$AX$5*กำหนดอัตราส่วนคะแนน!$U$4/100,\"ผ\",\"มผ\")))","v":""},null,null,"",{"$f":"IF(BB40=\"\",\"\",IF(BD40=\"ร\",\"มผ\",IF(BD40>=$BB$5*กำหนดอัตราส่วนคะแนน!$U$4/100,\"ผ\",\"มผ\")))","v":""},null,null,"",{"$f":"IF(BF40=\"\",\"\",IF(BH40=\"ร\",\"มผ\",IF(BH40>=$BJ$5*กำหนดอัตราส่วนคะแนน!$U$4/100,\"ผ\",\"มผ\")))","v":""},null,null,"",{"$f":"IF(BJ40=\"\",\"\",IF(BL40=\"ร\",\"มผ\",IF(BL40>=$BJ$5*กำหนดอัตราส่วนคะแนน!$U$4/100,\"ผ\",\"มผ\")))","v":""},null,null,"",{"$f":"IF(BN40=\"\",\"\",IF(BP40=\"ร\",\"มผ\",IF(BP40>=$BN$5*กำหนดอัตราส่วนคะแนน!$U$4/100,\"ผ\",\"มผ\")))","v":""},null,null,"",{"$f":"IF(BR40=\"\",\"\",IF(BT40=\"ร\",\"มผ\",IF(BT40>=$BR$5*กำหนดอัตราส่วนคะแนน!$U$4/100,\"ผ\",\"มผ\")))","v":""},null,null,"",{"$f":"IF(BV40=\"\",\"\",IF(BX40=\"ร\",\"มผ\",IF(BX40>=$BV$5*กำหนดอัตราส่วนคะแนน!$U$4/100,\"ผ\",\"มผ\")))","v":""},null,null,"",{"$f":"IF(BZ40=\"\",\"\",IF(CB40=\"ร\",\"มผ\",IF(CB40>=$BZ$5*กำหนดอัตราส่วนคะแนน!$U$4/100,\"ผ\",\"มผ\")))","v":""},null,null,"",{"$f":"IF(CD40=\"\",\"\",IF(CF40=\"ร\",\"มผ\",IF(CF40>=$CD$5*กำหนดอัตราส่วนคะแนน!$U$4/100,\"ผ\",\"มผ\")))","v":""},null,null,"",{"$f":"IF(CH40=\"\",\"\",IF(CJ40=\"ร\",\"มผ\",IF(CJ40>=$CH$5*กำหนดอัตราส่วนคะแนน!$U$4/100,\"ผ\",\"มผ\")))","v":""},null,null,"",{"$f":"IF(CL40=\"\",\"\",IF(CN40=\"ร\",\"มผ\",IF(CN40>=$CL$5*กำหนดอัตราส่วนคะแนน!$U$4/100,\"ผ\",\"มผ\")))","v":""},null,null,"",{"$f":"IF(CP40=\"\",\"\",IF(CR40=\"ร\",\"มผ\",IF(CR40>=$CP$5*กำหนดอัตราส่วนคะแนน!$U$4/100,\"ผ\",\"มผ\")))","v":""},null,null,"",{"$f":"IF(CT40=\"\",\"\",IF(CV40=\"ร\",\"มผ\",IF(CV40>=$CT$5*กำหนดอัตราส่วนคะแนน!$U$4/100,\"ผ\",\"มผ\")))","v":""},null,null,"",{"$f":"IF(CX40=\"\",\"\",IF(CZ40=\"ร\",\"มผ\",IF(CZ40>=$CX$5*กำหนดอัตราส่วนคะแนน!$U$4/100,\"ผ\",\"มผ\")))","v":""},null,null,"",{"$f":"IF(DB40=\"\",\"\",IF(DD40=\"ร\",\"มผ\",IF(DD40>=$DB$5*กำหนดอัตราส่วนคะแนน!$U$4/100,\"ผ\",\"มผ\")))","v":""},null,null,"",{"$f":"IF(DF40=\"\",\"\",IF(DH40=\"ร\",\"มผ\",IF(DH40>=$DF$5*กำหนดอัตราส่วนคะแนน!$U$4/100,\"ผ\",\"มผ\")))","v":""},null,null,"",{"$f":"IF(DJ40=\"\",\"\",IF(DL40=\"ร\",\"มผ\",IF(DL40>=$DJ$5*กำหนดอัตราส่วนคะแนน!$U$4/100,\"ผ\",\"มผ\")))","v":""},null,null,"",{"$f":"IF(DN40=\"\",\"\",IF(DP40=\"ร\",\"มผ\",IF(DP40>=$DN$5*กำหนดอัตราส่วนคะแนน!$U$4/100,\"ผ\",\"มผ\")))","v":""},null,null,"",{"$f":"IF(DR40=\"\",\"\",IF(DT40=\"ร\",\"มผ\",IF(DT40>=$DR$5*กำหนดอัตราส่วนคะแนน!$U$4/100,\"ผ\",\"มผ\")))","v":""},null,null,"",{"$f":"IF(DV40=\"\",\"\",IF(DX40=\"ร\",\"มผ\",IF(DX40>=$DV$5*กำหนดอัตราส่วนคะแนน!$U$4/100,\"ผ\",\"มผ\")))","v":""},null,null,"",{"$f":"IF(DZ40=\"\",\"\",IF(EB40=\"ร\",\"มผ\",IF(EB40>=$DZ$5*กำหนดอัตราส่วนคะแนน!$U$4/100,\"ผ\",\"มผ\")))","v":""},null,null,"",{"$f":"IF(ED40=\"\",\"\",IF(EF40=\"ร\",\"มผ\",IF(EF40>=$ED$5*กำหนดอัตราส่วนคะแนน!$U$4/100,\"ผ\",\"มผ\")))","v":""},null,null,"",{"$f":"IF(EH40=\"\",\"\",IF(EJ40=\"ร\",\"มผ\",IF(EJ40>=$EH$5*กำหนดอัตราส่วนคะแนน!$U$4/100,\"ผ\",\"มผ\")))","v":""},null,null,"",{"$f":"IF(EL40=\"\",\"\",IF(EN40=\"ร\",\"มผ\",IF(EN110>=$EL$5*กำหนดอัตราส่วนคะแนน!$U$4/100,\"ผ\",\"มผ\")))","v":""},null,null,"",{"$f":"IF(EP40=\"\",\"\",IF(ER40=\"ร\",\"มผ\",IF(ER40>=$EP$5*กำหนดอัตราส่วนคะแนน!$U$4/100,\"ผ\",\"มผ\")))","v":""},null,null,"",{"$f":"IF(ET40=\"\",\"\",IF(EV40=\"ร\",\"มผ\",IF(EV40>=$ET$5*กำหนดอัตราส่วนคะแนน!$U$4/100,\"ผ\",\"มผ\")))","v":""},null,null,"",{"$f":"IF(EX40=\"\",\"\",IF(EZ40=\"ร\",\"มผ\",IF(EZ40>=$EX$5*กำหนดอัตราส่วนคะแนน!$U$4/100,\"ผ\",\"มผ\")))","v":""},null,null,"",{"$f":"IF(FB40=\"\",\"\",IF(FD40=\"ร\",\"มผ\",IF(FD40>=$FB$5*กำหนดอัตราส่วนคะแนน!$U$4/100,\"ผ\",\"มผ\")))","v":""},null,null,"",{"$f":"IF(FF40=\"\",\"\",IF(FH40=\"ร\",\"มผ\",IF(FH40>=$FF$5*กำหนดอัตราส่วนคะแนน!$U$4/100,\"ผ\",\"มผ\")))","v":""},{"$f":"IF(Sheet1!#REF!=\"\",\"\",IF(COUNTIF(F40:FI40,\"ร\"),\"ร\",IF(FW40=\"ปกติ\",SUM(H40,L40,P40,T40,X40,AB40,AF40,AJ40,AN40,AR40,AV40,AZ40,BD40,BH40,BL40,BP40,BT40,BX40,CB40,CF40,CJ40,CN40,CR40,CV40,CZ40,DD40,DH40,DL40,DP40,DT40,DX40,EB40,EF40,EJ40,EN40,ER40,EV40,EZ40,FD40,FH40),\"-\")))","v":{"$error":"#REF!"}},null,{"$error":"#REF!"},null,null,{"$error":"#REF!"},null,null,null,"",null,{"$f":"IF(COUNTIF(Sheet1!#REF!:Sheet1!#REF!,\"\"),\"\",IF(COUNTIF(FJ40:FS40,\"ร\"),\"ร\",IF(COUNTIF(FL40:FS40,\"-\"),\"-\",IF(FW40=\"ปกติ\",SUM(FO40,FS40)))))","v":{"$error":"#REF!"}},null,{"$f":"เวลาเรียน!DZ42","v":0}]
[35,0,{"$f":"CONCATENATE(Sheet1!B36)","v":"18163"},{"$f":"CONCATENATE(Sheet1!D36&Sheet1!#REF!&\"       \"&Sheet1!#REF!)","v":{"$error":"#REF!"}},35,null,null,"",{"$f":"IF(F41=\"\",\"\",IF(H41=\"ร\",\"มผ\",IF(H41>=$F$5*กำหนดอัตราส่วนคะแนน!$U$4/100,\"ผ\",\"มผ\")))","v":""},null,null,"",{"$f":"IF(J41=\"\",\"\",IF(L41=\"ร\",\"มผ\",IF(L41>=$J$5*กำหนดอัตราส่วนคะแนน!$U$4/100,\"ผ\",\"มผ\")))","v":""},null,null,"",{"$f":"IF(N41=\"\",\"\",IF(P41=\"ร\",\"มผ\",IF(P41>=$N$5*กำหนดอัตราส่วนคะแนน!$U$4/100,\"ผ\",\"มผ\")))","v":""},null,null,"",{"$f":"IF(R41=\"\",\"\",IF(T41=\"ร\",\"มผ\",IF(T41>=$R$5*กำหนดอัตราส่วนคะแนน!$U$4/100,\"ผ\",\"มผ\")))","v":""},null,null,"",{"$f":"IF(V41=\"\",\"\",IF(X41=\"ร\",\"มผ\",IF(X41>=$V$5*กำหนดอัตราส่วนคะแนน!$U$4/100,\"ผ\",\"มผ\")))","v":""},null,null,"",{"$f":"IF(Z41=\"\",\"\",IF(AB41=\"ร\",\"มผ\",IF(AB41>=$Z$5*กำหนดอัตราส่วนคะแนน!$U$4/100,\"ผ\",\"มผ\")))","v":""},null,null,"",{"$f":"IF(AD41=\"\",\"\",IF(AF41=\"ร\",\"มผ\",IF(AF41>=$AD$5*กำหนดอัตราส่วนคะแนน!$U$4/100,\"ผ\",\"มผ\")))","v":""},null,null,"",{"$f":"IF(AH41=\"\",\"\",IF(AJ41=\"ร\",\"มผ\",IF(AJ41>=$AH$5*กำหนดอัตราส่วนคะแนน!$U$4/100,\"ผ\",\"มผ\")))","v":""},null,null,"",{"$f":"IF(AL41=\"\",\"\",IF(AN41=\"ร\",\"มผ\",IF(AN41>=$AL$5*กำหนดอัตราส่วนคะแนน!$U$4/100,\"ผ\",\"มผ\")))","v":""},null,null,"",{"$f":"IF(AP41=\"\",\"\",IF(AR41=\"ร\",\"มผ\",IF(AR41>=$AP$5*กำหนดอัตราส่วนคะแนน!$U$4/100,\"ผ\",\"มผ\")))","v":""},null,null,"",{"$f":"IF(AT41=\"\",\"\",IF(AV41=\"ร\",\"มผ\",IF(AV41>=$AT$5*กำหนดอัตราส่วนคะแนน!$U$4/100,\"ผ\",\"มผ\")))","v":""},null,null,"",{"$f":"IF(AX41=\"\",\"\",IF(AZ41=\"ร\",\"มผ\",IF(AZ41>=$AX$5*กำหนดอัตราส่วนคะแนน!$U$4/100,\"ผ\",\"มผ\")))","v":""},null,null,"",{"$f":"IF(BB41=\"\",\"\",IF(BD41=\"ร\",\"มผ\",IF(BD41>=$BB$5*กำหนดอัตราส่วนคะแนน!$U$4/100,\"ผ\",\"มผ\")))","v":""},null,null,"",{"$f":"IF(BF41=\"\",\"\",IF(BH41=\"ร\",\"มผ\",IF(BH41>=$BJ$5*กำหนดอัตราส่วนคะแนน!$U$4/100,\"ผ\",\"มผ\")))","v":""},null,null,"",{"$f":"IF(BJ41=\"\",\"\",IF(BL41=\"ร\",\"มผ\",IF(BL41>=$BJ$5*กำหนดอัตราส่วนคะแนน!$U$4/100,\"ผ\",\"มผ\")))","v":""},null,null,"",{"$f":"IF(BN41=\"\",\"\",IF(BP41=\"ร\",\"มผ\",IF(BP41>=$BN$5*กำหนดอัตราส่วนคะแนน!$U$4/100,\"ผ\",\"มผ\")))","v":""},null,null,"",{"$f":"IF(BR41=\"\",\"\",IF(BT41=\"ร\",\"มผ\",IF(BT41>=$BR$5*กำหนดอัตราส่วนคะแนน!$U$4/100,\"ผ\",\"มผ\")))","v":""},null,null,"",{"$f":"IF(BV41=\"\",\"\",IF(BX41=\"ร\",\"มผ\",IF(BX41>=$BV$5*กำหนดอัตราส่วนคะแนน!$U$4/100,\"ผ\",\"มผ\")))","v":""},null,null,"",{"$f":"IF(BZ41=\"\",\"\",IF(CB41=\"ร\",\"มผ\",IF(CB41>=$BZ$5*กำหนดอัตราส่วนคะแนน!$U$4/100,\"ผ\",\"มผ\")))","v":""},null,null,"",{"$f":"IF(CD41=\"\",\"\",IF(CF41=\"ร\",\"มผ\",IF(CF41>=$CD$5*กำหนดอัตราส่วนคะแนน!$U$4/100,\"ผ\",\"มผ\")))","v":""},null,null,"",{"$f":"IF(CH41=\"\",\"\",IF(CJ41=\"ร\",\"มผ\",IF(CJ41>=$CH$5*กำหนดอัตราส่วนคะแนน!$U$4/100,\"ผ\",\"มผ\")))","v":""},null,null,"",{"$f":"IF(CL41=\"\",\"\",IF(CN41=\"ร\",\"มผ\",IF(CN41>=$CL$5*กำหนดอัตราส่วนคะแนน!$U$4/100,\"ผ\",\"มผ\")))","v":""},null,null,"",{"$f":"IF(CP41=\"\",\"\",IF(CR41=\"ร\",\"มผ\",IF(CR41>=$CP$5*กำหนดอัตราส่วนคะแนน!$U$4/100,\"ผ\",\"มผ\")))","v":""},null,null,"",{"$f":"IF(CT41=\"\",\"\",IF(CV41=\"ร\",\"มผ\",IF(CV41>=$CT$5*กำหนดอัตราส่วนคะแนน!$U$4/100,\"ผ\",\"มผ\")))","v":""},null,null,"",{"$f":"IF(CX41=\"\",\"\",IF(CZ41=\"ร\",\"มผ\",IF(CZ41>=$CX$5*กำหนดอัตราส่วนคะแนน!$U$4/100,\"ผ\",\"มผ\")))","v":""},null,null,"",{"$f":"IF(DB41=\"\",\"\",IF(DD41=\"ร\",\"มผ\",IF(DD41>=$DB$5*กำหนดอัตราส่วนคะแนน!$U$4/100,\"ผ\",\"มผ\")))","v":""},null,null,"",{"$f":"IF(DF41=\"\",\"\",IF(DH41=\"ร\",\"มผ\",IF(DH41>=$DF$5*กำหนดอัตราส่วนคะแนน!$U$4/100,\"ผ\",\"มผ\")))","v":""},null,null,"",{"$f":"IF(DJ41=\"\",\"\",IF(DL41=\"ร\",\"มผ\",IF(DL41>=$DJ$5*กำหนดอัตราส่วนคะแนน!$U$4/100,\"ผ\",\"มผ\")))","v":""},null,null,"",{"$f":"IF(DN41=\"\",\"\",IF(DP41=\"ร\",\"มผ\",IF(DP41>=$DN$5*กำหนดอัตราส่วนคะแนน!$U$4/100,\"ผ\",\"มผ\")))","v":""},null,null,"",{"$f":"IF(DR41=\"\",\"\",IF(DT41=\"ร\",\"มผ\",IF(DT41>=$DR$5*กำหนดอัตราส่วนคะแนน!$U$4/100,\"ผ\",\"มผ\")))","v":""},null,null,"",{"$f":"IF(DV41=\"\",\"\",IF(DX41=\"ร\",\"มผ\",IF(DX41>=$DV$5*กำหนดอัตราส่วนคะแนน!$U$4/100,\"ผ\",\"มผ\")))","v":""},null,null,"",{"$f":"IF(DZ41=\"\",\"\",IF(EB41=\"ร\",\"มผ\",IF(EB41>=$DZ$5*กำหนดอัตราส่วนคะแนน!$U$4/100,\"ผ\",\"มผ\")))","v":""},null,null,"",{"$f":"IF(ED41=\"\",\"\",IF(EF41=\"ร\",\"มผ\",IF(EF41>=$ED$5*กำหนดอัตราส่วนคะแนน!$U$4/100,\"ผ\",\"มผ\")))","v":""},null,null,"",{"$f":"IF(EH41=\"\",\"\",IF(EJ41=\"ร\",\"มผ\",IF(EJ41>=$EH$5*กำหนดอัตราส่วนคะแนน!$U$4/100,\"ผ\",\"มผ\")))","v":""},null,null,"",{"$f":"IF(EL41=\"\",\"\",IF(EN41=\"ร\",\"มผ\",IF(EN111>=$EL$5*กำหนดอัตราส่วนคะแนน!$U$4/100,\"ผ\",\"มผ\")))","v":""},null,null,"",{"$f":"IF(EP41=\"\",\"\",IF(ER41=\"ร\",\"มผ\",IF(ER41>=$EP$5*กำหนดอัตราส่วนคะแนน!$U$4/100,\"ผ\",\"มผ\")))","v":""},null,null,"",{"$f":"IF(ET41=\"\",\"\",IF(EV41=\"ร\",\"มผ\",IF(EV41>=$ET$5*กำหนดอัตราส่วนคะแนน!$U$4/100,\"ผ\",\"มผ\")))","v":""},null,null,"",{"$f":"IF(EX41=\"\",\"\",IF(EZ41=\"ร\",\"มผ\",IF(EZ41>=$EX$5*กำหนดอัตราส่วนคะแนน!$U$4/100,\"ผ\",\"มผ\")))","v":""},null,null,"",{"$f":"IF(FB41=\"\",\"\",IF(FD41=\"ร\",\"มผ\",IF(FD41>=$FB$5*กำหนดอัตราส่วนคะแนน!$U$4/100,\"ผ\",\"มผ\")))","v":""},null,null,"",{"$f":"IF(FF41=\"\",\"\",IF(FH41=\"ร\",\"มผ\",IF(FH41>=$FF$5*กำหนดอัตราส่วนคะแนน!$U$4/100,\"ผ\",\"มผ\")))","v":""},{"$f":"IF(Sheet1!#REF!=\"\",\"\",IF(COUNTIF(F41:FI41,\"ร\"),\"ร\",IF(FW41=\"ปกติ\",SUM(H41,L41,P41,T41,X41,AB41,AF41,AJ41,AN41,AR41,AV41,AZ41,BD41,BH41,BL41,BP41,BT41,BX41,CB41,CF41,CJ41,CN41,CR41,CV41,CZ41,DD41,DH41,DL41,DP41,DT41,DX41,EB41,EF41,EJ41,EN41,ER41,EV41,EZ41,FD41,FH41),\"-\")))","v":{"$error":"#REF!"}},null,{"$error":"#REF!"},null,null,{"$error":"#REF!"},null,null,null,"",null,{"$f":"IF(COUNTIF(Sheet1!#REF!:Sheet1!#REF!,\"\"),\"\",IF(COUNTIF(FJ41:FS41,\"ร\"),\"ร\",IF(COUNTIF(FL41:FS41,\"-\"),\"-\",IF(FW41=\"ปกติ\",SUM(FO41,FS41)))))","v":{"$error":"#REF!"}},null,{"$f":"เวลาเรียน!DZ43","v":0}]
[36,0,{"$f":"CONCATENATE(Sheet1!B37)","v":"18417"},{"$f":"CONCATENATE(Sheet1!D37&Sheet1!#REF!&\"       \"&Sheet1!#REF!)","v":{"$error":"#REF!"}},36,null,null,"",{"$f":"IF(F42=\"\",\"\",IF(H42=\"ร\",\"มผ\",IF(H42>=$F$5*กำหนดอัตราส่วนคะแนน!$U$4/100,\"ผ\",\"มผ\")))","v":""},null,null,"",{"$f":"IF(J42=\"\",\"\",IF(L42=\"ร\",\"มผ\",IF(L42>=$J$5*กำหนดอัตราส่วนคะแนน!$U$4/100,\"ผ\",\"มผ\")))","v":""},null,null,"",{"$f":"IF(N42=\"\",\"\",IF(P42=\"ร\",\"มผ\",IF(P42>=$N$5*กำหนดอัตราส่วนคะแนน!$U$4/100,\"ผ\",\"มผ\")))","v":""},null,null,"",{"$f":"IF(R42=\"\",\"\",IF(T42=\"ร\",\"มผ\",IF(T42>=$R$5*กำหนดอัตราส่วนคะแนน!$U$4/100,\"ผ\",\"มผ\")))","v":""},null,null,"",{"$f":"IF(V42=\"\",\"\",IF(X42=\"ร\",\"มผ\",IF(X42>=$V$5*กำหนดอัตราส่วนคะแนน!$U$4/100,\"ผ\",\"มผ\")))","v":""},null,null,"",{"$f":"IF(Z42=\"\",\"\",IF(AB42=\"ร\",\"มผ\",IF(AB42>=$Z$5*กำหนดอัตราส่วนคะแนน!$U$4/100,\"ผ\",\"มผ\")))","v":""},null,null,"",{"$f":"IF(AD42=\"\",\"\",IF(AF42=\"ร\",\"มผ\",IF(AF42>=$AD$5*กำหนดอัตราส่วนคะแนน!$U$4/100,\"ผ\",\"มผ\")))","v":""},null,null,"",{"$f":"IF(AH42=\"\",\"\",IF(AJ42=\"ร\",\"มผ\",IF(AJ42>=$AH$5*กำหนดอัตราส่วนคะแนน!$U$4/100,\"ผ\",\"มผ\")))","v":""},null,null,"",{"$f":"IF(AL42=\"\",\"\",IF(AN42=\"ร\",\"มผ\",IF(AN42>=$AL$5*กำหนดอัตราส่วนคะแนน!$U$4/100,\"ผ\",\"มผ\")))","v":""},null,null,"",{"$f":"IF(AP42=\"\",\"\",IF(AR42=\"ร\",\"มผ\",IF(AR42>=$AP$5*กำหนดอัตราส่วนคะแนน!$U$4/100,\"ผ\",\"มผ\")))","v":""},null,null,"",{"$f":"IF(AT42=\"\",\"\",IF(AV42=\"ร\",\"มผ\",IF(AV42>=$AT$5*กำหนดอัตราส่วนคะแนน!$U$4/100,\"ผ\",\"มผ\")))","v":""},null,null,"",{"$f":"IF(AX42=\"\",\"\",IF(AZ42=\"ร\",\"มผ\",IF(AZ42>=$AX$5*กำหนดอัตราส่วนคะแนน!$U$4/100,\"ผ\",\"มผ\")))","v":""},null,null,"",{"$f":"IF(BB42=\"\",\"\",IF(BD42=\"ร\",\"มผ\",IF(BD42>=$BB$5*กำหนดอัตราส่วนคะแนน!$U$4/100,\"ผ\",\"มผ\")))","v":""},null,null,"",{"$f":"IF(BF42=\"\",\"\",IF(BH42=\"ร\",\"มผ\",IF(BH42>=$BJ$5*กำหนดอัตราส่วนคะแนน!$U$4/100,\"ผ\",\"มผ\")))","v":""},null,null,"",{"$f":"IF(BJ42=\"\",\"\",IF(BL42=\"ร\",\"มผ\",IF(BL42>=$BJ$5*กำหนดอัตราส่วนคะแนน!$U$4/100,\"ผ\",\"มผ\")))","v":""},null,null,"",{"$f":"IF(BN42=\"\",\"\",IF(BP42=\"ร\",\"มผ\",IF(BP42>=$BN$5*กำหนดอัตราส่วนคะแนน!$U$4/100,\"ผ\",\"มผ\")))","v":""},null,null,"",{"$f":"IF(BR42=\"\",\"\",IF(BT42=\"ร\",\"มผ\",IF(BT42>=$BR$5*กำหนดอัตราส่วนคะแนน!$U$4/100,\"ผ\",\"มผ\")))","v":""},null,null,"",{"$f":"IF(BV42=\"\",\"\",IF(BX42=\"ร\",\"มผ\",IF(BX42>=$BV$5*กำหนดอัตราส่วนคะแนน!$U$4/100,\"ผ\",\"มผ\")))","v":""},null,null,"",{"$f":"IF(BZ42=\"\",\"\",IF(CB42=\"ร\",\"มผ\",IF(CB42>=$BZ$5*กำหนดอัตราส่วนคะแนน!$U$4/100,\"ผ\",\"มผ\")))","v":""},null,null,"",{"$f":"IF(CD42=\"\",\"\",IF(CF42=\"ร\",\"มผ\",IF(CF42>=$CD$5*กำหนดอัตราส่วนคะแนน!$U$4/100,\"ผ\",\"มผ\")))","v":""},null,null,"",{"$f":"IF(CH42=\"\",\"\",IF(CJ42=\"ร\",\"มผ\",IF(CJ42>=$CH$5*กำหนดอัตราส่วนคะแนน!$U$4/100,\"ผ\",\"มผ\")))","v":""},null,null,"",{"$f":"IF(CL42=\"\",\"\",IF(CN42=\"ร\",\"มผ\",IF(CN42>=$CL$5*กำหนดอัตราส่วนคะแนน!$U$4/100,\"ผ\",\"มผ\")))","v":""},null,null,"",{"$f":"IF(CP42=\"\",\"\",IF(CR42=\"ร\",\"มผ\",IF(CR42>=$CP$5*กำหนดอัตราส่วนคะแนน!$U$4/100,\"ผ\",\"มผ\")))","v":""},null,null,"",{"$f":"IF(CT42=\"\",\"\",IF(CV42=\"ร\",\"มผ\",IF(CV42>=$CT$5*กำหนดอัตราส่วนคะแนน!$U$4/100,\"ผ\",\"มผ\")))","v":""},null,null,"",{"$f":"IF(CX42=\"\",\"\",IF(CZ42=\"ร\",\"มผ\",IF(CZ42>=$CX$5*กำหนดอัตราส่วนคะแนน!$U$4/100,\"ผ\",\"มผ\")))","v":""},null,null,"",{"$f":"IF(DB42=\"\",\"\",IF(DD42=\"ร\",\"มผ\",IF(DD42>=$DB$5*กำหนดอัตราส่วนคะแนน!$U$4/100,\"ผ\",\"มผ\")))","v":""},null,null,"",{"$f":"IF(DF42=\"\",\"\",IF(DH42=\"ร\",\"มผ\",IF(DH42>=$DF$5*กำหนดอัตราส่วนคะแนน!$U$4/100,\"ผ\",\"มผ\")))","v":""},null,null,"",{"$f":"IF(DJ42=\"\",\"\",IF(DL42=\"ร\",\"มผ\",IF(DL42>=$DJ$5*กำหนดอัตราส่วนคะแนน!$U$4/100,\"ผ\",\"มผ\")))","v":""},null,null,"",{"$f":"IF(DN42=\"\",\"\",IF(DP42=\"ร\",\"มผ\",IF(DP42>=$DN$5*กำหนดอัตราส่วนคะแนน!$U$4/100,\"ผ\",\"มผ\")))","v":""},null,null,"",{"$f":"IF(DR42=\"\",\"\",IF(DT42=\"ร\",\"มผ\",IF(DT42>=$DR$5*กำหนดอัตราส่วนคะแนน!$U$4/100,\"ผ\",\"มผ\")))","v":""},null,null,"",{"$f":"IF(DV42=\"\",\"\",IF(DX42=\"ร\",\"มผ\",IF(DX42>=$DV$5*กำหนดอัตราส่วนคะแนน!$U$4/100,\"ผ\",\"มผ\")))","v":""},null,null,"",{"$f":"IF(DZ42=\"\",\"\",IF(EB42=\"ร\",\"มผ\",IF(EB42>=$DZ$5*กำหนดอัตราส่วนคะแนน!$U$4/100,\"ผ\",\"มผ\")))","v":""},null,null,"",{"$f":"IF(ED42=\"\",\"\",IF(EF42=\"ร\",\"มผ\",IF(EF42>=$ED$5*กำหนดอัตราส่วนคะแนน!$U$4/100,\"ผ\",\"มผ\")))","v":""},null,null,"",{"$f":"IF(EH42=\"\",\"\",IF(EJ42=\"ร\",\"มผ\",IF(EJ42>=$EH$5*กำหนดอัตราส่วนคะแนน!$U$4/100,\"ผ\",\"มผ\")))","v":""},null,null,"",{"$f":"IF(EL42=\"\",\"\",IF(EN42=\"ร\",\"มผ\",IF(EN112>=$EL$5*กำหนดอัตราส่วนคะแนน!$U$4/100,\"ผ\",\"มผ\")))","v":""},null,null,"",{"$f":"IF(EP42=\"\",\"\",IF(ER42=\"ร\",\"มผ\",IF(ER42>=$EP$5*กำหนดอัตราส่วนคะแนน!$U$4/100,\"ผ\",\"มผ\")))","v":""},null,null,"",{"$f":"IF(ET42=\"\",\"\",IF(EV42=\"ร\",\"มผ\",IF(EV42>=$ET$5*กำหนดอัตราส่วนคะแนน!$U$4/100,\"ผ\",\"มผ\")))","v":""},null,null,"",{"$f":"IF(EX42=\"\",\"\",IF(EZ42=\"ร\",\"มผ\",IF(EZ42>=$EX$5*กำหนดอัตราส่วนคะแนน!$U$4/100,\"ผ\",\"มผ\")))","v":""},null,null,"",{"$f":"IF(FB42=\"\",\"\",IF(FD42=\"ร\",\"มผ\",IF(FD42>=$FB$5*กำหนดอัตราส่วนคะแนน!$U$4/100,\"ผ\",\"มผ\")))","v":""},null,null,"",{"$f":"IF(FF42=\"\",\"\",IF(FH42=\"ร\",\"มผ\",IF(FH42>=$FF$5*กำหนดอัตราส่วนคะแนน!$U$4/100,\"ผ\",\"มผ\")))","v":""},{"$f":"IF(Sheet1!#REF!=\"\",\"\",IF(COUNTIF(F42:FI42,\"ร\"),\"ร\",IF(FW42=\"ปกติ\",SUM(H42,L42,P42,T42,X42,AB42,AF42,AJ42,AN42,AR42,AV42,AZ42,BD42,BH42,BL42,BP42,BT42,BX42,CB42,CF42,CJ42,CN42,CR42,CV42,CZ42,DD42,DH42,DL42,DP42,DT42,DX42,EB42,EF42,EJ42,EN42,ER42,EV42,EZ42,FD42,FH42),\"-\")))","v":{"$error":"#REF!"}},null,{"$error":"#REF!"},null,null,{"$error":"#REF!"},null,null,null,"",null,{"$f":"IF(COUNTIF(Sheet1!#REF!:Sheet1!#REF!,\"\"),\"\",IF(COUNTIF(FJ42:FS42,\"ร\"),\"ร\",IF(COUNTIF(FL42:FS42,\"-\"),\"-\",IF(FW42=\"ปกติ\",SUM(FO42,FS42)))))","v":{"$error":"#REF!"}},null,{"$f":"เวลาเรียน!DZ44","v":0}]
[37,0,{"$f":"CONCATENATE(Sheet1!B38)","v":"18806"},{"$f":"CONCATENATE(Sheet1!D38&Sheet1!#REF!&\"       \"&Sheet1!#REF!)","v":{"$error":"#REF!"}},37,null,null,"",{"$f":"IF(F43=\"\",\"\",IF(H43=\"ร\",\"มผ\",IF(H43>=$F$5*กำหนดอัตราส่วนคะแนน!$U$4/100,\"ผ\",\"มผ\")))","v":""},null,null,"",{"$f":"IF(J43=\"\",\"\",IF(L43=\"ร\",\"มผ\",IF(L43>=$J$5*กำหนดอัตราส่วนคะแนน!$U$4/100,\"ผ\",\"มผ\")))","v":""},null,null,"",{"$f":"IF(N43=\"\",\"\",IF(P43=\"ร\",\"มผ\",IF(P43>=$N$5*กำหนดอัตราส่วนคะแนน!$U$4/100,\"ผ\",\"มผ\")))","v":""},null,null,"",{"$f":"IF(R43=\"\",\"\",IF(T43=\"ร\",\"มผ\",IF(T43>=$R$5*กำหนดอัตราส่วนคะแนน!$U$4/100,\"ผ\",\"มผ\")))","v":""},null,null,"",{"$f":"IF(V43=\"\",\"\",IF(X43=\"ร\",\"มผ\",IF(X43>=$V$5*กำหนดอัตราส่วนคะแนน!$U$4/100,\"ผ\",\"มผ\")))","v":""},null,null,"",{"$f":"IF(Z43=\"\",\"\",IF(AB43=\"ร\",\"มผ\",IF(AB43>=$Z$5*กำหนดอัตราส่วนคะแนน!$U$4/100,\"ผ\",\"มผ\")))","v":""},null,null,"",{"$f":"IF(AD43=\"\",\"\",IF(AF43=\"ร\",\"มผ\",IF(AF43>=$AD$5*กำหนดอัตราส่วนคะแนน!$U$4/100,\"ผ\",\"มผ\")))","v":""},null,null,"",{"$f":"IF(AH43=\"\",\"\",IF(AJ43=\"ร\",\"มผ\",IF(AJ43>=$AH$5*กำหนดอัตราส่วนคะแนน!$U$4/100,\"ผ\",\"มผ\")))","v":""},null,null,"",{"$f":"IF(AL43=\"\",\"\",IF(AN43=\"ร\",\"มผ\",IF(AN43>=$AL$5*กำหนดอัตราส่วนคะแนน!$U$4/100,\"ผ\",\"มผ\")))","v":""},null,null,"",{"$f":"IF(AP43=\"\",\"\",IF(AR43=\"ร\",\"มผ\",IF(AR43>=$AP$5*กำหนดอัตราส่วนคะแนน!$U$4/100,\"ผ\",\"มผ\")))","v":""},null,null,"",{"$f":"IF(AT43=\"\",\"\",IF(AV43=\"ร\",\"มผ\",IF(AV43>=$AT$5*กำหนดอัตราส่วนคะแนน!$U$4/100,\"ผ\",\"มผ\")))","v":""},null,null,"",{"$f":"IF(AX43=\"\",\"\",IF(AZ43=\"ร\",\"มผ\",IF(AZ43>=$AX$5*กำหนดอัตราส่วนคะแนน!$U$4/100,\"ผ\",\"มผ\")))","v":""},null,null,"",{"$f":"IF(BB43=\"\",\"\",IF(BD43=\"ร\",\"มผ\",IF(BD43>=$BB$5*กำหนดอัตราส่วนคะแนน!$U$4/100,\"ผ\",\"มผ\")))","v":""},null,null,"",{"$f":"IF(BF43=\"\",\"\",IF(BH43=\"ร\",\"มผ\",IF(BH43>=$BJ$5*กำหนดอัตราส่วนคะแนน!$U$4/100,\"ผ\",\"มผ\")))","v":""},null,null,"",{"$f":"IF(BJ43=\"\",\"\",IF(BL43=\"ร\",\"มผ\",IF(BL43>=$BJ$5*กำหนดอัตราส่วนคะแนน!$U$4/100,\"ผ\",\"มผ\")))","v":""},null,null,"",{"$f":"IF(BN43=\"\",\"\",IF(BP43=\"ร\",\"มผ\",IF(BP43>=$BN$5*กำหนดอัตราส่วนคะแนน!$U$4/100,\"ผ\",\"มผ\")))","v":""},null,null,"",{"$f":"IF(BR43=\"\",\"\",IF(BT43=\"ร\",\"มผ\",IF(BT43>=$BR$5*กำหนดอัตราส่วนคะแนน!$U$4/100,\"ผ\",\"มผ\")))","v":""},null,null,"",{"$f":"IF(BV43=\"\",\"\",IF(BX43=\"ร\",\"มผ\",IF(BX43>=$BV$5*กำหนดอัตราส่วนคะแนน!$U$4/100,\"ผ\",\"มผ\")))","v":""},null,null,"",{"$f":"IF(BZ43=\"\",\"\",IF(CB43=\"ร\",\"มผ\",IF(CB43>=$BZ$5*กำหนดอัตราส่วนคะแนน!$U$4/100,\"ผ\",\"มผ\")))","v":""},null,null,"",{"$f":"IF(CD43=\"\",\"\",IF(CF43=\"ร\",\"มผ\",IF(CF43>=$CD$5*กำหนดอัตราส่วนคะแนน!$U$4/100,\"ผ\",\"มผ\")))","v":""},null,null,"",{"$f":"IF(CH43=\"\",\"\",IF(CJ43=\"ร\",\"มผ\",IF(CJ43>=$CH$5*กำหนดอัตราส่วนคะแนน!$U$4/100,\"ผ\",\"มผ\")))","v":""},null,null,"",{"$f":"IF(CL43=\"\",\"\",IF(CN43=\"ร\",\"มผ\",IF(CN43>=$CL$5*กำหนดอัตราส่วนคะแนน!$U$4/100,\"ผ\",\"มผ\")))","v":""},null,null,"",{"$f":"IF(CP43=\"\",\"\",IF(CR43=\"ร\",\"มผ\",IF(CR43>=$CP$5*กำหนดอัตราส่วนคะแนน!$U$4/100,\"ผ\",\"มผ\")))","v":""},null,null,"",{"$f":"IF(CT43=\"\",\"\",IF(CV43=\"ร\",\"มผ\",IF(CV43>=$CT$5*กำหนดอัตราส่วนคะแนน!$U$4/100,\"ผ\",\"มผ\")))","v":""},null,null,"",{"$f":"IF(CX43=\"\",\"\",IF(CZ43=\"ร\",\"มผ\",IF(CZ43>=$CX$5*กำหนดอัตราส่วนคะแนน!$U$4/100,\"ผ\",\"มผ\")))","v":""},null,null,"",{"$f":"IF(DB43=\"\",\"\",IF(DD43=\"ร\",\"มผ\",IF(DD43>=$DB$5*กำหนดอัตราส่วนคะแนน!$U$4/100,\"ผ\",\"มผ\")))","v":""},null,null,"",{"$f":"IF(DF43=\"\",\"\",IF(DH43=\"ร\",\"มผ\",IF(DH43>=$DF$5*กำหนดอัตราส่วนคะแนน!$U$4/100,\"ผ\",\"มผ\")))","v":""},null,null,"",{"$f":"IF(DJ43=\"\",\"\",IF(DL43=\"ร\",\"มผ\",IF(DL43>=$DJ$5*กำหนดอัตราส่วนคะแนน!$U$4/100,\"ผ\",\"มผ\")))","v":""},null,null,"",{"$f":"IF(DN43=\"\",\"\",IF(DP43=\"ร\",\"มผ\",IF(DP43>=$DN$5*กำหนดอัตราส่วนคะแนน!$U$4/100,\"ผ\",\"มผ\")))","v":""},null,null,"",{"$f":"IF(DR43=\"\",\"\",IF(DT43=\"ร\",\"มผ\",IF(DT43>=$DR$5*กำหนดอัตราส่วนคะแนน!$U$4/100,\"ผ\",\"มผ\")))","v":""},null,null,"",{"$f":"IF(DV43=\"\",\"\",IF(DX43=\"ร\",\"มผ\",IF(DX43>=$DV$5*กำหนดอัตราส่วนคะแนน!$U$4/100,\"ผ\",\"มผ\")))","v":""},null,null,"",{"$f":"IF(DZ43=\"\",\"\",IF(EB43=\"ร\",\"มผ\",IF(EB43>=$DZ$5*กำหนดอัตราส่วนคะแนน!$U$4/100,\"ผ\",\"มผ\")))","v":""},null,null,"",{"$f":"IF(ED43=\"\",\"\",IF(EF43=\"ร\",\"มผ\",IF(EF43>=$ED$5*กำหนดอัตราส่วนคะแนน!$U$4/100,\"ผ\",\"มผ\")))","v":""},null,null,"",{"$f":"IF(EH43=\"\",\"\",IF(EJ43=\"ร\",\"มผ\",IF(EJ43>=$EH$5*กำหนดอัตราส่วนคะแนน!$U$4/100,\"ผ\",\"มผ\")))","v":""},null,null,"",{"$f":"IF(EL43=\"\",\"\",IF(EN43=\"ร\",\"มผ\",IF(EN113>=$EL$5*กำหนดอัตราส่วนคะแนน!$U$4/100,\"ผ\",\"มผ\")))","v":""},null,null,"",{"$f":"IF(EP43=\"\",\"\",IF(ER43=\"ร\",\"มผ\",IF(ER43>=$EP$5*กำหนดอัตราส่วนคะแนน!$U$4/100,\"ผ\",\"มผ\")))","v":""},null,null,"",{"$f":"IF(ET43=\"\",\"\",IF(EV43=\"ร\",\"มผ\",IF(EV43>=$ET$5*กำหนดอัตราส่วนคะแนน!$U$4/100,\"ผ\",\"มผ\")))","v":""},null,null,"",{"$f":"IF(EX43=\"\",\"\",IF(EZ43=\"ร\",\"มผ\",IF(EZ43>=$EX$5*กำหนดอัตราส่วนคะแนน!$U$4/100,\"ผ\",\"มผ\")))","v":""},null,null,"",{"$f":"IF(FB43=\"\",\"\",IF(FD43=\"ร\",\"มผ\",IF(FD43>=$FB$5*กำหนดอัตราส่วนคะแนน!$U$4/100,\"ผ\",\"มผ\")))","v":""},null,null,"",{"$f":"IF(FF43=\"\",\"\",IF(FH43=\"ร\",\"มผ\",IF(FH43>=$FF$5*กำหนดอัตราส่วนคะแนน!$U$4/100,\"ผ\",\"มผ\")))","v":""},{"$f":"IF(Sheet1!#REF!=\"\",\"\",IF(COUNTIF(F43:FI43,\"ร\"),\"ร\",IF(FW43=\"ปกติ\",SUM(H43,L43,P43,T43,X43,AB43,AF43,AJ43,AN43,AR43,AV43,AZ43,BD43,BH43,BL43,BP43,BT43,BX43,CB43,CF43,CJ43,CN43,CR43,CV43,CZ43,DD43,DH43,DL43,DP43,DT43,DX43,EB43,EF43,EJ43,EN43,ER43,EV43,EZ43,FD43,FH43),\"-\")))","v":{"$error":"#REF!"}},null,{"$error":"#REF!"},null,null,{"$error":"#REF!"},null,null,null,"",null,{"$f":"IF(COUNTIF(Sheet1!#REF!:Sheet1!#REF!,\"\"),\"\",IF(COUNTIF(FJ43:FS43,\"ร\"),\"ร\",IF(COUNTIF(FL43:FS43,\"-\"),\"-\",IF(FW43=\"ปกติ\",SUM(FO43,FS43)))))","v":{"$error":"#REF!"}},null,{"$f":"เวลาเรียน!DZ45","v":0}]
[38,0,{"$f":"CONCATENATE(Sheet1!B39)","v":""},{"$f":"CONCATENATE(Sheet1!D39&Sheet1!#REF!&\"       \"&Sheet1!#REF!)","v":{"$error":"#REF!"}},38,null,null,"",{"$f":"IF(F44=\"\",\"\",IF(H44=\"ร\",\"มผ\",IF(H44>=$F$5*กำหนดอัตราส่วนคะแนน!$U$4/100,\"ผ\",\"มผ\")))","v":""},null,null,"",{"$f":"IF(J44=\"\",\"\",IF(L44=\"ร\",\"มผ\",IF(L44>=$J$5*กำหนดอัตราส่วนคะแนน!$U$4/100,\"ผ\",\"มผ\")))","v":""},null,null,"",{"$f":"IF(N44=\"\",\"\",IF(P44=\"ร\",\"มผ\",IF(P44>=$N$5*กำหนดอัตราส่วนคะแนน!$U$4/100,\"ผ\",\"มผ\")))","v":""},null,null,"",{"$f":"IF(R44=\"\",\"\",IF(T44=\"ร\",\"มผ\",IF(T44>=$R$5*กำหนดอัตราส่วนคะแนน!$U$4/100,\"ผ\",\"มผ\")))","v":""},null,null,"",{"$f":"IF(V44=\"\",\"\",IF(X44=\"ร\",\"มผ\",IF(X44>=$V$5*กำหนดอัตราส่วนคะแนน!$U$4/100,\"ผ\",\"มผ\")))","v":""},null,null,"",{"$f":"IF(Z44=\"\",\"\",IF(AB44=\"ร\",\"มผ\",IF(AB44>=$Z$5*กำหนดอัตราส่วนคะแนน!$U$4/100,\"ผ\",\"มผ\")))","v":""},null,null,"",{"$f":"IF(AD44=\"\",\"\",IF(AF44=\"ร\",\"มผ\",IF(AF44>=$AD$5*กำหนดอัตราส่วนคะแนน!$U$4/100,\"ผ\",\"มผ\")))","v":""},null,null,"",{"$f":"IF(AH44=\"\",\"\",IF(AJ44=\"ร\",\"มผ\",IF(AJ44>=$AH$5*กำหนดอัตราส่วนคะแนน!$U$4/100,\"ผ\",\"มผ\")))","v":""},null,null,"",{"$f":"IF(AL44=\"\",\"\",IF(AN44=\"ร\",\"มผ\",IF(AN44>=$AL$5*กำหนดอัตราส่วนคะแนน!$U$4/100,\"ผ\",\"มผ\")))","v":""},null,null,"",{"$f":"IF(AP44=\"\",\"\",IF(AR44=\"ร\",\"มผ\",IF(AR44>=$AP$5*กำหนดอัตราส่วนคะแนน!$U$4/100,\"ผ\",\"มผ\")))","v":""},null,null,"",{"$f":"IF(AT44=\"\",\"\",IF(AV44=\"ร\",\"มผ\",IF(AV44>=$AT$5*กำหนดอัตราส่วนคะแนน!$U$4/100,\"ผ\",\"มผ\")))","v":""},null,null,"",{"$f":"IF(AX44=\"\",\"\",IF(AZ44=\"ร\",\"มผ\",IF(AZ44>=$AX$5*กำหนดอัตราส่วนคะแนน!$U$4/100,\"ผ\",\"มผ\")))","v":""},null,null,"",{"$f":"IF(BB44=\"\",\"\",IF(BD44=\"ร\",\"มผ\",IF(BD44>=$BB$5*กำหนดอัตราส่วนคะแนน!$U$4/100,\"ผ\",\"มผ\")))","v":""},null,null,"",{"$f":"IF(BF44=\"\",\"\",IF(BH44=\"ร\",\"มผ\",IF(BH44>=$BJ$5*กำหนดอัตราส่วนคะแนน!$U$4/100,\"ผ\",\"มผ\")))","v":""},null,null,"",{"$f":"IF(BJ44=\"\",\"\",IF(BL44=\"ร\",\"มผ\",IF(BL44>=$BJ$5*กำหนดอัตราส่วนคะแนน!$U$4/100,\"ผ\",\"มผ\")))","v":""},null,null,"",{"$f":"IF(BN44=\"\",\"\",IF(BP44=\"ร\",\"มผ\",IF(BP44>=$BN$5*กำหนดอัตราส่วนคะแนน!$U$4/100,\"ผ\",\"มผ\")))","v":""},null,null,"",{"$f":"IF(BR44=\"\",\"\",IF(BT44=\"ร\",\"มผ\",IF(BT44>=$BR$5*กำหนดอัตราส่วนคะแนน!$U$4/100,\"ผ\",\"มผ\")))","v":""},null,null,"",{"$f":"IF(BV44=\"\",\"\",IF(BX44=\"ร\",\"มผ\",IF(BX44>=$BV$5*กำหนดอัตราส่วนคะแนน!$U$4/100,\"ผ\",\"มผ\")))","v":""},null,null,"",{"$f":"IF(BZ44=\"\",\"\",IF(CB44=\"ร\",\"มผ\",IF(CB44>=$BZ$5*กำหนดอัตราส่วนคะแนน!$U$4/100,\"ผ\",\"มผ\")))","v":""},null,null,"",{"$f":"IF(CD44=\"\",\"\",IF(CF44=\"ร\",\"มผ\",IF(CF44>=$CD$5*กำหนดอัตราส่วนคะแนน!$U$4/100,\"ผ\",\"มผ\")))","v":""},null,null,"",{"$f":"IF(CH44=\"\",\"\",IF(CJ44=\"ร\",\"มผ\",IF(CJ44>=$CH$5*กำหนดอัตราส่วนคะแนน!$U$4/100,\"ผ\",\"มผ\")))","v":""},null,null,"",{"$f":"IF(CL44=\"\",\"\",IF(CN44=\"ร\",\"มผ\",IF(CN44>=$CL$5*กำหนดอัตราส่วนคะแนน!$U$4/100,\"ผ\",\"มผ\")))","v":""},null,null,"",{"$f":"IF(CP44=\"\",\"\",IF(CR44=\"ร\",\"มผ\",IF(CR44>=$CP$5*กำหนดอัตราส่วนคะแนน!$U$4/100,\"ผ\",\"มผ\")))","v":""},null,null,"",{"$f":"IF(CT44=\"\",\"\",IF(CV44=\"ร\",\"มผ\",IF(CV44>=$CT$5*กำหนดอัตราส่วนคะแนน!$U$4/100,\"ผ\",\"มผ\")))","v":""},null,null,"",{"$f":"IF(CX44=\"\",\"\",IF(CZ44=\"ร\",\"มผ\",IF(CZ44>=$CX$5*กำหนดอัตราส่วนคะแนน!$U$4/100,\"ผ\",\"มผ\")))","v":""},null,null,"",{"$f":"IF(DB44=\"\",\"\",IF(DD44=\"ร\",\"มผ\",IF(DD44>=$DB$5*กำหนดอัตราส่วนคะแนน!$U$4/100,\"ผ\",\"มผ\")))","v":""},null,null,"",{"$f":"IF(DF44=\"\",\"\",IF(DH44=\"ร\",\"มผ\",IF(DH44>=$DF$5*กำหนดอัตราส่วนคะแนน!$U$4/100,\"ผ\",\"มผ\")))","v":""},null,null,"",{"$f":"IF(DJ44=\"\",\"\",IF(DL44=\"ร\",\"มผ\",IF(DL44>=$DJ$5*กำหนดอัตราส่วนคะแนน!$U$4/100,\"ผ\",\"มผ\")))","v":""},null,null,"",{"$f":"IF(DN44=\"\",\"\",IF(DP44=\"ร\",\"มผ\",IF(DP44>=$DN$5*กำหนดอัตราส่วนคะแนน!$U$4/100,\"ผ\",\"มผ\")))","v":""},null,null,"",{"$f":"IF(DR44=\"\",\"\",IF(DT44=\"ร\",\"มผ\",IF(DT44>=$DR$5*กำหนดอัตราส่วนคะแนน!$U$4/100,\"ผ\",\"มผ\")))","v":""},null,null,"",{"$f":"IF(DV44=\"\",\"\",IF(DX44=\"ร\",\"มผ\",IF(DX44>=$DV$5*กำหนดอัตราส่วนคะแนน!$U$4/100,\"ผ\",\"มผ\")))","v":""},null,null,"",{"$f":"IF(DZ44=\"\",\"\",IF(EB44=\"ร\",\"มผ\",IF(EB44>=$DZ$5*กำหนดอัตราส่วนคะแนน!$U$4/100,\"ผ\",\"มผ\")))","v":""},null,null,"",{"$f":"IF(ED44=\"\",\"\",IF(EF44=\"ร\",\"มผ\",IF(EF44>=$ED$5*กำหนดอัตราส่วนคะแนน!$U$4/100,\"ผ\",\"มผ\")))","v":""},null,null,"",{"$f":"IF(EH44=\"\",\"\",IF(EJ44=\"ร\",\"มผ\",IF(EJ44>=$EH$5*กำหนดอัตราส่วนคะแนน!$U$4/100,\"ผ\",\"มผ\")))","v":""},null,null,"",{"$f":"IF(EL44=\"\",\"\",IF(EN44=\"ร\",\"มผ\",IF(EN114>=$EL$5*กำหนดอัตราส่วนคะแนน!$U$4/100,\"ผ\",\"มผ\")))","v":""},null,null,"",{"$f":"IF(EP44=\"\",\"\",IF(ER44=\"ร\",\"มผ\",IF(ER44>=$EP$5*กำหนดอัตราส่วนคะแนน!$U$4/100,\"ผ\",\"มผ\")))","v":""},null,null,"",{"$f":"IF(ET44=\"\",\"\",IF(EV44=\"ร\",\"มผ\",IF(EV44>=$ET$5*กำหนดอัตราส่วนคะแนน!$U$4/100,\"ผ\",\"มผ\")))","v":""},null,null,"",{"$f":"IF(EX44=\"\",\"\",IF(EZ44=\"ร\",\"มผ\",IF(EZ44>=$EX$5*กำหนดอัตราส่วนคะแนน!$U$4/100,\"ผ\",\"มผ\")))","v":""},null,null,"",{"$f":"IF(FB44=\"\",\"\",IF(FD44=\"ร\",\"มผ\",IF(FD44>=$FB$5*กำหนดอัตราส่วนคะแนน!$U$4/100,\"ผ\",\"มผ\")))","v":""},null,null,"",{"$f":"IF(FF44=\"\",\"\",IF(FH44=\"ร\",\"มผ\",IF(FH44>=$FF$5*กำหนดอัตราส่วนคะแนน!$U$4/100,\"ผ\",\"มผ\")))","v":""},{"$f":"IF(Sheet1!#REF!=\"\",\"\",IF(COUNTIF(F44:FI44,\"ร\"),\"ร\",IF(FW44=\"ปกติ\",SUM(H44,L44,P44,T44,X44,AB44,AF44,AJ44,AN44,AR44,AV44,AZ44,BD44,BH44,BL44,BP44,BT44,BX44,CB44,CF44,CJ44,CN44,CR44,CV44,CZ44,DD44,DH44,DL44,DP44,DT44,DX44,EB44,EF44,EJ44,EN44,ER44,EV44,EZ44,FD44,FH44),\"-\")))","v":{"$error":"#REF!"}},null,{"$error":"#REF!"},null,null,{"$error":"#REF!"},null,null,null,"",null,{"$f":"IF(COUNTIF(Sheet1!#REF!:Sheet1!#REF!,\"\"),\"\",IF(COUNTIF(FJ44:FS44,\"ร\"),\"ร\",IF(COUNTIF(FL44:FS44,\"-\"),\"-\",IF(FW44=\"ปกติ\",SUM(FO44,FS44)))))","v":{"$error":"#REF!"}},null,{"$f":"เวลาเรียน!DZ46","v":0}]
[39,0,{"$f":"CONCATENATE(Sheet1!B40)","v":""},{"$f":"CONCATENATE(Sheet1!D40&Sheet1!#REF!&\"       \"&Sheet1!#REF!)","v":{"$error":"#REF!"}},39,null,null,"",{"$f":"IF(F45=\"\",\"\",IF(H45=\"ร\",\"มผ\",IF(H45>=$F$5*กำหนดอัตราส่วนคะแนน!$U$4/100,\"ผ\",\"มผ\")))","v":""},null,null,"",{"$f":"IF(J45=\"\",\"\",IF(L45=\"ร\",\"มผ\",IF(L45>=$J$5*กำหนดอัตราส่วนคะแนน!$U$4/100,\"ผ\",\"มผ\")))","v":""},null,null,"",{"$f":"IF(N45=\"\",\"\",IF(P45=\"ร\",\"มผ\",IF(P45>=$N$5*กำหนดอัตราส่วนคะแนน!$U$4/100,\"ผ\",\"มผ\")))","v":""},null,null,"",{"$f":"IF(R45=\"\",\"\",IF(T45=\"ร\",\"มผ\",IF(T45>=$R$5*กำหนดอัตราส่วนคะแนน!$U$4/100,\"ผ\",\"มผ\")))","v":""},null,null,"",{"$f":"IF(V45=\"\",\"\",IF(X45=\"ร\",\"มผ\",IF(X45>=$V$5*กำหนดอัตราส่วนคะแนน!$U$4/100,\"ผ\",\"มผ\")))","v":""},null,null,"",{"$f":"IF(Z45=\"\",\"\",IF(AB45=\"ร\",\"มผ\",IF(AB45>=$Z$5*กำหนดอัตราส่วนคะแนน!$U$4/100,\"ผ\",\"มผ\")))","v":""},null,null,"",{"$f":"IF(AD45=\"\",\"\",IF(AF45=\"ร\",\"มผ\",IF(AF45>=$AD$5*กำหนดอัตราส่วนคะแนน!$U$4/100,\"ผ\",\"มผ\")))","v":""},null,null,"",{"$f":"IF(AH45=\"\",\"\",IF(AJ45=\"ร\",\"มผ\",IF(AJ45>=$AH$5*กำหนดอัตราส่วนคะแนน!$U$4/100,\"ผ\",\"มผ\")))","v":""},null,null,"",{"$f":"IF(AL45=\"\",\"\",IF(AN45=\"ร\",\"มผ\",IF(AN45>=$AL$5*กำหนดอัตราส่วนคะแนน!$U$4/100,\"ผ\",\"มผ\")))","v":""},null,null,"",{"$f":"IF(AP45=\"\",\"\",IF(AR45=\"ร\",\"มผ\",IF(AR45>=$AP$5*กำหนดอัตราส่วนคะแนน!$U$4/100,\"ผ\",\"มผ\")))","v":""},null,null,"",{"$f":"IF(AT45=\"\",\"\",IF(AV45=\"ร\",\"มผ\",IF(AV45>=$AT$5*กำหนดอัตราส่วนคะแนน!$U$4/100,\"ผ\",\"มผ\")))","v":""},null,null,"",{"$f":"IF(AX45=\"\",\"\",IF(AZ45=\"ร\",\"มผ\",IF(AZ45>=$AX$5*กำหนดอัตราส่วนคะแนน!$U$4/100,\"ผ\",\"มผ\")))","v":""},null,null,"",{"$f":"IF(BB45=\"\",\"\",IF(BD45=\"ร\",\"มผ\",IF(BD45>=$BB$5*กำหนดอัตราส่วนคะแนน!$U$4/100,\"ผ\",\"มผ\")))","v":""},null,null,"",{"$f":"IF(BF45=\"\",\"\",IF(BH45=\"ร\",\"มผ\",IF(BH45>=$BJ$5*กำหนดอัตราส่วนคะแนน!$U$4/100,\"ผ\",\"มผ\")))","v":""},null,null,"",{"$f":"IF(BJ45=\"\",\"\",IF(BL45=\"ร\",\"มผ\",IF(BL45>=$BJ$5*กำหนดอัตราส่วนคะแนน!$U$4/100,\"ผ\",\"มผ\")))","v":""},null,null,"",{"$f":"IF(BN45=\"\",\"\",IF(BP45=\"ร\",\"มผ\",IF(BP45>=$BN$5*กำหนดอัตราส่วนคะแนน!$U$4/100,\"ผ\",\"มผ\")))","v":""},null,null,"",{"$f":"IF(BR45=\"\",\"\",IF(BT45=\"ร\",\"มผ\",IF(BT45>=$BR$5*กำหนดอัตราส่วนคะแนน!$U$4/100,\"ผ\",\"มผ\")))","v":""},null,null,"",{"$f":"IF(BV45=\"\",\"\",IF(BX45=\"ร\",\"มผ\",IF(BX45>=$BV$5*กำหนดอัตราส่วนคะแนน!$U$4/100,\"ผ\",\"มผ\")))","v":""},null,null,"",{"$f":"IF(BZ45=\"\",\"\",IF(CB45=\"ร\",\"มผ\",IF(CB45>=$BZ$5*กำหนดอัตราส่วนคะแนน!$U$4/100,\"ผ\",\"มผ\")))","v":""},null,null,"",{"$f":"IF(CD45=\"\",\"\",IF(CF45=\"ร\",\"มผ\",IF(CF45>=$CD$5*กำหนดอัตราส่วนคะแนน!$U$4/100,\"ผ\",\"มผ\")))","v":""},null,null,"",{"$f":"IF(CH45=\"\",\"\",IF(CJ45=\"ร\",\"มผ\",IF(CJ45>=$CH$5*กำหนดอัตราส่วนคะแนน!$U$4/100,\"ผ\",\"มผ\")))","v":""},null,null,"",{"$f":"IF(CL45=\"\",\"\",IF(CN45=\"ร\",\"มผ\",IF(CN45>=$CL$5*กำหนดอัตราส่วนคะแนน!$U$4/100,\"ผ\",\"มผ\")))","v":""},null,null,"",{"$f":"IF(CP45=\"\",\"\",IF(CR45=\"ร\",\"มผ\",IF(CR45>=$CP$5*กำหนดอัตราส่วนคะแนน!$U$4/100,\"ผ\",\"มผ\")))","v":""},null,null,"",{"$f":"IF(CT45=\"\",\"\",IF(CV45=\"ร\",\"มผ\",IF(CV45>=$CT$5*กำหนดอัตราส่วนคะแนน!$U$4/100,\"ผ\",\"มผ\")))","v":""},null,null,"",{"$f":"IF(CX45=\"\",\"\",IF(CZ45=\"ร\",\"มผ\",IF(CZ45>=$CX$5*กำหนดอัตราส่วนคะแนน!$U$4/100,\"ผ\",\"มผ\")))","v":""},null,null,"",{"$f":"IF(DB45=\"\",\"\",IF(DD45=\"ร\",\"มผ\",IF(DD45>=$DB$5*กำหนดอัตราส่วนคะแนน!$U$4/100,\"ผ\",\"มผ\")))","v":""},null,null,"",{"$f":"IF(DF45=\"\",\"\",IF(DH45=\"ร\",\"มผ\",IF(DH45>=$DF$5*กำหนดอัตราส่วนคะแนน!$U$4/100,\"ผ\",\"มผ\")))","v":""},null,null,"",{"$f":"IF(DJ45=\"\",\"\",IF(DL45=\"ร\",\"มผ\",IF(DL45>=$DJ$5*กำหนดอัตราส่วนคะแนน!$U$4/100,\"ผ\",\"มผ\")))","v":""},null,null,"",{"$f":"IF(DN45=\"\",\"\",IF(DP45=\"ร\",\"มผ\",IF(DP45>=$DN$5*กำหนดอัตราส่วนคะแนน!$U$4/100,\"ผ\",\"มผ\")))","v":""},null,null,"",{"$f":"IF(DR45=\"\",\"\",IF(DT45=\"ร\",\"มผ\",IF(DT45>=$DR$5*กำหนดอัตราส่วนคะแนน!$U$4/100,\"ผ\",\"มผ\")))","v":""},null,null,"",{"$f":"IF(DV45=\"\",\"\",IF(DX45=\"ร\",\"มผ\",IF(DX45>=$DV$5*กำหนดอัตราส่วนคะแนน!$U$4/100,\"ผ\",\"มผ\")))","v":""},null,null,"",{"$f":"IF(DZ45=\"\",\"\",IF(EB45=\"ร\",\"มผ\",IF(EB45>=$DZ$5*กำหนดอัตราส่วนคะแนน!$U$4/100,\"ผ\",\"มผ\")))","v":""},null,null,"",{"$f":"IF(ED45=\"\",\"\",IF(EF45=\"ร\",\"มผ\",IF(EF45>=$ED$5*กำหนดอัตราส่วนคะแนน!$U$4/100,\"ผ\",\"มผ\")))","v":""},null,null,"",{"$f":"IF(EH45=\"\",\"\",IF(EJ45=\"ร\",\"มผ\",IF(EJ45>=$EH$5*กำหนดอัตราส่วนคะแนน!$U$4/100,\"ผ\",\"มผ\")))","v":""},null,null,"",{"$f":"IF(EL45=\"\",\"\",IF(EN45=\"ร\",\"มผ\",IF(EN115>=$EL$5*กำหนดอัตราส่วนคะแนน!$U$4/100,\"ผ\",\"มผ\")))","v":""},null,null,"",{"$f":"IF(EP45=\"\",\"\",IF(ER45=\"ร\",\"มผ\",IF(ER45>=$EP$5*กำหนดอัตราส่วนคะแนน!$U$4/100,\"ผ\",\"มผ\")))","v":""},null,null,"",{"$f":"IF(ET45=\"\",\"\",IF(EV45=\"ร\",\"มผ\",IF(EV45>=$ET$5*กำหนดอัตราส่วนคะแนน!$U$4/100,\"ผ\",\"มผ\")))","v":""},null,null,"",{"$f":"IF(EX45=\"\",\"\",IF(EZ45=\"ร\",\"มผ\",IF(EZ45>=$EX$5*กำหนดอัตราส่วนคะแนน!$U$4/100,\"ผ\",\"มผ\")))","v":""},null,null,"",{"$f":"IF(FB45=\"\",\"\",IF(FD45=\"ร\",\"มผ\",IF(FD45>=$FB$5*กำหนดอัตราส่วนคะแนน!$U$4/100,\"ผ\",\"มผ\")))","v":""},null,null,"",{"$f":"IF(FF45=\"\",\"\",IF(FH45=\"ร\",\"มผ\",IF(FH45>=$FF$5*กำหนดอัตราส่วนคะแนน!$U$4/100,\"ผ\",\"มผ\")))","v":""},{"$f":"IF(Sheet1!#REF!=\"\",\"\",IF(COUNTIF(F45:FI45,\"ร\"),\"ร\",IF(FW45=\"ปกติ\",SUM(H45,L45,P45,T45,X45,AB45,AF45,AJ45,AN45,AR45,AV45,AZ45,BD45,BH45,BL45,BP45,BT45,BX45,CB45,CF45,CJ45,CN45,CR45,CV45,CZ45,DD45,DH45,DL45,DP45,DT45,DX45,EB45,EF45,EJ45,EN45,ER45,EV45,EZ45,FD45,FH45),\"-\")))","v":{"$error":"#REF!"}},null,{"$error":"#REF!"},null,null,{"$error":"#REF!"},null,null,null,"",null,{"$f":"IF(COUNTIF(Sheet1!#REF!:Sheet1!#REF!,\"\"),\"\",IF(COUNTIF(FJ45:FS45,\"ร\"),\"ร\",IF(COUNTIF(FL45:FS45,\"-\"),\"-\",IF(FW45=\"ปกติ\",SUM(FO45,FS45)))))","v":{"$error":"#REF!"}},null,{"$f":"เวลาเรียน!DZ47","v":0}]
[40,0,{"$f":"CONCATENATE(Sheet1!B41)","v":""},{"$f":"CONCATENATE(Sheet1!D41&Sheet1!#REF!&\"       \"&Sheet1!#REF!)","v":{"$error":"#REF!"}},40,null,null,"",{"$f":"IF(F46=\"\",\"\",IF(H46=\"ร\",\"มผ\",IF(H46>=$F$5*กำหนดอัตราส่วนคะแนน!$U$4/100,\"ผ\",\"มผ\")))","v":""},null,null,"",{"$f":"IF(J46=\"\",\"\",IF(L46=\"ร\",\"มผ\",IF(L46>=$J$5*กำหนดอัตราส่วนคะแนน!$U$4/100,\"ผ\",\"มผ\")))","v":""},null,null,"",{"$f":"IF(N46=\"\",\"\",IF(P46=\"ร\",\"มผ\",IF(P46>=$N$5*กำหนดอัตราส่วนคะแนน!$U$4/100,\"ผ\",\"มผ\")))","v":""},null,null,"",{"$f":"IF(R46=\"\",\"\",IF(T46=\"ร\",\"มผ\",IF(T46>=$R$5*กำหนดอัตราส่วนคะแนน!$U$4/100,\"ผ\",\"มผ\")))","v":""},null,null,"",{"$f":"IF(V46=\"\",\"\",IF(X46=\"ร\",\"มผ\",IF(X46>=$V$5*กำหนดอัตราส่วนคะแนน!$U$4/100,\"ผ\",\"มผ\")))","v":""},null,null,"",{"$f":"IF(Z46=\"\",\"\",IF(AB46=\"ร\",\"มผ\",IF(AB46>=$Z$5*กำหนดอัตราส่วนคะแนน!$U$4/100,\"ผ\",\"มผ\")))","v":""},null,null,"",{"$f":"IF(AD46=\"\",\"\",IF(AF46=\"ร\",\"มผ\",IF(AF46>=$AD$5*กำหนดอัตราส่วนคะแนน!$U$4/100,\"ผ\",\"มผ\")))","v":""},null,null,"",{"$f":"IF(AH46=\"\",\"\",IF(AJ46=\"ร\",\"มผ\",IF(AJ46>=$AH$5*กำหนดอัตราส่วนคะแนน!$U$4/100,\"ผ\",\"มผ\")))","v":""},null,null,"",{"$f":"IF(AL46=\"\",\"\",IF(AN46=\"ร\",\"มผ\",IF(AN46>=$AL$5*กำหนดอัตราส่วนคะแนน!$U$4/100,\"ผ\",\"มผ\")))","v":""},null,null,"",{"$f":"IF(AP46=\"\",\"\",IF(AR46=\"ร\",\"มผ\",IF(AR46>=$AP$5*กำหนดอัตราส่วนคะแนน!$U$4/100,\"ผ\",\"มผ\")))","v":""},null,null,"",{"$f":"IF(AT46=\"\",\"\",IF(AV46=\"ร\",\"มผ\",IF(AV46>=$AT$5*กำหนดอัตราส่วนคะแนน!$U$4/100,\"ผ\",\"มผ\")))","v":""},null,null,"",{"$f":"IF(AX46=\"\",\"\",IF(AZ46=\"ร\",\"มผ\",IF(AZ46>=$AX$5*กำหนดอัตราส่วนคะแนน!$U$4/100,\"ผ\",\"มผ\")))","v":""},null,null,"",{"$f":"IF(BB46=\"\",\"\",IF(BD46=\"ร\",\"มผ\",IF(BD46>=$BB$5*กำหนดอัตราส่วนคะแนน!$U$4/100,\"ผ\",\"มผ\")))","v":""},null,null,"",{"$f":"IF(BF46=\"\",\"\",IF(BH46=\"ร\",\"มผ\",IF(BH46>=$BJ$5*กำหนดอัตราส่วนคะแนน!$U$4/100,\"ผ\",\"มผ\")))","v":""},null,null,"",{"$f":"IF(BJ46=\"\",\"\",IF(BL46=\"ร\",\"มผ\",IF(BL46>=$BJ$5*กำหนดอัตราส่วนคะแนน!$U$4/100,\"ผ\",\"มผ\")))","v":""},null,null,"",{"$f":"IF(BN46=\"\",\"\",IF(BP46=\"ร\",\"มผ\",IF(BP46>=$BN$5*กำหนดอัตราส่วนคะแนน!$U$4/100,\"ผ\",\"มผ\")))","v":""},null,null,"",{"$f":"IF(BR46=\"\",\"\",IF(BT46=\"ร\",\"มผ\",IF(BT46>=$BR$5*กำหนดอัตราส่วนคะแนน!$U$4/100,\"ผ\",\"มผ\")))","v":""},null,null,"",{"$f":"IF(BV46=\"\",\"\",IF(BX46=\"ร\",\"มผ\",IF(BX46>=$BV$5*กำหนดอัตราส่วนคะแนน!$U$4/100,\"ผ\",\"มผ\")))","v":""},null,null,"",{"$f":"IF(BZ46=\"\",\"\",IF(CB46=\"ร\",\"มผ\",IF(CB46>=$BZ$5*กำหนดอัตราส่วนคะแนน!$U$4/100,\"ผ\",\"มผ\")))","v":""},null,null,"",{"$f":"IF(CD46=\"\",\"\",IF(CF46=\"ร\",\"มผ\",IF(CF46>=$CD$5*กำหนดอัตราส่วนคะแนน!$U$4/100,\"ผ\",\"มผ\")))","v":""},null,null,"",{"$f":"IF(CH46=\"\",\"\",IF(CJ46=\"ร\",\"มผ\",IF(CJ46>=$CH$5*กำหนดอัตราส่วนคะแนน!$U$4/100,\"ผ\",\"มผ\")))","v":""},null,null,"",{"$f":"IF(CL46=\"\",\"\",IF(CN46=\"ร\",\"มผ\",IF(CN46>=$CL$5*กำหนดอัตราส่วนคะแนน!$U$4/100,\"ผ\",\"มผ\")))","v":""},null,null,"",{"$f":"IF(CP46=\"\",\"\",IF(CR46=\"ร\",\"มผ\",IF(CR46>=$CP$5*กำหนดอัตราส่วนคะแนน!$U$4/100,\"ผ\",\"มผ\")))","v":""},null,null,"",{"$f":"IF(CT46=\"\",\"\",IF(CV46=\"ร\",\"มผ\",IF(CV46>=$CT$5*กำหนดอัตราส่วนคะแนน!$U$4/100,\"ผ\",\"มผ\")))","v":""},null,null,"",{"$f":"IF(CX46=\"\",\"\",IF(CZ46=\"ร\",\"มผ\",IF(CZ46>=$CX$5*กำหนดอัตราส่วนคะแนน!$U$4/100,\"ผ\",\"มผ\")))","v":""},null,null,"",{"$f":"IF(DB46=\"\",\"\",IF(DD46=\"ร\",\"มผ\",IF(DD46>=$DB$5*กำหนดอัตราส่วนคะแนน!$U$4/100,\"ผ\",\"มผ\")))","v":""},null,null,"",{"$f":"IF(DF46=\"\",\"\",IF(DH46=\"ร\",\"มผ\",IF(DH46>=$DF$5*กำหนดอัตราส่วนคะแนน!$U$4/100,\"ผ\",\"มผ\")))","v":""},null,null,"",{"$f":"IF(DJ46=\"\",\"\",IF(DL46=\"ร\",\"มผ\",IF(DL46>=$DJ$5*กำหนดอัตราส่วนคะแนน!$U$4/100,\"ผ\",\"มผ\")))","v":""},null,null,"",{"$f":"IF(DN46=\"\",\"\",IF(DP46=\"ร\",\"มผ\",IF(DP46>=$DN$5*กำหนดอัตราส่วนคะแนน!$U$4/100,\"ผ\",\"มผ\")))","v":""},null,null,"",{"$f":"IF(DR46=\"\",\"\",IF(DT46=\"ร\",\"มผ\",IF(DT46>=$DR$5*กำหนดอัตราส่วนคะแนน!$U$4/100,\"ผ\",\"มผ\")))","v":""},null,null,"",{"$f":"IF(DV46=\"\",\"\",IF(DX46=\"ร\",\"มผ\",IF(DX46>=$DV$5*กำหนดอัตราส่วนคะแนน!$U$4/100,\"ผ\",\"มผ\")))","v":""},null,null,"",{"$f":"IF(DZ46=\"\",\"\",IF(EB46=\"ร\",\"มผ\",IF(EB46>=$DZ$5*กำหนดอัตราส่วนคะแนน!$U$4/100,\"ผ\",\"มผ\")))","v":""},null,null,"",{"$f":"IF(ED46=\"\",\"\",IF(EF46=\"ร\",\"มผ\",IF(EF46>=$ED$5*กำหนดอัตราส่วนคะแนน!$U$4/100,\"ผ\",\"มผ\")))","v":""},null,null,"",{"$f":"IF(EH46=\"\",\"\",IF(EJ46=\"ร\",\"มผ\",IF(EJ46>=$EH$5*กำหนดอัตราส่วนคะแนน!$U$4/100,\"ผ\",\"มผ\")))","v":""},null,null,"",{"$f":"IF(EL46=\"\",\"\",IF(EN46=\"ร\",\"มผ\",IF(EN116>=$EL$5*กำหนดอัตราส่วนคะแนน!$U$4/100,\"ผ\",\"มผ\")))","v":""},null,null,"",{"$f":"IF(EP46=\"\",\"\",IF(ER46=\"ร\",\"มผ\",IF(ER46>=$EP$5*กำหนดอัตราส่วนคะแนน!$U$4/100,\"ผ\",\"มผ\")))","v":""},null,null,"",{"$f":"IF(ET46=\"\",\"\",IF(EV46=\"ร\",\"มผ\",IF(EV46>=$ET$5*กำหนดอัตราส่วนคะแนน!$U$4/100,\"ผ\",\"มผ\")))","v":""},null,null,"",{"$f":"IF(EX46=\"\",\"\",IF(EZ46=\"ร\",\"มผ\",IF(EZ46>=$EX$5*กำหนดอัตราส่วนคะแนน!$U$4/100,\"ผ\",\"มผ\")))","v":""},null,null,"",{"$f":"IF(FB46=\"\",\"\",IF(FD46=\"ร\",\"มผ\",IF(FD46>=$FB$5*กำหนดอัตราส่วนคะแนน!$U$4/100,\"ผ\",\"มผ\")))","v":""},null,null,"",{"$f":"IF(FF46=\"\",\"\",IF(FH46=\"ร\",\"มผ\",IF(FH46>=$FF$5*กำหนดอัตราส่วนคะแนน!$U$4/100,\"ผ\",\"มผ\")))","v":""},{"$f":"IF(Sheet1!#REF!=\"\",\"\",IF(COUNTIF(F46:FI46,\"ร\"),\"ร\",IF(FW46=\"ปกติ\",SUM(H46,L46,P46,T46,X46,AB46,AF46,AJ46,AN46,AR46,AV46,AZ46,BD46,BH46,BL46,BP46,BT46,BX46,CB46,CF46,CJ46,CN46,CR46,CV46,CZ46,DD46,DH46,DL46,DP46,DT46,DX46,EB46,EF46,EJ46,EN46,ER46,EV46,EZ46,FD46,FH46),\"-\")))","v":{"$error":"#REF!"}},null,{"$error":"#REF!"},null,null,{"$error":"#REF!"},null,null,null,"",null,{"$f":"IF(COUNTIF(Sheet1!#REF!:Sheet1!#REF!,\"\"),\"\",IF(COUNTIF(FJ46:FS46,\"ร\"),\"ร\",IF(COUNTIF(FL46:FS46,\"-\"),\"-\",IF(FW46=\"ปกติ\",SUM(FO46,FS46)))))","v":{"$error":"#REF!"}},null,{"$f":"เวลาเรียน!DZ48","v":0}]
[36,0,{"$f":"CONCATENATE(Sheet1!B42)","v":""},{"$f":"CONCATENATE(Sheet1!D42&Sheet1!#REF!&\"       \"&Sheet1!#REF!)","v":{"$error":"#REF!"}},41,null,null,"",{"$f":"IF(F47=\"\",\"\",IF(H47=\"ร\",\"มผ\",IF(H47>=$F$5*กำหนดอัตราส่วนคะแนน!$U$4/100,\"ผ\",\"มผ\")))","v":""},null,null,"",{"$f":"IF(J47=\"\",\"\",IF(L47=\"ร\",\"มผ\",IF(L47>=$J$5*กำหนดอัตราส่วนคะแนน!$U$4/100,\"ผ\",\"มผ\")))","v":""},null,null,"",{"$f":"IF(N47=\"\",\"\",IF(P47=\"ร\",\"มผ\",IF(P47>=$N$5*กำหนดอัตราส่วนคะแนน!$U$4/100,\"ผ\",\"มผ\")))","v":""},null,null,"",{"$f":"IF(R47=\"\",\"\",IF(T47=\"ร\",\"มผ\",IF(T47>=$R$5*กำหนดอัตราส่วนคะแนน!$U$4/100,\"ผ\",\"มผ\")))","v":""},null,null,"",{"$f":"IF(V47=\"\",\"\",IF(X47=\"ร\",\"มผ\",IF(X47>=$V$5*กำหนดอัตราส่วนคะแนน!$U$4/100,\"ผ\",\"มผ\")))","v":""},null,null,"",{"$f":"IF(Z47=\"\",\"\",IF(AB47=\"ร\",\"มผ\",IF(AB47>=$Z$5*กำหนดอัตราส่วนคะแนน!$U$4/100,\"ผ\",\"มผ\")))","v":""},null,null,"",{"$f":"IF(AD47=\"\",\"\",IF(AF47=\"ร\",\"มผ\",IF(AF47>=$AD$5*กำหนดอัตราส่วนคะแนน!$U$4/100,\"ผ\",\"มผ\")))","v":""},null,null,"",{"$f":"IF(AH47=\"\",\"\",IF(AJ47=\"ร\",\"มผ\",IF(AJ47>=$AH$5*กำหนดอัตราส่วนคะแนน!$U$4/100,\"ผ\",\"มผ\")))","v":""},null,null,"",{"$f":"IF(AL47=\"\",\"\",IF(AN47=\"ร\",\"มผ\",IF(AN47>=$AL$5*กำหนดอัตราส่วนคะแนน!$U$4/100,\"ผ\",\"มผ\")))","v":""},null,null,"",{"$f":"IF(AP47=\"\",\"\",IF(AR47=\"ร\",\"มผ\",IF(AR47>=$AP$5*กำหนดอัตราส่วนคะแนน!$U$4/100,\"ผ\",\"มผ\")))","v":""},null,null,"",{"$f":"IF(AT47=\"\",\"\",IF(AV47=\"ร\",\"มผ\",IF(AV47>=$AT$5*กำหนดอัตราส่วนคะแนน!$U$4/100,\"ผ\",\"มผ\")))","v":""},null,null,"",{"$f":"IF(AX47=\"\",\"\",IF(AZ47=\"ร\",\"มผ\",IF(AZ47>=$AX$5*กำหนดอัตราส่วนคะแนน!$U$4/100,\"ผ\",\"มผ\")))","v":""},null,null,"",{"$f":"IF(BB47=\"\",\"\",IF(BD47=\"ร\",\"มผ\",IF(BD47>=$BB$5*กำหนดอัตราส่วนคะแนน!$U$4/100,\"ผ\",\"มผ\")))","v":""},null,null,"",{"$f":"IF(BF47=\"\",\"\",IF(BH47=\"ร\",\"มผ\",IF(BH47>=$BJ$5*กำหนดอัตราส่วนคะแนน!$U$4/100,\"ผ\",\"มผ\")))","v":""},null,null,"",{"$f":"IF(BJ47=\"\",\"\",IF(BL47=\"ร\",\"มผ\",IF(BL47>=$BJ$5*กำหนดอัตราส่วนคะแนน!$U$4/100,\"ผ\",\"มผ\")))","v":""},null,null,"",{"$f":"IF(BN47=\"\",\"\",IF(BP47=\"ร\",\"มผ\",IF(BP47>=$BN$5*กำหนดอัตราส่วนคะแนน!$U$4/100,\"ผ\",\"มผ\")))","v":""},null,null,"",{"$f":"IF(BR47=\"\",\"\",IF(BT47=\"ร\",\"มผ\",IF(BT47>=$BR$5*กำหนดอัตราส่วนคะแนน!$U$4/100,\"ผ\",\"มผ\")))","v":""},null,null,"",{"$f":"IF(BV47=\"\",\"\",IF(BX47=\"ร\",\"มผ\",IF(BX47>=$BV$5*กำหนดอัตราส่วนคะแนน!$U$4/100,\"ผ\",\"มผ\")))","v":""},null,null,"",{"$f":"IF(BZ47=\"\",\"\",IF(CB47=\"ร\",\"มผ\",IF(CB47>=$BZ$5*กำหนดอัตราส่วนคะแนน!$U$4/100,\"ผ\",\"มผ\")))","v":""},null,null,"",{"$f":"IF(CD47=\"\",\"\",IF(CF47=\"ร\",\"มผ\",IF(CF47>=$CD$5*กำหนดอัตราส่วนคะแนน!$U$4/100,\"ผ\",\"มผ\")))","v":""},null,null,"",{"$f":"IF(CH47=\"\",\"\",IF(CJ47=\"ร\",\"มผ\",IF(CJ47>=$CH$5*กำหนดอัตราส่วนคะแนน!$U$4/100,\"ผ\",\"มผ\")))","v":""},null,null,"",{"$f":"IF(CL47=\"\",\"\",IF(CN47=\"ร\",\"มผ\",IF(CN47>=$CL$5*กำหนดอัตราส่วนคะแนน!$U$4/100,\"ผ\",\"มผ\")))","v":""},null,null,"",{"$f":"IF(CP47=\"\",\"\",IF(CR47=\"ร\",\"มผ\",IF(CR47>=$CP$5*กำหนดอัตราส่วนคะแนน!$U$4/100,\"ผ\",\"มผ\")))","v":""},null,null,"",{"$f":"IF(CT47=\"\",\"\",IF(CV47=\"ร\",\"มผ\",IF(CV47>=$CT$5*กำหนดอัตราส่วนคะแนน!$U$4/100,\"ผ\",\"มผ\")))","v":""},null,null,"",{"$f":"IF(CX47=\"\",\"\",IF(CZ47=\"ร\",\"มผ\",IF(CZ47>=$CX$5*กำหนดอัตราส่วนคะแนน!$U$4/100,\"ผ\",\"มผ\")))","v":""},null,null,"",{"$f":"IF(DB47=\"\",\"\",IF(DD47=\"ร\",\"มผ\",IF(DD47>=$DB$5*กำหนดอัตราส่วนคะแนน!$U$4/100,\"ผ\",\"มผ\")))","v":""},null,null,"",{"$f":"IF(DF47=\"\",\"\",IF(DH47=\"ร\",\"มผ\",IF(DH47>=$DF$5*กำหนดอัตราส่วนคะแนน!$U$4/100,\"ผ\",\"มผ\")))","v":""},null,null,"",{"$f":"IF(DJ47=\"\",\"\",IF(DL47=\"ร\",\"มผ\",IF(DL47>=$DJ$5*กำหนดอัตราส่วนคะแนน!$U$4/100,\"ผ\",\"มผ\")))","v":""},null,null,"",{"$f":"IF(DN47=\"\",\"\",IF(DP47=\"ร\",\"มผ\",IF(DP47>=$DN$5*กำหนดอัตราส่วนคะแนน!$U$4/100,\"ผ\",\"มผ\")))","v":""},null,null,"",{"$f":"IF(DR47=\"\",\"\",IF(DT47=\"ร\",\"มผ\",IF(DT47>=$DR$5*กำหนดอัตราส่วนคะแนน!$U$4/100,\"ผ\",\"มผ\")))","v":""},null,null,"",{"$f":"IF(DV47=\"\",\"\",IF(DX47=\"ร\",\"มผ\",IF(DX47>=$DV$5*กำหนดอัตราส่วนคะแนน!$U$4/100,\"ผ\",\"มผ\")))","v":""},null,null,"",{"$f":"IF(DZ47=\"\",\"\",IF(EB47=\"ร\",\"มผ\",IF(EB47>=$DZ$5*กำหนดอัตราส่วนคะแนน!$U$4/100,\"ผ\",\"มผ\")))","v":""},null,null,"",{"$f":"IF(ED47=\"\",\"\",IF(EF47=\"ร\",\"มผ\",IF(EF47>=$ED$5*กำหนดอัตราส่วนคะแนน!$U$4/100,\"ผ\",\"มผ\")))","v":""},null,null,"",{"$f":"IF(EH47=\"\",\"\",IF(EJ47=\"ร\",\"มผ\",IF(EJ47>=$EH$5*กำหนดอัตราส่วนคะแนน!$U$4/100,\"ผ\",\"มผ\")))","v":""},null,null,"",{"$f":"IF(EL47=\"\",\"\",IF(EN47=\"ร\",\"มผ\",IF(EN117>=$EL$5*กำหนดอัตราส่วนคะแนน!$U$4/100,\"ผ\",\"มผ\")))","v":""},null,null,"",{"$f":"IF(EP47=\"\",\"\",IF(ER47=\"ร\",\"มผ\",IF(ER47>=$EP$5*กำหนดอัตราส่วนคะแนน!$U$4/100,\"ผ\",\"มผ\")))","v":""},null,null,"",{"$f":"IF(ET47=\"\",\"\",IF(EV47=\"ร\",\"มผ\",IF(EV47>=$ET$5*กำหนดอัตราส่วนคะแนน!$U$4/100,\"ผ\",\"มผ\")))","v":""},null,null,"",{"$f":"IF(EX47=\"\",\"\",IF(EZ47=\"ร\",\"มผ\",IF(EZ47>=$EX$5*กำหนดอัตราส่วนคะแนน!$U$4/100,\"ผ\",\"มผ\")))","v":""},null,null,"",{"$f":"IF(FB47=\"\",\"\",IF(FD47=\"ร\",\"มผ\",IF(FD47>=$FB$5*กำหนดอัตราส่วนคะแนน!$U$4/100,\"ผ\",\"มผ\")))","v":""},null,null,"",{"$f":"IF(FF47=\"\",\"\",IF(FH47=\"ร\",\"มผ\",IF(FH47>=$FF$5*กำหนดอัตราส่วนคะแนน!$U$4/100,\"ผ\",\"มผ\")))","v":""},{"$f":"IF(Sheet1!#REF!=\"\",\"\",IF(COUNTIF(F47:FI47,\"ร\"),\"ร\",IF(FW47=\"ปกติ\",SUM(H47,L47,P47,T47,X47,AB47,AF47,AJ47,AN47,AR47,AV47,AZ47,BD47,BH47,BL47,BP47,BT47,BX47,CB47,CF47,CJ47,CN47,CR47,CV47,CZ47,DD47,DH47,DL47,DP47,DT47,DX47,EB47,EF47,EJ47,EN47,ER47,EV47,EZ47,FD47,FH47),\"-\")))","v":{"$error":"#REF!"}},null,{"$error":"#REF!"},null,null,{"$error":"#REF!"},null,null,null,"",null,{"$f":"IF(COUNTIF(Sheet1!#REF!:Sheet1!#REF!,\"\"),\"\",IF(COUNTIF(FJ47:FS47,\"ร\"),\"ร\",IF(COUNTIF(FL47:FS47,\"-\"),\"-\",IF(FW47=\"ปกติ\",SUM(FO47,FS47)))))","v":{"$error":"#REF!"}},null,{"$f":"เวลาเรียน!DZ49","v":0}]
[37,0,{"$f":"CONCATENATE(Sheet1!B43)","v":""},{"$f":"CONCATENATE(Sheet1!D43&Sheet1!#REF!&\"       \"&Sheet1!#REF!)","v":{"$error":"#REF!"}},42,null,null,"",{"$f":"IF(F48=\"\",\"\",IF(H48=\"ร\",\"มผ\",IF(H48>=$F$5*กำหนดอัตราส่วนคะแนน!$U$4/100,\"ผ\",\"มผ\")))","v":""},null,null,"",{"$f":"IF(J48=\"\",\"\",IF(L48=\"ร\",\"มผ\",IF(L48>=$J$5*กำหนดอัตราส่วนคะแนน!$U$4/100,\"ผ\",\"มผ\")))","v":""},null,null,"",{"$f":"IF(N48=\"\",\"\",IF(P48=\"ร\",\"มผ\",IF(P48>=$N$5*กำหนดอัตราส่วนคะแนน!$U$4/100,\"ผ\",\"มผ\")))","v":""},null,null,"",{"$f":"IF(R48=\"\",\"\",IF(T48=\"ร\",\"มผ\",IF(T48>=$R$5*กำหนดอัตราส่วนคะแนน!$U$4/100,\"ผ\",\"มผ\")))","v":""},null,null,"",{"$f":"IF(V48=\"\",\"\",IF(X48=\"ร\",\"มผ\",IF(X48>=$V$5*กำหนดอัตราส่วนคะแนน!$U$4/100,\"ผ\",\"มผ\")))","v":""},null,null,"",{"$f":"IF(Z48=\"\",\"\",IF(AB48=\"ร\",\"มผ\",IF(AB48>=$Z$5*กำหนดอัตราส่วนคะแนน!$U$4/100,\"ผ\",\"มผ\")))","v":""},null,null,"",{"$f":"IF(AD48=\"\",\"\",IF(AF48=\"ร\",\"มผ\",IF(AF48>=$AD$5*กำหนดอัตราส่วนคะแนน!$U$4/100,\"ผ\",\"มผ\")))","v":""},null,null,"",{"$f":"IF(AH48=\"\",\"\",IF(AJ48=\"ร\",\"มผ\",IF(AJ48>=$AH$5*กำหนดอัตราส่วนคะแนน!$U$4/100,\"ผ\",\"มผ\")))","v":""},null,null,"",{"$f":"IF(AL48=\"\",\"\",IF(AN48=\"ร\",\"มผ\",IF(AN48>=$AL$5*กำหนดอัตราส่วนคะแนน!$U$4/100,\"ผ\",\"มผ\")))","v":""},null,null,"",{"$f":"IF(AP48=\"\",\"\",IF(AR48=\"ร\",\"มผ\",IF(AR48>=$AP$5*กำหนดอัตราส่วนคะแนน!$U$4/100,\"ผ\",\"มผ\")))","v":""},null,null,"",{"$f":"IF(AT48=\"\",\"\",IF(AV48=\"ร\",\"มผ\",IF(AV48>=$AT$5*กำหนดอัตราส่วนคะแนน!$U$4/100,\"ผ\",\"มผ\")))","v":""},null,null,"",{"$f":"IF(AX48=\"\",\"\",IF(AZ48=\"ร\",\"มผ\",IF(AZ48>=$AX$5*กำหนดอัตราส่วนคะแนน!$U$4/100,\"ผ\",\"มผ\")))","v":""},null,null,"",{"$f":"IF(BB48=\"\",\"\",IF(BD48=\"ร\",\"มผ\",IF(BD48>=$BB$5*กำหนดอัตราส่วนคะแนน!$U$4/100,\"ผ\",\"มผ\")))","v":""},null,null,"",{"$f":"IF(BF48=\"\",\"\",IF(BH48=\"ร\",\"มผ\",IF(BH48>=$BJ$5*กำหนดอัตราส่วนคะแนน!$U$4/100,\"ผ\",\"มผ\")))","v":""},null,null,"",{"$f":"IF(BJ48=\"\",\"\",IF(BL48=\"ร\",\"มผ\",IF(BL48>=$BJ$5*กำหนดอัตราส่วนคะแนน!$U$4/100,\"ผ\",\"มผ\")))","v":""},null,null,"",{"$f":"IF(BN48=\"\",\"\",IF(BP48=\"ร\",\"มผ\",IF(BP48>=$BN$5*กำหนดอัตราส่วนคะแนน!$U$4/100,\"ผ\",\"มผ\")))","v":""},null,null,"",{"$f":"IF(BR48=\"\",\"\",IF(BT48=\"ร\",\"มผ\",IF(BT48>=$BR$5*กำหนดอัตราส่วนคะแนน!$U$4/100,\"ผ\",\"มผ\")))","v":""},null,null,"",{"$f":"IF(BV48=\"\",\"\",IF(BX48=\"ร\",\"มผ\",IF(BX48>=$BV$5*กำหนดอัตราส่วนคะแนน!$U$4/100,\"ผ\",\"มผ\")))","v":""},null,null,"",{"$f":"IF(BZ48=\"\",\"\",IF(CB48=\"ร\",\"มผ\",IF(CB48>=$BZ$5*กำหนดอัตราส่วนคะแนน!$U$4/100,\"ผ\",\"มผ\")))","v":""},null,null,"",{"$f":"IF(CD48=\"\",\"\",IF(CF48=\"ร\",\"มผ\",IF(CF48>=$CD$5*กำหนดอัตราส่วนคะแนน!$U$4/100,\"ผ\",\"มผ\")))","v":""},null,null,"",{"$f":"IF(CH48=\"\",\"\",IF(CJ48=\"ร\",\"มผ\",IF(CJ48>=$CH$5*กำหนดอัตราส่วนคะแนน!$U$4/100,\"ผ\",\"มผ\")))","v":""},null,null,"",{"$f":"IF(CL48=\"\",\"\",IF(CN48=\"ร\",\"มผ\",IF(CN48>=$CL$5*กำหนดอัตราส่วนคะแนน!$U$4/100,\"ผ\",\"มผ\")))","v":""},null,null,"",{"$f":"IF(CP48=\"\",\"\",IF(CR48=\"ร\",\"มผ\",IF(CR48>=$CP$5*กำหนดอัตราส่วนคะแนน!$U$4/100,\"ผ\",\"มผ\")))","v":""},null,null,"",{"$f":"IF(CT48=\"\",\"\",IF(CV48=\"ร\",\"มผ\",IF(CV48>=$CT$5*กำหนดอัตราส่วนคะแนน!$U$4/100,\"ผ\",\"มผ\")))","v":""},null,null,"",{"$f":"IF(CX48=\"\",\"\",IF(CZ48=\"ร\",\"มผ\",IF(CZ48>=$CX$5*กำหนดอัตราส่วนคะแนน!$U$4/100,\"ผ\",\"มผ\")))","v":""},null,null,"",{"$f":"IF(DB48=\"\",\"\",IF(DD48=\"ร\",\"มผ\",IF(DD48>=$DB$5*กำหนดอัตราส่วนคะแนน!$U$4/100,\"ผ\",\"มผ\")))","v":""},null,null,"",{"$f":"IF(DF48=\"\",\"\",IF(DH48=\"ร\",\"มผ\",IF(DH48>=$DF$5*กำหนดอัตราส่วนคะแนน!$U$4/100,\"ผ\",\"มผ\")))","v":""},null,null,"",{"$f":"IF(DJ48=\"\",\"\",IF(DL48=\"ร\",\"มผ\",IF(DL48>=$DJ$5*กำหนดอัตราส่วนคะแนน!$U$4/100,\"ผ\",\"มผ\")))","v":""},null,null,"",{"$f":"IF(DN48=\"\",\"\",IF(DP48=\"ร\",\"มผ\",IF(DP48>=$DN$5*กำหนดอัตราส่วนคะแนน!$U$4/100,\"ผ\",\"มผ\")))","v":""},null,null,"",{"$f":"IF(DR48=\"\",\"\",IF(DT48=\"ร\",\"มผ\",IF(DT48>=$DR$5*กำหนดอัตราส่วนคะแนน!$U$4/100,\"ผ\",\"มผ\")))","v":""},null,null,"",{"$f":"IF(DV48=\"\",\"\",IF(DX48=\"ร\",\"มผ\",IF(DX48>=$DV$5*กำหนดอัตราส่วนคะแนน!$U$4/100,\"ผ\",\"มผ\")))","v":""},null,null,"",{"$f":"IF(DZ48=\"\",\"\",IF(EB48=\"ร\",\"มผ\",IF(EB48>=$DZ$5*กำหนดอัตราส่วนคะแนน!$U$4/100,\"ผ\",\"มผ\")))","v":""},null,null,"",{"$f":"IF(ED48=\"\",\"\",IF(EF48=\"ร\",\"มผ\",IF(EF48>=$ED$5*กำหนดอัตราส่วนคะแนน!$U$4/100,\"ผ\",\"มผ\")))","v":""},null,null,"",{"$f":"IF(EH48=\"\",\"\",IF(EJ48=\"ร\",\"มผ\",IF(EJ48>=$EH$5*กำหนดอัตราส่วนคะแนน!$U$4/100,\"ผ\",\"มผ\")))","v":""},null,null,"",{"$f":"IF(EL48=\"\",\"\",IF(EN48=\"ร\",\"มผ\",IF(EN118>=$EL$5*กำหนดอัตราส่วนคะแนน!$U$4/100,\"ผ\",\"มผ\")))","v":""},null,null,"",{"$f":"IF(EP48=\"\",\"\",IF(ER48=\"ร\",\"มผ\",IF(ER48>=$EP$5*กำหนดอัตราส่วนคะแนน!$U$4/100,\"ผ\",\"มผ\")))","v":""},null,null,"",{"$f":"IF(ET48=\"\",\"\",IF(EV48=\"ร\",\"มผ\",IF(EV48>=$ET$5*กำหนดอัตราส่วนคะแนน!$U$4/100,\"ผ\",\"มผ\")))","v":""},null,null,"",{"$f":"IF(EX48=\"\",\"\",IF(EZ48=\"ร\",\"มผ\",IF(EZ48>=$EX$5*กำหนดอัตราส่วนคะแนน!$U$4/100,\"ผ\",\"มผ\")))","v":""},null,null,"",{"$f":"IF(FB48=\"\",\"\",IF(FD48=\"ร\",\"มผ\",IF(FD48>=$FB$5*กำหนดอัตราส่วนคะแนน!$U$4/100,\"ผ\",\"มผ\")))","v":""},null,null,"",{"$f":"IF(FF48=\"\",\"\",IF(FH48=\"ร\",\"มผ\",IF(FH48>=$FF$5*กำหนดอัตราส่วนคะแนน!$U$4/100,\"ผ\",\"มผ\")))","v":""},{"$f":"IF(Sheet1!#REF!=\"\",\"\",IF(COUNTIF(F48:FI48,\"ร\"),\"ร\",IF(FW48=\"ปกติ\",SUM(H48,L48,P48,T48,X48,AB48,AF48,AJ48,AN48,AR48,AV48,AZ48,BD48,BH48,BL48,BP48,BT48,BX48,CB48,CF48,CJ48,CN48,CR48,CV48,CZ48,DD48,DH48,DL48,DP48,DT48,DX48,EB48,EF48,EJ48,EN48,ER48,EV48,EZ48,FD48,FH48),\"-\")))","v":{"$error":"#REF!"}},null,{"$error":"#REF!"},null,null,{"$error":"#REF!"},null,null,null,"",null,{"$f":"IF(COUNTIF(Sheet1!#REF!:Sheet1!#REF!,\"\"),\"\",IF(COUNTIF(FJ48:FS48,\"ร\"),\"ร\",IF(COUNTIF(FL48:FS48,\"-\"),\"-\",IF(FW48=\"ปกติ\",SUM(FO48,FS48)))))","v":{"$error":"#REF!"}},null,{"$f":"เวลาเรียน!DZ50","v":0}]
[38,0,{"$f":"CONCATENATE(Sheet1!B44)","v":""},{"$f":"CONCATENATE(Sheet1!D44&Sheet1!#REF!&\"       \"&Sheet1!#REF!)","v":{"$error":"#REF!"}},43,null,null,"",{"$f":"IF(F49=\"\",\"\",IF(H49=\"ร\",\"มผ\",IF(H49>=$F$5*กำหนดอัตราส่วนคะแนน!$U$4/100,\"ผ\",\"มผ\")))","v":""},null,null,"",{"$f":"IF(J49=\"\",\"\",IF(L49=\"ร\",\"มผ\",IF(L49>=$J$5*กำหนดอัตราส่วนคะแนน!$U$4/100,\"ผ\",\"มผ\")))","v":""},null,null,"",{"$f":"IF(N49=\"\",\"\",IF(P49=\"ร\",\"มผ\",IF(P49>=$N$5*กำหนดอัตราส่วนคะแนน!$U$4/100,\"ผ\",\"มผ\")))","v":""},null,null,"",{"$f":"IF(R49=\"\",\"\",IF(T49=\"ร\",\"มผ\",IF(T49>=$R$5*กำหนดอัตราส่วนคะแนน!$U$4/100,\"ผ\",\"มผ\")))","v":""},null,null,"",{"$f":"IF(V49=\"\",\"\",IF(X49=\"ร\",\"มผ\",IF(X49>=$V$5*กำหนดอัตราส่วนคะแนน!$U$4/100,\"ผ\",\"มผ\")))","v":""},null,null,"",{"$f":"IF(Z49=\"\",\"\",IF(AB49=\"ร\",\"มผ\",IF(AB49>=$Z$5*กำหนดอัตราส่วนคะแนน!$U$4/100,\"ผ\",\"มผ\")))","v":""},null,null,"",{"$f":"IF(AD49=\"\",\"\",IF(AF49=\"ร\",\"มผ\",IF(AF49>=$AD$5*กำหนดอัตราส่วนคะแนน!$U$4/100,\"ผ\",\"มผ\")))","v":""},null,null,"",{"$f":"IF(AH49=\"\",\"\",IF(AJ49=\"ร\",\"มผ\",IF(AJ49>=$AH$5*กำหนดอัตราส่วนคะแนน!$U$4/100,\"ผ\",\"มผ\")))","v":""},null,null,"",{"$f":"IF(AL49=\"\",\"\",IF(AN49=\"ร\",\"มผ\",IF(AN49>=$AL$5*กำหนดอัตราส่วนคะแนน!$U$4/100,\"ผ\",\"มผ\")))","v":""},null,null,"",{"$f":"IF(AP49=\"\",\"\",IF(AR49=\"ร\",\"มผ\",IF(AR49>=$AP$5*กำหนดอัตราส่วนคะแนน!$U$4/100,\"ผ\",\"มผ\")))","v":""},null,null,"",{"$f":"IF(AT49=\"\",\"\",IF(AV49=\"ร\",\"มผ\",IF(AV49>=$AT$5*กำหนดอัตราส่วนคะแนน!$U$4/100,\"ผ\",\"มผ\")))","v":""},null,null,"",{"$f":"IF(AX49=\"\",\"\",IF(AZ49=\"ร\",\"มผ\",IF(AZ49>=$AX$5*กำหนดอัตราส่วนคะแนน!$U$4/100,\"ผ\",\"มผ\")))","v":""},null,null,"",{"$f":"IF(BB49=\"\",\"\",IF(BD49=\"ร\",\"มผ\",IF(BD49>=$BB$5*กำหนดอัตราส่วนคะแนน!$U$4/100,\"ผ\",\"มผ\")))","v":""},null,null,"",{"$f":"IF(BF49=\"\",\"\",IF(BH49=\"ร\",\"มผ\",IF(BH49>=$BJ$5*กำหนดอัตราส่วนคะแนน!$U$4/100,\"ผ\",\"มผ\")))","v":""},null,null,"",{"$f":"IF(BJ49=\"\",\"\",IF(BL49=\"ร\",\"มผ\",IF(BL49>=$BJ$5*กำหนดอัตราส่วนคะแนน!$U$4/100,\"ผ\",\"มผ\")))","v":""},null,null,"",{"$f":"IF(BN49=\"\",\"\",IF(BP49=\"ร\",\"มผ\",IF(BP49>=$BN$5*กำหนดอัตราส่วนคะแนน!$U$4/100,\"ผ\",\"มผ\")))","v":""},null,null,"",{"$f":"IF(BR49=\"\",\"\",IF(BT49=\"ร\",\"มผ\",IF(BT49>=$BR$5*กำหนดอัตราส่วนคะแนน!$U$4/100,\"ผ\",\"มผ\")))","v":""},null,null,"",{"$f":"IF(BV49=\"\",\"\",IF(BX49=\"ร\",\"มผ\",IF(BX49>=$BV$5*กำหนดอัตราส่วนคะแนน!$U$4/100,\"ผ\",\"มผ\")))","v":""},null,null,"",{"$f":"IF(BZ49=\"\",\"\",IF(CB49=\"ร\",\"มผ\",IF(CB49>=$BZ$5*กำหนดอัตราส่วนคะแนน!$U$4/100,\"ผ\",\"มผ\")))","v":""},null,null,"",{"$f":"IF(CD49=\"\",\"\",IF(CF49=\"ร\",\"มผ\",IF(CF49>=$CD$5*กำหนดอัตราส่วนคะแนน!$U$4/100,\"ผ\",\"มผ\")))","v":""},null,null,"",{"$f":"IF(CH49=\"\",\"\",IF(CJ49=\"ร\",\"มผ\",IF(CJ49>=$CH$5*กำหนดอัตราส่วนคะแนน!$U$4/100,\"ผ\",\"มผ\")))","v":""},null,null,"",{"$f":"IF(CL49=\"\",\"\",IF(CN49=\"ร\",\"มผ\",IF(CN49>=$CL$5*กำหนดอัตราส่วนคะแนน!$U$4/100,\"ผ\",\"มผ\")))","v":""},null,null,"",{"$f":"IF(CP49=\"\",\"\",IF(CR49=\"ร\",\"มผ\",IF(CR49>=$CP$5*กำหนดอัตราส่วนคะแนน!$U$4/100,\"ผ\",\"มผ\")))","v":""},null,null,"",{"$f":"IF(CT49=\"\",\"\",IF(CV49=\"ร\",\"มผ\",IF(CV49>=$CT$5*กำหนดอัตราส่วนคะแนน!$U$4/100,\"ผ\",\"มผ\")))","v":""},null,null,"",{"$f":"IF(CX49=\"\",\"\",IF(CZ49=\"ร\",\"มผ\",IF(CZ49>=$CX$5*กำหนดอัตราส่วนคะแนน!$U$4/100,\"ผ\",\"มผ\")))","v":""},null,null,"",{"$f":"IF(DB49=\"\",\"\",IF(DD49=\"ร\",\"มผ\",IF(DD49>=$DB$5*กำหนดอัตราส่วนคะแนน!$U$4/100,\"ผ\",\"มผ\")))","v":""},null,null,"",{"$f":"IF(DF49=\"\",\"\",IF(DH49=\"ร\",\"มผ\",IF(DH49>=$DF$5*กำหนดอัตราส่วนคะแนน!$U$4/100,\"ผ\",\"มผ\")))","v":""},null,null,"",{"$f":"IF(DJ49=\"\",\"\",IF(DL49=\"ร\",\"มผ\",IF(DL49>=$DJ$5*กำหนดอัตราส่วนคะแนน!$U$4/100,\"ผ\",\"มผ\")))","v":""},null,null,"",{"$f":"IF(DN49=\"\",\"\",IF(DP49=\"ร\",\"มผ\",IF(DP49>=$DN$5*กำหนดอัตราส่วนคะแนน!$U$4/100,\"ผ\",\"มผ\")))","v":""},null,null,"",{"$f":"IF(DR49=\"\",\"\",IF(DT49=\"ร\",\"มผ\",IF(DT49>=$DR$5*กำหนดอัตราส่วนคะแนน!$U$4/100,\"ผ\",\"มผ\")))","v":""},null,null,"",{"$f":"IF(DV49=\"\",\"\",IF(DX49=\"ร\",\"มผ\",IF(DX49>=$DV$5*กำหนดอัตราส่วนคะแนน!$U$4/100,\"ผ\",\"มผ\")))","v":""},null,null,"",{"$f":"IF(DZ49=\"\",\"\",IF(EB49=\"ร\",\"มผ\",IF(EB49>=$DZ$5*กำหนดอัตราส่วนคะแนน!$U$4/100,\"ผ\",\"มผ\")))","v":""},null,null,"",{"$f":"IF(ED49=\"\",\"\",IF(EF49=\"ร\",\"มผ\",IF(EF49>=$ED$5*กำหนดอัตราส่วนคะแนน!$U$4/100,\"ผ\",\"มผ\")))","v":""},null,null,"",{"$f":"IF(EH49=\"\",\"\",IF(EJ49=\"ร\",\"มผ\",IF(EJ49>=$EH$5*กำหนดอัตราส่วนคะแนน!$U$4/100,\"ผ\",\"มผ\")))","v":""},null,null,"",{"$f":"IF(EL49=\"\",\"\",IF(EN49=\"ร\",\"มผ\",IF(EN119>=$EL$5*กำหนดอัตราส่วนคะแนน!$U$4/100,\"ผ\",\"มผ\")))","v":""},null,null,"",{"$f":"IF(EP49=\"\",\"\",IF(ER49=\"ร\",\"มผ\",IF(ER49>=$EP$5*กำหนดอัตราส่วนคะแนน!$U$4/100,\"ผ\",\"มผ\")))","v":""},null,null,"",{"$f":"IF(ET49=\"\",\"\",IF(EV49=\"ร\",\"มผ\",IF(EV49>=$ET$5*กำหนดอัตราส่วนคะแนน!$U$4/100,\"ผ\",\"มผ\")))","v":""},null,null,"",{"$f":"IF(EX49=\"\",\"\",IF(EZ49=\"ร\",\"มผ\",IF(EZ49>=$EX$5*กำหนดอัตราส่วนคะแนน!$U$4/100,\"ผ\",\"มผ\")))","v":""},null,null,"",{"$f":"IF(FB49=\"\",\"\",IF(FD49=\"ร\",\"มผ\",IF(FD49>=$FB$5*กำหนดอัตราส่วนคะแนน!$U$4/100,\"ผ\",\"มผ\")))","v":""},null,null,"",{"$f":"IF(FF49=\"\",\"\",IF(FH49=\"ร\",\"มผ\",IF(FH49>=$FF$5*กำหนดอัตราส่วนคะแนน!$U$4/100,\"ผ\",\"มผ\")))","v":""},{"$f":"IF(Sheet1!#REF!=\"\",\"\",IF(COUNTIF(F49:FI49,\"ร\"),\"ร\",IF(FW49=\"ปกติ\",SUM(H49,L49,P49,T49,X49,AB49,AF49,AJ49,AN49,AR49,AV49,AZ49,BD49,BH49,BL49,BP49,BT49,BX49,CB49,CF49,CJ49,CN49,CR49,CV49,CZ49,DD49,DH49,DL49,DP49,DT49,DX49,EB49,EF49,EJ49,EN49,ER49,EV49,EZ49,FD49,FH49),\"-\")))","v":{"$error":"#REF!"}},null,{"$error":"#REF!"},null,null,{"$error":"#REF!"},null,null,null,"",null,{"$f":"IF(COUNTIF(Sheet1!#REF!:Sheet1!#REF!,\"\"),\"\",IF(COUNTIF(FJ49:FS49,\"ร\"),\"ร\",IF(COUNTIF(FL49:FS49,\"-\"),\"-\",IF(FW49=\"ปกติ\",SUM(FO49,FS49)))))","v":{"$error":"#REF!"}},null,{"$f":"เวลาเรียน!DZ51","v":0}]
[39,0,{"$f":"CONCATENATE(Sheet1!B45)","v":""},{"$f":"CONCATENATE(Sheet1!D45&Sheet1!#REF!&\"       \"&Sheet1!#REF!)","v":{"$error":"#REF!"}},44,null,null,"",{"$f":"IF(F50=\"\",\"\",IF(H50=\"ร\",\"มผ\",IF(H50>=$F$5*กำหนดอัตราส่วนคะแนน!$U$4/100,\"ผ\",\"มผ\")))","v":""},null,null,"",{"$f":"IF(J50=\"\",\"\",IF(L50=\"ร\",\"มผ\",IF(L50>=$J$5*กำหนดอัตราส่วนคะแนน!$U$4/100,\"ผ\",\"มผ\")))","v":""},null,null,"",{"$f":"IF(N50=\"\",\"\",IF(P50=\"ร\",\"มผ\",IF(P50>=$N$5*กำหนดอัตราส่วนคะแนน!$U$4/100,\"ผ\",\"มผ\")))","v":""},null,null,"",{"$f":"IF(R50=\"\",\"\",IF(T50=\"ร\",\"มผ\",IF(T50>=$R$5*กำหนดอัตราส่วนคะแนน!$U$4/100,\"ผ\",\"มผ\")))","v":""},null,null,"",{"$f":"IF(V50=\"\",\"\",IF(X50=\"ร\",\"มผ\",IF(X50>=$V$5*กำหนดอัตราส่วนคะแนน!$U$4/100,\"ผ\",\"มผ\")))","v":""},null,null,"",{"$f":"IF(Z50=\"\",\"\",IF(AB50=\"ร\",\"มผ\",IF(AB50>=$Z$5*กำหนดอัตราส่วนคะแนน!$U$4/100,\"ผ\",\"มผ\")))","v":""},null,null,"",{"$f":"IF(AD50=\"\",\"\",IF(AF50=\"ร\",\"มผ\",IF(AF50>=$AD$5*กำหนดอัตราส่วนคะแนน!$U$4/100,\"ผ\",\"มผ\")))","v":""},null,null,"",{"$f":"IF(AH50=\"\",\"\",IF(AJ50=\"ร\",\"มผ\",IF(AJ50>=$AH$5*กำหนดอัตราส่วนคะแนน!$U$4/100,\"ผ\",\"มผ\")))","v":""},null,null,"",{"$f":"IF(AL50=\"\",\"\",IF(AN50=\"ร\",\"มผ\",IF(AN50>=$AL$5*กำหนดอัตราส่วนคะแนน!$U$4/100,\"ผ\",\"มผ\")))","v":""},null,null,"",{"$f":"IF(AP50=\"\",\"\",IF(AR50=\"ร\",\"มผ\",IF(AR50>=$AP$5*กำหนดอัตราส่วนคะแนน!$U$4/100,\"ผ\",\"มผ\")))","v":""},null,null,"",{"$f":"IF(AT50=\"\",\"\",IF(AV50=\"ร\",\"มผ\",IF(AV50>=$AT$5*กำหนดอัตราส่วนคะแนน!$U$4/100,\"ผ\",\"มผ\")))","v":""},null,null,"",{"$f":"IF(AX50=\"\",\"\",IF(AZ50=\"ร\",\"มผ\",IF(AZ50>=$AX$5*กำหนดอัตราส่วนคะแนน!$U$4/100,\"ผ\",\"มผ\")))","v":""},null,null,"",{"$f":"IF(BB50=\"\",\"\",IF(BD50=\"ร\",\"มผ\",IF(BD50>=$BB$5*กำหนดอัตราส่วนคะแนน!$U$4/100,\"ผ\",\"มผ\")))","v":""},null,null,"",{"$f":"IF(BF50=\"\",\"\",IF(BH50=\"ร\",\"มผ\",IF(BH50>=$BJ$5*กำหนดอัตราส่วนคะแนน!$U$4/100,\"ผ\",\"มผ\")))","v":""},null,null,"",{"$f":"IF(BJ50=\"\",\"\",IF(BL50=\"ร\",\"มผ\",IF(BL50>=$BJ$5*กำหนดอัตราส่วนคะแนน!$U$4/100,\"ผ\",\"มผ\")))","v":""},null,null,"",{"$f":"IF(BN50=\"\",\"\",IF(BP50=\"ร\",\"มผ\",IF(BP50>=$BN$5*กำหนดอัตราส่วนคะแนน!$U$4/100,\"ผ\",\"มผ\")))","v":""},null,null,"",{"$f":"IF(BR50=\"\",\"\",IF(BT50=\"ร\",\"มผ\",IF(BT50>=$BR$5*กำหนดอัตราส่วนคะแนน!$U$4/100,\"ผ\",\"มผ\")))","v":""},null,null,"",{"$f":"IF(BV50=\"\",\"\",IF(BX50=\"ร\",\"มผ\",IF(BX50>=$BV$5*กำหนดอัตราส่วนคะแนน!$U$4/100,\"ผ\",\"มผ\")))","v":""},null,null,"",{"$f":"IF(BZ50=\"\",\"\",IF(CB50=\"ร\",\"มผ\",IF(CB50>=$BZ$5*กำหนดอัตราส่วนคะแนน!$U$4/100,\"ผ\",\"มผ\")))","v":""},null,null,"",{"$f":"IF(CD50=\"\",\"\",IF(CF50=\"ร\",\"มผ\",IF(CF50>=$CD$5*กำหนดอัตราส่วนคะแนน!$U$4/100,\"ผ\",\"มผ\")))","v":""},null,null,"",{"$f":"IF(CH50=\"\",\"\",IF(CJ50=\"ร\",\"มผ\",IF(CJ50>=$CH$5*กำหนดอัตราส่วนคะแนน!$U$4/100,\"ผ\",\"มผ\")))","v":""},null,null,"",{"$f":"IF(CL50=\"\",\"\",IF(CN50=\"ร\",\"มผ\",IF(CN50>=$CL$5*กำหนดอัตราส่วนคะแนน!$U$4/100,\"ผ\",\"มผ\")))","v":""},null,null,"",{"$f":"IF(CP50=\"\",\"\",IF(CR50=\"ร\",\"มผ\",IF(CR50>=$CP$5*กำหนดอัตราส่วนคะแนน!$U$4/100,\"ผ\",\"มผ\")))","v":""},null,null,"",{"$f":"IF(CT50=\"\",\"\",IF(CV50=\"ร\",\"มผ\",IF(CV50>=$CT$5*กำหนดอัตราส่วนคะแนน!$U$4/100,\"ผ\",\"มผ\")))","v":""},null,null,"",{"$f":"IF(CX50=\"\",\"\",IF(CZ50=\"ร\",\"มผ\",IF(CZ50>=$CX$5*กำหนดอัตราส่วนคะแนน!$U$4/100,\"ผ\",\"มผ\")))","v":""},null,null,"",{"$f":"IF(DB50=\"\",\"\",IF(DD50=\"ร\",\"มผ\",IF(DD50>=$DB$5*กำหนดอัตราส่วนคะแนน!$U$4/100,\"ผ\",\"มผ\")))","v":""},null,null,"",{"$f":"IF(DF50=\"\",\"\",IF(DH50=\"ร\",\"มผ\",IF(DH50>=$DF$5*กำหนดอัตราส่วนคะแนน!$U$4/100,\"ผ\",\"มผ\")))","v":""},null,null,"",{"$f":"IF(DJ50=\"\",\"\",IF(DL50=\"ร\",\"มผ\",IF(DL50>=$DJ$5*กำหนดอัตราส่วนคะแนน!$U$4/100,\"ผ\",\"มผ\")))","v":""},null,null,"",{"$f":"IF(DN50=\"\",\"\",IF(DP50=\"ร\",\"มผ\",IF(DP50>=$DN$5*กำหนดอัตราส่วนคะแนน!$U$4/100,\"ผ\",\"มผ\")))","v":""},null,null,"",{"$f":"IF(DR50=\"\",\"\",IF(DT50=\"ร\",\"มผ\",IF(DT50>=$DR$5*กำหนดอัตราส่วนคะแนน!$U$4/100,\"ผ\",\"มผ\")))","v":""},null,null,"",{"$f":"IF(DV50=\"\",\"\",IF(DX50=\"ร\",\"มผ\",IF(DX50>=$DV$5*กำหนดอัตราส่วนคะแนน!$U$4/100,\"ผ\",\"มผ\")))","v":""},null,null,"",{"$f":"IF(DZ50=\"\",\"\",IF(EB50=\"ร\",\"มผ\",IF(EB50>=$DZ$5*กำหนดอัตราส่วนคะแนน!$U$4/100,\"ผ\",\"มผ\")))","v":""},null,null,"",{"$f":"IF(ED50=\"\",\"\",IF(EF50=\"ร\",\"มผ\",IF(EF50>=$ED$5*กำหนดอัตราส่วนคะแนน!$U$4/100,\"ผ\",\"มผ\")))","v":""},null,null,"",{"$f":"IF(EH50=\"\",\"\",IF(EJ50=\"ร\",\"มผ\",IF(EJ50>=$EH$5*กำหนดอัตราส่วนคะแนน!$U$4/100,\"ผ\",\"มผ\")))","v":""},null,null,"",{"$f":"IF(EL50=\"\",\"\",IF(EN50=\"ร\",\"มผ\",IF(EN120>=$EL$5*กำหนดอัตราส่วนคะแนน!$U$4/100,\"ผ\",\"มผ\")))","v":""},null,null,"",{"$f":"IF(EP50=\"\",\"\",IF(ER50=\"ร\",\"มผ\",IF(ER50>=$EP$5*กำหนดอัตราส่วนคะแนน!$U$4/100,\"ผ\",\"มผ\")))","v":""},null,null,"",{"$f":"IF(ET50=\"\",\"\",IF(EV50=\"ร\",\"มผ\",IF(EV50>=$ET$5*กำหนดอัตราส่วนคะแนน!$U$4/100,\"ผ\",\"มผ\")))","v":""},null,null,"",{"$f":"IF(EX50=\"\",\"\",IF(EZ50=\"ร\",\"มผ\",IF(EZ50>=$EX$5*กำหนดอัตราส่วนคะแนน!$U$4/100,\"ผ\",\"มผ\")))","v":""},null,null,"",{"$f":"IF(FB50=\"\",\"\",IF(FD50=\"ร\",\"มผ\",IF(FD50>=$FB$5*กำหนดอัตราส่วนคะแนน!$U$4/100,\"ผ\",\"มผ\")))","v":""},null,null,"",{"$f":"IF(FF50=\"\",\"\",IF(FH50=\"ร\",\"มผ\",IF(FH50>=$FF$5*กำหนดอัตราส่วนคะแนน!$U$4/100,\"ผ\",\"มผ\")))","v":""},{"$f":"IF(Sheet1!#REF!=\"\",\"\",IF(COUNTIF(F50:FI50,\"ร\"),\"ร\",IF(FW50=\"ปกติ\",SUM(H50,L50,P50,T50,X50,AB50,AF50,AJ50,AN50,AR50,AV50,AZ50,BD50,BH50,BL50,BP50,BT50,BX50,CB50,CF50,CJ50,CN50,CR50,CV50,CZ50,DD50,DH50,DL50,DP50,DT50,DX50,EB50,EF50,EJ50,EN50,ER50,EV50,EZ50,FD50,FH50),\"-\")))","v":{"$error":"#REF!"}},null,{"$error":"#REF!"},null,null,{"$error":"#REF!"},null,null,null,"",null,{"$f":"IF(COUNTIF(Sheet1!#REF!:Sheet1!#REF!,\"\"),\"\",IF(COUNTIF(FJ50:FS50,\"ร\"),\"ร\",IF(COUNTIF(FL50:FS50,\"-\"),\"-\",IF(FW50=\"ปกติ\",SUM(FO50,FS50)))))","v":{"$error":"#REF!"}},null,{"$f":"เวลาเรียน!DZ52","v":0}]
[40,0,{"$f":"CONCATENATE(Sheet1!B46)","v":""},{"$f":"CONCATENATE(Sheet1!D46&Sheet1!#REF!&\"       \"&Sheet1!#REF!)","v":{"$error":"#REF!"}},45,null,null,"",{"$f":"IF(F51=\"\",\"\",IF(H51=\"ร\",\"มผ\",IF(H51>=$F$5*กำหนดอัตราส่วนคะแนน!$U$4/100,\"ผ\",\"มผ\")))","v":""},null,null,"",{"$f":"IF(J51=\"\",\"\",IF(L51=\"ร\",\"มผ\",IF(L51>=$J$5*กำหนดอัตราส่วนคะแนน!$U$4/100,\"ผ\",\"มผ\")))","v":""},null,null,"",{"$f":"IF(N51=\"\",\"\",IF(P51=\"ร\",\"มผ\",IF(P51>=$N$5*กำหนดอัตราส่วนคะแนน!$U$4/100,\"ผ\",\"มผ\")))","v":""},null,null,"",{"$f":"IF(R51=\"\",\"\",IF(T51=\"ร\",\"มผ\",IF(T51>=$R$5*กำหนดอัตราส่วนคะแนน!$U$4/100,\"ผ\",\"มผ\")))","v":""},null,null,"",{"$f":"IF(V51=\"\",\"\",IF(X51=\"ร\",\"มผ\",IF(X51>=$V$5*กำหนดอัตราส่วนคะแนน!$U$4/100,\"ผ\",\"มผ\")))","v":""},null,null,"",{"$f":"IF(Z51=\"\",\"\",IF(AB51=\"ร\",\"มผ\",IF(AB51>=$Z$5*กำหนดอัตราส่วนคะแนน!$U$4/100,\"ผ\",\"มผ\")))","v":""},null,null,"",{"$f":"IF(AD51=\"\",\"\",IF(AF51=\"ร\",\"มผ\",IF(AF51>=$AD$5*กำหนดอัตราส่วนคะแนน!$U$4/100,\"ผ\",\"มผ\")))","v":""},null,null,"",{"$f":"IF(AH51=\"\",\"\",IF(AJ51=\"ร\",\"มผ\",IF(AJ51>=$AH$5*กำหนดอัตราส่วนคะแนน!$U$4/100,\"ผ\",\"มผ\")))","v":""},null,null,"",{"$f":"IF(AL51=\"\",\"\",IF(AN51=\"ร\",\"มผ\",IF(AN51>=$AL$5*กำหนดอัตราส่วนคะแนน!$U$4/100,\"ผ\",\"มผ\")))","v":""},null,null,"",{"$f":"IF(AP51=\"\",\"\",IF(AR51=\"ร\",\"มผ\",IF(AR51>=$AP$5*กำหนดอัตราส่วนคะแนน!$U$4/100,\"ผ\",\"มผ\")))","v":""},null,null,"",{"$f":"IF(AT51=\"\",\"\",IF(AV51=\"ร\",\"มผ\",IF(AV51>=$AT$5*กำหนดอัตราส่วนคะแนน!$U$4/100,\"ผ\",\"มผ\")))","v":""},null,null,"",{"$f":"IF(AX51=\"\",\"\",IF(AZ51=\"ร\",\"มผ\",IF(AZ51>=$AX$5*กำหนดอัตราส่วนคะแนน!$U$4/100,\"ผ\",\"มผ\")))","v":""},null,null,"",{"$f":"IF(BB51=\"\",\"\",IF(BD51=\"ร\",\"มผ\",IF(BD51>=$BB$5*กำหนดอัตราส่วนคะแนน!$U$4/100,\"ผ\",\"มผ\")))","v":""},null,null,"",{"$f":"IF(BF51=\"\",\"\",IF(BH51=\"ร\",\"มผ\",IF(BH51>=$BJ$5*กำหนดอัตราส่วนคะแนน!$U$4/100,\"ผ\",\"มผ\")))","v":""},null,null,"",{"$f":"IF(BJ51=\"\",\"\",IF(BL51=\"ร\",\"มผ\",IF(BL51>=$BJ$5*กำหนดอัตราส่วนคะแนน!$U$4/100,\"ผ\",\"มผ\")))","v":""},null,null,"",{"$f":"IF(BN51=\"\",\"\",IF(BP51=\"ร\",\"มผ\",IF(BP51>=$BN$5*กำหนดอัตราส่วนคะแนน!$U$4/100,\"ผ\",\"มผ\")))","v":""},null,null,"",{"$f":"IF(BR51=\"\",\"\",IF(BT51=\"ร\",\"มผ\",IF(BT51>=$BR$5*กำหนดอัตราส่วนคะแนน!$U$4/100,\"ผ\",\"มผ\")))","v":""},null,null,"",{"$f":"IF(BV51=\"\",\"\",IF(BX51=\"ร\",\"มผ\",IF(BX51>=$BV$5*กำหนดอัตราส่วนคะแนน!$U$4/100,\"ผ\",\"มผ\")))","v":""},null,null,"",{"$f":"IF(BZ51=\"\",\"\",IF(CB51=\"ร\",\"มผ\",IF(CB51>=$BZ$5*กำหนดอัตราส่วนคะแนน!$U$4/100,\"ผ\",\"มผ\")))","v":""},null,null,"",{"$f":"IF(CD51=\"\",\"\",IF(CF51=\"ร\",\"มผ\",IF(CF51>=$CD$5*กำหนดอัตราส่วนคะแนน!$U$4/100,\"ผ\",\"มผ\")))","v":""},null,null,"",{"$f":"IF(CH51=\"\",\"\",IF(CJ51=\"ร\",\"มผ\",IF(CJ51>=$CH$5*กำหนดอัตราส่วนคะแนน!$U$4/100,\"ผ\",\"มผ\")))","v":""},null,null,"",{"$f":"IF(CL51=\"\",\"\",IF(CN51=\"ร\",\"มผ\",IF(CN51>=$CL$5*กำหนดอัตราส่วนคะแนน!$U$4/100,\"ผ\",\"มผ\")))","v":""},null,null,"",{"$f":"IF(CP51=\"\",\"\",IF(CR51=\"ร\",\"มผ\",IF(CR51>=$CP$5*กำหนดอัตราส่วนคะแนน!$U$4/100,\"ผ\",\"มผ\")))","v":""},null,null,"",{"$f":"IF(CT51=\"\",\"\",IF(CV51=\"ร\",\"มผ\",IF(CV51>=$CT$5*กำหนดอัตราส่วนคะแนน!$U$4/100,\"ผ\",\"มผ\")))","v":""},null,null,"",{"$f":"IF(CX51=\"\",\"\",IF(CZ51=\"ร\",\"มผ\",IF(CZ51>=$CX$5*กำหนดอัตราส่วนคะแนน!$U$4/100,\"ผ\",\"มผ\")))","v":""},null,null,"",{"$f":"IF(DB51=\"\",\"\",IF(DD51=\"ร\",\"มผ\",IF(DD51>=$DB$5*กำหนดอัตราส่วนคะแนน!$U$4/100,\"ผ\",\"มผ\")))","v":""},null,null,"",{"$f":"IF(DF51=\"\",\"\",IF(DH51=\"ร\",\"มผ\",IF(DH51>=$DF$5*กำหนดอัตราส่วนคะแนน!$U$4/100,\"ผ\",\"มผ\")))","v":""},null,null,"",{"$f":"IF(DJ51=\"\",\"\",IF(DL51=\"ร\",\"มผ\",IF(DL51>=$DJ$5*กำหนดอัตราส่วนคะแนน!$U$4/100,\"ผ\",\"มผ\")))","v":""},null,null,"",{"$f":"IF(DN51=\"\",\"\",IF(DP51=\"ร\",\"มผ\",IF(DP51>=$DN$5*กำหนดอัตราส่วนคะแนน!$U$4/100,\"ผ\",\"มผ\")))","v":""},null,null,"",{"$f":"IF(DR51=\"\",\"\",IF(DT51=\"ร\",\"มผ\",IF(DT51>=$DR$5*กำหนดอัตราส่วนคะแนน!$U$4/100,\"ผ\",\"มผ\")))","v":""},null,null,"",{"$f":"IF(DV51=\"\",\"\",IF(DX51=\"ร\",\"มผ\",IF(DX51>=$DV$5*กำหนดอัตราส่วนคะแนน!$U$4/100,\"ผ\",\"มผ\")))","v":""},null,null,"",{"$f":"IF(DZ51=\"\",\"\",IF(EB51=\"ร\",\"มผ\",IF(EB51>=$DZ$5*กำหนดอัตราส่วนคะแนน!$U$4/100,\"ผ\",\"มผ\")))","v":""},null,null,"",{"$f":"IF(ED51=\"\",\"\",IF(EF51=\"ร\",\"มผ\",IF(EF51>=$ED$5*กำหนดอัตราส่วนคะแนน!$U$4/100,\"ผ\",\"มผ\")))","v":""},null,null,"",{"$f":"IF(EH51=\"\",\"\",IF(EJ51=\"ร\",\"มผ\",IF(EJ51>=$EH$5*กำหนดอัตราส่วนคะแนน!$U$4/100,\"ผ\",\"มผ\")))","v":""},null,null,"",{"$f":"IF(EL51=\"\",\"\",IF(EN51=\"ร\",\"มผ\",IF(EN121>=$EL$5*กำหนดอัตราส่วนคะแนน!$U$4/100,\"ผ\",\"มผ\")))","v":""},null,null,"",{"$f":"IF(EP51=\"\",\"\",IF(ER51=\"ร\",\"มผ\",IF(ER51>=$EP$5*กำหนดอัตราส่วนคะแนน!$U$4/100,\"ผ\",\"มผ\")))","v":""},null,null,"",{"$f":"IF(ET51=\"\",\"\",IF(EV51=\"ร\",\"มผ\",IF(EV51>=$ET$5*กำหนดอัตราส่วนคะแนน!$U$4/100,\"ผ\",\"มผ\")))","v":""},null,null,"",{"$f":"IF(EX51=\"\",\"\",IF(EZ51=\"ร\",\"มผ\",IF(EZ51>=$EX$5*กำหนดอัตราส่วนคะแนน!$U$4/100,\"ผ\",\"มผ\")))","v":""},null,null,"",{"$f":"IF(FB51=\"\",\"\",IF(FD51=\"ร\",\"มผ\",IF(FD51>=$FB$5*กำหนดอัตราส่วนคะแนน!$U$4/100,\"ผ\",\"มผ\")))","v":""},null,null,"",{"$f":"IF(FF51=\"\",\"\",IF(FH51=\"ร\",\"มผ\",IF(FH51>=$FF$5*กำหนดอัตราส่วนคะแนน!$U$4/100,\"ผ\",\"มผ\")))","v":""},{"$f":"IF(Sheet1!#REF!=\"\",\"\",IF(COUNTIF(F51:FI51,\"ร\"),\"ร\",IF(FW51=\"ปกติ\",SUM(H51,L51,P51,T51,X51,AB51,AF51,AJ51,AN51,AR51,AV51,AZ51,BD51,BH51,BL51,BP51,BT51,BX51,CB51,CF51,CJ51,CN51,CR51,CV51,CZ51,DD51,DH51,DL51,DP51,DT51,DX51,EB51,EF51,EJ51,EN51,ER51,EV51,EZ51,FD51,FH51),\"-\")))","v":{"$error":"#REF!"}},null,{"$error":"#REF!"},null,null,{"$error":"#REF!"},null,null,null,"",null,{"$f":"IF(COUNTIF(Sheet1!#REF!:Sheet1!#REF!,\"\"),\"\",IF(COUNTIF(FJ51:FS51,\"ร\"),\"ร\",IF(COUNTIF(FL51:FS51,\"-\"),\"-\",IF(FW51=\"ปกติ\",SUM(FO51,FS51)))))","v":{"$error":"#REF!"}},null,{"$f":"เวลาเรียน!DZ53","v":0}]
[36,0,{"$f":"CONCATENATE(Sheet1!B47)","v":""},{"$f":"CONCATENATE(Sheet1!D47&Sheet1!#REF!&\"       \"&Sheet1!#REF!)","v":{"$error":"#REF!"}},46,null,null,"",{"$f":"IF(F52=\"\",\"\",IF(H52=\"ร\",\"มผ\",IF(H52>=$F$5*กำหนดอัตราส่วนคะแนน!$U$4/100,\"ผ\",\"มผ\")))","v":""},null,null,"",{"$f":"IF(J52=\"\",\"\",IF(L52=\"ร\",\"มผ\",IF(L52>=$J$5*กำหนดอัตราส่วนคะแนน!$U$4/100,\"ผ\",\"มผ\")))","v":""},null,null,"",{"$f":"IF(N52=\"\",\"\",IF(P52=\"ร\",\"มผ\",IF(P52>=$N$5*กำหนดอัตราส่วนคะแนน!$U$4/100,\"ผ\",\"มผ\")))","v":""},null,null,"",{"$f":"IF(R52=\"\",\"\",IF(T52=\"ร\",\"มผ\",IF(T52>=$R$5*กำหนดอัตราส่วนคะแนน!$U$4/100,\"ผ\",\"มผ\")))","v":""},null,null,"",{"$f":"IF(V52=\"\",\"\",IF(X52=\"ร\",\"มผ\",IF(X52>=$V$5*กำหนดอัตราส่วนคะแนน!$U$4/100,\"ผ\",\"มผ\")))","v":""},null,null,"",{"$f":"IF(Z52=\"\",\"\",IF(AB52=\"ร\",\"มผ\",IF(AB52>=$Z$5*กำหนดอัตราส่วนคะแนน!$U$4/100,\"ผ\",\"มผ\")))","v":""},null,null,"",{"$f":"IF(AD52=\"\",\"\",IF(AF52=\"ร\",\"มผ\",IF(AF52>=$AD$5*กำหนดอัตราส่วนคะแนน!$U$4/100,\"ผ\",\"มผ\")))","v":""},null,null,"",{"$f":"IF(AH52=\"\",\"\",IF(AJ52=\"ร\",\"มผ\",IF(AJ52>=$AH$5*กำหนดอัตราส่วนคะแนน!$U$4/100,\"ผ\",\"มผ\")))","v":""},null,null,"",{"$f":"IF(AL52=\"\",\"\",IF(AN52=\"ร\",\"มผ\",IF(AN52>=$AL$5*กำหนดอัตราส่วนคะแนน!$U$4/100,\"ผ\",\"มผ\")))","v":""},null,null,"",{"$f":"IF(AP52=\"\",\"\",IF(AR52=\"ร\",\"มผ\",IF(AR52>=$AP$5*กำหนดอัตราส่วนคะแนน!$U$4/100,\"ผ\",\"มผ\")))","v":""},null,null,"",{"$f":"IF(AT52=\"\",\"\",IF(AV52=\"ร\",\"มผ\",IF(AV52>=$AT$5*กำหนดอัตราส่วนคะแนน!$U$4/100,\"ผ\",\"มผ\")))","v":""},null,null,"",{"$f":"IF(AX52=\"\",\"\",IF(AZ52=\"ร\",\"มผ\",IF(AZ52>=$AX$5*กำหนดอัตราส่วนคะแนน!$U$4/100,\"ผ\",\"มผ\")))","v":""},null,null,"",{"$f":"IF(BB52=\"\",\"\",IF(BD52=\"ร\",\"มผ\",IF(BD52>=$BB$5*กำหนดอัตราส่วนคะแนน!$U$4/100,\"ผ\",\"มผ\")))","v":""},null,null,"",{"$f":"IF(BF52=\"\",\"\",IF(BH52=\"ร\",\"มผ\",IF(BH52>=$BJ$5*กำหนดอัตราส่วนคะแนน!$U$4/100,\"ผ\",\"มผ\")))","v":""},null,null,"",{"$f":"IF(BJ52=\"\",\"\",IF(BL52=\"ร\",\"มผ\",IF(BL52>=$BJ$5*กำหนดอัตราส่วนคะแนน!$U$4/100,\"ผ\",\"มผ\")))","v":""},null,null,"",{"$f":"IF(BN52=\"\",\"\",IF(BP52=\"ร\",\"มผ\",IF(BP52>=$BN$5*กำหนดอัตราส่วนคะแนน!$U$4/100,\"ผ\",\"มผ\")))","v":""},null,null,"",{"$f":"IF(BR52=\"\",\"\",IF(BT52=\"ร\",\"มผ\",IF(BT52>=$BR$5*กำหนดอัตราส่วนคะแนน!$U$4/100,\"ผ\",\"มผ\")))","v":""},null,null,"",{"$f":"IF(BV52=\"\",\"\",IF(BX52=\"ร\",\"มผ\",IF(BX52>=$BV$5*กำหนดอัตราส่วนคะแนน!$U$4/100,\"ผ\",\"มผ\")))","v":""},null,null,"",{"$f":"IF(BZ52=\"\",\"\",IF(CB52=\"ร\",\"มผ\",IF(CB52>=$BZ$5*กำหนดอัตราส่วนคะแนน!$U$4/100,\"ผ\",\"มผ\")))","v":""},null,null,"",{"$f":"IF(CD52=\"\",\"\",IF(CF52=\"ร\",\"มผ\",IF(CF52>=$CD$5*กำหนดอัตราส่วนคะแนน!$U$4/100,\"ผ\",\"มผ\")))","v":""},null,null,"",{"$f":"IF(CH52=\"\",\"\",IF(CJ52=\"ร\",\"มผ\",IF(CJ52>=$CH$5*กำหนดอัตราส่วนคะแนน!$U$4/100,\"ผ\",\"มผ\")))","v":""},null,null,"",{"$f":"IF(CL52=\"\",\"\",IF(CN52=\"ร\",\"มผ\",IF(CN52>=$CL$5*กำหนดอัตราส่วนคะแนน!$U$4/100,\"ผ\",\"มผ\")))","v":""},null,null,"",{"$f":"IF(CP52=\"\",\"\",IF(CR52=\"ร\",\"มผ\",IF(CR52>=$CP$5*กำหนดอัตราส่วนคะแนน!$U$4/100,\"ผ\",\"มผ\")))","v":""},null,null,"",{"$f":"IF(CT52=\"\",\"\",IF(CV52=\"ร\",\"มผ\",IF(CV52>=$CT$5*กำหนดอัตราส่วนคะแนน!$U$4/100,\"ผ\",\"มผ\")))","v":""},null,null,"",{"$f":"IF(CX52=\"\",\"\",IF(CZ52=\"ร\",\"มผ\",IF(CZ52>=$CX$5*กำหนดอัตราส่วนคะแนน!$U$4/100,\"ผ\",\"มผ\")))","v":""},null,null,"",{"$f":"IF(DB52=\"\",\"\",IF(DD52=\"ร\",\"มผ\",IF(DD52>=$DB$5*กำหนดอัตราส่วนคะแนน!$U$4/100,\"ผ\",\"มผ\")))","v":""},null,null,"",{"$f":"IF(DF52=\"\",\"\",IF(DH52=\"ร\",\"มผ\",IF(DH52>=$DF$5*กำหนดอัตราส่วนคะแนน!$U$4/100,\"ผ\",\"มผ\")))","v":""},null,null,"",{"$f":"IF(DJ52=\"\",\"\",IF(DL52=\"ร\",\"มผ\",IF(DL52>=$DJ$5*กำหนดอัตราส่วนคะแนน!$U$4/100,\"ผ\",\"มผ\")))","v":""},null,null,"",{"$f":"IF(DN52=\"\",\"\",IF(DP52=\"ร\",\"มผ\",IF(DP52>=$DN$5*กำหนดอัตราส่วนคะแนน!$U$4/100,\"ผ\",\"มผ\")))","v":""},null,null,"",{"$f":"IF(DR52=\"\",\"\",IF(DT52=\"ร\",\"มผ\",IF(DT52>=$DR$5*กำหนดอัตราส่วนคะแนน!$U$4/100,\"ผ\",\"มผ\")))","v":""},null,null,"",{"$f":"IF(DV52=\"\",\"\",IF(DX52=\"ร\",\"มผ\",IF(DX52>=$DV$5*กำหนดอัตราส่วนคะแนน!$U$4/100,\"ผ\",\"มผ\")))","v":""},null,null,"",{"$f":"IF(DZ52=\"\",\"\",IF(EB52=\"ร\",\"มผ\",IF(EB52>=$DZ$5*กำหนดอัตราส่วนคะแนน!$U$4/100,\"ผ\",\"มผ\")))","v":""},null,null,"",{"$f":"IF(ED52=\"\",\"\",IF(EF52=\"ร\",\"มผ\",IF(EF52>=$ED$5*กำหนดอัตราส่วนคะแนน!$U$4/100,\"ผ\",\"มผ\")))","v":""},null,null,"",{"$f":"IF(EH52=\"\",\"\",IF(EJ52=\"ร\",\"มผ\",IF(EJ52>=$EH$5*กำหนดอัตราส่วนคะแนน!$U$4/100,\"ผ\",\"มผ\")))","v":""},null,null,"",{"$f":"IF(EL52=\"\",\"\",IF(EN52=\"ร\",\"มผ\",IF(EN122>=$EL$5*กำหนดอัตราส่วนคะแนน!$U$4/100,\"ผ\",\"มผ\")))","v":""},null,null,"",{"$f":"IF(EP52=\"\",\"\",IF(ER52=\"ร\",\"มผ\",IF(ER52>=$EP$5*กำหนดอัตราส่วนคะแนน!$U$4/100,\"ผ\",\"มผ\")))","v":""},null,null,"",{"$f":"IF(ET52=\"\",\"\",IF(EV52=\"ร\",\"มผ\",IF(EV52>=$ET$5*กำหนดอัตราส่วนคะแนน!$U$4/100,\"ผ\",\"มผ\")))","v":""},null,null,"",{"$f":"IF(EX52=\"\",\"\",IF(EZ52=\"ร\",\"มผ\",IF(EZ52>=$EX$5*กำหนดอัตราส่วนคะแนน!$U$4/100,\"ผ\",\"มผ\")))","v":""},null,null,"",{"$f":"IF(FB52=\"\",\"\",IF(FD52=\"ร\",\"มผ\",IF(FD52>=$FB$5*กำหนดอัตราส่วนคะแนน!$U$4/100,\"ผ\",\"มผ\")))","v":""},null,null,"",{"$f":"IF(FF52=\"\",\"\",IF(FH52=\"ร\",\"มผ\",IF(FH52>=$FF$5*กำหนดอัตราส่วนคะแนน!$U$4/100,\"ผ\",\"มผ\")))","v":""},{"$f":"IF(Sheet1!#REF!=\"\",\"\",IF(COUNTIF(F52:FI52,\"ร\"),\"ร\",IF(FW52=\"ปกติ\",SUM(H52,L52,P52,T52,X52,AB52,AF52,AJ52,AN52,AR52,AV52,AZ52,BD52,BH52,BL52,BP52,BT52,BX52,CB52,CF52,CJ52,CN52,CR52,CV52,CZ52,DD52,DH52,DL52,DP52,DT52,DX52,EB52,EF52,EJ52,EN52,ER52,EV52,EZ52,FD52,FH52),\"-\")))","v":{"$error":"#REF!"}},null,{"$error":"#REF!"},null,null,{"$error":"#REF!"},null,null,null,"",null,{"$f":"IF(COUNTIF(Sheet1!#REF!:Sheet1!#REF!,\"\"),\"\",IF(COUNTIF(FJ52:FS52,\"ร\"),\"ร\",IF(COUNTIF(FL52:FS52,\"-\"),\"-\",IF(FW52=\"ปกติ\",SUM(FO52,FS52)))))","v":{"$error":"#REF!"}},null,{"$f":"เวลาเรียน!DZ54","v":0}]
[37,0,{"$f":"CONCATENATE(Sheet1!B48)","v":""},{"$f":"CONCATENATE(Sheet1!D48&Sheet1!#REF!&\"       \"&Sheet1!#REF!)","v":{"$error":"#REF!"}},47,null,null,"",{"$f":"IF(F53=\"\",\"\",IF(H53=\"ร\",\"มผ\",IF(H53>=$F$5*กำหนดอัตราส่วนคะแนน!$U$4/100,\"ผ\",\"มผ\")))","v":""},null,null,"",{"$f":"IF(J53=\"\",\"\",IF(L53=\"ร\",\"มผ\",IF(L53>=$J$5*กำหนดอัตราส่วนคะแนน!$U$4/100,\"ผ\",\"มผ\")))","v":""},null,null,"",{"$f":"IF(N53=\"\",\"\",IF(P53=\"ร\",\"มผ\",IF(P53>=$N$5*กำหนดอัตราส่วนคะแนน!$U$4/100,\"ผ\",\"มผ\")))","v":""},null,null,"",{"$f":"IF(R53=\"\",\"\",IF(T53=\"ร\",\"มผ\",IF(T53>=$R$5*กำหนดอัตราส่วนคะแนน!$U$4/100,\"ผ\",\"มผ\")))","v":""},null,null,"",{"$f":"IF(V53=\"\",\"\",IF(X53=\"ร\",\"มผ\",IF(X53>=$V$5*กำหนดอัตราส่วนคะแนน!$U$4/100,\"ผ\",\"มผ\")))","v":""},null,null,"",{"$f":"IF(Z53=\"\",\"\",IF(AB53=\"ร\",\"มผ\",IF(AB53>=$Z$5*กำหนดอัตราส่วนคะแนน!$U$4/100,\"ผ\",\"มผ\")))","v":""},null,null,"",{"$f":"IF(AD53=\"\",\"\",IF(AF53=\"ร\",\"มผ\",IF(AF53>=$AD$5*กำหนดอัตราส่วนคะแนน!$U$4/100,\"ผ\",\"มผ\")))","v":""},null,null,"",{"$f":"IF(AH53=\"\",\"\",IF(AJ53=\"ร\",\"มผ\",IF(AJ53>=$AH$5*กำหนดอัตราส่วนคะแนน!$U$4/100,\"ผ\",\"มผ\")))","v":""},null,null,"",{"$f":"IF(AL53=\"\",\"\",IF(AN53=\"ร\",\"มผ\",IF(AN53>=$AL$5*กำหนดอัตราส่วนคะแนน!$U$4/100,\"ผ\",\"มผ\")))","v":""},null,null,"",{"$f":"IF(AP53=\"\",\"\",IF(AR53=\"ร\",\"มผ\",IF(AR53>=$AP$5*กำหนดอัตราส่วนคะแนน!$U$4/100,\"ผ\",\"มผ\")))","v":""},null,null,"",{"$f":"IF(AT53=\"\",\"\",IF(AV53=\"ร\",\"มผ\",IF(AV53>=$AT$5*กำหนดอัตราส่วนคะแนน!$U$4/100,\"ผ\",\"มผ\")))","v":""},null,null,"",{"$f":"IF(AX53=\"\",\"\",IF(AZ53=\"ร\",\"มผ\",IF(AZ53>=$AX$5*กำหนดอัตราส่วนคะแนน!$U$4/100,\"ผ\",\"มผ\")))","v":""},null,null,"",{"$f":"IF(BB53=\"\",\"\",IF(BD53=\"ร\",\"มผ\",IF(BD53>=$BB$5*กำหนดอัตราส่วนคะแนน!$U$4/100,\"ผ\",\"มผ\")))","v":""},null,null,"",{"$f":"IF(BF53=\"\",\"\",IF(BH53=\"ร\",\"มผ\",IF(BH53>=$BJ$5*กำหนดอัตราส่วนคะแนน!$U$4/100,\"ผ\",\"มผ\")))","v":""},null,null,"",{"$f":"IF(BJ53=\"\",\"\",IF(BL53=\"ร\",\"มผ\",IF(BL53>=$BJ$5*กำหนดอัตราส่วนคะแนน!$U$4/100,\"ผ\",\"มผ\")))","v":""},null,null,"",{"$f":"IF(BN53=\"\",\"\",IF(BP53=\"ร\",\"มผ\",IF(BP53>=$BN$5*กำหนดอัตราส่วนคะแนน!$U$4/100,\"ผ\",\"มผ\")))","v":""},null,null,"",{"$f":"IF(BR53=\"\",\"\",IF(BT53=\"ร\",\"มผ\",IF(BT53>=$BR$5*กำหนดอัตราส่วนคะแนน!$U$4/100,\"ผ\",\"มผ\")))","v":""},null,null,"",{"$f":"IF(BV53=\"\",\"\",IF(BX53=\"ร\",\"มผ\",IF(BX53>=$BV$5*กำหนดอัตราส่วนคะแนน!$U$4/100,\"ผ\",\"มผ\")))","v":""},null,null,"",{"$f":"IF(BZ53=\"\",\"\",IF(CB53=\"ร\",\"มผ\",IF(CB53>=$BZ$5*กำหนดอัตราส่วนคะแนน!$U$4/100,\"ผ\",\"มผ\")))","v":""},null,null,"",{"$f":"IF(CD53=\"\",\"\",IF(CF53=\"ร\",\"มผ\",IF(CF53>=$CD$5*กำหนดอัตราส่วนคะแนน!$U$4/100,\"ผ\",\"มผ\")))","v":""},null,null,"",{"$f":"IF(CH53=\"\",\"\",IF(CJ53=\"ร\",\"มผ\",IF(CJ53>=$CH$5*กำหนดอัตราส่วนคะแนน!$U$4/100,\"ผ\",\"มผ\")))","v":""},null,null,"",{"$f":"IF(CL53=\"\",\"\",IF(CN53=\"ร\",\"มผ\",IF(CN53>=$CL$5*กำหนดอัตราส่วนคะแนน!$U$4/100,\"ผ\",\"มผ\")))","v":""},null,null,"",{"$f":"IF(CP53=\"\",\"\",IF(CR53=\"ร\",\"มผ\",IF(CR53>=$CP$5*กำหนดอัตราส่วนคะแนน!$U$4/100,\"ผ\",\"มผ\")))","v":""},null,null,"",{"$f":"IF(CT53=\"\",\"\",IF(CV53=\"ร\",\"มผ\",IF(CV53>=$CT$5*กำหนดอัตราส่วนคะแนน!$U$4/100,\"ผ\",\"มผ\")))","v":""},null,null,"",{"$f":"IF(CX53=\"\",\"\",IF(CZ53=\"ร\",\"มผ\",IF(CZ53>=$CX$5*กำหนดอัตราส่วนคะแนน!$U$4/100,\"ผ\",\"มผ\")))","v":""},null,null,"",{"$f":"IF(DB53=\"\",\"\",IF(DD53=\"ร\",\"มผ\",IF(DD53>=$DB$5*กำหนดอัตราส่วนคะแนน!$U$4/100,\"ผ\",\"มผ\")))","v":""},null,null,"",{"$f":"IF(DF53=\"\",\"\",IF(DH53=\"ร\",\"มผ\",IF(DH53>=$DF$5*กำหนดอัตราส่วนคะแนน!$U$4/100,\"ผ\",\"มผ\")))","v":""},null,null,"",{"$f":"IF(DJ53=\"\",\"\",IF(DL53=\"ร\",\"มผ\",IF(DL53>=$DJ$5*กำหนดอัตราส่วนคะแนน!$U$4/100,\"ผ\",\"มผ\")))","v":""},null,null,"",{"$f":"IF(DN53=\"\",\"\",IF(DP53=\"ร\",\"มผ\",IF(DP53>=$DN$5*กำหนดอัตราส่วนคะแนน!$U$4/100,\"ผ\",\"มผ\")))","v":""},null,null,"",{"$f":"IF(DR53=\"\",\"\",IF(DT53=\"ร\",\"มผ\",IF(DT53>=$DR$5*กำหนดอัตราส่วนคะแนน!$U$4/100,\"ผ\",\"มผ\")))","v":""},null,null,"",{"$f":"IF(DV53=\"\",\"\",IF(DX53=\"ร\",\"มผ\",IF(DX53>=$DV$5*กำหนดอัตราส่วนคะแนน!$U$4/100,\"ผ\",\"มผ\")))","v":""},null,null,"",{"$f":"IF(DZ53=\"\",\"\",IF(EB53=\"ร\",\"มผ\",IF(EB53>=$DZ$5*กำหนดอัตราส่วนคะแนน!$U$4/100,\"ผ\",\"มผ\")))","v":""},null,null,"",{"$f":"IF(ED53=\"\",\"\",IF(EF53=\"ร\",\"มผ\",IF(EF53>=$ED$5*กำหนดอัตราส่วนคะแนน!$U$4/100,\"ผ\",\"มผ\")))","v":""},null,null,"",{"$f":"IF(EH53=\"\",\"\",IF(EJ53=\"ร\",\"มผ\",IF(EJ53>=$EH$5*กำหนดอัตราส่วนคะแนน!$U$4/100,\"ผ\",\"มผ\")))","v":""},null,null,"",{"$f":"IF(EL53=\"\",\"\",IF(EN53=\"ร\",\"มผ\",IF(EN123>=$EL$5*กำหนดอัตราส่วนคะแนน!$U$4/100,\"ผ\",\"มผ\")))","v":""},null,null,"",{"$f":"IF(EP53=\"\",\"\",IF(ER53=\"ร\",\"มผ\",IF(ER53>=$EP$5*กำหนดอัตราส่วนคะแนน!$U$4/100,\"ผ\",\"มผ\")))","v":""},null,null,"",{"$f":"IF(ET53=\"\",\"\",IF(EV53=\"ร\",\"มผ\",IF(EV53>=$ET$5*กำหนดอัตราส่วนคะแนน!$U$4/100,\"ผ\",\"มผ\")))","v":""},null,null,"",{"$f":"IF(EX53=\"\",\"\",IF(EZ53=\"ร\",\"มผ\",IF(EZ53>=$EX$5*กำหนดอัตราส่วนคะแนน!$U$4/100,\"ผ\",\"มผ\")))","v":""},null,null,"",{"$f":"IF(FB53=\"\",\"\",IF(FD53=\"ร\",\"มผ\",IF(FD53>=$FB$5*กำหนดอัตราส่วนคะแนน!$U$4/100,\"ผ\",\"มผ\")))","v":""},null,null,"",{"$f":"IF(FF53=\"\",\"\",IF(FH53=\"ร\",\"มผ\",IF(FH53>=$FF$5*กำหนดอัตราส่วนคะแนน!$U$4/100,\"ผ\",\"มผ\")))","v":""},{"$f":"IF(Sheet1!#REF!=\"\",\"\",IF(COUNTIF(F53:FI53,\"ร\"),\"ร\",IF(FW53=\"ปกติ\",SUM(H53,L53,P53,T53,X53,AB53,AF53,AJ53,AN53,AR53,AV53,AZ53,BD53,BH53,BL53,BP53,BT53,BX53,CB53,CF53,CJ53,CN53,CR53,CV53,CZ53,DD53,DH53,DL53,DP53,DT53,DX53,EB53,EF53,EJ53,EN53,ER53,EV53,EZ53,FD53,FH53),\"-\")))","v":{"$error":"#REF!"}},null,{"$error":"#REF!"},null,null,{"$error":"#REF!"},null,null,null,"",null,{"$f":"IF(COUNTIF(Sheet1!#REF!:Sheet1!#REF!,\"\"),\"\",IF(COUNTIF(FJ53:FS53,\"ร\"),\"ร\",IF(COUNTIF(FL53:FS53,\"-\"),\"-\",IF(FW53=\"ปกติ\",SUM(FO53,FS53)))))","v":{"$error":"#REF!"}},null,{"$f":"เวลาเรียน!DZ55","v":0}]
[38,0,{"$f":"CONCATENATE(Sheet1!B49)","v":""},{"$f":"CONCATENATE(Sheet1!D49&Sheet1!#REF!&\"       \"&Sheet1!#REF!)","v":{"$error":"#REF!"}},48,null,null,"",{"$f":"IF(F54=\"\",\"\",IF(H54=\"ร\",\"มผ\",IF(H54>=$F$5*กำหนดอัตราส่วนคะแนน!$U$4/100,\"ผ\",\"มผ\")))","v":""},null,null,"",{"$f":"IF(J54=\"\",\"\",IF(L54=\"ร\",\"มผ\",IF(L54>=$J$5*กำหนดอัตราส่วนคะแนน!$U$4/100,\"ผ\",\"มผ\")))","v":""},null,null,"",{"$f":"IF(N54=\"\",\"\",IF(P54=\"ร\",\"มผ\",IF(P54>=$N$5*กำหนดอัตราส่วนคะแนน!$U$4/100,\"ผ\",\"มผ\")))","v":""},null,null,"",{"$f":"IF(R54=\"\",\"\",IF(T54=\"ร\",\"มผ\",IF(T54>=$R$5*กำหนดอัตราส่วนคะแนน!$U$4/100,\"ผ\",\"มผ\")))","v":""},null,null,"",{"$f":"IF(V54=\"\",\"\",IF(X54=\"ร\",\"มผ\",IF(X54>=$V$5*กำหนดอัตราส่วนคะแนน!$U$4/100,\"ผ\",\"มผ\")))","v":""},null,null,"",{"$f":"IF(Z54=\"\",\"\",IF(AB54=\"ร\",\"มผ\",IF(AB54>=$Z$5*กำหนดอัตราส่วนคะแนน!$U$4/100,\"ผ\",\"มผ\")))","v":""},null,null,"",{"$f":"IF(AD54=\"\",\"\",IF(AF54=\"ร\",\"มผ\",IF(AF54>=$AD$5*กำหนดอัตราส่วนคะแนน!$U$4/100,\"ผ\",\"มผ\")))","v":""},null,null,"",{"$f":"IF(AH54=\"\",\"\",IF(AJ54=\"ร\",\"มผ\",IF(AJ54>=$AH$5*กำหนดอัตราส่วนคะแนน!$U$4/100,\"ผ\",\"มผ\")))","v":""},null,null,"",{"$f":"IF(AL54=\"\",\"\",IF(AN54=\"ร\",\"มผ\",IF(AN54>=$AL$5*กำหนดอัตราส่วนคะแนน!$U$4/100,\"ผ\",\"มผ\")))","v":""},null,null,"",{"$f":"IF(AP54=\"\",\"\",IF(AR54=\"ร\",\"มผ\",IF(AR54>=$AP$5*กำหนดอัตราส่วนคะแนน!$U$4/100,\"ผ\",\"มผ\")))","v":""},null,null,"",{"$f":"IF(AT54=\"\",\"\",IF(AV54=\"ร\",\"มผ\",IF(AV54>=$AT$5*กำหนดอัตราส่วนคะแนน!$U$4/100,\"ผ\",\"มผ\")))","v":""},null,null,"",{"$f":"IF(AX54=\"\",\"\",IF(AZ54=\"ร\",\"มผ\",IF(AZ54>=$AX$5*กำหนดอัตราส่วนคะแนน!$U$4/100,\"ผ\",\"มผ\")))","v":""},null,null,"",{"$f":"IF(BB54=\"\",\"\",IF(BD54=\"ร\",\"มผ\",IF(BD54>=$BB$5*กำหนดอัตราส่วนคะแนน!$U$4/100,\"ผ\",\"มผ\")))","v":""},null,null,"",{"$f":"IF(BF54=\"\",\"\",IF(BH54=\"ร\",\"มผ\",IF(BH54>=$BJ$5*กำหนดอัตราส่วนคะแนน!$U$4/100,\"ผ\",\"มผ\")))","v":""},null,null,"",{"$f":"IF(BJ54=\"\",\"\",IF(BL54=\"ร\",\"มผ\",IF(BL54>=$BJ$5*กำหนดอัตราส่วนคะแนน!$U$4/100,\"ผ\",\"มผ\")))","v":""},null,null,"",{"$f":"IF(BN54=\"\",\"\",IF(BP54=\"ร\",\"มผ\",IF(BP54>=$BN$5*กำหนดอัตราส่วนคะแนน!$U$4/100,\"ผ\",\"มผ\")))","v":""},null,null,"",{"$f":"IF(BR54=\"\",\"\",IF(BT54=\"ร\",\"มผ\",IF(BT54>=$BR$5*กำหนดอัตราส่วนคะแนน!$U$4/100,\"ผ\",\"มผ\")))","v":""},null,null,"",{"$f":"IF(BV54=\"\",\"\",IF(BX54=\"ร\",\"มผ\",IF(BX54>=$BV$5*กำหนดอัตราส่วนคะแนน!$U$4/100,\"ผ\",\"มผ\")))","v":""},null,null,"",{"$f":"IF(BZ54=\"\",\"\",IF(CB54=\"ร\",\"มผ\",IF(CB54>=$BZ$5*กำหนดอัตราส่วนคะแนน!$U$4/100,\"ผ\",\"มผ\")))","v":""},null,null,"",{"$f":"IF(CD54=\"\",\"\",IF(CF54=\"ร\",\"มผ\",IF(CF54>=$CD$5*กำหนดอัตราส่วนคะแนน!$U$4/100,\"ผ\",\"มผ\")))","v":""},null,null,"",{"$f":"IF(CH54=\"\",\"\",IF(CJ54=\"ร\",\"มผ\",IF(CJ54>=$CH$5*กำหนดอัตราส่วนคะแนน!$U$4/100,\"ผ\",\"มผ\")))","v":""},null,null,"",{"$f":"IF(CL54=\"\",\"\",IF(CN54=\"ร\",\"มผ\",IF(CN54>=$CL$5*กำหนดอัตราส่วนคะแนน!$U$4/100,\"ผ\",\"มผ\")))","v":""},null,null,"",{"$f":"IF(CP54=\"\",\"\",IF(CR54=\"ร\",\"มผ\",IF(CR54>=$CP$5*กำหนดอัตราส่วนคะแนน!$U$4/100,\"ผ\",\"มผ\")))","v":""},null,null,"",{"$f":"IF(CT54=\"\",\"\",IF(CV54=\"ร\",\"มผ\",IF(CV54>=$CT$5*กำหนดอัตราส่วนคะแนน!$U$4/100,\"ผ\",\"มผ\")))","v":""},null,null,"",{"$f":"IF(CX54=\"\",\"\",IF(CZ54=\"ร\",\"มผ\",IF(CZ54>=$CX$5*กำหนดอัตราส่วนคะแนน!$U$4/100,\"ผ\",\"มผ\")))","v":""},null,null,"",{"$f":"IF(DB54=\"\",\"\",IF(DD54=\"ร\",\"มผ\",IF(DD54>=$DB$5*กำหนดอัตราส่วนคะแนน!$U$4/100,\"ผ\",\"มผ\")))","v":""},null,null,"",{"$f":"IF(DF54=\"\",\"\",IF(DH54=\"ร\",\"มผ\",IF(DH54>=$DF$5*กำหนดอัตราส่วนคะแนน!$U$4/100,\"ผ\",\"มผ\")))","v":""},null,null,"",{"$f":"IF(DJ54=\"\",\"\",IF(DL54=\"ร\",\"มผ\",IF(DL54>=$DJ$5*กำหนดอัตราส่วนคะแนน!$U$4/100,\"ผ\",\"มผ\")))","v":""},null,null,"",{"$f":"IF(DN54=\"\",\"\",IF(DP54=\"ร\",\"มผ\",IF(DP54>=$DN$5*กำหนดอัตราส่วนคะแนน!$U$4/100,\"ผ\",\"มผ\")))","v":""},null,null,"",{"$f":"IF(DR54=\"\",\"\",IF(DT54=\"ร\",\"มผ\",IF(DT54>=$DR$5*กำหนดอัตราส่วนคะแนน!$U$4/100,\"ผ\",\"มผ\")))","v":""},null,null,"",{"$f":"IF(DV54=\"\",\"\",IF(DX54=\"ร\",\"มผ\",IF(DX54>=$DV$5*กำหนดอัตราส่วนคะแนน!$U$4/100,\"ผ\",\"มผ\")))","v":""},null,null,"",{"$f":"IF(DZ54=\"\",\"\",IF(EB54=\"ร\",\"มผ\",IF(EB54>=$DZ$5*กำหนดอัตราส่วนคะแนน!$U$4/100,\"ผ\",\"มผ\")))","v":""},null,null,"",{"$f":"IF(ED54=\"\",\"\",IF(EF54=\"ร\",\"มผ\",IF(EF54>=$ED$5*กำหนดอัตราส่วนคะแนน!$U$4/100,\"ผ\",\"มผ\")))","v":""},null,null,"",{"$f":"IF(EH54=\"\",\"\",IF(EJ54=\"ร\",\"มผ\",IF(EJ54>=$EH$5*กำหนดอัตราส่วนคะแนน!$U$4/100,\"ผ\",\"มผ\")))","v":""},null,null,"",{"$f":"IF(EL54=\"\",\"\",IF(EN54=\"ร\",\"มผ\",IF(EN124>=$EL$5*กำหนดอัตราส่วนคะแนน!$U$4/100,\"ผ\",\"มผ\")))","v":""},null,null,"",{"$f":"IF(EP54=\"\",\"\",IF(ER54=\"ร\",\"มผ\",IF(ER54>=$EP$5*กำหนดอัตราส่วนคะแนน!$U$4/100,\"ผ\",\"มผ\")))","v":""},null,null,"",{"$f":"IF(ET54=\"\",\"\",IF(EV54=\"ร\",\"มผ\",IF(EV54>=$ET$5*กำหนดอัตราส่วนคะแนน!$U$4/100,\"ผ\",\"มผ\")))","v":""},null,null,"",{"$f":"IF(EX54=\"\",\"\",IF(EZ54=\"ร\",\"มผ\",IF(EZ54>=$EX$5*กำหนดอัตราส่วนคะแนน!$U$4/100,\"ผ\",\"มผ\")))","v":""},null,null,"",{"$f":"IF(FB54=\"\",\"\",IF(FD54=\"ร\",\"มผ\",IF(FD54>=$FB$5*กำหนดอัตราส่วนคะแนน!$U$4/100,\"ผ\",\"มผ\")))","v":""},null,null,"",{"$f":"IF(FF54=\"\",\"\",IF(FH54=\"ร\",\"มผ\",IF(FH54>=$FF$5*กำหนดอัตราส่วนคะแนน!$U$4/100,\"ผ\",\"มผ\")))","v":""},{"$f":"IF(Sheet1!#REF!=\"\",\"\",IF(COUNTIF(F54:FI54,\"ร\"),\"ร\",IF(FW54=\"ปกติ\",SUM(H54,L54,P54,T54,X54,AB54,AF54,AJ54,AN54,AR54,AV54,AZ54,BD54,BH54,BL54,BP54,BT54,BX54,CB54,CF54,CJ54,CN54,CR54,CV54,CZ54,DD54,DH54,DL54,DP54,DT54,DX54,EB54,EF54,EJ54,EN54,ER54,EV54,EZ54,FD54,FH54),\"-\")))","v":{"$error":"#REF!"}},null,{"$error":"#REF!"},null,null,{"$error":"#REF!"},null,null,null,"",null,{"$f":"IF(COUNTIF(Sheet1!#REF!:Sheet1!#REF!,\"\"),\"\",IF(COUNTIF(FJ54:FS54,\"ร\"),\"ร\",IF(COUNTIF(FL54:FS54,\"-\"),\"-\",IF(FW54=\"ปกติ\",SUM(FO54,FS54)))))","v":{"$error":"#REF!"}},null,{"$f":"เวลาเรียน!DZ56","v":0}]
[39,0,{"$f":"CONCATENATE(Sheet1!B50)","v":""},{"$f":"CONCATENATE(Sheet1!D50&Sheet1!#REF!&\"       \"&Sheet1!#REF!)","v":{"$error":"#REF!"}},49,null,null,"",{"$f":"IF(F55=\"\",\"\",IF(H55=\"ร\",\"มผ\",IF(H55>=$F$5*กำหนดอัตราส่วนคะแนน!$U$4/100,\"ผ\",\"มผ\")))","v":""},null,null,"",{"$f":"IF(J55=\"\",\"\",IF(L55=\"ร\",\"มผ\",IF(L55>=$J$5*กำหนดอัตราส่วนคะแนน!$U$4/100,\"ผ\",\"มผ\")))","v":""},null,null,"",{"$f":"IF(N55=\"\",\"\",IF(P55=\"ร\",\"มผ\",IF(P55>=$N$5*กำหนดอัตราส่วนคะแนน!$U$4/100,\"ผ\",\"มผ\")))","v":""},null,null,"",{"$f":"IF(R55=\"\",\"\",IF(T55=\"ร\",\"มผ\",IF(T55>=$R$5*กำหนดอัตราส่วนคะแนน!$U$4/100,\"ผ\",\"มผ\")))","v":""},null,null,"",{"$f":"IF(V55=\"\",\"\",IF(X55=\"ร\",\"มผ\",IF(X55>=$V$5*กำหนดอัตราส่วนคะแนน!$U$4/100,\"ผ\",\"มผ\")))","v":""},null,null,"",{"$f":"IF(Z55=\"\",\"\",IF(AB55=\"ร\",\"มผ\",IF(AB55>=$Z$5*กำหนดอัตราส่วนคะแนน!$U$4/100,\"ผ\",\"มผ\")))","v":""},null,null,"",{"$f":"IF(AD55=\"\",\"\",IF(AF55=\"ร\",\"มผ\",IF(AF55>=$AD$5*กำหนดอัตราส่วนคะแนน!$U$4/100,\"ผ\",\"มผ\")))","v":""},null,null,"",{"$f":"IF(AH55=\"\",\"\",IF(AJ55=\"ร\",\"มผ\",IF(AJ55>=$AH$5*กำหนดอัตราส่วนคะแนน!$U$4/100,\"ผ\",\"มผ\")))","v":""},null,null,"",{"$f":"IF(AL55=\"\",\"\",IF(AN55=\"ร\",\"มผ\",IF(AN55>=$AL$5*กำหนดอัตราส่วนคะแนน!$U$4/100,\"ผ\",\"มผ\")))","v":""},null,null,"",{"$f":"IF(AP55=\"\",\"\",IF(AR55=\"ร\",\"มผ\",IF(AR55>=$AP$5*กำหนดอัตราส่วนคะแนน!$U$4/100,\"ผ\",\"มผ\")))","v":""},null,null,"",{"$f":"IF(AT55=\"\",\"\",IF(AV55=\"ร\",\"มผ\",IF(AV55>=$AT$5*กำหนดอัตราส่วนคะแนน!$U$4/100,\"ผ\",\"มผ\")))","v":""},null,null,"",{"$f":"IF(AX55=\"\",\"\",IF(AZ55=\"ร\",\"มผ\",IF(AZ55>=$AX$5*กำหนดอัตราส่วนคะแนน!$U$4/100,\"ผ\",\"มผ\")))","v":""},null,null,"",{"$f":"IF(BB55=\"\",\"\",IF(BD55=\"ร\",\"มผ\",IF(BD55>=$BB$5*กำหนดอัตราส่วนคะแนน!$U$4/100,\"ผ\",\"มผ\")))","v":""},null,null,"",{"$f":"IF(BF55=\"\",\"\",IF(BH55=\"ร\",\"มผ\",IF(BH55>=$BJ$5*กำหนดอัตราส่วนคะแนน!$U$4/100,\"ผ\",\"มผ\")))","v":""},null,null,"",{"$f":"IF(BJ55=\"\",\"\",IF(BL55=\"ร\",\"มผ\",IF(BL55>=$BJ$5*กำหนดอัตราส่วนคะแนน!$U$4/100,\"ผ\",\"มผ\")))","v":""},null,null,"",{"$f":"IF(BN55=\"\",\"\",IF(BP55=\"ร\",\"มผ\",IF(BP55>=$BN$5*กำหนดอัตราส่วนคะแนน!$U$4/100,\"ผ\",\"มผ\")))","v":""},null,null,"",{"$f":"IF(BR55=\"\",\"\",IF(BT55=\"ร\",\"มผ\",IF(BT55>=$BR$5*กำหนดอัตราส่วนคะแนน!$U$4/100,\"ผ\",\"มผ\")))","v":""},null,null,"",{"$f":"IF(BV55=\"\",\"\",IF(BX55=\"ร\",\"มผ\",IF(BX55>=$BV$5*กำหนดอัตราส่วนคะแนน!$U$4/100,\"ผ\",\"มผ\")))","v":""},null,null,"",{"$f":"IF(BZ55=\"\",\"\",IF(CB55=\"ร\",\"มผ\",IF(CB55>=$BZ$5*กำหนดอัตราส่วนคะแนน!$U$4/100,\"ผ\",\"มผ\")))","v":""},null,null,"",{"$f":"IF(CD55=\"\",\"\",IF(CF55=\"ร\",\"มผ\",IF(CF55>=$CD$5*กำหนดอัตราส่วนคะแนน!$U$4/100,\"ผ\",\"มผ\")))","v":""},null,null,"",{"$f":"IF(CH55=\"\",\"\",IF(CJ55=\"ร\",\"มผ\",IF(CJ55>=$CH$5*กำหนดอัตราส่วนคะแนน!$U$4/100,\"ผ\",\"มผ\")))","v":""},null,null,"",{"$f":"IF(CL55=\"\",\"\",IF(CN55=\"ร\",\"มผ\",IF(CN55>=$CL$5*กำหนดอัตราส่วนคะแนน!$U$4/100,\"ผ\",\"มผ\")))","v":""},null,null,"",{"$f":"IF(CP55=\"\",\"\",IF(CR55=\"ร\",\"มผ\",IF(CR55>=$CP$5*กำหนดอัตราส่วนคะแนน!$U$4/100,\"ผ\",\"มผ\")))","v":""},null,null,"",{"$f":"IF(CT55=\"\",\"\",IF(CV55=\"ร\",\"มผ\",IF(CV55>=$CT$5*กำหนดอัตราส่วนคะแนน!$U$4/100,\"ผ\",\"มผ\")))","v":""},null,null,"",{"$f":"IF(CX55=\"\",\"\",IF(CZ55=\"ร\",\"มผ\",IF(CZ55>=$CX$5*กำหนดอัตราส่วนคะแนน!$U$4/100,\"ผ\",\"มผ\")))","v":""},null,null,"",{"$f":"IF(DB55=\"\",\"\",IF(DD55=\"ร\",\"มผ\",IF(DD55>=$DB$5*กำหนดอัตราส่วนคะแนน!$U$4/100,\"ผ\",\"มผ\")))","v":""},null,null,"",{"$f":"IF(DF55=\"\",\"\",IF(DH55=\"ร\",\"มผ\",IF(DH55>=$DF$5*กำหนดอัตราส่วนคะแนน!$U$4/100,\"ผ\",\"มผ\")))","v":""},null,null,"",{"$f":"IF(DJ55=\"\",\"\",IF(DL55=\"ร\",\"มผ\",IF(DL55>=$DJ$5*กำหนดอัตราส่วนคะแนน!$U$4/100,\"ผ\",\"มผ\")))","v":""},null,null,"",{"$f":"IF(DN55=\"\",\"\",IF(DP55=\"ร\",\"มผ\",IF(DP55>=$DN$5*กำหนดอัตราส่วนคะแนน!$U$4/100,\"ผ\",\"มผ\")))","v":""},null,null,"",{"$f":"IF(DR55=\"\",\"\",IF(DT55=\"ร\",\"มผ\",IF(DT55>=$DR$5*กำหนดอัตราส่วนคะแนน!$U$4/100,\"ผ\",\"มผ\")))","v":""},null,null,"",{"$f":"IF(DV55=\"\",\"\",IF(DX55=\"ร\",\"มผ\",IF(DX55>=$DV$5*กำหนดอัตราส่วนคะแนน!$U$4/100,\"ผ\",\"มผ\")))","v":""},null,null,"",{"$f":"IF(DZ55=\"\",\"\",IF(EB55=\"ร\",\"มผ\",IF(EB55>=$DZ$5*กำหนดอัตราส่วนคะแนน!$U$4/100,\"ผ\",\"มผ\")))","v":""},null,null,"",{"$f":"IF(ED55=\"\",\"\",IF(EF55=\"ร\",\"มผ\",IF(EF55>=$ED$5*กำหนดอัตราส่วนคะแนน!$U$4/100,\"ผ\",\"มผ\")))","v":""},null,null,"",{"$f":"IF(EH55=\"\",\"\",IF(EJ55=\"ร\",\"มผ\",IF(EJ55>=$EH$5*กำหนดอัตราส่วนคะแนน!$U$4/100,\"ผ\",\"มผ\")))","v":""},null,null,"",{"$f":"IF(EL55=\"\",\"\",IF(EN55=\"ร\",\"มผ\",IF(EN125>=$EL$5*กำหนดอัตราส่วนคะแนน!$U$4/100,\"ผ\",\"มผ\")))","v":""},null,null,"",{"$f":"IF(EP55=\"\",\"\",IF(ER55=\"ร\",\"มผ\",IF(ER55>=$EP$5*กำหนดอัตราส่วนคะแนน!$U$4/100,\"ผ\",\"มผ\")))","v":""},null,null,"",{"$f":"IF(ET55=\"\",\"\",IF(EV55=\"ร\",\"มผ\",IF(EV55>=$ET$5*กำหนดอัตราส่วนคะแนน!$U$4/100,\"ผ\",\"มผ\")))","v":""},null,null,"",{"$f":"IF(EX55=\"\",\"\",IF(EZ55=\"ร\",\"มผ\",IF(EZ55>=$EX$5*กำหนดอัตราส่วนคะแนน!$U$4/100,\"ผ\",\"มผ\")))","v":""},null,null,"",{"$f":"IF(FB55=\"\",\"\",IF(FD55=\"ร\",\"มผ\",IF(FD55>=$FB$5*กำหนดอัตราส่วนคะแนน!$U$4/100,\"ผ\",\"มผ\")))","v":""},null,null,"",{"$f":"IF(FF55=\"\",\"\",IF(FH55=\"ร\",\"มผ\",IF(FH55>=$FF$5*กำหนดอัตราส่วนคะแนน!$U$4/100,\"ผ\",\"มผ\")))","v":""},{"$f":"IF(Sheet1!#REF!=\"\",\"\",IF(COUNTIF(F55:FI55,\"ร\"),\"ร\",IF(FW55=\"ปกติ\",SUM(H55,L55,P55,T55,X55,AB55,AF55,AJ55,AN55,AR55,AV55,AZ55,BD55,BH55,BL55,BP55,BT55,BX55,CB55,CF55,CJ55,CN55,CR55,CV55,CZ55,DD55,DH55,DL55,DP55,DT55,DX55,EB55,EF55,EJ55,EN55,ER55,EV55,EZ55,FD55,FH55),\"-\")))","v":{"$error":"#REF!"}},null,{"$error":"#REF!"},null,null,{"$error":"#REF!"},null,null,null,"",null,{"$f":"IF(COUNTIF(Sheet1!#REF!:Sheet1!#REF!,\"\"),\"\",IF(COUNTIF(FJ55:FS55,\"ร\"),\"ร\",IF(COUNTIF(FL55:FS55,\"-\"),\"-\",IF(FW55=\"ปกติ\",SUM(FO55,FS55)))))","v":{"$error":"#REF!"}},null,{"$f":"เวลาเรียน!DZ57","v":0}]
[40,0,{"$f":"CONCATENATE(Sheet1!B51)","v":""},{"$f":"CONCATENATE(Sheet1!D51&Sheet1!#REF!&\"       \"&Sheet1!#REF!)","v":{"$error":"#REF!"}},50,null,null,"",{"$f":"IF(F56=\"\",\"\",IF(H56=\"ร\",\"มผ\",IF(H56>=$F$5*กำหนดอัตราส่วนคะแนน!$U$4/100,\"ผ\",\"มผ\")))","v":""},null,null,"",{"$f":"IF(J56=\"\",\"\",IF(L56=\"ร\",\"มผ\",IF(L56>=$J$5*กำหนดอัตราส่วนคะแนน!$U$4/100,\"ผ\",\"มผ\")))","v":""},null,null,"",{"$f":"IF(N56=\"\",\"\",IF(P56=\"ร\",\"มผ\",IF(P56>=$N$5*กำหนดอัตราส่วนคะแนน!$U$4/100,\"ผ\",\"มผ\")))","v":""},null,null,"",{"$f":"IF(R56=\"\",\"\",IF(T56=\"ร\",\"มผ\",IF(T56>=$R$5*กำหนดอัตราส่วนคะแนน!$U$4/100,\"ผ\",\"มผ\")))","v":""},null,null,"",{"$f":"IF(V56=\"\",\"\",IF(X56=\"ร\",\"มผ\",IF(X56>=$V$5*กำหนดอัตราส่วนคะแนน!$U$4/100,\"ผ\",\"มผ\")))","v":""},null,null,"",{"$f":"IF(Z56=\"\",\"\",IF(AB56=\"ร\",\"มผ\",IF(AB56>=$Z$5*กำหนดอัตราส่วนคะแนน!$U$4/100,\"ผ\",\"มผ\")))","v":""},null,null,"",{"$f":"IF(AD56=\"\",\"\",IF(AF56=\"ร\",\"มผ\",IF(AF56>=$AD$5*กำหนดอัตราส่วนคะแนน!$U$4/100,\"ผ\",\"มผ\")))","v":""},null,null,"",{"$f":"IF(AH56=\"\",\"\",IF(AJ56=\"ร\",\"มผ\",IF(AJ56>=$AH$5*กำหนดอัตราส่วนคะแนน!$U$4/100,\"ผ\",\"มผ\")))","v":""},null,null,"",{"$f":"IF(AL56=\"\",\"\",IF(AN56=\"ร\",\"มผ\",IF(AN56>=$AL$5*กำหนดอัตราส่วนคะแนน!$U$4/100,\"ผ\",\"มผ\")))","v":""},null,null,"",{"$f":"IF(AP56=\"\",\"\",IF(AR56=\"ร\",\"มผ\",IF(AR56>=$AP$5*กำหนดอัตราส่วนคะแนน!$U$4/100,\"ผ\",\"มผ\")))","v":""},null,null,"",{"$f":"IF(AT56=\"\",\"\",IF(AV56=\"ร\",\"มผ\",IF(AV56>=$AT$5*กำหนดอัตราส่วนคะแนน!$U$4/100,\"ผ\",\"มผ\")))","v":""},null,null,"",{"$f":"IF(AX56=\"\",\"\",IF(AZ56=\"ร\",\"มผ\",IF(AZ56>=$AX$5*กำหนดอัตราส่วนคะแนน!$U$4/100,\"ผ\",\"มผ\")))","v":""},null,null,"",{"$f":"IF(BB56=\"\",\"\",IF(BD56=\"ร\",\"มผ\",IF(BD56>=$BB$5*กำหนดอัตราส่วนคะแนน!$U$4/100,\"ผ\",\"มผ\")))","v":""},null,null,"",{"$f":"IF(BF56=\"\",\"\",IF(BH56=\"ร\",\"มผ\",IF(BH56>=$BJ$5*กำหนดอัตราส่วนคะแนน!$U$4/100,\"ผ\",\"มผ\")))","v":""},null,null,"",{"$f":"IF(BJ56=\"\",\"\",IF(BL56=\"ร\",\"มผ\",IF(BL56>=$BJ$5*กำหนดอัตราส่วนคะแนน!$U$4/100,\"ผ\",\"มผ\")))","v":""},null,null,"",{"$f":"IF(BN56=\"\",\"\",IF(BP56=\"ร\",\"มผ\",IF(BP56>=$BN$5*กำหนดอัตราส่วนคะแนน!$U$4/100,\"ผ\",\"มผ\")))","v":""},null,null,"",{"$f":"IF(BR56=\"\",\"\",IF(BT56=\"ร\",\"มผ\",IF(BT56>=$BR$5*กำหนดอัตราส่วนคะแนน!$U$4/100,\"ผ\",\"มผ\")))","v":""},null,null,"",{"$f":"IF(BV56=\"\",\"\",IF(BX56=\"ร\",\"มผ\",IF(BX56>=$BV$5*กำหนดอัตราส่วนคะแนน!$U$4/100,\"ผ\",\"มผ\")))","v":""},null,null,"",{"$f":"IF(BZ56=\"\",\"\",IF(CB56=\"ร\",\"มผ\",IF(CB56>=$BZ$5*กำหนดอัตราส่วนคะแนน!$U$4/100,\"ผ\",\"มผ\")))","v":""},null,null,"",{"$f":"IF(CD56=\"\",\"\",IF(CF56=\"ร\",\"มผ\",IF(CF56>=$CD$5*กำหนดอัตราส่วนคะแนน!$U$4/100,\"ผ\",\"มผ\")))","v":""},null,null,"",{"$f":"IF(CH56=\"\",\"\",IF(CJ56=\"ร\",\"มผ\",IF(CJ56>=$CH$5*กำหนดอัตราส่วนคะแนน!$U$4/100,\"ผ\",\"มผ\")))","v":""},null,null,"",{"$f":"IF(CL56=\"\",\"\",IF(CN56=\"ร\",\"มผ\",IF(CN56>=$CL$5*กำหนดอัตราส่วนคะแนน!$U$4/100,\"ผ\",\"มผ\")))","v":""},null,null,"",{"$f":"IF(CP56=\"\",\"\",IF(CR56=\"ร\",\"มผ\",IF(CR56>=$CP$5*กำหนดอัตราส่วนคะแนน!$U$4/100,\"ผ\",\"มผ\")))","v":""},null,null,"",{"$f":"IF(CT56=\"\",\"\",IF(CV56=\"ร\",\"มผ\",IF(CV56>=$CT$5*กำหนดอัตราส่วนคะแนน!$U$4/100,\"ผ\",\"มผ\")))","v":""},null,null,"",{"$f":"IF(CX56=\"\",\"\",IF(CZ56=\"ร\",\"มผ\",IF(CZ56>=$CX$5*กำหนดอัตราส่วนคะแนน!$U$4/100,\"ผ\",\"มผ\")))","v":""},null,null,"",{"$f":"IF(DB56=\"\",\"\",IF(DD56=\"ร\",\"มผ\",IF(DD56>=$DB$5*กำหนดอัตราส่วนคะแนน!$U$4/100,\"ผ\",\"มผ\")))","v":""},null,null,"",{"$f":"IF(DF56=\"\",\"\",IF(DH56=\"ร\",\"มผ\",IF(DH56>=$DF$5*กำหนดอัตราส่วนคะแนน!$U$4/100,\"ผ\",\"มผ\")))","v":""},null,null,"",{"$f":"IF(DJ56=\"\",\"\",IF(DL56=\"ร\",\"มผ\",IF(DL56>=$DJ$5*กำหนดอัตราส่วนคะแนน!$U$4/100,\"ผ\",\"มผ\")))","v":""},null,null,"",{"$f":"IF(DN56=\"\",\"\",IF(DP56=\"ร\",\"มผ\",IF(DP56>=$DN$5*กำหนดอัตราส่วนคะแนน!$U$4/100,\"ผ\",\"มผ\")))","v":""},null,null,"",{"$f":"IF(DR56=\"\",\"\",IF(DT56=\"ร\",\"มผ\",IF(DT56>=$DR$5*กำหนดอัตราส่วนคะแนน!$U$4/100,\"ผ\",\"มผ\")))","v":""},null,null,"",{"$f":"IF(DV56=\"\",\"\",IF(DX56=\"ร\",\"มผ\",IF(DX56>=$DV$5*กำหนดอัตราส่วนคะแนน!$U$4/100,\"ผ\",\"มผ\")))","v":""},null,null,"",{"$f":"IF(DZ56=\"\",\"\",IF(EB56=\"ร\",\"มผ\",IF(EB56>=$DZ$5*กำหนดอัตราส่วนคะแนน!$U$4/100,\"ผ\",\"มผ\")))","v":""},null,null,"",{"$f":"IF(ED56=\"\",\"\",IF(EF56=\"ร\",\"มผ\",IF(EF56>=$ED$5*กำหนดอัตราส่วนคะแนน!$U$4/100,\"ผ\",\"มผ\")))","v":""},null,null,"",{"$f":"IF(EH56=\"\",\"\",IF(EJ56=\"ร\",\"มผ\",IF(EJ56>=$EH$5*กำหนดอัตราส่วนคะแนน!$U$4/100,\"ผ\",\"มผ\")))","v":""},null,null,"",{"$f":"IF(EL56=\"\",\"\",IF(EN56=\"ร\",\"มผ\",IF(EN126>=$EL$5*กำหนดอัตราส่วนคะแนน!$U$4/100,\"ผ\",\"มผ\")))","v":""},null,null,"",{"$f":"IF(EP56=\"\",\"\",IF(ER56=\"ร\",\"มผ\",IF(ER56>=$EP$5*กำหนดอัตราส่วนคะแนน!$U$4/100,\"ผ\",\"มผ\")))","v":""},null,null,"",{"$f":"IF(ET56=\"\",\"\",IF(EV56=\"ร\",\"มผ\",IF(EV56>=$ET$5*กำหนดอัตราส่วนคะแนน!$U$4/100,\"ผ\",\"มผ\")))","v":""},null,null,"",{"$f":"IF(EX56=\"\",\"\",IF(EZ56=\"ร\",\"มผ\",IF(EZ56>=$EX$5*กำหนดอัตราส่วนคะแนน!$U$4/100,\"ผ\",\"มผ\")))","v":""},null,null,"",{"$f":"IF(FB56=\"\",\"\",IF(FD56=\"ร\",\"มผ\",IF(FD56>=$FB$5*กำหนดอัตราส่วนคะแนน!$U$4/100,\"ผ\",\"มผ\")))","v":""},null,null,"",{"$f":"IF(FF56=\"\",\"\",IF(FH56=\"ร\",\"มผ\",IF(FH56>=$FF$5*กำหนดอัตราส่วนคะแนน!$U$4/100,\"ผ\",\"มผ\")))","v":""},{"$f":"IF(Sheet1!#REF!=\"\",\"\",IF(COUNTIF(F56:FI56,\"ร\"),\"ร\",IF(FW56=\"ปกติ\",SUM(H56,L56,P56,T56,X56,AB56,AF56,AJ56,AN56,AR56,AV56,AZ56,BD56,BH56,BL56,BP56,BT56,BX56,CB56,CF56,CJ56,CN56,CR56,CV56,CZ56,DD56,DH56,DL56,DP56,DT56,DX56,EB56,EF56,EJ56,EN56,ER56,EV56,EZ56,FD56,FH56),\"-\")))","v":{"$error":"#REF!"}},null,{"$error":"#REF!"},null,null,{"$error":"#REF!"},null,null,null,"",null,{"$f":"IF(COUNTIF(Sheet1!#REF!:Sheet1!#REF!,\"\"),\"\",IF(COUNTIF(FJ56:FS56,\"ร\"),\"ร\",IF(COUNTIF(FL56:FS56,\"-\"),\"-\",IF(FW56=\"ปกติ\",SUM(FO56,FS56)))))","v":{"$error":"#REF!"}},null,{"$f":"เวลาเรียน!DZ58","v":0}]
[null,null,{"$f":"กำหนดอัตราส่วนคะแนน!U4","v":50},null,null,null,null,null,null,null,null,null,null,null,null,null,null,null,null,null,null,null,null,null,{"$f":"IF(V57=\"\",\"\",IF(X57>=$V$5*กำหนดอัตราส่วนคะแนน!$U$4/100,\"ผ\",\"มผ\"))","v":""}]
[]
[]
[]
[]
[]
[]
[]
[]
[]
[]
[]
[]
[]
[]
[]
[]
[]
[]
[]
[]
[]
[]
[]
[]
[]
[]
[]
[]
[]
[]
[]
[]
[]
[]
[]
[]
[]
[]
[]
[]
[null,"ท 1.1",null,null,"ม.1/1"]
[null,"ท 2.1",null,null,"ม.1/2"]
[null,"ท 3.1",null,null,"ม.1/3"]
[null,"ท 4.1",null,null,"ม.1/4"]
[null,"ท 5.1",null,null,"ม.1/5"]
[null,"ค 1.1",null,null,"ม.1/6"]
[null,"ค 1.2",null,null,"ม.1/7"]
[null,"ค 1.3",null,null,"ม.1/8"]
[null,"ค 1.4",null,null,"ม.1/9"]
[null,"ค 2.1",null,null,"ม.1/10"]
[null,"ค 2.2",null,null,"ม.2/1"]
[null,"ค 3.1",null,null,"ม.2/2"]
[null,"ค 3.2",null,null,"ม.2/3"]
[null,"ค 4.1",null,null,"ม.2/4"]
[null,"ค 4.2",null,null,"ม.2/5"]
[null,"ค 5.1",null,null,"ม.2/6"]
[null,"ค 5.2",null,null,"ม.2/7"]
[null,"ค 5.3",null,null,"ม.2/8"]
[null,"ค 6.1",null,null,"ม.2/9"]
[null,"ว 1.1",null,null,"ม.2/10"]
[null,"ว 1.2",null,null,"ม.3/1"]
[null,"ว 2.1",null,null,"ม.3/2"]
[null,"ว 2.2",null,null,"ม.3/3"]
[null,"ว 3.1",null,null,"ม.3/4"]
[null,"ว 3.2",null,null,"ม.3/5"]
[null,"ว 4.1",null,null,"ม.3/6"]
[null,"ว 4.2",null,null,"ม.3/7"]
[null,"ว 5.1",null,null,"ม.3/8"]
[null,"ว 6.1",null,null,"ม.3/9"]
[null,"ว 7.1",null,null,"ม.3/10"]
[null,"ว 7.2",null,null,"ม.4-6/1"]
[null,"ว 8.1",null,null,"ม.4-6/2"]
[null,"ส 1.1",null,null,"ม.4-6/3"]
[null,"ส 1.2",null,null,"ม.4-6/4"]
[null,"ส 2.1",null,null,"ม.4-6/5"]
[null,"ส 2.2",null,null,"ม.4-6/6"]
[null,"ส 3.1",null,null,"ม.4-6/7"]
[null,"ส 3.2",null,null,"ม.4-6/8"]
[null,"ส 4.1",null,null,"ม.4-6/9"]
[null,"ส 4.2",null,null,"ม.4-6/10"]
[null,"ส 4.2",null,null,"ม.4-6/11"]
[null,"ส 5.1",null,null,"ม.4-6/12"]
[null,"ส 5.2",null,null,"ม.4-6/13"]
[null,"พ 1.1",null,null,"ม.4-6/14"]
[null,"พ 2.1",null,null,"ม.4-6/15"]
[null,"พ 3.1",null,null,"ม.4-6/16"]
[null,"พ 3.2",null,null,"ม.4-6/17"]
[null,"พ 4.1",null,null,"ม.4-6/18"]
[null,"พ 5.1",null,null,"ม.4-6/19"]
[null,"ศ. 1.1",null,null,"ม.4-6/20"]
[null,"ศ 1.2",null,null,"ม.4-6/21"]
[null,"ศ 2.1",null,null,"ม.4-6/22"]
[null,"ศ 2.2",null,null,"ม.4-6/23"]
[null,"ศ 3.1",null,null,"ม.4-6/24"]
[null,"ศ 3.2",null,null,"ม.4-6/25"]
[null,"ง 1.1",null,null,"ม.4-6/26"]
[null,"ง 2.1",null,null,"ม.4-6/27"]
[null,"ง 3.1",null,null,"ม.4-6/28"]
[null,"ง 4.1",null,null,"ม.4-6/29"]
[null,"ต 1.1",null,null,"ม.4-6/30"]
[null,"ต 1.2"]
[null,"ต 1.3"]
[null,"ต 2.1"]
[null,"ต 2.2"]
[null,"ต 3.1"]
[null,"ต 4.1"]
[null,"ต 4.2"]

{"sheet":"ตัดสินผลการเรียน","index":7,"n_rows":58,"n_cols":39,"rows_kept":58,"cut":false,"hidden":true,"merged":[[2,14,6,14],[1,0,1,23],[0,0,0,23],[8,26,9,26],[8,24,8,25],[2,2,5,2],[2,3,5,3],[2,4,5,4],[2,6,5,6],[2,19,6,19],[2,21,6,21],[2,23,6,23],[2,0,6,0],[2,1,6,1],[2,12,5,12],[2,13,6,13],[2,11,5,11],[2,5,6,5],[2,7,5,7],[2,8,5,8],[2,9,5,9],[2,10,5,10]]}
["สรุปคะแนนรายวิชา "]
[{"$f":"\"รายวิชา\"&ปก!AA15&ปก!AC15&\" \"&ใบรายชื่อ!$A$4","v":"รายวิชา{{โปรดกรอกข้อมูลรายวิชา}} รายวิชา{{โปรดกรอกข้อมูลรายวิชา}}    รหัสวิชา {{โปรดกรอกรหัสวิชา}}    ปีการศึกษา 2566"}]
["ชื่อ - ชื่อสกุล","เลขที่","คะแนนระหว่างภาค","คะแนนปลายภาค","รวมภาคเรียนที่1","เกรดภาคเรียนที่1",null,"ระหว่างภาคเรียนที่2","ปลายภาคเรียนที่2","รวมภาคเรียนที่2",null,"รวมคะแนน 2 ภาคเรียน","รวมคะแนน\nตลอดภาคเรียน","ระดับผลการเรียน(เกรด)","แก้ไข",null,null,null,null,"สถานะ\nนักเรียน\nปัจจุบัน",null,"การประเมินคุณลักษณะฯ",null,"การประมินอ่านคิด วิเคราะห์"]
[]
[]
[null,null,null,null,null,null,null,null,null,null,null,null,null,null,null,"เก็บ",{"$f":"SUM(C7,D7,E7,F7,G7,H7,I7,L7)","v":{"$error":"#REF!"}}]
[null,null,{"$f":"IF(ประเมินตัวชี้วัด!DE6=\"\",\"\",CONCATENATE(ประเมินตัวชี้วัด!DE6))","v":"70"},{"$f":"IF(ประเมินตัวชี้วัด!#REF!=\"\",\"\",ประเมินตัวชี้วัด!#REF!)","v":{"$error":"#REF!"}},{"$f":"IF(ประเมินตัวชี้วัด!DL6=\"\",\"\",IF(ประเมินตัวชี้วัด!DL6=0,0,ประเมินตัวชี้วัด!DL6))","v":100},null,null,{"$f":"IF(ประเมินตัวชี้วัดเทอม2!FO6=\"\",\"\",CONCATENATE(ประเมินตัวชี้วัดเทอม2!FO6))","v":"0"},{"$f":"IF(ประเมินตัวชี้วัดเทอม2!FS6=\"\",\"\",ประเมินตัวชี้วัดเทอม2!FS6)","v":0},{"$f":"IF(ประเมินตัวชี้วัดเทอม2!FU6=\"\",\"\",ประเมินตัวชี้วัดเทอม2!FU6)","v":0},null,200,100,null,null,"กลาง",{"$f":"#REF!","v":{"$error":"#REF!"}}]
[{"$f":"CONCATENATE(Sheet1!D2)","v":"ปุญญิศา"},1,{"$f":"IF(ประเมินตัวชี้วัด!DE7=\"\",\"\",CONCATENATE(ประเมินตัวชี้วัด!DE7))","v":"-"},{"$f":"IF(ประเมินตัวชี้วัด!#REF!=\"\",\"\",ประเมินตัวชี้วัด!#REF!)","v":{"$error":"#REF!"}},{"$f":"IF(ประเมินตัวชี้วัด!DL7=\"ร\",\"ร\",IF(ประเมินตัวชี้วัด!DL7=\"\",\"\",MAXA(ประเมินตัวชี้วัด!DL7,ประเมินตัวชี้วัด!DO7)))","v":0},{"$f":"IF(E8=0,\"\",IF(E8=\"\",\"\",(IF(เวลาเรียน!DZ9=\"ปกติ\",IF(COUNTIF(E8,\"ร\"),\"ร\",VLOOKUP(E8,$Y$20:$AA$27,3))))))","v":""},null,{"$f":"IF(ประเมินตัวชี้วัดเทอม2!FO7=\"\",\"\",CONCATENATE(ประเมินตัวชี้วัดเทอม2!FO7))","v":{"$error":"#REF!"}},{"$f":"IF(ประเมินตัวชี้วัดเทอม2!FS7=\"\",\"\",ประเมินตัวชี้วัดเทอม2!FS7)","v":""},{"$f":"IF(ประเมินตัวชี้วัดเทอม2!FU7=\"\",\"\",ประเมินตัวชี้วัดเทอม2!FU7)","v":{"$error":"#REF!"}},null,{"$f":"IF(เวลาเรียน!DZ9=\"\",\"\",IF(เวลาเรียน!DZ9=\"ย้าย\",\"-\",IF(เวลาเรียน!DZ9=\"จำหน่าย\",\"-\",IF(เวลาเรียน!DZ9=\"ขาดเรียนนาน\",\"-\",IF(E8=\"\",\"\",IF(E8=\"ร\",\"ร\",IF(J8=\"\",\"\",IF(J8=\"ร\",\"ร\",SUM(E8+J8)))))))))","v":""},{"$f":"IF(เวลาเรียน!DZ9=\"\",\"\",IF(เวลาเรียน!DZ9=\"ย้าย\",\"-\",IF(เวลาเรียน!DZ9=\"จำหน่าย\",\"-\",IF(เวลาเรียน!DZ9=\"ขาดเรียนนาน\",\"-\",IF(L8=\"\",\"\",IF(L8=\"ร\",\"ร\",E8))))))","v":""},{"$f":"IF(เวลาเรียน!DZ9=\"\",\"\",IF(เวลาเรียน!DZ9=\"ย้าย\",\"-\",IF(เวลาเรียน!DZ9=\"จำหน่าย\",\"-\",IF(เวลาเรียน!DZ9=\"ขาดเรียนนาน\",\"-\",IF(เวลาเรียน!DY9<80,\"มส\",IF(COUNTIF(M8,\"ร\"),\"ร\",VLOOKUP(M8,$Y$20:$AA$27,3)))))))","v":""},null,"เก็บ+กลาง",{"$f":"#REF!","v":{"$error":"#REF!"}},null,null,{"$f":"IF(เวลาเรียน!DZ9=\"\",\"\",เวลาเรียน!DZ9)","v":""},null,{"$f":"IF(คุณลักษณะอันพึงประสงค์!AA5=\"\",\"\",คุณลักษณะอันพึงประสงค์!AA5)","v":""},null,{"$f":"IF('อ่าน คิด วิเคราะห์'!U5=\"\",\"\",'อ่าน คิด วิเคราะห์'!U5)","v":""}]
[{"$f":"CONCATENATE(Sheet1!D3)","v":"ศิริขวัญ"},2,{"$f":"IF(ประเมินตัวชี้วัด!DE8=\"\",\"\",CONCATENATE(ประเมินตัวชี้วัด!DE8))","v":"-"},{"$f":"IF(ประเมินตัวชี้วัด!#REF!=\"\",\"\",ประเมินตัวชี้วัด!#REF!)","v":{"$error":"#REF!"}},{"$f":"IF(ประเมินตัวชี้วัด!DL8=\"ร\",\"ร\",IF(ประเมินตัวชี้วัด!DL8=\"\",\"\",MAXA(ประเมินตัวชี้วัด!DL8,ประเมินตัวชี้วัด!DO8)))","v":0},{"$f":"IF(E9=0,\"\",IF(E9=\"\",\"\",(IF(เวลาเรียน!DZ10=\"ปกติ\",IF(COUNTIF(E9,\"ร\"),\"ร\",VLOOKUP(E9,$Y$20:$AA$27,3))))))","v":""},null,{"$f":"IF(ประเมินตัวชี้วัดเทอม2!FO8=\"\",\"\",CONCATENATE(ประเมินตัวชี้วัดเทอม2!FO8))","v":{"$error":"#REF!"}},{"$f":"IF(ประเมินตัวชี้วัดเทอม2!FS8=\"\",\"\",ประเมินตัวชี้วัดเทอม2!FS8)","v":""},{"$f":"IF(ประเมินตัวชี้วัดเทอม2!FU8=\"\",\"\",ประเมินตัวชี้วัดเทอม2!FU8)","v":{"$error":"#REF!"}},null,{"$f":"IF(เวลาเรียน!DZ10=\"\",\"\",IF(เวลาเรียน!DZ10=\"ย้าย\",\"-\",IF(เวลาเรียน!DZ10=\"จำหน่าย\",\"-\",IF(เวลาเรียน!DZ10=\"ขาดเรียนนาน\",\"-\",IF(E9=\"\",\"\",IF(E9=\"ร\",\"ร\",IF(J9=\"\",\"\",IF(J9=\"ร\",\"ร\",SUM(E9+J9)))))))))","v":""},{"$f":"IF(เวลาเรียน!DZ10=\"\",\"\",IF(เวลาเรียน!DZ10=\"ย้าย\",\"-\",IF(เวลาเรียน!DZ10=\"จำหน่าย\",\"-\",IF(เวลาเรียน!DZ10=\"ขาดเรียนนาน\",\"-\",IF(L9=\"\",\"\",IF(L9=\"ร\",\"ร\",E9))))))","v":""},{"$f":"IF(เวลาเรียน!DZ10=\"\",\"\",IF(เวลาเรียน!DZ10=\"ย้าย\",\"-\",IF(เวลาเรียน!DZ10=\"จำหน่าย\",\"-\",IF(เวลาเรียน!DZ10=\"ขาดเรียนนาน\",\"-\",IF(เวลาเรียน!DY10<80,\"มส\",IF(COUNTIF(M9,\"ร\"),\"ร\",VLOOKUP(M9,$Y$20:$AA$27,3)))))))","v":""},null,"ปลาย",{"$f":"#REF!","v":{"$error":"#REF!"}},null,null,{"$f":"IF(เวลาเรียน!DZ10=\"\",\"\",เวลาเรียน!DZ10)","v":""},null,{"$f":"IF(คุณลักษณะอันพึงประสงค์!AA6=\"\",\"\",คุณลักษณะอันพึงประสงค์!AA6)","v":""},null,{"$f":"IF('อ่าน คิด วิเคราะห์'!U6=\"\",\"\",'อ่าน คิด วิเคราะห์'!U6)","v":""},"ช่วงคะแนน",null,"เกรด",null,null,4,3.5,3,2.5,2,1.5,1,0,"ร","มส"]
[{"$f":"CONCATENATE(Sheet1!D4)","v":"อรนลิน"},3,{"$f":"IF(ประเมินตัวชี้วัด!DE9=\"\",\"\",CONCATENATE(ประเมินตัวชี้วัด!DE9))","v":"-"},{"$f":"IF(ประเมินตัวชี้วัด!#REF!=\"\",\"\",ประเมินตัวชี้วัด!#REF!)","v":{"$error":"#REF!"}},{"$f":"IF(ประเมินตัวชี้วัด!DL9=\"ร\",\"ร\",IF(ประเมินตัวชี้วัด!DL9=\"\",\"\",MAXA(ประเมินตัวชี้วัด!DL9,ประเมินตัวชี้วัด!DO9)))","v":0},{"$f":"IF(E10=0,\"\",IF(E10=\"\",\"\",(IF(เวลาเรียน!DZ11=\"ปกติ\",IF(COUNTIF(E10,\"ร\"),\"ร\",VLOOKUP(E10,$Y$20:$AA$27,3))))))","v":""},null,{"$f":"IF(ประเมินตัวชี้วัดเทอม2!FO9=\"\",\"\",CONCATENATE(ประเมินตัวชี้วัดเทอม2!FO9))","v":{"$error":"#REF!"}},{"$f":"IF(ประเมินตัวชี้วัดเทอม2!FS9=\"\",\"\",ประเมินตัวชี้วัดเทอม2!FS9)","v":""},{"$f":"IF(ประเมินตัวชี้วัดเทอม2!FU9=\"\",\"\",ประเมินตัวชี้วัดเทอม2!FU9)","v":{"$error":"#REF!"}},null,{"$f":"IF(เวลาเรียน!DZ11=\"\",\"\",IF(เวลาเรียน!DZ11=\"ย้าย\",\"-\",IF(เวลาเรียน!DZ11=\"จำหน่าย\",\"-\",IF(เวลาเรียน!DZ11=\"ขาดเรียนนาน\",\"-\",IF(E10=\"\",\"\",IF(E10=\"ร\",\"ร\",IF(J10=\"\",\"\",IF(J10=\"ร\",\"ร\",SUM(E10+J10)))))))))","v":""},{"$f":"IF(เวลาเรียน!DZ11=\"\",\"\",IF(เวลาเรียน!DZ11=\"ย้าย\",\"-\",IF(เวลาเรียน!DZ11=\"จำหน่าย\",\"-\",IF(เวลาเรียน!DZ11=\"ขาดเรียนนาน\",\"-\",IF(L10=\"\",\"\",IF(L10=\"ร\",\"ร\",E10))))))","v":""},{"$f":"IF(เวลาเรียน!DZ11=\"\",\"\",IF(เวลาเรียน!DZ11=\"ย้าย\",\"-\",IF(เวลาเรียน!DZ11=\"จำหน่าย\",\"-\",IF(เวลาเรียน!DZ11=\"ขาดเรียนนาน\",\"-\",IF(เวลาเรียน!DY11<80,\"มส\",IF(COUNTIF(M10,\"ร\"),\"ร\",VLOOKUP(M10,$Y$20:$AA$27,3)))))))","v":""},null,"รวม",{"$f":"SUM(Q8+Q9)","v":{"$error":"#REF!"}},null,null,{"$f":"IF(เวลาเรียน!DZ11=\"\",\"\",เวลาเรียน!DZ11)","v":""},null,{"$f":"IF(คุณลักษณะอันพึงประสงค์!AA7=\"\",\"\",คุณลักษณะอันพึงประสงค์!AA7)","v":""},null,{"$f":"IF('อ่าน คิด วิเคราะห์'!U7=\"\",\"\",'อ่าน คิด วิเคราะห์'!U7)","v":""},"จาก","ถึง",null,null,null,{"$f":"COUNTIF($N$8:$N$57,AD9)","v":0},{"$f":"COUNTIF($N$8:$N$57,AE9)","v":0},0,0,0,0,0,0,0,0]
[{"$f":"CONCATENATE(Sheet1!D5)","v":"กีรติกา"},4,{"$f":"IF(ประเมินตัวชี้วัด!DE10=\"\",\"\",CONCATENATE(ประเมินตัวชี้วัด!DE10))","v":"-"},{"$f":"IF(ประเมินตัวชี้วัด!#REF!=\"\",\"\",ประเมินตัวชี้วัด!#REF!)","v":{"$error":"#REF!"}},{"$f":"IF(ประเมินตัวชี้วัด!DL10=\"ร\",\"ร\",IF(ประเมินตัวชี้วัด!DL10=\"\",\"\",MAXA(ประเมินตัวชี้วัด!DL10,ประเมินตัวชี้วัด!DO10)))","v":0},{"$f":"IF(E11=0,\"\",IF(E11=\"\",\"\",(IF(เวลาเรียน!DZ12=\"ปกติ\",IF(COUNTIF(E11,\"ร\"),\"ร\",VLOOKUP(E11,$Y$20:$AA$27,3))))))","v":""},null,{"$f":"IF(ประเมินตัวชี้วัดเทอม2!FO10=\"\",\"\",CONCATENATE(ประเมินตัวชี้วัดเทอม2!FO10))","v":{"$error":"#REF!"}},{"$f":"IF(ประเมินตัวชี้วัดเทอม2!FS10=\"\",\"\",ประเมินตัวชี้วัดเทอม2!FS10)","v":""},{"$f":"IF(ประเมินตัวชี้วัดเทอม2!FU10=\"\",\"\",ประเมินตัวชี้วัดเทอม2!FU10)","v":{"$error":"#REF!"}},null,{"$f":"IF(เวลาเรียน!DZ12=\"\",\"\",IF(เวลาเรียน!DZ12=\"ย้าย\",\"-\",IF(เวลาเรียน!DZ12=\"จำหน่าย\",\"-\",IF(เวลาเรียน!DZ12=\"ขาดเรียนนาน\",\"-\",IF(E11=\"\",\"\",IF(E11=\"ร\",\"ร\",IF(J11=\"\",\"\",IF(J11=\"ร\",\"ร\",SUM(E11+J11)))))))))","v":""},{"$f":"IF(เวลาเรียน!DZ12=\"\",\"\",IF(เวลาเรียน!DZ12=\"ย้าย\",\"-\",IF(เวลาเรียน!DZ12=\"จำหน่าย\",\"-\",IF(เวลาเรียน!DZ12=\"ขาดเรียนนาน\",\"-\",IF(L11=\"\",\"\",IF(L11=\"ร\",\"ร\",E11))))))","v":""},{"$f":"IF(เวลาเรียน!DZ12=\"\",\"\",IF(เวลาเรียน!DZ12=\"ย้าย\",\"-\",IF(เวลาเรียน!DZ12=\"จำหน่าย\",\"-\",IF(เวลาเรียน!DZ12=\"ขาดเรียนนาน\",\"-\",IF(เวลาเรียน!DY12<80,\"มส\",IF(COUNTIF(M11,\"ร\"),\"ร\",VLOOKUP(M11,$Y$20:$AA$27,3)))))))","v":""},null,null,null,null,null,{"$f":"IF(เวลาเรียน!DZ12=\"\",\"\",เวลาเรียน!DZ12)","v":""},null,{"$f":"IF(คุณลักษณะอันพึงประสงค์!AA8=\"\",\"\",คุณลักษณะอันพึงประสงค์!AA8)","v":""},null,{"$f":"IF('อ่าน คิด วิเคราะห์'!U8=\"\",\"\",'อ่าน คิด วิเคราะห์'!U8)","v":""},0,49,0]
[{"$f":"CONCATENATE(Sheet1!D6)","v":"ไปรยา"},5,{"$f":"IF(ประเมินตัวชี้วัด!DE11=\"\",\"\",CONCATENATE(ประเมินตัวชี้วัด!DE11))","v":"-"},{"$f":"IF(ประเมินตัวชี้วัด!#REF!=\"\",\"\",ประเมินตัวชี้วัด!#REF!)","v":{"$error":"#REF!"}},{"$f":"IF(ประเมินตัวชี้วัด!DL11=\"ร\",\"ร\",IF(ประเมินตัวชี้วัด!DL11=\"\",\"\",MAXA(ประเมินตัวชี้วัด!DL11,ประเมินตัวชี้วัด!DO11)))","v":0},{"$f":"IF(E12=0,\"\",IF(E12=\"\",\"\",(IF(เวลาเรียน!DZ13=\"ปกติ\",IF(COUNTIF(E12,\"ร\"),\"ร\",VLOOKUP(E12,$Y$20:$AA$27,3))))))","v":""},null,{"$f":"IF(ประเมินตัวชี้วัดเทอม2!FO11=\"\",\"\",CONCATENATE(ประเมินตัวชี้วัดเทอม2!FO11))","v":{"$error":"#REF!"}},{"$f":"IF(ประเมินตัวชี้วัดเทอม2!FS11=\"\",\"\",ประเมินตัวชี้วัดเทอม2!FS11)","v":""},{"$f":"IF(ประเมินตัวชี้วัดเทอม2!FU11=\"\",\"\",ประเมินตัวชี้วัดเทอม2!FU11)","v":{"$error":"#REF!"}},null,{"$f":"IF(เวลาเรียน!DZ13=\"\",\"\",IF(เวลาเรียน!DZ13=\"ย้าย\",\"-\",IF(เวลาเรียน!DZ13=\"จำหน่าย\",\"-\",IF(เวลาเรียน!DZ13=\"ขาดเรียนนาน\",\"-\",IF(E12=\"\",\"\",IF(E12=\"ร\",\"ร\",IF(J12=\"\",\"\",IF(J12=\"ร\",\"ร\",SUM(E12+J12)))))))))","v":""},{"$f":"IF(เวลาเรียน!DZ13=\"\",\"\",IF(เวลาเรียน!DZ13=\"ย้าย\",\"-\",IF(เวลาเรียน!DZ13=\"จำหน่าย\",\"-\",IF(เวลาเรียน!DZ13=\"ขาดเรียนนาน\",\"-\",IF(L12=\"\",\"\",IF(L12=\"ร\",\"ร\",E12))))))","v":""},{"$f":"IF(เวลาเรียน!DZ13=\"\",\"\",IF(เวลาเรียน!DZ13=\"ย้าย\",\"-\",IF(เวลาเรียน!DZ13=\"จำหน่าย\",\"-\",IF(เวลาเรียน!DZ13=\"ขาดเรียนนาน\",\"-\",IF(เวลาเรียน!DY13<80,\"มส\",IF(COUNTIF(M12,\"ร\"),\"ร\",VLOOKUP(M12,$Y$20:$AA$27,3)))))))","v":""},null,null,null,null,null,{"$f":"IF(เวลาเรียน!DZ13=\"\",\"\",เวลาเรียน!DZ13)","v":""},null,{"$f":"IF(คุณลักษณะอันพึงประสงค์!AA9=\"\",\"\",คุณลักษณะอันพึงประสงค์!AA9)","v":""},null,{"$f":"IF('อ่าน คิด วิเคราะห์'!U9=\"\",\"\",'อ่าน คิด วิเคราะห์'!U9)","v":""},50,54,1]
[{"$f":"CONCATENATE(Sheet1!D7)","v":"กวินธิดา"},6,{"$f":"IF(ประเมินตัวชี้วัด!DE12=\"\",\"\",CONCATENATE(ประเมินตัวชี้วัด!DE12))","v":"-"},{"$f":"IF(ประเมินตัวชี้วัด!#REF!=\"\",\"\",ประเมินตัวชี้วัด!#REF!)","v":{"$error":"#REF!"}},{"$f":"IF(ประเมินตัวชี้วัด!DL12=\"ร\",\"ร\",IF(ประเมินตัวชี้วัด!DL12=\"\",\"\",MAXA(ประเมินตัวชี้วัด!DL12,ประเมินตัวชี้วัด!DO12)))","v":0},{"$f":"IF(E13=0,\"\",IF(E13=\"\",\"\",(IF(เวลาเรียน!DZ14=\"ปกติ\",IF(COUNTIF(E13,\"ร\"),\"ร\",VLOOKUP(E13,$Y$20:$AA$27,3))))))","v":""},null,{"$f":"IF(ประเมินตัวชี้วัดเทอม2!FO12=\"\",\"\",CONCATENATE(ประเมินตัวชี้วัดเทอม2!FO12))","v":{"$error":"#REF!"}},{"$f":"IF(ประเมินตัวชี้วัดเทอม2!FS12=\"\",\"\",ประเมินตัวชี้วัดเทอม2!FS12)","v":""},{"$f":"IF(ประเมินตัวชี้วัดเทอม2!FU12=\"\",\"\",ประเมินตัวชี้วัดเทอม2!FU12)","v":{"$error":"#REF!"}},null,{"$f":"IF(เวลาเรียน!DZ14=\"\",\"\",IF(เวลาเรียน!DZ14=\"ย้าย\",\"-\",IF(เวลาเรียน!DZ14=\"จำหน่าย\",\"-\",IF(เวลาเรียน!DZ14=\"ขาดเรียนนาน\",\"-\",IF(E13=\"\",\"\",IF(E13=\"ร\",\"ร\",IF(J13=\"\",\"\",IF(J13=\"ร\",\"ร\",SUM(E13+J13)))))))))","v":""},{"$f":"IF(เวลาเรียน!DZ14=\"\",\"\",IF(เวลาเรียน!DZ14=\"ย้าย\",\"-\",IF(เวลาเรียน!DZ14=\"จำหน่าย\",\"-\",IF(เวลาเรียน!DZ14=\"ขาดเรียนนาน\",\"-\",IF(L13=\"\",\"\",IF(L13=\"ร\",\"ร\",E13))))))","v":""},{"$f":"IF(เวลาเรียน!DZ14=\"\",\"\",IF(เวลาเรียน!DZ14=\"ย้าย\",\"-\",IF(เวลาเรียน!DZ14=\"จำหน่าย\",\"-\",IF(เวลาเรียน!DZ14=\"ขาดเรียนนาน\",\"-\",IF(เวลาเรียน!DY14<80,\"มส\",IF(COUNTIF(M13,\"ร\"),\"ร\",VLOOKUP(M13,$Y$20:$AA$27,3)))))))","v":""},null,null,null,null,null,{"$f":"IF(เวลาเรียน!DZ14=\"\",\"\",เวลาเรียน!DZ14)","v":""},null,{"$f":"IF(คุณลักษณะอันพึงประสงค์!AA10=\"\",\"\",คุณลักษณะอันพึงประสงค์!AA10)","v":""},null,{"$f":"IF('อ่าน คิด วิเคราะห์'!U10=\"\",\"\",'อ่าน คิด วิเคราะห์'!U10)","v":""},55,59,1.5]
[{"$f":"CONCATENATE(Sheet1!D8)","v":"อภิสิทธิ์"},7,{"$f":"IF(ประเมินตัวชี้วัด!DE13=\"\",\"\",CONCATENATE(ประเมินตัวชี้วัด!DE13))","v":"-"},{"$f":"IF(ประเมินตัวชี้วัด!#REF!=\"\",\"\",ประเมินตัวชี้วัด!#REF!)","v":{"$error":"#REF!"}},{"$f":"IF(ประเมินตัวชี้วัด!DL13=\"ร\",\"ร\",IF(ประเมินตัวชี้วัด!DL13=\"\",\"\",MAXA(ประเมินตัวชี้วัด!DL13,ประเมินตัวชี้วัด!DO13)))","v":0},{"$f":"IF(E14=0,\"\",IF(E14=\"\",\"\",(IF(เวลาเรียน!DZ15=\"ปกติ\",IF(COUNTIF(E14,\"ร\"),\"ร\",VLOOKUP(E14,$Y$20:$AA$27,3))))))","v":""},null,{"$f":"IF(ประเมินตัวชี้วัดเทอม2!FO13=\"\",\"\",CONCATENATE(ประเมินตัวชี้วัดเทอม2!FO13))","v":{"$error":"#REF!"}},{"$f":"IF(ประเมินตัวชี้วัดเทอม2!FS13=\"\",\"\",ประเมินตัวชี้วัดเทอม2!FS13)","v":""},{"$f":"IF(ประเมินตัวชี้วัดเทอม2!FU13=\"\",\"\",ประเมินตัวชี้วัดเทอม2!FU13)","v":{"$error":"#REF!"}},null,{"$f":"IF(เวลาเรียน!DZ15=\"\",\"\",IF(เวลาเรียน!DZ15=\"ย้าย\",\"-\",IF(เวลาเรียน!DZ15=\"จำหน่าย\",\"-\",IF(เวลาเรียน!DZ15=\"ขาดเรียนนาน\",\"-\",IF(E14=\"\",\"\",IF(E14=\"ร\",\"ร\",IF(J14=\"\",\"\",IF(J14=\"ร\",\"ร\",SUM(E14+J14)))))))))","v":""},{"$f":"IF(เวลาเรียน!DZ15=\"\",\"\",IF(เวลาเรียน!DZ15=\"ย้าย\",\"-\",IF(เวลาเรียน!DZ15=\"จำหน่าย\",\"-\",IF(เวลาเรียน!DZ15=\"ขาดเรียนนาน\",\"-\",IF(L14=\"\",\"\",IF(L14=\"ร\",\"ร\",E14))))))","v":""},{"$f":"IF(เวลาเรียน!DZ15=\"\",\"\",IF(เวลาเรียน!DZ15=\"ย้าย\",\"-\",IF(เวลาเรียน!DZ15=\"จำหน่าย\",\"-\",IF(เวลาเรียน!DZ15=\"ขาดเรียนนาน\",\"-\",IF(เวลาเรียน!DY15<80,\"มส\",IF(COUNTIF(M14,\"ร\"),\"ร\",VLOOKUP(M14,$Y$20:$AA$27,3)))))))","v":""},null,null,null,null,null,{"$f":"IF(เวลาเรียน!DZ15=\"\",\"\",เวลาเรียน!DZ15)","v":""},null,{"$f":"IF(คุณลักษณะอันพึงประสงค์!AA11=\"\",\"\",คุณลักษณะอันพึงประสงค์!AA11)","v":""},null,{"$f":"IF('อ่าน คิด วิเคราะห์'!U11=\"\",\"\",'อ่าน คิด วิเคราะห์'!U11)","v":""},60,64,2]
[{"$f":"CONCATENATE(Sheet1!D9)","v":"วริสรา"},8,{"$f":"IF(ประเมินตัวชี้วัด!DE14=\"\",\"\",CONCATENATE(ประเมินตัวชี้วัด!DE14))","v":"-"},{"$f":"IF(ประเมินตัวชี้วัด!#REF!=\"\",\"\",ประเมินตัวชี้วัด!#REF!)","v":{"$error":"#REF!"}},{"$f":"IF(ประเมินตัวชี้วัด!DL14=\"ร\",\"ร\",IF(ประเมินตัวชี้วัด!DL14=\"\",\"\",MAXA(ประเมินตัวชี้วัด!DL14,ประเมินตัวชี้วัด!DO14)))","v":0},{"$f":"IF(E15=0,\"\",IF(E15=\"\",\"\",(IF(เวลาเรียน!DZ16=\"ปกติ\",IF(COUNTIF(E15,\"ร\"),\"ร\",VLOOKUP(E15,$Y$20:$AA$27,3))))))","v":""},null,{"$f":"IF(ประเมินตัวชี้วัดเทอม2!FO14=\"\",\"\",CONCATENATE(ประเมินตัวชี้วัดเทอม2!FO14))","v":{"$error":"#REF!"}},{"$f":"IF(ประเมินตัวชี้วัดเทอม2!FS14=\"\",\"\",ประเมินตัวชี้วัดเทอม2!FS14)","v":""},{"$f":"IF(ประเมินตัวชี้วัดเทอม2!FU14=\"\",\"\",ประเมินตัวชี้วัดเทอม2!FU14)","v":{"$error":"#REF!"}},null,{"$f":"IF(เวลาเรียน!DZ16=\"\",\"\",IF(เวลาเรียน!DZ16=\"ย้าย\",\"-\",IF(เวลาเรียน!DZ16=\"จำหน่าย\",\"-\",IF(เวลาเรียน!DZ16=\"ขาดเรียนนาน\",\"-\",IF(E15=\"\",\"\",IF(E15=\"ร\",\"ร\",IF(J15=\"\",\"\",IF(J15=\"ร\",\"ร\",SUM(E15+J15)))))))))","v":""},{"$f":"IF(เวลาเรียน!DZ16=\"\",\"\",IF(เวลาเรียน!DZ16=\"ย้าย\",\"-\",IF(เวลาเรียน!DZ16=\"จำหน่าย\",\"-\",IF(เวลาเรียน!DZ16=\"ขาดเรียนนาน\",\"-\",IF(L15=\"\",\"\",IF(L15=\"ร\",\"ร\",E15))))))","v":""},{"$f":"IF(เวลาเรียน!DZ16=\"\",\"\",IF(เวลาเรียน!DZ16=\"ย้าย\",\"-\",IF(เวลาเรียน!DZ16=\"จำหน่าย\",\"-\",IF(เวลาเรียน!DZ16=\"ขาดเรียนนาน\",\"-\",IF(เวลาเรียน!DY16<80,\"มส\",IF(COUNTIF(M15,\"ร\"),\"ร\",VLOOKUP(M15,$Y$20:$AA$27,3)))))))","v":""},null,null,null,null,null,{"$f":"IF(เวลาเรียน!DZ16=\"\",\"\",เวลาเรียน!DZ16)","v":""},null,{"$f":"IF(คุณลักษณะอันพึงประสงค์!AA12=\"\",\"\",คุณลักษณะอันพึงประสงค์!AA12)","v":""},null,{"$f":"IF('อ่าน คิด วิเคราะห์'!U12=\"\",\"\",'อ่าน คิด วิเคราะห์'!U12)","v":""},65,69,2.5]
[{"$f":"CONCATENATE(Sheet1!D10)","v":"เมธัส"},9,{"$f":"IF(ประเมินตัวชี้วัด!DE15=\"\",\"\",CONCATENATE(ประเมินตัวชี้วัด!DE15))","v":"-"},{"$f":"IF(ประเมินตัวชี้วัด!#REF!=\"\",\"\",ประเมินตัวชี้วัด!#REF!)","v":{"$error":"#REF!"}},{"$f":"IF(ประเมินตัวชี้วัด!DL15=\"ร\",\"ร\",IF(ประเมินตัวชี้วัด!DL15=\"\",\"\",MAXA(ประเมินตัวชี้วัด!DL15,ประเมินตัวชี้วัด!DO15)))","v":0},{"$f":"IF(E16=0,\"\",IF(E16=\"\",\"\",(IF(เวลาเรียน!DZ17=\"ปกติ\",IF(COUNTIF(E16,\"ร\"),\"ร\",VLOOKUP(E16,$Y$20:$AA$27,3))))))","v":""},null,{"$f":"IF(ประเมินตัวชี้วัดเทอม2!FO15=\"\",\"\",CONCATENATE(ประเมินตัวชี้วัดเทอม2!FO15))","v":{"$error":"#REF!"}},{"$f":"IF(ประเมินตัวชี้วัดเทอม2!FS15=\"\",\"\",ประเมินตัวชี้วัดเทอม2!FS15)","v":""},{"$f":"IF(ประเมินตัวชี้วัดเทอม2!FU15=\"\",\"\",ประเมินตัวชี้วัดเทอม2!FU15)","v":{"$error":"#REF!"}},null,{"$f":"IF(เวลาเรียน!DZ17=\"\",\"\",IF(เวลาเรียน!DZ17=\"ย้าย\",\"-\",IF(เวลาเรียน!DZ17=\"จำหน่าย\",\"-\",IF(เวลาเรียน!DZ17=\"ขาดเรียนนาน\",\"-\",IF(E16=\"\",\"\",IF(E16=\"ร\",\"ร\",IF(J16=\"\",\"\",IF(J16=\"ร\",\"ร\",SUM(E16+J16)))))))))","v":""},{"$f":"IF(เวลาเรียน!DZ17=\"\",\"\",IF(เวลาเรียน!DZ17=\"ย้าย\",\"-\",IF(เวลาเรียน!DZ17=\"จำหน่าย\",\"-\",IF(เวลาเรียน!DZ17=\"ขาดเรียนนาน\",\"-\",IF(L16=\"\",\"\",IF(L16=\"ร\",\"ร\",E16))))))","v":""},{"$f":"IF(เวลาเรียน!DZ17=\"\",\"\",IF(เวลาเรียน!DZ17=\"ย้าย\",\"-\",IF(เวลาเรียน!DZ17=\"จำหน่าย\",\"-\",IF(เวลาเรียน!DZ17=\"ขาดเรียนนาน\",\"-\",IF(เวลาเรียน!DY17<80,\"มส\",IF(COUNTIF(M16,\"ร\"),\"ร\",VLOOKUP(M16,$Y$20:$AA$27,3)))))))","v":""},null,null,null,null,null,{"$f":"IF(เวลาเรียน!DZ17=\"\",\"\",เวลาเรียน!DZ17)","v":""},null,{"$f":"IF(คุณลักษณะอันพึงประสงค์!AA13=\"\",\"\",คุณลักษณะอันพึงประสงค์!AA13)","v":""},null,{"$f":"IF('อ่าน คิด วิเคราะห์'!U13=\"\",\"\",'อ่าน คิด วิเคราะห์'!U13)","v":""},70,74,3]
[{"$f":"CONCATENATE(Sheet1!D11)","v":"สรายุทธ"},10,{"$f":"IF(ประเมินตัวชี้วัด!DE16=\"\",\"\",CONCATENATE(ประเมินตัวชี้วัด!DE16))","v":"-"},{"$f":"IF(ประเมินตัวชี้วัด!#REF!=\"\",\"\",ประเมินตัวชี้วัด!#REF!)","v":{"$error":"#REF!"}},{"$f":"IF(ประเมินตัวชี้วัด!DL16=\"ร\",\"ร\",IF(ประเมินตัวชี้วัด!DL16=\"\",\"\",MAXA(ประเมินตัวชี้วัด!DL16,ประเมินตัวชี้วัด!DO16)))","v":0},{"$f":"IF(E17=0,\"\",IF(E17=\"\",\"\",(IF(เวลาเรียน!DZ18=\"ปกติ\",IF(COUNTIF(E17,\"ร\"),\"ร\",VLOOKUP(E17,$Y$20:$AA$27,3))))))","v":""},null,{"$f":"IF(ประเมินตัวชี้วัดเทอม2!FO16=\"\",\"\",CONCATENATE(ประเมินตัวชี้วัดเทอม2!FO16))","v":{"$error":"#REF!"}},{"$f":"IF(ประเมินตัวชี้วัดเทอม2!FS16=\"\",\"\",ประเมินตัวชี้วัดเทอม2!FS16)","v":""},{"$f":"IF(ประเมินตัวชี้วัดเทอม2!FU16=\"\",\"\",ประเมินตัวชี้วัดเทอม2!FU16)","v":{"$error":"#REF!"}},null,{"$f":"IF(เวลาเรียน!DZ18=\"\",\"\",IF(เวลาเรียน!DZ18=\"ย้าย\",\"-\",IF(เวลาเรียน!DZ18=\"จำหน่าย\",\"-\",IF(เวลาเรียน!DZ18=\"ขาดเรียนนาน\",\"-\",IF(E17=\"\",\"\",IF(E17=\"ร\",\"ร\",IF(J17=\"\",\"\",IF(J17=\"ร\",\"ร\",SUM(E17+J17)))))))))","v":""},{"$f":"IF(เวลาเรียน!DZ18=\"\",\"\",IF(เวลาเรียน!DZ18=\"ย้าย\",\"-\",IF(เวลาเรียน!DZ18=\"จำหน่าย\",\"-\",IF(เวลาเรียน!DZ18=\"ขาดเรียนนาน\",\"-\",IF(L17=\"\",\"\",IF(L17=\"ร\",\"ร\",E17))))))","v":""},{"$f":"IF(เวลาเรียน!DZ18=\"\",\"\",IF(เวลาเรียน!DZ18=\"ย้าย\",\"-\",IF(เวลาเรียน!DZ18=\"จำหน่าย\",\"-\",IF(เวลาเรียน!DZ18=\"ขาดเรียนนาน\",\"-\",IF(เวลาเรียน!DY18<80,\"มส\",IF(COUNTIF(M17,\"ร\"),\"ร\",VLOOKUP(M17,$Y$20:$AA$27,3)))))))","v":""},null,null,null,null,null,{"$f":"IF(เวลาเรียน!DZ18=\"\",\"\",เวลาเรียน!DZ18)","v":""},null,{"$f":"IF(คุณลักษณะอันพึงประสงค์!AA14=\"\",\"\",คุณลักษณะอันพึงประสงค์!AA14)","v":""},null,{"$f":"IF('อ่าน คิด วิเคราะห์'!U14=\"\",\"\",'อ่าน คิด วิเคราะห์'!U14)","v":""},75,79,3.5]
[{"$f":"CONCATENATE(Sheet1!D12)","v":"อัยลดา"},11,{"$f":"IF(ประเมินตัวชี้วัด!DE17=\"\",\"\",CONCATENATE(ประเมินตัวชี้วัด!DE17))","v":"-"},{"$f":"IF(ประเมินตัวชี้วัด!#REF!=\"\",\"\",ประเมินตัวชี้วัด!#REF!)","v":{"$error":"#REF!"}},{"$f":"IF(ประเมินตัวชี้วัด!DL17=\"ร\",\"ร\",IF(ประเมินตัวชี้วัด!DL17=\"\",\"\",MAXA(ประเมินตัวชี้วัด!DL17,ประเมินตัวชี้วัด!DO17)))","v":0},{"$f":"IF(E18=0,\"\",IF(E18=\"\",\"\",(IF(เวลาเรียน!DZ19=\"ปกติ\",IF(COUNTIF(E18,\"ร\"),\"ร\",VLOOKUP(E18,$Y$20:$AA$27,3))))))","v":""},null,{"$f":"IF(ประเมินตัวชี้วัดเทอม2!FO17=\"\",\"\",CONCATENATE(ประเมินตัวชี้วัดเทอม2!FO17))","v":{"$error":"#REF!"}},{"$f":"IF(ประเมินตัวชี้วัดเทอม2!FS17=\"\",\"\",ประเมินตัวชี้วัดเทอม2!FS17)","v":""},{"$f":"IF(ประเมินตัวชี้วัดเทอม2!FU17=\"\",\"\",ประเมินตัวชี้วัดเทอม2!FU17)","v":{"$error":"#REF!"}},null,{"$f":"IF(เวลาเรียน!DZ19=\"\",\"\",IF(เวลาเรียน!DZ19=\"ย้าย\",\"-\",IF(เวลาเรียน!DZ19=\"จำหน่าย\",\"-\",IF(เวลาเรียน!DZ19=\"ขาดเรียนนาน\",\"-\",IF(E18=\"\",\"\",IF(E18=\"ร\",\"ร\",IF(J18=\"\",\"\",IF(J18=\"ร\",\"ร\",SUM(E18+J18)))))))))","v":""},{"$f":"IF(เวลาเรียน!DZ19=\"\",\"\",IF(เวลาเรียน!DZ19=\"ย้าย\",\"-\",IF(เวลาเรียน!DZ19=\"จำหน่าย\",\"-\",IF(เวลาเรียน!DZ19=\"ขาดเรียนนาน\",\"-\",IF(L18=\"\",\"\",IF(L18=\"ร\",\"ร\",E18))))))","v":""},{"$f":"IF(เวลาเรียน!DZ19=\"\",\"\",IF(เวลาเรียน!DZ19=\"ย้าย\",\"-\",IF(เวลาเรียน!DZ19=\"จำหน่าย\",\"-\",IF(เวลาเรียน!DZ19=\"ขาดเรียนนาน\",\"-\",IF(เวลาเรียน!DY19<80,\"มส\",IF(COUNTIF(M18,\"ร\"),\"ร\",VLOOKUP(M18,$Y$20:$AA$27,3)))))))","v":""},null,null,null,null,null,{"$f":"IF(เวลาเรียน!DZ19=\"\",\"\",เวลาเรียน!DZ19)","v":""},null,{"$f":"IF(คุณลักษณะอันพึงประสงค์!AA15=\"\",\"\",คุณลักษณะอันพึงประสงค์!AA15)","v":""},null,{"$f":"IF('อ่าน คิด วิเคราะห์'!U15=\"\",\"\",'อ่าน คิด วิเคราะห์'!U15)","v":""},80,100,4]
[{"$f":"CONCATENATE(Sheet1!D13)","v":"สิงหา"},12,{"$f":"IF(ประเมินตัวชี้วัด!DE18=\"\",\"\",CONCATENATE(ประเมินตัวชี้วัด!DE18))","v":"-"},{"$f":"IF(ประเมินตัวชี้วัด!#REF!=\"\",\"\",ประเมินตัวชี้วัด!#REF!)","v":{"$error":"#REF!"}},{"$f":"IF(ประเมินตัวชี้วัด!DL18=\"ร\",\"ร\",IF(ประเมินตัวชี้วัด!DL18=\"\",\"\",MAXA(ประเมินตัวชี้วัด!DL18,ประเมินตัวชี้วัด!DO18)))","v":0},{"$f":"IF(E19=0,\"\",IF(E19=\"\",\"\",(IF(เวลาเรียน!DZ20=\"ปกติ\",IF(COUNTIF(E19,\"ร\"),\"ร\",VLOOKUP(E19,$Y$20:$AA$27,3))))))","v":""},null,{"$f":"IF(ประเมินตัวชี้วัดเทอม2!FO18=\"\",\"\",CONCATENATE(ประเมินตัวชี้วัดเทอม2!FO18))","v":{"$error":"#REF!"}},{"$f":"IF(ประเมินตัวชี้วัดเทอม2!FS18=\"\",\"\",ประเมินตัวชี้วัดเทอม2!FS18)","v":""},{"$f":"IF(ประเมินตัวชี้วัดเทอม2!FU18=\"\",\"\",ประเมินตัวชี้วัดเทอม2!FU18)","v":{"$error":"#REF!"}},null,{"$f":"IF(เวลาเรียน!DZ20=\"\",\"\",IF(เวลาเรียน!DZ20=\"ย้าย\",\"-\",IF(เวลาเรียน!DZ20=\"จำหน่าย\",\"-\",IF(เวลาเรียน!DZ20=\"ขาดเรียนนาน\",\"-\",IF(E19=\"\",\"\",IF(E19=\"ร\",\"ร\",IF(J19=\"\",\"\",IF(J19=\"ร\",\"ร\",SUM(E19+J19)))))))))","v":""},{"$f":"IF(เวลาเรียน!DZ20=\"\",\"\",IF(เวลาเรียน!DZ20=\"ย้าย\",\"-\",IF(เวลาเรียน!DZ20=\"จำหน่าย\",\"-\",IF(เวลาเรียน!DZ20=\"ขาดเรียนนาน\",\"-\",IF(L19=\"\",\"\",IF(L19=\"ร\",\"ร\",E19))))))","v":""},{"$f":"IF(เวลาเรียน!DZ20=\"\",\"\",IF(เวลาเรียน!DZ20=\"ย้าย\",\"-\",IF(เวลาเรียน!DZ20=\"จำหน่าย\",\"-\",IF(เวลาเรียน!DZ20=\"ขาดเรียนนาน\",\"-\",IF(เวลาเรียน!DY20<80,\"มส\",IF(COUNTIF(M19,\"ร\"),\"ร\",VLOOKUP(M19,$Y$20:$AA$27,3)))))))","v":""},null,null,null,null,null,{"$f":"IF(เวลาเรียน!DZ20=\"\",\"\",เวลาเรียน!DZ20)","v":""},null,{"$f":"IF(คุณลักษณะอันพึงประสงค์!AA16=\"\",\"\",คุณลักษณะอันพึงประสงค์!AA16)","v":""},null,{"$f":"IF('อ่าน คิด วิเคราะห์'!U16=\"\",\"\",'อ่าน คิด วิเคราะห์'!U16)","v":""}]
[{"$f":"CONCATENATE(Sheet1!D14)","v":"อภิชัย"},13,{"$f":"IF(ประเมินตัวชี้วัด!DE19=\"\",\"\",CONCATENATE(ประเมินตัวชี้วัด!DE19))","v":"-"},{"$f":"IF(ประเมินตัวชี้วัด!#REF!=\"\",\"\",ประเมินตัวชี้วัด!#REF!)","v":{"$error":"#REF!"}},{"$f":"IF(ประเมินตัวชี้วัด!DL19=\"ร\",\"ร\",IF(ประเมินตัวชี้วัด!DL19=\"\",\"\",MAXA(ประเมินตัวชี้วัด!DL19,ประเมินตัวชี้วัด!DO19)))","v":0},{"$f":"IF(E20=0,\"\",IF(E20=\"\",\"\",(IF(เวลาเรียน!DZ21=\"ปกติ\",IF(COUNTIF(E20,\"ร\"),\"ร\",VLOOKUP(E20,$Y$20:$AA$27,3))))))","v":""},null,{"$f":"IF(ประเมินตัวชี้วัดเทอม2!FO19=\"\",\"\",CONCATENATE(ประเมินตัวชี้วัดเทอม2!FO19))","v":{"$error":"#REF!"}},{"$f":"IF(ประเมินตัวชี้วัดเทอม2!FS19=\"\",\"\",ประเมินตัวชี้วัดเทอม2!FS19)","v":""},{"$f":"IF(ประเมินตัวชี้วัดเทอม2!FU19=\"\",\"\",ประเมินตัวชี้วัดเทอม2!FU19)","v":{"$error":"#REF!"}},null,{"$f":"IF(เวลาเรียน!DZ21=\"\",\"\",IF(เวลาเรียน!DZ21=\"ย้าย\",\"-\",IF(เวลาเรียน!DZ21=\"จำหน่าย\",\"-\",IF(เวลาเรียน!DZ21=\"ขาดเรียนนาน\",\"-\",IF(E20=\"\",\"\",IF(E20=\"ร\",\"ร\",IF(J20=\"\",\"\",IF(J20=\"ร\",\"ร\",SUM(E20+J20)))))))))","v":""},{"$f":"IF(เวลาเรียน!DZ21=\"\",\"\",IF(เวลาเรียน!DZ21=\"ย้าย\",\"-\",IF(เวลาเรียน!DZ21=\"จำหน่าย\",\"-\",IF(เวลาเรียน!DZ21=\"ขาดเรียนนาน\",\"-\",IF(L20=\"\",\"\",IF(L20=\"ร\",\"ร\",E20))))))","v":""},{"$f":"IF(เวลาเรียน!DZ21=\"\",\"\",IF(เวลาเรียน!DZ21=\"ย้าย\",\"-\",IF(เวลาเรียน!DZ21=\"จำหน่าย\",\"-\",IF(เวลาเรียน!DZ21=\"ขาดเรียนนาน\",\"-\",IF(เวลาเรียน!DY21<80,\"มส\",IF(COUNTIF(M20,\"ร\"),\"ร\",VLOOKUP(M20,$Y$20:$AA$27,3)))))))","v":""},null,null,null,null,null,{"$f":"IF(เวลาเรียน!DZ21=\"\",\"\",เวลาเรียน!DZ21)","v":""},null,{"$f":"IF(คุณลักษณะอันพึงประสงค์!AA17=\"\",\"\",คุณลักษณะอันพึงประสงค์!AA17)","v":""},null,{"$f":"IF('อ่าน คิด วิเคราะห์'!U17=\"\",\"\",'อ่าน คิด วิเคราะห์'!U17)","v":""},0,50,0]
[{"$f":"CONCATENATE(Sheet1!D15)","v":"ภูมิพัฒน์"},14,{"$f":"IF(ประเมินตัวชี้วัด!DE20=\"\",\"\",CONCATENATE(ประเมินตัวชี้วัด!DE20))","v":"-"},{"$f":"IF(ประเมินตัวชี้วัด!#REF!=\"\",\"\",ประเมินตัวชี้วัด!#REF!)","v":{"$error":"#REF!"}},{"$f":"IF(ประเมินตัวชี้วัด!DL20=\"ร\",\"ร\",IF(ประเมินตัวชี้วัด!DL20=\"\",\"\",MAXA(ประเมินตัวชี้วัด!DL20,ประเมินตัวชี้วัด!DO20)))","v":0},{"$f":"IF(E21=0,\"\",IF(E21=\"\",\"\",(IF(เวลาเรียน!DZ22=\"ปกติ\",IF(COUNTIF(E21,\"ร\"),\"ร\",VLOOKUP(E21,$Y$20:$AA$27,3))))))","v":""},null,{"$f":"IF(ประเมินตัวชี้วัดเทอม2!FO20=\"\",\"\",CONCATENATE(ประเมินตัวชี้วัดเทอม2!FO20))","v":{"$error":"#REF!"}},{"$f":"IF(ประเมินตัวชี้วัดเทอม2!FS20=\"\",\"\",ประเมินตัวชี้วัดเทอม2!FS20)","v":""},{"$f":"IF(ประเมินตัวชี้วัดเทอม2!FU20=\"\",\"\",ประเมินตัวชี้วัดเทอม2!FU20)","v":{"$error":"#REF!"}},null,{"$f":"IF(เวลาเรียน!DZ22=\"\",\"\",IF(เวลาเรียน!DZ22=\"ย้าย\",\"-\",IF(เวลาเรียน!DZ22=\"จำหน่าย\",\"-\",IF(เวลาเรียน!DZ22=\"ขาดเรียนนาน\",\"-\",IF(E21=\"\",\"\",IF(E21=\"ร\",\"ร\",IF(J21=\"\",\"\",IF(J21=\"ร\",\"ร\",SUM(E21+J21)))))))))","v":""},{"$f":"IF(เวลาเรียน!DZ22=\"\",\"\",IF(เวลาเรียน!DZ22=\"ย้าย\",\"-\",IF(เวลาเรียน!DZ22=\"จำหน่าย\",\"-\",IF(เวลาเรียน!DZ22=\"ขาดเรียนนาน\",\"-\",IF(L21=\"\",\"\",IF(L21=\"ร\",\"ร\",E21))))))","v":""},{"$f":"IF(เวลาเรียน!DZ22=\"\",\"\",IF(เวลาเรียน!DZ22=\"ย้าย\",\"-\",IF(เวลาเรียน!DZ22=\"จำหน่าย\",\"-\",IF(เวลาเรียน!DZ22=\"ขาดเรียนนาน\",\"-\",IF(เวลาเรียน!DY22<80,\"มส\",IF(COUNTIF(M21,\"ร\"),\"ร\",VLOOKUP(M21,$Y$20:$AA$27,3)))))))","v":""},null,null,null,null,null,{"$f":"IF(เวลาเรียน!DZ22=\"\",\"\",เวลาเรียน!DZ22)","v":""},null,{"$f":"IF(คุณลักษณะอันพึงประสงค์!AA18=\"\",\"\",คุณลักษณะอันพึงประสงค์!AA18)","v":""},null,{"$f":"IF('อ่าน คิด วิเคราะห์'!U18=\"\",\"\",'อ่าน คิด วิเคราะห์'!U18)","v":""},50,55,1]
[{"$f":"CONCATENATE(Sheet1!D16)","v":"นงณภัทร"},15,{"$f":"IF(ประเมินตัวชี้วัด!DE21=\"\",\"\",CONCATENATE(ประเมินตัวชี้วัด!DE21))","v":"-"},{"$f":"IF(ประเมินตัวชี้วัด!#REF!=\"\",\"\",ประเมินตัวชี้วัด!#REF!)","v":{"$error":"#REF!"}},{"$f":"IF(ประเมินตัวชี้วัด!DL21=\"ร\",\"ร\",IF(ประเมินตัวชี้วัด!DL21=\"\",\"\",MAXA(ประเมินตัวชี้วัด!DL21,ประเมินตัวชี้วัด!DO21)))","v":0},{"$f":"IF(E22=0,\"\",IF(E22=\"\",\"\",(IF(เวลาเรียน!DZ23=\"ปกติ\",IF(COUNTIF(E22,\"ร\"),\"ร\",VLOOKUP(E22,$Y$20:$AA$27,3))))))","v":""},null,{"$f":"IF(ประเมินตัวชี้วัดเทอม2!FO21=\"\",\"\",CONCATENATE(ประเมินตัวชี้วัดเทอม2!FO21))","v":{"$error":"#REF!"}},{"$f":"IF(ประเมินตัวชี้วัดเทอม2!FS21=\"\",\"\",ประเมินตัวชี้วัดเทอม2!FS21)","v":""},{"$f":"IF(ประเมินตัวชี้วัดเทอม2!FU21=\"\",\"\",ประเมินตัวชี้วัดเทอม2!FU21)","v":{"$error":"#REF!"}},null,{"$f":"IF(เวลาเรียน!DZ23=\"\",\"\",IF(เวลาเรียน!DZ23=\"ย้าย\",\"-\",IF(เวลาเรียน!DZ23=\"จำหน่าย\",\"-\",IF(เวลาเรียน!DZ23=\"ขาดเรียนนาน\",\"-\",IF(E22=\"\",\"\",IF(E22=\"ร\",\"ร\",IF(J22=\"\",\"\",IF(J22=\"ร\",\"ร\",SUM(E22+J22)))))))))","v":""},{"$f":"IF(เวลาเรียน!DZ23=\"\",\"\",IF(เวลาเรียน!DZ23=\"ย้าย\",\"-\",IF(เวลาเรียน!DZ23=\"จำหน่าย\",\"-\",IF(เวลาเรียน!DZ23=\"ขาดเรียนนาน\",\"-\",IF(L22=\"\",\"\",IF(L22=\"ร\",\"ร\",E22))))))","v":""},{"$f":"IF(เวลาเรียน!DZ23=\"\",\"\",IF(เวลาเรียน!DZ23=\"ย้าย\",\"-\",IF(เวลาเรียน!DZ23=\"จำหน่าย\",\"-\",IF(เวลาเรียน!DZ23=\"ขาดเรียนนาน\",\"-\",IF(เวลาเรียน!DY23<80,\"มส\",IF(COUNTIF(M22,\"ร\"),\"ร\",VLOOKUP(M22,$Y$20:$AA$27,3)))))))","v":""},null,null,null,null,null,{"$f":"IF(เวลาเรียน!DZ23=\"\",\"\",เวลาเรียน!DZ23)","v":""},null,{"$f":"IF(คุณลักษณะอันพึงประสงค์!AA19=\"\",\"\",คุณลักษณะอันพึงประสงค์!AA19)","v":""},null,{"$f":"IF('อ่าน คิด วิเคราะห์'!U19=\"\",\"\",'อ่าน คิด วิเคราะห์'!U19)","v":""},55,60,1.5]
[{"$f":"CONCATENATE(Sheet1!D17)","v":"ชนัญชิดา"},16,{"$f":"IF(ประเมินตัวชี้วัด!DE22=\"\",\"\",CONCATENATE(ประเมินตัวชี้วัด!DE22))","v":"-"},{"$f":"IF(ประเมินตัวชี้วัด!#REF!=\"\",\"\",ประเมินตัวชี้วัด!#REF!)","v":{"$error":"#REF!"}},{"$f":"IF(ประเมินตัวชี้วัด!DL22=\"ร\",\"ร\",IF(ประเมินตัวชี้วัด!DL22=\"\",\"\",MAXA(ประเมินตัวชี้วัด!DL22,ประเมินตัวชี้วัด!DO22)))","v":0},{"$f":"IF(E23=0,\"\",IF(E23=\"\",\"\",(IF(เวลาเรียน!DZ24=\"ปกติ\",IF(COUNTIF(E23,\"ร\"),\"ร\",VLOOKUP(E23,$Y$20:$AA$27,3))))))","v":""},null,{"$f":"IF(ประเมินตัวชี้วัดเทอม2!FO22=\"\",\"\",CONCATENATE(ประเมินตัวชี้วัดเทอม2!FO22))","v":{"$error":"#REF!"}},{"$f":"IF(ประเมินตัวชี้วัดเทอม2!FS22=\"\",\"\",ประเมินตัวชี้วัดเทอม2!FS22)","v":""},{"$f":"IF(ประเมินตัวชี้วัดเทอม2!FU22=\"\",\"\",ประเมินตัวชี้วัดเทอม2!FU22)","v":{"$error":"#REF!"}},null,{"$f":"IF(เวลาเรียน!DZ24=\"\",\"\",IF(เวลาเรียน!DZ24=\"ย้าย\",\"-\",IF(เวลาเรียน!DZ24=\"จำหน่าย\",\"-\",IF(เวลาเรียน!DZ24=\"ขาดเรียนนาน\",\"-\",IF(E23=\"\",\"\",IF(E23=\"ร\",\"ร\",IF(J23=\"\",\"\",IF(J23=\"ร\",\"ร\",SUM(E23+J23)))))))))","v":""},{"$f":"IF(เวลาเรียน!DZ24=\"\",\"\",IF(เวลาเรียน!DZ24=\"ย้าย\",\"-\",IF(เวลาเรียน!DZ24=\"จำหน่าย\",\"-\",IF(เวลาเรียน!DZ24=\"ขาดเรียนนาน\",\"-\",IF(L23=\"\",\"\",IF(L23=\"ร\",\"ร\",E23))))))","v":""},{"$f":"IF(เวลาเรียน!DZ24=\"\",\"\",IF(เวลาเรียน!DZ24=\"ย้าย\",\"-\",IF(เวลาเรียน!DZ24=\"จำหน่าย\",\"-\",IF(เวลาเรียน!DZ24=\"ขาดเรียนนาน\",\"-\",IF(เวลาเรียน!DY24<80,\"มส\",IF(COUNTIF(M23,\"ร\"),\"ร\",VLOOKUP(M23,$Y$20:$AA$27,3)))))))","v":""},null,null,null,null,null,{"$f":"IF(เวลาเรียน!DZ24=\"\",\"\",เวลาเรียน!DZ24)","v":""},null,{"$f":"IF(คุณลักษณะอันพึงประสงค์!AA20=\"\",\"\",คุณลักษณะอันพึงประสงค์!AA20)","v":""},null,{"$f":"IF('อ่าน คิด วิเคราะห์'!U20=\"\",\"\",'อ่าน คิด วิเคราะห์'!U20)","v":""},60,65,2]
[{"$f":"CONCATENATE(Sheet1!D18)","v":"นนทกร"},17,{"$f":"IF(ประเมินตัวชี้วัด!DE23=\"\",\"\",CONCATENATE(ประเมินตัวชี้วัด!DE23))","v":"-"},{"$f":"IF(ประเมินตัวชี้วัด!#REF!=\"\",\"\",ประเมินตัวชี้วัด!#REF!)","v":{"$error":"#REF!"}},{"$f":"IF(ประเมินตัวชี้วัด!DL23=\"ร\",\"ร\",IF(ประเมินตัวชี้วัด!DL23=\"\",\"\",MAXA(ประเมินตัวชี้วัด!DL23,ประเมินตัวชี้วัด!DO23)))","v":0},{"$f":"IF(E24=0,\"\",IF(E24=\"\",\"\",(IF(เวลาเรียน!DZ25=\"ปกติ\",IF(COUNTIF(E24,\"ร\"),\"ร\",VLOOKUP(E24,$Y$20:$AA$27,3))))))","v":""},null,{"$f":"IF(ประเมินตัวชี้วัดเทอม2!FO23=\"\",\"\",CONCATENATE(ประเมินตัวชี้วัดเทอม2!FO23))","v":{"$error":"#REF!"}},{"$f":"IF(ประเมินตัวชี้วัดเทอม2!FS23=\"\",\"\",ประเมินตัวชี้วัดเทอม2!FS23)","v":""},{"$f":"IF(ประเมินตัวชี้วัดเทอม2!FU23=\"\",\"\",ประเมินตัวชี้วัดเทอม2!FU23)","v":{"$error":"#REF!"}},null,{"$f":"IF(เวลาเรียน!DZ25=\"\",\"\",IF(เวลาเรียน!DZ25=\"ย้าย\",\"-\",IF(เวลาเรียน!DZ25=\"จำหน่าย\",\"-\",IF(เวลาเรียน!DZ25=\"ขาดเรียนนาน\",\"-\",IF(E24=\"\",\"\",IF(E24=\"ร\",\"ร\",IF(J24=\"\",\"\",IF(J24=\"ร\",\"ร\",SUM(E24+J24)))))))))","v":""},{"$f":"IF(เวลาเรียน!DZ25=\"\",\"\",IF(เวลาเรียน!DZ25=\"ย้าย\",\"-\",IF(เวลาเรียน!DZ25=\"จำหน่าย\",\"-\",IF(เวลาเรียน!DZ25=\"ขาดเรียนนาน\",\"-\",IF(L24=\"\",\"\",IF(L24=\"ร\",\"ร\",E24))))))","v":""},{"$f":"IF(เวลาเรียน!DZ25=\"\",\"\",IF(เวลาเรียน!DZ25=\"ย้าย\",\"-\",IF(เวลาเรียน!DZ25=\"จำหน่าย\",\"-\",IF(เวลาเรียน!DZ25=\"ขาดเรียนนาน\",\"-\",IF(เวลาเรียน!DY25<80,\"มส\",IF(COUNTIF(M24,\"ร\"),\"ร\",VLOOKUP(M24,$Y$20:$AA$27,3)))))))","v":""},null,null,null,null,null,{"$f":"IF(เวลาเรียน!DZ25=\"\",\"\",เวลาเรียน!DZ25)","v":""},null,{"$f":"IF(คุณลักษณะอันพึงประสงค์!AA21=\"\",\"\",คุณลักษณะอันพึงประสงค์!AA21)","v":""},null,{"$f":"IF('อ่าน คิด วิเคราะห์'!U21=\"\",\"\",'อ่าน คิด วิเคราะห์'!U21)","v":""},65,70,2.5]
[{"$f":"CONCATENATE(Sheet1!D19)","v":"ภัคพล"},18,{"$f":"IF(ประเมินตัวชี้วัด!DE24=\"\",\"\",CONCATENATE(ประเมินตัวชี้วัด!DE24))","v":"-"},{"$f":"IF(ประเมินตัวชี้วัด!#REF!=\"\",\"\",ประเมินตัวชี้วัด!#REF!)","v":{"$error":"#REF!"}},{"$f":"IF(ประเมินตัวชี้วัด!DL24=\"ร\",\"ร\",IF(ประเมินตัวชี้วัด!DL24=\"\",\"\",MAXA(ประเมินตัวชี้วัด!DL24,ประเมินตัวชี้วัด!DO24)))","v":0},{"$f":"IF(E25=0,\"\",IF(E25=\"\",\"\",(IF(เวลาเรียน!DZ26=\"ปกติ\",IF(COUNTIF(E25,\"ร\"),\"ร\",VLOOKUP(E25,$Y$20:$AA$27,3))))))","v":""},null,{"$f":"IF(ประเมินตัวชี้วัดเทอม2!FO24=\"\",\"\",CONCATENATE(ประเมินตัวชี้วัดเทอม2!FO24))","v":{"$error":"#REF!"}},{"$f":"IF(ประเมินตัวชี้วัดเทอม2!FS24=\"\",\"\",ประเมินตัวชี้วัดเทอม2!FS24)","v":""},{"$f":"IF(ประเมินตัวชี้วัดเทอม2!FU24=\"\",\"\",ประเมินตัวชี้วัดเทอม2!FU24)","v":{"$error":"#REF!"}},null,{"$f":"IF(เวลาเรียน!DZ26=\"\",\"\",IF(เวลาเรียน!DZ26=\"ย้าย\",\"-\",IF(เวลาเรียน!DZ26=\"จำหน่าย\",\"-\",IF(เวลาเรียน!DZ26=\"ขาดเรียนนาน\",\"-\",IF(E25=\"\",\"\",IF(E25=\"ร\",\"ร\",IF(J25=\"\",\"\",IF(J25=\"ร\",\"ร\",SUM(E25+J25)))))))))","v":""},{"$f":"IF(เวลาเรียน!DZ26=\"\",\"\",IF(เวลาเรียน!DZ26=\"ย้าย\",\"-\",IF(เวลาเรียน!DZ26=\"จำหน่าย\",\"-\",IF(เวลาเรียน!DZ26=\"ขาดเรียนนาน\",\"-\",IF(L25=\"\",\"\",IF(L25=\"ร\",\"ร\",E25))))))","v":""},{"$f":"IF(เวลาเรียน!DZ26=\"\",\"\",IF(เวลาเรียน!DZ26=\"ย้าย\",\"-\",IF(เวลาเรียน!DZ26=\"จำหน่าย\",\"-\",IF(เวลาเรียน!DZ26=\"ขาดเรียนนาน\",\"-\",IF(เวลาเรียน!DY26<80,\"มส\",IF(COUNTIF(M25,\"ร\"),\"ร\",VLOOKUP(M25,$Y$20:$AA$27,3)))))))","v":""},null,null,null,null,null,{"$f":"IF(เวลาเรียน!DZ26=\"\",\"\",เวลาเรียน!DZ26)","v":""},null,{"$f":"IF(คุณลักษณะอันพึงประสงค์!AA22=\"\",\"\",คุณลักษณะอันพึงประสงค์!AA22)","v":""},null,{"$f":"IF('อ่าน คิด วิเคราะห์'!U22=\"\",\"\",'อ่าน คิด วิเคราะห์'!U22)","v":""},70,75,3]
[{"$f":"CONCATENATE(Sheet1!D20)","v":"กรวิชญ์"},19,{"$f":"IF(ประเมินตัวชี้วัด!DE25=\"\",\"\",CONCATENATE(ประเมินตัวชี้วัด!DE25))","v":"-"},{"$f":"IF(ประเมินตัวชี้วัด!#REF!=\"\",\"\",ประเมินตัวชี้วัด!#REF!)","v":{"$error":"#REF!"}},{"$f":"IF(ประเมินตัวชี้วัด!DL25=\"ร\",\"ร\",IF(ประเมินตัวชี้วัด!DL25=\"\",\"\",MAXA(ประเมินตัวชี้วัด!DL25,ประเมินตัวชี้วัด!DO25)))","v":0},{"$f":"IF(E26=0,\"\",IF(E26=\"\",\"\",(IF(เวลาเรียน!DZ27=\"ปกติ\",IF(COUNTIF(E26,\"ร\"),\"ร\",VLOOKUP(E26,$Y$20:$AA$27,3))))))","v":""},null,{"$f":"IF(ประเมินตัวชี้วัดเทอม2!FO25=\"\",\"\",CONCATENATE(ประเมินตัวชี้วัดเทอม2!FO25))","v":{"$error":"#REF!"}},{"$f":"IF(ประเมินตัวชี้วัดเทอม2!FS25=\"\",\"\",ประเมินตัวชี้วัดเทอม2!FS25)","v":""},{"$f":"IF(ประเมินตัวชี้วัดเทอม2!FU25=\"\",\"\",ประเมินตัวชี้วัดเทอม2!FU25)","v":{"$error":"#REF!"}},null,{"$f":"IF(เวลาเรียน!DZ27=\"\",\"\",IF(เวลาเรียน!DZ27=\"ย้าย\",\"-\",IF(เวลาเรียน!DZ27=\"จำหน่าย\",\"-\",IF(เวลาเรียน!DZ27=\"ขาดเรียนนาน\",\"-\",IF(E26=\"\",\"\",IF(E26=\"ร\",\"ร\",IF(J26=\"\",\"\",IF(J26=\"ร\",\"ร\",SUM(E26+J26)))))))))","v":""},{"$f":"IF(เวลาเรียน!DZ27=\"\",\"\",IF(เวลาเรียน!DZ27=\"ย้าย\",\"-\",IF(เวลาเรียน!DZ27=\"จำหน่าย\",\"-\",IF(เวลาเรียน!DZ27=\"ขาดเรียนนาน\",\"-\",IF(L26=\"\",\"\",IF(L26=\"ร\",\"ร\",E26))))))","v":""},{"$f":"IF(เวลาเรียน!DZ27=\"\",\"\",IF(เวลาเรียน!DZ27=\"ย้าย\",\"-\",IF(เวลาเรียน!DZ27=\"จำหน่าย\",\"-\",IF(เวลาเรียน!DZ27=\"ขาดเรียนนาน\",\"-\",IF(เวลาเรียน!DY27<80,\"มส\",IF(COUNTIF(M26,\"ร\"),\"ร\",VLOOKUP(M26,$Y$20:$AA$27,3)))))))","v":""},null,null,null,null,null,{"$f":"IF(เวลาเรียน!DZ27=\"\",\"\",เวลาเรียน!DZ27)","v":""},null,{"$f":"IF(คุณลักษณะอันพึงประสงค์!AA23=\"\",\"\",คุณลักษณะอันพึงประสงค์!AA23)","v":""},null,{"$f":"IF('อ่าน คิด วิเคราะห์'!U23=\"\",\"\",'อ่าน คิด วิเคราะห์'!U23)","v":""},75,80,3.5]
[{"$f":"CONCATENATE(Sheet1!D21)","v":"กรกช"},20,{"$f":"IF(ประเมินตัวชี้วัด!DE26=\"\",\"\",CONCATENATE(ประเมินตัวชี้วัด!DE26))","v":"-"},{"$f":"IF(ประเมินตัวชี้วัด!#REF!=\"\",\"\",ประเมินตัวชี้วัด!#REF!)","v":{"$error":"#REF!"}},{"$f":"IF(ประเมินตัวชี้วัด!DL26=\"ร\",\"ร\",IF(ประเมินตัวชี้วัด!DL26=\"\",\"\",MAXA(ประเมินตัวชี้วัด!DL26,ประเมินตัวชี้วัด!DO26)))","v":0},{"$f":"IF(E27=0,\"\",IF(E27=\"\",\"\",(IF(เวลาเรียน!DZ28=\"ปกติ\",IF(COUNTIF(E27,\"ร\"),\"ร\",VLOOKUP(E27,$Y$20:$AA$27,3))))))","v":""},null,{"$f":"IF(ประเมินตัวชี้วัดเทอม2!FO26=\"\",\"\",CONCATENATE(ประเมินตัวชี้วัดเทอม2!FO26))","v":{"$error":"#REF!"}},{"$f":"IF(ประเมินตัวชี้วัดเทอม2!FS26=\"\",\"\",ประเมินตัวชี้วัดเทอม2!FS26)","v":""},{"$f":"IF(ประเมินตัวชี้วัดเทอม2!FU26=\"\",\"\",ประเมินตัวชี้วัดเทอม2!FU26)","v":{"$error":"#REF!"}},null,{"$f":"IF(เวลาเรียน!DZ28=\"\",\"\",IF(เวลาเรียน!DZ28=\"ย้าย\",\"-\",IF(เวลาเรียน!DZ28=\"จำหน่าย\",\"-\",IF(เวลาเรียน!DZ28=\"ขาดเรียนนาน\",\"-\",IF(E27=\"\",\"\",IF(E27=\"ร\",\"ร\",IF(J27=\"\",\"\",IF(J27=\"ร\",\"ร\",SUM(E27+J27)))))))))","v":""},{"$f":"IF(เวลาเรียน!DZ28=\"\",\"\",IF(เวลาเรียน!DZ28=\"ย้าย\",\"-\",IF(เวลาเรียน!DZ28=\"จำหน่าย\",\"-\",IF(เวลาเรียน!DZ28=\"ขาดเรียนนาน\",\"-\",IF(L27=\"\",\"\",IF(L27=\"ร\",\"ร\",E27))))))","v":""},{"$f":"IF(เวลาเรียน!DZ28=\"\",\"\",IF(เวลาเรียน!DZ28=\"ย้าย\",\"-\",IF(เวลาเรียน!DZ28=\"จำหน่าย\",\"-\",IF(เวลาเรียน!DZ28=\"ขาดเรียนนาน\",\"-\",IF(เวลาเรียน!DY28<80,\"มส\",IF(COUNTIF(M27,\"ร\"),\"ร\",VLOOKUP(M27,$Y$20:$AA$27,3)))))))","v":""},null,null,null,null,null,{"$f":"IF(เวลาเรียน!DZ28=\"\",\"\",เวลาเรียน!DZ28)","v":""},null,{"$f":"IF(คุณลักษณะอันพึงประสงค์!AA24=\"\",\"\",คุณลักษณะอันพึงประสงค์!AA24)","v":""},null,{"$f":"IF('อ่าน คิด วิเคราะห์'!U24=\"\",\"\",'อ่าน คิด วิเคราะห์'!U24)","v":""},80,100,4]
[{"$f":"CONCATENATE(Sheet1!D22)","v":"วรัญญู"},21,{"$f":"IF(ประเมินตัวชี้วัด!DE27=\"\",\"\",CONCATENATE(ประเมินตัวชี้วัด!DE27))","v":"-"},{"$f":"IF(ประเมินตัวชี้วัด!#REF!=\"\",\"\",ประเมินตัวชี้วัด!#REF!)","v":{"$error":"#REF!"}},{"$f":"IF(ประเมินตัวชี้วัด!DL27=\"ร\",\"ร\",IF(ประเมินตัวชี้วัด!DL27=\"\",\"\",MAXA(ประเมินตัวชี้วัด!DL27,ประเมินตัวชี้วัด!DO27)))","v":0},{"$f":"IF(E28=0,\"\",IF(E28=\"\",\"\",(IF(เวลาเรียน!DZ29=\"ปกติ\",IF(COUNTIF(E28,\"ร\"),\"ร\",VLOOKUP(E28,$Y$20:$AA$27,3))))))","v":""},null,{"$f":"IF(ประเมินตัวชี้วัดเทอม2!FO27=\"\",\"\",CONCATENATE(ประเมินตัวชี้วัดเทอม2!FO27))","v":{"$error":"#REF!"}},{"$f":"IF(ประเมินตัวชี้วัดเทอม2!FS27=\"\",\"\",ประเมินตัวชี้วัดเทอม2!FS27)","v":""},{"$f":"IF(ประเมินตัวชี้วัดเทอม2!FU27=\"\",\"\",ประเมินตัวชี้วัดเทอม2!FU27)","v":{"$error":"#REF!"}},null,{"$f":"IF(เวลาเรียน!DZ29=\"\",\"\",IF(เวลาเรียน!DZ29=\"ย้าย\",\"-\",IF(เวลาเรียน!DZ29=\"จำหน่าย\",\"-\",IF(เวลาเรียน!DZ29=\"ขาดเรียนนาน\",\"-\",IF(E28=\"\",\"\",IF(E28=\"ร\",\"ร\",IF(J28=\"\",\"\",IF(J28=\"ร\",\"ร\",SUM(E28+J28)))))))))","v":""},{"$f":"IF(เวลาเรียน!DZ29=\"\",\"\",IF(เวลาเรียน!DZ29=\"ย้าย\",\"-\",IF(เวลาเรียน!DZ29=\"จำหน่าย\",\"-\",IF(เวลาเรียน!DZ29=\"ขาดเรียนนาน\",\"-\",IF(L28=\"\",\"\",IF(L28=\"ร\",\"ร\",E28))))))","v":""},{"$f":"IF(เวลาเรียน!DZ29=\"\",\"\",IF(เวลาเรียน!DZ29=\"ย้าย\",\"-\",IF(เวลาเรียน!DZ29=\"จำหน่าย\",\"-\",IF(เวลาเรียน!DZ29=\"ขาดเรียนนาน\",\"-\",IF(เวลาเรียน!DY29<80,\"มส\",IF(COUNTIF(M28,\"ร\"),\"ร\",VLOOKUP(M28,$Y$20:$AA$27,3)))))))","v":""},null,null,null,null,null,{"$f":"IF(เวลาเรียน!DZ29=\"\",\"\",เวลาเรียน!DZ29)","v":""},null,{"$f":"IF(คุณลักษณะอันพึงประสงค์!AA25=\"\",\"\",คุณลักษณะอันพึงประสงค์!AA25)","v":""},null,{"$f":"IF('อ่าน คิด วิเคราะห์'!U25=\"\",\"\",'อ่าน คิด วิเคราะห์'!U25)","v":""}]
[{"$f":"CONCATENATE(Sheet1!D23)","v":"ภูรินทร์"},22,{"$f":"IF(ประเมินตัวชี้วัด!DE28=\"\",\"\",CONCATENATE(ประเมินตัวชี้วัด!DE28))","v":"-"},{"$f":"IF(ประเมินตัวชี้วัด!#REF!=\"\",\"\",ประเมินตัวชี้วัด!#REF!)","v":{"$error":"#REF!"}},{"$f":"IF(ประเมินตัวชี้วัด!DL28=\"ร\",\"ร\",IF(ประเมินตัวชี้วัด!DL28=\"\",\"\",MAXA(ประเมินตัวชี้วัด!DL28,ประเมินตัวชี้วัด!DO28)))","v":0},{"$f":"IF(E29=0,\"\",IF(E29=\"\",\"\",(IF(เวลาเรียน!DZ30=\"ปกติ\",IF(COUNTIF(E29,\"ร\"),\"ร\",VLOOKUP(E29,$Y$20:$AA$27,3))))))","v":""},null,{"$f":"IF(ประเมินตัวชี้วัดเทอม2!FO28=\"\",\"\",CONCATENATE(ประเมินตัวชี้วัดเทอม2!FO28))","v":{"$error":"#REF!"}},{"$f":"IF(ประเมินตัวชี้วัดเทอม2!FS28=\"\",\"\",ประเมินตัวชี้วัดเทอม2!FS28)","v":""},{"$f":"IF(ประเมินตัวชี้วัดเทอม2!FU28=\"\",\"\",ประเมินตัวชี้วัดเทอม2!FU28)","v":{"$error":"#REF!"}},null,{"$f":"IF(เวลาเรียน!DZ30=\"\",\"\",IF(เวลาเรียน!DZ30=\"ย้าย\",\"-\",IF(เวลาเรียน!DZ30=\"จำหน่าย\",\"-\",IF(เวลาเรียน!DZ30=\"ขาดเรียนนาน\",\"-\",IF(E29=\"\",\"\",IF(E29=\"ร\",\"ร\",IF(J29=\"\",\"\",IF(J29=\"ร\",\"ร\",SUM(E29+J29)))))))))","v":""},{"$f":"IF(เวลาเรียน!DZ30=\"\",\"\",IF(เวลาเรียน!DZ30=\"ย้าย\",\"-\",IF(เวลาเรียน!DZ30=\"จำหน่าย\",\"-\",IF(เวลาเรียน!DZ30=\"ขาดเรียนนาน\",\"-\",IF(L29=\"\",\"\",IF(L29=\"ร\",\"ร\",E29))))))","v":""},{"$f":"IF(เวลาเรียน!DZ30=\"\",\"\",IF(เวลาเรียน!DZ30=\"ย้าย\",\"-\",IF(เวลาเรียน!DZ30=\"จำหน่าย\",\"-\",IF(เวลาเรียน!DZ30=\"ขาดเรียนนาน\",\"-\",IF(เวลาเรียน!DY30<80,\"มส\",IF(COUNTIF(M29,\"ร\"),\"ร\",VLOOKUP(M29,$Y$20:$AA$27,3)))))))","v":""},null,null,null,null,null,{"$f":"IF(เวลาเรียน!DZ30=\"\",\"\",เวลาเรียน!DZ30)","v":""},null,{"$f":"IF(คุณลักษณะอันพึงประสงค์!AA26=\"\",\"\",คุณลักษณะอันพึงประสงค์!AA26)","v":""},null,{"$f":"IF('อ่าน คิด วิเคราะห์'!U26=\"\",\"\",'อ่าน คิด วิเคราะห์'!U26)","v":""}]
[{"$f":"CONCATENATE(Sheet1!D24)","v":"ลลิตภัทร"},23,{"$f":"IF(ประเมินตัวชี้วัด!DE29=\"\",\"\",CONCATENATE(ประเมินตัวชี้วัด!DE29))","v":"-"},{"$f":"IF(ประเมินตัวชี้วัด!#REF!=\"\",\"\",ประเมินตัวชี้วัด!#REF!)","v":{"$error":"#REF!"}},{"$f":"IF(ประเมินตัวชี้วัด!DL29=\"ร\",\"ร\",IF(ประเมินตัวชี้วัด!DL29=\"\",\"\",MAXA(ประเมินตัวชี้วัด!DL29,ประเมินตัวชี้วัด!DO29)))","v":0},{"$f":"IF(E30=0,\"\",IF(E30=\"\",\"\",(IF(เวลาเรียน!DZ31=\"ปกติ\",IF(COUNTIF(E30,\"ร\"),\"ร\",VLOOKUP(E30,$Y$20:$AA$27,3))))))","v":""},null,{"$f":"IF(ประเมินตัวชี้วัดเทอม2!FO29=\"\",\"\",CONCATENATE(ประเมินตัวชี้วัดเทอม2!FO29))","v":{"$error":"#REF!"}},{"$f":"IF(ประเมินตัวชี้วัดเทอม2!FS29=\"\",\"\",ประเมินตัวชี้วัดเทอม2!FS29)","v":""},{"$f":"IF(ประเมินตัวชี้วัดเทอม2!FU29=\"\",\"\",ประเมินตัวชี้วัดเทอม2!FU29)","v":{"$error":"#REF!"}},null,{"$f":"IF(เวลาเรียน!DZ31=\"\",\"\",IF(เวลาเรียน!DZ31=\"ย้าย\",\"-\",IF(เวลาเรียน!DZ31=\"จำหน่าย\",\"-\",IF(เวลาเรียน!DZ31=\"ขาดเรียนนาน\",\"-\",IF(E30=\"\",\"\",IF(E30=\"ร\",\"ร\",IF(J30=\"\",\"\",IF(J30=\"ร\",\"ร\",SUM(E30+J30)))))))))","v":""},{"$f":"IF(เวลาเรียน!DZ31=\"\",\"\",IF(เวลาเรียน!DZ31=\"ย้าย\",\"-\",IF(เวลาเรียน!DZ31=\"จำหน่าย\",\"-\",IF(เวลาเรียน!DZ31=\"ขาดเรียนนาน\",\"-\",IF(L30=\"\",\"\",IF(L30=\"ร\",\"ร\",E30))))))","v":""},{"$f":"IF(เวลาเรียน!DZ31=\"\",\"\",IF(เวลาเรียน!DZ31=\"ย้าย\",\"-\",IF(เวลาเรียน!DZ31=\"จำหน่าย\",\"-\",IF(เวลาเรียน!DZ31=\"ขาดเรียนนาน\",\"-\",IF(เวลาเรียน!DY31<80,\"มส\",IF(COUNTIF(M30,\"ร\"),\"ร\",VLOOKUP(M30,$Y$20:$AA$27,3)))))))","v":""},null,null,null,null,null,{"$f":"IF(เวลาเรียน!DZ31=\"\",\"\",เวลาเรียน!DZ31)","v":""},null,{"$f":"IF(คุณลักษณะอันพึงประสงค์!AA27=\"\",\"\",คุณลักษณะอันพึงประสงค์!AA27)","v":""},null,{"$f":"IF('อ่าน คิด วิเคราะห์'!U27=\"\",\"\",'อ่าน คิด วิเคราะห์'!U27)","v":""}]
[{"$f":"CONCATENATE(Sheet1!D25)","v":"ศวรรยา"},24,{"$f":"IF(ประเมินตัวชี้วัด!DE30=\"\",\"\",CONCATENATE(ประเมินตัวชี้วัด!DE30))","v":"-"},{"$f":"IF(ประเมินตัวชี้วัด!#REF!=\"\",\"\",ประเมินตัวชี้วัด!#REF!)","v":{"$error":"#REF!"}},{"$f":"IF(ประเมินตัวชี้วัด!DL30=\"ร\",\"ร\",IF(ประเมินตัวชี้วัด!DL30=\"\",\"\",MAXA(ประเมินตัวชี้วัด!DL30,ประเมินตัวชี้วัด!DO30)))","v":0},{"$f":"IF(E31=0,\"\",IF(E31=\"\",\"\",(IF(เวลาเรียน!DZ32=\"ปกติ\",IF(COUNTIF(E31,\"ร\"),\"ร\",VLOOKUP(E31,$Y$20:$AA$27,3))))))","v":""},null,{"$f":"IF(ประเมินตัวชี้วัดเทอม2!FO30=\"\",\"\",CONCATENATE(ประเมินตัวชี้วัดเทอม2!FO30))","v":{"$error":"#REF!"}},{"$f":"IF(ประเมินตัวชี้วัดเทอม2!FS30=\"\",\"\",ประเมินตัวชี้วัดเทอม2!FS30)","v":""},{"$f":"IF(ประเมินตัวชี้วัดเทอม2!FU30=\"\",\"\",ประเมินตัวชี้วัดเทอม2!FU30)","v":{"$error":"#REF!"}},null,{"$f":"IF(เวลาเรียน!DZ32=\"\",\"\",IF(เวลาเรียน!DZ32=\"ย้าย\",\"-\",IF(เวลาเรียน!DZ32=\"จำหน่าย\",\"-\",IF(เวลาเรียน!DZ32=\"ขาดเรียนนาน\",\"-\",IF(E31=\"\",\"\",IF(E31=\"ร\",\"ร\",IF(J31=\"\",\"\",IF(J31=\"ร\",\"ร\",SUM(E31+J31)))))))))","v":""},{"$f":"IF(เวลาเรียน!DZ32=\"\",\"\",IF(เวลาเรียน!DZ32=\"ย้าย\",\"-\",IF(เวลาเรียน!DZ32=\"จำหน่าย\",\"-\",IF(เวลาเรียน!DZ32=\"ขาดเรียนนาน\",\"-\",IF(L31=\"\",\"\",IF(L31=\"ร\",\"ร\",E31))))))","v":""},{"$f":"IF(เวลาเรียน!DZ32=\"\",\"\",IF(เวลาเรียน!DZ32=\"ย้าย\",\"-\",IF(เวลาเรียน!DZ32=\"จำหน่าย\",\"-\",IF(เวลาเรียน!DZ32=\"ขาดเรียนนาน\",\"-\",IF(เวลาเรียน!DY32<80,\"มส\",IF(COUNTIF(M31,\"ร\"),\"ร\",VLOOKUP(M31,$Y$20:$AA$27,3)))))))","v":""},null,null,null,null,null,{"$f":"IF(เวลาเรียน!DZ32=\"\",\"\",เวลาเรียน!DZ32)","v":""},null,{"$f":"IF(คุณลักษณะอันพึงประสงค์!AA28=\"\",\"\",คุณลักษณะอันพึงประสงค์!AA28)","v":""},null,{"$f":"IF('อ่าน คิด วิเคราะห์'!U28=\"\",\"\",'อ่าน คิด วิเคราะห์'!U28)","v":""}]
[{"$f":"CONCATENATE(Sheet1!D26)","v":"ณัฐฌญา"},25,{"$f":"IF(ประเมินตัวชี้วัด!DE31=\"\",\"\",CONCATENATE(ประเมินตัวชี้วัด!DE31))","v":"-"},{"$f":"IF(ประเมินตัวชี้วัด!#REF!=\"\",\"\",ประเมินตัวชี้วัด!#REF!)","v":{"$error":"#REF!"}},{"$f":"IF(ประเมินตัวชี้วัด!DL31=\"ร\",\"ร\",IF(ประเมินตัวชี้วัด!DL31=\"\",\"\",MAXA(ประเมินตัวชี้วัด!DL31,ประเมินตัวชี้วัด!DO31)))","v":0},{"$f":"IF(E32=0,\"\",IF(E32=\"\",\"\",(IF(เวลาเรียน!DZ33=\"ปกติ\",IF(COUNTIF(E32,\"ร\"),\"ร\",VLOOKUP(E32,$Y$20:$AA$27,3))))))","v":""},null,{"$f":"IF(ประเมินตัวชี้วัดเทอม2!FO31=\"\",\"\",CONCATENATE(ประเมินตัวชี้วัดเทอม2!FO31))","v":{"$error":"#REF!"}},{"$f":"IF(ประเมินตัวชี้วัดเทอม2!FS31=\"\",\"\",ประเมินตัวชี้วัดเทอม2!FS31)","v":""},{"$f":"IF(ประเมินตัวชี้วัดเทอม2!FU31=\"\",\"\",ประเมินตัวชี้วัดเทอม2!FU31)","v":{"$error":"#REF!"}},null,{"$f":"IF(เวลาเรียน!DZ33=\"\",\"\",IF(เวลาเรียน!DZ33=\"ย้าย\",\"-\",IF(เวลาเรียน!DZ33=\"จำหน่าย\",\"-\",IF(เวลาเรียน!DZ33=\"ขาดเรียนนาน\",\"-\",IF(E32=\"\",\"\",IF(E32=\"ร\",\"ร\",IF(J32=\"\",\"\",IF(J32=\"ร\",\"ร\",SUM(E32+J32)))))))))","v":""},{"$f":"IF(เวลาเรียน!DZ33=\"\",\"\",IF(เวลาเรียน!DZ33=\"ย้าย\",\"-\",IF(เวลาเรียน!DZ33=\"จำหน่าย\",\"-\",IF(เวลาเรียน!DZ33=\"ขาดเรียนนาน\",\"-\",IF(L32=\"\",\"\",IF(L32=\"ร\",\"ร\",E32))))))","v":""},{"$f":"IF(เวลาเรียน!DZ33=\"\",\"\",IF(เวลาเรียน!DZ33=\"ย้าย\",\"-\",IF(เวลาเรียน!DZ33=\"จำหน่าย\",\"-\",IF(เวลาเรียน!DZ33=\"ขาดเรียนนาน\",\"-\",IF(เวลาเรียน!DY33<80,\"มส\",IF(COUNTIF(M32,\"ร\"),\"ร\",VLOOKUP(M32,$Y$20:$AA$27,3)))))))","v":""},null,null,null,null,null,{"$f":"IF(เวลาเรียน!DZ33=\"\",\"\",เวลาเรียน!DZ33)","v":""},null,{"$f":"IF(คุณลักษณะอันพึงประสงค์!AA29=\"\",\"\",คุณลักษณะอันพึงประสงค์!AA29)","v":""},null,{"$f":"IF('อ่าน คิด วิเคราะห์'!U29=\"\",\"\",'อ่าน คิด วิเคราะห์'!U29)","v":""}]
[{"$f":"CONCATENATE(Sheet1!D27)","v":"ปฐมมงคล"},26,{"$f":"IF(ประเมินตัวชี้วัด!DE32=\"\",\"\",CONCATENATE(ประเมินตัวชี้วัด!DE32))","v":"-"},{"$f":"IF(ประเมินตัวชี้วัด!#REF!=\"\",\"\",ประเมินตัวชี้วัด!#REF!)","v":{"$error":"#REF!"}},{"$f":"IF(ประเมินตัวชี้วัด!DL32=\"ร\",\"ร\",IF(ประเมินตัวชี้วัด!DL32=\"\",\"\",MAXA(ประเมินตัวชี้วัด!DL32,ประเมินตัวชี้วัด!DO32)))","v":0},{"$f":"IF(E33=0,\"\",IF(E33=\"\",\"\",(IF(เวลาเรียน!DZ34=\"ปกติ\",IF(COUNTIF(E33,\"ร\"),\"ร\",VLOOKUP(E33,$Y$20:$AA$27,3))))))","v":""},null,{"$f":"IF(ประเมินตัวชี้วัดเทอม2!FO32=\"\",\"\",CONCATENATE(ประเมินตัวชี้วัดเทอม2!FO32))","v":{"$error":"#REF!"}},{"$f":"IF(ประเมินตัวชี้วัดเทอม2!FS32=\"\",\"\",ประเมินตัวชี้วัดเทอม2!FS32)","v":""},{"$f":"IF(ประเมินตัวชี้วัดเทอม2!FU32=\"\",\"\",ประเมินตัวชี้วัดเทอม2!FU32)","v":{"$error":"#REF!"}},null,{"$f":"IF(เวลาเรียน!DZ34=\"\",\"\",IF(เวลาเรียน!DZ34=\"ย้าย\",\"-\",IF(เวลาเรียน!DZ34=\"จำหน่าย\",\"-\",IF(เวลาเรียน!DZ34=\"ขาดเรียนนาน\",\"-\",IF(E33=\"\",\"\",IF(E33=\"ร\",\"ร\",IF(J33=\"\",\"\",IF(J33=\"ร\",\"ร\",SUM(E33+J33)))))))))","v":""},{"$f":"IF(เวลาเรียน!DZ34=\"\",\"\",IF(เวลาเรียน!DZ34=\"ย้าย\",\"-\",IF(เวลาเรียน!DZ34=\"จำหน่าย\",\"-\",IF(เวลาเรียน!DZ34=\"ขาดเรียนนาน\",\"-\",IF(L33=\"\",\"\",IF(L33=\"ร\",\"ร\",E33))))))","v":""},{"$f":"IF(เวลาเรียน!DZ34=\"\",\"\",IF(เวลาเรียน!DZ34=\"ย้าย\",\"-\",IF(เวลาเรียน!DZ34=\"จำหน่าย\",\"-\",IF(เวลาเรียน!DZ34=\"ขาดเรียนนาน\",\"-\",IF(เวลาเรียน!DY34<80,\"มส\",IF(COUNTIF(M33,\"ร\"),\"ร\",VLOOKUP(M33,$Y$20:$AA$27,3)))))))","v":""},null,null,null,null,null,{"$f":"IF(เวลาเรียน!DZ34=\"\",\"\",เวลาเรียน!DZ34)","v":""},null,{"$f":"IF(คุณลักษณะอันพึงประสงค์!AA30=\"\",\"\",คุณลักษณะอันพึงประสงค์!AA30)","v":""},null,{"$f":"IF('อ่าน คิด วิเคราะห์'!U30=\"\",\"\",'อ่าน คิด วิเคราะห์'!U30)","v":""}]
[{"$f":"CONCATENATE(Sheet1!D28)","v":"ภูริณัฐ"},27,{"$f":"IF(ประเมินตัวชี้วัด!DE33=\"\",\"\",CONCATENATE(ประเมินตัวชี้วัด!DE33))","v":"-"},{"$f":"IF(ประเมินตัวชี้วัด!#REF!=\"\",\"\",ประเมินตัวชี้วัด!#REF!)","v":{"$error":"#REF!"}},{"$f":"IF(ประเมินตัวชี้วัด!DL33=\"ร\",\"ร\",IF(ประเมินตัวชี้วัด!DL33=\"\",\"\",MAXA(ประเมินตัวชี้วัด!DL33,ประเมินตัวชี้วัด!DO33)))","v":0},{"$f":"IF(E34=0,\"\",IF(E34=\"\",\"\",(IF(เวลาเรียน!DZ35=\"ปกติ\",IF(COUNTIF(E34,\"ร\"),\"ร\",VLOOKUP(E34,$Y$20:$AA$27,3))))))","v":""},null,{"$f":"IF(ประเมินตัวชี้วัดเทอม2!FO33=\"\",\"\",CONCATENATE(ประเมินตัวชี้วัดเทอม2!FO33))","v":{"$error":"#REF!"}},{"$f":"IF(ประเมินตัวชี้วัดเทอม2!FS33=\"\",\"\",ประเมินตัวชี้วัดเทอม2!FS33)","v":""},{"$f":"IF(ประเมินตัวชี้วัดเทอม2!FU33=\"\",\"\",ประเมินตัวชี้วัดเทอม2!FU33)","v":{"$error":"#REF!"}},null,{"$f":"IF(เวลาเรียน!DZ35=\"\",\"\",IF(เวลาเรียน!DZ35=\"ย้าย\",\"-\",IF(เวลาเรียน!DZ35=\"จำหน่าย\",\"-\",IF(เวลาเรียน!DZ35=\"ขาดเรียนนาน\",\"-\",IF(E34=\"\",\"\",IF(E34=\"ร\",\"ร\",IF(J34=\"\",\"\",IF(J34=\"ร\",\"ร\",SUM(E34+J34)))))))))","v":""},{"$f":"IF(เวลาเรียน!DZ35=\"\",\"\",IF(เวลาเรียน!DZ35=\"ย้าย\",\"-\",IF(เวลาเรียน!DZ35=\"จำหน่าย\",\"-\",IF(เวลาเรียน!DZ35=\"ขาดเรียนนาน\",\"-\",IF(L34=\"\",\"\",IF(L34=\"ร\",\"ร\",E34))))))","v":""},{"$f":"IF(เวลาเรียน!DZ35=\"\",\"\",IF(เวลาเรียน!DZ35=\"ย้าย\",\"-\",IF(เวลาเรียน!DZ35=\"จำหน่าย\",\"-\",IF(เวลาเรียน!DZ35=\"ขาดเรียนนาน\",\"-\",IF(เวลาเรียน!DY35<80,\"มส\",IF(COUNTIF(M34,\"ร\"),\"ร\",VLOOKUP(M34,$Y$20:$AA$27,3)))))))","v":""},null,null,null,null,null,{"$f":"IF(เวลาเรียน!DZ35=\"\",\"\",เวลาเรียน!DZ35)","v":""},null,{"$f":"IF(คุณลักษณะอันพึงประสงค์!AA31=\"\",\"\",คุณลักษณะอันพึงประสงค์!AA31)","v":""},null,{"$f":"IF('อ่าน คิด วิเคราะห์'!U31=\"\",\"\",'อ่าน คิด วิเคราะห์'!U31)","v":""}]
[{"$f":"CONCATENATE(Sheet1!D29)","v":"ภานุวัฒน์"},28,{"$f":"IF(ประเมินตัวชี้วัด!DE34=\"\",\"\",CONCATENATE(ประเมินตัวชี้วัด!DE34))","v":"-"},{"$f":"IF(ประเมินตัวชี้วัด!#REF!=\"\",\"\",ประเมินตัวชี้วัด!#REF!)","v":{"$error":"#REF!"}},{"$f":"IF(ประเมินตัวชี้วัด!DL34=\"ร\",\"ร\",IF(ประเมินตัวชี้วัด!DL34=\"\",\"\",MAXA(ประเมินตัวชี้วัด!DL34,ประเมินตัวชี้วัด!DO34)))","v":0},{"$f":"IF(E35=0,\"\",IF(E35=\"\",\"\",(IF(เวลาเรียน!DZ36=\"ปกติ\",IF(COUNTIF(E35,\"ร\"),\"ร\",VLOOKUP(E35,$Y$20:$AA$27,3))))))","v":""},null,{"$f":"IF(ประเมินตัวชี้วัดเทอม2!FO34=\"\",\"\",CONCATENATE(ประเมินตัวชี้วัดเทอม2!FO34))","v":{"$error":"#REF!"}},{"$f":"IF(ประเมินตัวชี้วัดเทอม2!FS34=\"\",\"\",ประเมินตัวชี้วัดเทอม2!FS34)","v":""},{"$f":"IF(ประเมินตัวชี้วัดเทอม2!FU34=\"\",\"\",ประเมินตัวชี้วัดเทอม2!FU34)","v":{"$error":"#REF!"}},null,{"$f":"IF(เวลาเรียน!DZ36=\"\",\"\",IF(เวลาเรียน!DZ36=\"ย้าย\",\"-\",IF(เวลาเรียน!DZ36=\"จำหน่าย\",\"-\",IF(เวลาเรียน!DZ36=\"ขาดเรียนนาน\",\"-\",IF(E35=\"\",\"\",IF(E35=\"ร\",\"ร\",IF(J35=\"\",\"\",IF(J35=\"ร\",\"ร\",SUM(E35+J35)))))))))","v":""},{"$f":"IF(เวลาเรียน!DZ36=\"\",\"\",IF(เวลาเรียน!DZ36=\"ย้าย\",\"-\",IF(เวลาเรียน!DZ36=\"จำหน่าย\",\"-\",IF(เวลาเรียน!DZ36=\"ขาดเรียนนาน\",\"-\",IF(L35=\"\",\"\",IF(L35=\"ร\",\"ร\",E35))))))","v":""},{"$f":"IF(เวลาเรียน!DZ36=\"\",\"\",IF(เวลาเรียน!DZ36=\"ย้าย\",\"-\",IF(เวลาเรียน!DZ36=\"จำหน่าย\",\"-\",IF(เวลาเรียน!DZ36=\"ขาดเรียนนาน\",\"-\",IF(เวลาเรียน!DY36<80,\"มส\",IF(COUNTIF(M35,\"ร\"),\"ร\",VLOOKUP(M35,$Y$20:$AA$27,3)))))))","v":""},null,null,null,null,null,{"$f":"IF(เวลาเรียน!DZ36=\"\",\"\",เวลาเรียน!DZ36)","v":""},null,{"$f":"IF(คุณลักษณะอันพึงประสงค์!AA32=\"\",\"\",คุณลักษณะอันพึงประสงค์!AA32)","v":""},null,{"$f":"IF('อ่าน คิด วิเคราะห์'!U32=\"\",\"\",'อ่าน คิด วิเคราะห์'!U32)","v":""}]
[{"$f":"CONCATENATE(Sheet1!D30)","v":"ธนาทิป"},29,{"$f":"IF(ประเมินตัวชี้วัด!DE35=\"\",\"\",CONCATENATE(ประเมินตัวชี้วัด!DE35))","v":"-"},{"$f":"IF(ประเมินตัวชี้วัด!#REF!=\"\",\"\",ประเมินตัวชี้วัด!#REF!)","v":{"$error":"#REF!"}},{"$f":"IF(ประเมินตัวชี้วัด!DL35=\"ร\",\"ร\",IF(ประเมินตัวชี้วัด!DL35=\"\",\"\",MAXA(ประเมินตัวชี้วัด!DL35,ประเมินตัวชี้วัด!DO35)))","v":0},{"$f":"IF(E36=0,\"\",IF(E36=\"\",\"\",(IF(เวลาเรียน!DZ37=\"ปกติ\",IF(COUNTIF(E36,\"ร\"),\"ร\",VLOOKUP(E36,$Y$20:$AA$27,3))))))","v":""},null,{"$f":"IF(ประเมินตัวชี้วัดเทอม2!FO35=\"\",\"\",CONCATENATE(ประเมินตัวชี้วัดเทอม2!FO35))","v":{"$error":"#REF!"}},{"$f":"IF(ประเมินตัวชี้วัดเทอม2!FS35=\"\",\"\",ประเมินตัวชี้วัดเทอม2!FS35)","v":""},{"$f":"IF(ประเมินตัวชี้วัดเทอม2!FU35=\"\",\"\",ประเมินตัวชี้วัดเทอม2!FU35)","v":{"$error":"#REF!"}},null,{"$f":"IF(เวลาเรียน!DZ37=\"\",\"\",IF(เวลาเรียน!DZ37=\"ย้าย\",\"-\",IF(เวลาเรียน!DZ37=\"จำหน่าย\",\"-\",IF(เวลาเรียน!DZ37=\"ขาดเรียนนาน\",\"-\",IF(E36=\"\",\"\",IF(E36=\"ร\",\"ร\",IF(J36=\"\",\"\",IF(J36=\"ร\",\"ร\",SUM(E36+J36)))))))))","v":""},{"$f":"IF(เวลาเรียน!DZ37=\"\",\"\",IF(เวลาเรียน!DZ37=\"ย้าย\",\"-\",IF(เวลาเรียน!DZ37=\"จำหน่าย\",\"-\",IF(เวลาเรียน!DZ37=\"ขาดเรียนนาน\",\"-\",IF(L36=\"\",\"\",IF(L36=\"ร\",\"ร\",E36))))))","v":""},{"$f":"IF(เวลาเรียน!DZ37=\"\",\"\",IF(เวลาเรียน!DZ37=\"ย้าย\",\"-\",IF(เวลาเรียน!DZ37=\"จำหน่าย\",\"-\",IF(เวลาเรียน!DZ37=\"ขาดเรียนนาน\",\"-\",IF(เวลาเรียน!DY37<80,\"มส\",IF(COUNTIF(M36,\"ร\"),\"ร\",VLOOKUP(M36,$Y$20:$AA$27,3)))))))","v":""},null,null,null,null,null,{"$f":"IF(เวลาเรียน!DZ37=\"\",\"\",เวลาเรียน!DZ37)","v":""},null,{"$f":"IF(คุณลักษณะอันพึงประสงค์!AA33=\"\",\"\",คุณลักษณะอันพึงประสงค์!AA33)","v":""},null,{"$f":"IF('อ่าน คิด วิเคราะห์'!U33=\"\",\"\",'อ่าน คิด วิเคราะห์'!U33)","v":""}]
[{"$f":"CONCATENATE(Sheet1!D31)","v":"เมย์ชญา"},30,{"$f":"IF(ประเมินตัวชี้วัด!DE36=\"\",\"\",CONCATENATE(ประเมินตัวชี้วัด!DE36))","v":"-"},{"$f":"IF(ประเมินตัวชี้วัด!#REF!=\"\",\"\",ประเมินตัวชี้วัด!#REF!)","v":{"$error":"#REF!"}},{"$f":"IF(ประเมินตัวชี้วัด!DL36=\"ร\",\"ร\",IF(ประเมินตัวชี้วัด!DL36=\"\",\"\",MAXA(ประเมินตัวชี้วัด!DL36,ประเมินตัวชี้วัด!DO36)))","v":0},{"$f":"IF(E37=0,\"\",IF(E37=\"\",\"\",(IF(เวลาเรียน!DZ38=\"ปกติ\",IF(COUNTIF(E37,\"ร\"),\"ร\",VLOOKUP(E37,$Y$20:$AA$27,3))))))","v":""},null,{"$f":"IF(ประเมินตัวชี้วัดเทอม2!FO36=\"\",\"\",CONCATENATE(ประเมินตัวชี้วัดเทอม2!FO36))","v":{"$error":"#REF!"}},{"$f":"IF(ประเมินตัวชี้วัดเทอม2!FS36=\"\",\"\",ประเมินตัวชี้วัดเทอม2!FS36)","v":""},{"$f":"IF(ประเมินตัวชี้วัดเทอม2!FU36=\"\",\"\",ประเมินตัวชี้วัดเทอม2!FU36)","v":{"$error":"#REF!"}},null,{"$f":"IF(เวลาเรียน!DZ38=\"\",\"\",IF(เวลาเรียน!DZ38=\"ย้าย\",\"-\",IF(เวลาเรียน!DZ38=\"จำหน่าย\",\"-\",IF(เวลาเรียน!DZ38=\"ขาดเรียนนาน\",\"-\",IF(E37=\"\",\"\",IF(E37=\"ร\",\"ร\",IF(J37=\"\",\"\",IF(J37=\"ร\",\"ร\",SUM(E37+J37)))))))))","v":""},{"$f":"IF(เวลาเรียน!DZ38=\"\",\"\",IF(เวลาเรียน!DZ38=\"ย้าย\",\"-\",IF(เวลาเรียน!DZ38=\"จำหน่าย\",\"-\",IF(เวลาเรียน!DZ38=\"ขาดเรียนนาน\",\"-\",IF(L37=\"\",\"\",IF(L37=\"ร\",\"ร\",E37))))))","v":""},{"$f":"IF(เวลาเรียน!DZ38=\"\",\"\",IF(เวลาเรียน!DZ38=\"ย้าย\",\"-\",IF(เวลาเรียน!DZ38=\"จำหน่าย\",\"-\",IF(เวลาเรียน!DZ38=\"ขาดเรียนนาน\",\"-\",IF(เวลาเรียน!DY38<80,\"มส\",IF(COUNTIF(M37,\"ร\"),\"ร\",VLOOKUP(M37,$Y$20:$AA$27,3)))))))","v":""},null,null,null,null,null,{"$f":"IF(เวลาเรียน!DZ38=\"\",\"\",เวลาเรียน!DZ38)","v":""},null,{"$f":"IF(คุณลักษณะอันพึงประสงค์!AA34=\"\",\"\",คุณลักษณะอันพึงประสงค์!AA34)","v":""},null,{"$f":"IF('อ่าน คิด วิเคราะห์'!U34=\"\",\"\",'อ่าน คิด วิเคราะห์'!U34)","v":""}]
[{"$f":"CONCATENATE(Sheet1!D32)","v":"พีรณัฐ"},31,{"$f":"IF(ประเมินตัวชี้วัด!DE37=\"\",\"\",CONCATENATE(ประเมินตัวชี้วัด!DE37))","v":"-"},{"$f":"IF(ประเมินตัวชี้วัด!#REF!=\"\",\"\",ประเมินตัวชี้วัด!#REF!)","v":{"$error":"#REF!"}},{"$f":"IF(ประเมินตัวชี้วัด!DL37=\"ร\",\"ร\",IF(ประเมินตัวชี้วัด!DL37=\"\",\"\",MAXA(ประเมินตัวชี้วัด!DL37,ประเมินตัวชี้วัด!DO37)))","v":0},{"$f":"IF(E38=0,\"\",IF(E38=\"\",\"\",(IF(เวลาเรียน!DZ39=\"ปกติ\",IF(COUNTIF(E38,\"ร\"),\"ร\",VLOOKUP(E38,$Y$20:$AA$27,3))))))","v":""},null,{"$f":"IF(ประเมินตัวชี้วัดเทอม2!FO37=\"\",\"\",CONCATENATE(ประเมินตัวชี้วัดเทอม2!FO37))","v":{"$error":"#REF!"}},{"$f":"IF(ประเมินตัวชี้วัดเทอม2!FS37=\"\",\"\",ประเมินตัวชี้วัดเทอม2!FS37)","v":""},{"$f":"IF(ประเมินตัวชี้วัดเทอม2!FU37=\"\",\"\",ประเมินตัวชี้วัดเทอม2!FU37)","v":{"$error":"#REF!"}},null,{"$f":"IF(เวลาเรียน!DZ39=\"\",\"\",IF(เวลาเรียน!DZ39=\"ย้าย\",\"-\",IF(เวลาเรียน!DZ39=\"จำหน่าย\",\"-\",IF(เวลาเรียน!DZ39=\"ขาดเรียนนาน\",\"-\",IF(E38=\"\",\"\",IF(E38=\"ร\",\"ร\",IF(J38=\"\",\"\",IF(J38=\"ร\",\"ร\",SUM(E38+J38)))))))))","v":""},{"$f":"IF(เวลาเรียน!DZ39=\"\",\"\",IF(เวลาเรียน!DZ39=\"ย้าย\",\"-\",IF(เวลาเรียน!DZ39=\"จำหน่าย\",\"-\",IF(เวลาเรียน!DZ39=\"ขาดเรียนนาน\",\"-\",IF(L38=\"\",\"\",IF(L38=\"ร\",\"ร\",E38))))))","v":""},{"$f":"IF(เวลาเรียน!DZ39=\"\",\"\",IF(เวลาเรียน!DZ39=\"ย้าย\",\"-\",IF(เวลาเรียน!DZ39=\"จำหน่าย\",\"-\",IF(เวลาเรียน!DZ39=\"ขาดเรียนนาน\",\"-\",IF(เวลาเรียน!DY39<80,\"มส\",IF(COUNTIF(M38,\"ร\"),\"ร\",VLOOKUP(M38,$Y$20:$AA$27,3)))))))","v":""},null,null,null,null,null,{"$f":"IF(เวลาเรียน!DZ39=\"\",\"\",เวลาเรียน!DZ39)","v":""},null,{"$f":"IF(คุณลักษณะอันพึงประสงค์!AA35=\"\",\"\",คุณลักษณะอันพึงประสงค์!AA35)","v":""},null,{"$f":"IF('อ่าน คิด วิเคราะห์'!U35=\"\",\"\",'อ่าน คิด วิเคราะห์'!U35)","v":""}]
[{"$f":"CONCATENATE(Sheet1!D33)","v":"ปิยภัทร"},32,{"$f":"IF(ประเมินตัวชี้วัด!DE38=\"\",\"\",CONCATENATE(ประเมินตัวชี้วัด!DE38))","v":"-"},{"$f":"IF(ประเมินตัวชี้วัด!#REF!=\"\",\"\",ประเมินตัวชี้วัด!#REF!)","v":{"$error":"#REF!"}},{"$f":"IF(ประเมินตัวชี้วัด!DL38=\"ร\",\"ร\",IF(ประเมินตัวชี้วัด!DL38=\"\",\"\",MAXA(ประเมินตัวชี้วัด!DL38,ประเมินตัวชี้วัด!DO38)))","v":0},{"$f":"IF(E39=0,\"\",IF(E39=\"\",\"\",(IF(เวลาเรียน!DZ40=\"ปกติ\",IF(COUNTIF(E39,\"ร\"),\"ร\",VLOOKUP(E39,$Y$20:$AA$27,3))))))","v":""},null,{"$f":"IF(ประเมินตัวชี้วัดเทอม2!FO38=\"\",\"\",CONCATENATE(ประเมินตัวชี้วัดเทอม2!FO38))","v":{"$error":"#REF!"}},{"$f":"IF(ประเมินตัวชี้วัดเทอม2!FS38=\"\",\"\",ประเมินตัวชี้วัดเทอม2!FS38)","v":""},{"$f":"IF(ประเมินตัวชี้วัดเทอม2!FU38=\"\",\"\",ประเมินตัวชี้วัดเทอม2!FU38)","v":{"$error":"#REF!"}},null,{"$f":"IF(เวลาเรียน!DZ40=\"\",\"\",IF(เวลาเรียน!DZ40=\"ย้าย\",\"-\",IF(เวลาเรียน!DZ40=\"จำหน่าย\",\"-\",IF(เวลาเรียน!DZ40=\"ขาดเรียนนาน\",\"-\",IF(E39=\"\",\"\",IF(E39=\"ร\",\"ร\",IF(J39=\"\",\"\",IF(J39=\"ร\",\"ร\",SUM(E39+J39)))))))))","v":""},{"$f":"IF(เวลาเรียน!DZ40=\"\",\"\",IF(เวลาเรียน!DZ40=\"ย้าย\",\"-\",IF(เวลาเรียน!DZ40=\"จำหน่าย\",\"-\",IF(เวลาเรียน!DZ40=\"ขาดเรียนนาน\",\"-\",IF(L39=\"\",\"\",IF(L39=\"ร\",\"ร\",E39))))))","v":""},{"$f":"IF(เวลาเรียน!DZ40=\"\",\"\",IF(เวลาเรียน!DZ40=\"ย้าย\",\"-\",IF(เวลาเรียน!DZ40=\"จำหน่าย\",\"-\",IF(เวลาเรียน!DZ40=\"ขาดเรียนนาน\",\"-\",IF(เวลาเรียน!DY40<80,\"มส\",IF(COUNTIF(M39,\"ร\"),\"ร\",VLOOKUP(M39,$Y$20:$AA$27,3)))))))","v":""},null,null,null,null,null,{"$f":"IF(เวลาเรียน!DZ40=\"\",\"\",เวลาเรียน!DZ40)","v":""},null,{"$f":"IF(คุณลักษณะอันพึงประสงค์!AA36=\"\",\"\",คุณลักษณะอันพึงประสงค์!AA36)","v":""},null,{"$f":"IF('อ่าน คิด วิเคราะห์'!U36=\"\",\"\",'อ่าน คิด วิเคราะห์'!U36)","v":""}]
[{"$f":"CONCATENATE(Sheet1!D34)","v":"ธีรดนย์"},33,{"$f":"IF(ประเมินตัวชี้วัด!DE39=\"\",\"\",CONCATENATE(ประเมินตัวชี้วัด!DE39))","v":"-"},{"$f":"IF(ประเมินตัวชี้วัด!#REF!=\"\",\"\",ประเมินตัวชี้วัด!#REF!)","v":{"$error":"#REF!"}},{"$f":"IF(ประเมินตัวชี้วัด!DL39=\"ร\",\"ร\",IF(ประเมินตัวชี้วัด!DL39=\"\",\"\",MAXA(ประเมินตัวชี้วัด!DL39,ประเมินตัวชี้วัด!DO39)))","v":0},{"$f":"IF(E40=0,\"\",IF(E40=\"\",\"\",(IF(เวลาเรียน!DZ41=\"ปกติ\",IF(COUNTIF(E40,\"ร\"),\"ร\",VLOOKUP(E40,$Y$20:$AA$27,3))))))","v":""},null,{"$f":"IF(ประเมินตัวชี้วัดเทอม2!FO39=\"\",\"\",CONCATENATE(ประเมินตัวชี้วัดเทอม2!FO39))","v":{"$error":"#REF!"}},{"$f":"IF(ประเมินตัวชี้วัดเทอม2!FS39=\"\",\"\",ประเมินตัวชี้วัดเทอม2!FS39)","v":""},{"$f":"IF(ประเมินตัวชี้วัดเทอม2!FU39=\"\",\"\",ประเมินตัวชี้วัดเทอม2!FU39)","v":{"$error":"#REF!"}},null,{"$f":"IF(เวลาเรียน!DZ41=\"\",\"\",IF(เวลาเรียน!DZ41=\"ย้าย\",\"-\",IF(เวลาเรียน!DZ41=\"จำหน่าย\",\"-\",IF(เวลาเรียน!DZ41=\"ขาดเรียนนาน\",\"-\",IF(E40=\"\",\"\",IF(E40=\"ร\",\"ร\",IF(J40=\"\",\"\",IF(J40=\"ร\",\"ร\",SUM(E40+J40)))))))))","v":""},{"$f":"IF(เวลาเรียน!DZ41=\"\",\"\",IF(เวลาเรียน!DZ41=\"ย้าย\",\"-\",IF(เวลาเรียน!DZ41=\"จำหน่าย\",\"-\",IF(เวลาเรียน!DZ41=\"ขาดเรียนนาน\",\"-\",IF(L40=\"\",\"\",IF(L40=\"ร\",\"ร\",E40))))))","v":""},{"$f":"IF(เวลาเรียน!DZ41=\"\",\"\",IF(เวลาเรียน!DZ41=\"ย้าย\",\"-\",IF(เวลาเรียน!DZ41=\"จำหน่าย\",\"-\",IF(เวลาเรียน!DZ41=\"ขาดเรียนนาน\",\"-\",IF(เวลาเรียน!DY41<80,\"มส\",IF(COUNTIF(M40,\"ร\"),\"ร\",VLOOKUP(M40,$Y$20:$AA$27,3)))))))","v":""},null,null,null,null,null,{"$f":"IF(เวลาเรียน!DZ41=\"\",\"\",เวลาเรียน!DZ41)","v":""},null,{"$f":"IF(คุณลักษณะอันพึงประสงค์!AA37=\"\",\"\",คุณลักษณะอันพึงประสงค์!AA37)","v":""},null,{"$f":"IF('อ่าน คิด วิเคราะห์'!U37=\"\",\"\",'อ่าน คิด วิเคราะห์'!U37)","v":""}]
[{"$f":"CONCATENATE(Sheet1!D35)","v":"ชิษณุพงศ์"},34,{"$f":"IF(ประเมินตัวชี้วัด!DE40=\"\",\"\",CONCATENATE(ประเมินตัวชี้วัด!DE40))","v":"-"},{"$f":"IF(ประเมินตัวชี้วัด!#REF!=\"\",\"\",ประเมินตัวชี้วัด!#REF!)","v":{"$error":"#REF!"}},{"$f":"IF(ประเมินตัวชี้วัด!DL40=\"ร\",\"ร\",IF(ประเมินตัวชี้วัด!DL40=\"\",\"\",MAXA(ประเมินตัวชี้วัด!DL40,ประเมินตัวชี้วัด!DO40)))","v":0},{"$f":"IF(E41=0,\"\",IF(E41=\"\",\"\",(IF(เวลาเรียน!DZ42=\"ปกติ\",IF(COUNTIF(E41,\"ร\"),\"ร\",VLOOKUP(E41,$Y$20:$AA$27,3))))))","v":""},null,{"$f":"IF(ประเมินตัวชี้วัดเทอม2!FO40=\"\",\"\",CONCATENATE(ประเมินตัวชี้วัดเทอม2!FO40))","v":{"$error":"#REF!"}},{"$f":"IF(ประเมินตัวชี้วัดเทอม2!FS40=\"\",\"\",ประเมินตัวชี้วัดเทอม2!FS40)","v":""},{"$f":"IF(ประเมินตัวชี้วัดเทอม2!FU40=\"\",\"\",ประเมินตัวชี้วัดเทอม2!FU40)","v":{"$error":"#REF!"}},null,{"$f":"IF(เวลาเรียน!DZ42=\"\",\"\",IF(เวลาเรียน!DZ42=\"ย้าย\",\"-\",IF(เวลาเรียน!DZ42=\"จำหน่าย\",\"-\",IF(เวลาเรียน!DZ42=\"ขาดเรียนนาน\",\"-\",IF(E41=\"\",\"\",IF(E41=\"ร\",\"ร\",IF(J41=\"\",\"\",IF(J41=\"ร\",\"ร\",SUM(E41+J41)))))))))","v":""},{"$f":"IF(เวลาเรียน!DZ42=\"\",\"\",IF(เวลาเรียน!DZ42=\"ย้าย\",\"-\",IF(เวลาเรียน!DZ42=\"จำหน่าย\",\"-\",IF(เวลาเรียน!DZ42=\"ขาดเรียนนาน\",\"-\",IF(L41=\"\",\"\",IF(L41=\"ร\",\"ร\",E41))))))","v":""},{"$f":"IF(เวลาเรียน!DZ42=\"\",\"\",IF(เวลาเรียน!DZ42=\"ย้าย\",\"-\",IF(เวลาเรียน!DZ42=\"จำหน่าย\",\"-\",IF(เวลาเรียน!DZ42=\"ขาดเรียนนาน\",\"-\",IF(เวลาเรียน!DY42<80,\"มส\",IF(COUNTIF(M41,\"ร\"),\"ร\",VLOOKUP(M41,$Y$20:$AA$27,3)))))))","v":""},null,null,null,null,null,{"$f":"IF(เวลาเรียน!DZ42=\"\",\"\",เวลาเรียน!DZ42)","v":""},null,{"$f":"IF(คุณลักษณะอันพึงประสงค์!AA38=\"\",\"\",คุณลักษณะอันพึงประสงค์!AA38)","v":""},null,{"$f":"IF('อ่าน คิด วิเคราะห์'!U38=\"\",\"\",'อ่าน คิด วิเคราะห์'!U38)","v":""}]
[{"$f":"CONCATENATE(Sheet1!D36)","v":"ทัชชกร"},35,{"$f":"IF(ประเมินตัวชี้วัด!DE41=\"\",\"\",CONCATENATE(ประเมินตัวชี้วัด!DE41))","v":"-"},{"$f":"IF(ประเมินตัวชี้วัด!#REF!=\"\",\"\",ประเมินตัวชี้วัด!#REF!)","v":{"$error":"#REF!"}},{"$f":"IF(ประเมินตัวชี้วัด!DL41=\"ร\",\"ร\",IF(ประเมินตัวชี้วัด!DL41=\"\",\"\",MAXA(ประเมินตัวชี้วัด!DL41,ประเมินตัวชี้วัด!DO41)))","v":0},{"$f":"IF(E42=0,\"\",IF(E42=\"\",\"\",(IF(เวลาเรียน!DZ43=\"ปกติ\",IF(COUNTIF(E42,\"ร\"),\"ร\",VLOOKUP(E42,$Y$20:$AA$27,3))))))","v":""},null,{"$f":"IF(ประเมินตัวชี้วัดเทอม2!FO41=\"\",\"\",CONCATENATE(ประเมินตัวชี้วัดเทอม2!FO41))","v":{"$error":"#REF!"}},{"$f":"IF(ประเมินตัวชี้วัดเทอม2!FS41=\"\",\"\",ประเมินตัวชี้วัดเทอม2!FS41)","v":""},{"$f":"IF(ประเมินตัวชี้วัดเทอม2!FU41=\"\",\"\",ประเมินตัวชี้วัดเทอม2!FU41)","v":{"$error":"#REF!"}},null,{"$f":"IF(เวลาเรียน!DZ43=\"\",\"\",IF(เวลาเรียน!DZ43=\"ย้าย\",\"-\",IF(เวลาเรียน!DZ43=\"จำหน่าย\",\"-\",IF(เวลาเรียน!DZ43=\"ขาดเรียนนาน\",\"-\",IF(E42=\"\",\"\",IF(E42=\"ร\",\"ร\",IF(J42=\"\",\"\",IF(J42=\"ร\",\"ร\",SUM(E42+J42)))))))))","v":""},{"$f":"IF(เวลาเรียน!DZ43=\"\",\"\",IF(เวลาเรียน!DZ43=\"ย้าย\",\"-\",IF(เวลาเรียน!DZ43=\"จำหน่าย\",\"-\",IF(เวลาเรียน!DZ43=\"ขาดเรียนนาน\",\"-\",IF(L42=\"\",\"\",IF(L42=\"ร\",\"ร\",E42))))))","v":""},{"$f":"IF(เวลาเรียน!DZ43=\"\",\"\",IF(เวลาเรียน!DZ43=\"ย้าย\",\"-\",IF(เวลาเรียน!DZ43=\"จำหน่าย\",\"-\",IF(เวลาเรียน!DZ43=\"ขาดเรียนนาน\",\"-\",IF(เวลาเรียน!DY43<80,\"มส\",IF(COUNTIF(M42,\"ร\"),\"ร\",VLOOKUP(M42,$Y$20:$AA$27,3)))))))","v":""},null,null,null,null,null,{"$f":"IF(เวลาเรียน!DZ43=\"\",\"\",เวลาเรียน!DZ43)","v":""},null,{"$f":"IF(คุณลักษณะอันพึงประสงค์!AA39=\"\",\"\",คุณลักษณะอันพึงประสงค์!AA39)","v":""},null,{"$f":"IF('อ่าน คิด วิเคราะห์'!U39=\"\",\"\",'อ่าน คิด วิเคราะห์'!U39)","v":""}]
[{"$f":"CONCATENATE(Sheet1!D37)","v":"ธนภัทร"},36,{"$f":"IF(ประเมินตัวชี้วัด!DE42=\"\",\"\",CONCATENATE(ประเมินตัวชี้วัด!DE42))","v":"-"},{"$f":"IF(ประเมินตัวชี้วัด!#REF!=\"\",\"\",ประเมินตัวชี้วัด!#REF!)","v":{"$error":"#REF!"}},{"$f":"IF(ประเมินตัวชี้วัด!DL42=\"ร\",\"ร\",IF(ประเมินตัวชี้วัด!DL42=\"\",\"\",MAXA(ประเมินตัวชี้วัด!DL42,ประเมินตัวชี้วัด!DO42)))","v":0},{"$f":"IF(E43=0,\"\",IF(E43=\"\",\"\",(IF(เวลาเรียน!DZ44=\"ปกติ\",IF(COUNTIF(E43,\"ร\"),\"ร\",VLOOKUP(E43,$Y$20:$AA$27,3))))))","v":""},null,{"$f":"IF(ประเมินตัวชี้วัดเทอม2!FO42=\"\",\"\",CONCATENATE(ประเมินตัวชี้วัดเทอม2!FO42))","v":{"$error":"#REF!"}},{"$f":"IF(ประเมินตัวชี้วัดเทอม2!FS42=\"\",\"\",ประเมินตัวชี้วัดเทอม2!FS42)","v":""},{"$f":"IF(ประเมินตัวชี้วัดเทอม2!FU42=\"\",\"\",ประเมินตัวชี้วัดเทอม2!FU42)","v":{"$error":"#REF!"}},null,{"$f":"IF(เวลาเรียน!DZ44=\"\",\"\",IF(เวลาเรียน!DZ44=\"ย้าย\",\"-\",IF(เวลาเรียน!DZ44=\"จำหน่าย\",\"-\",IF(เวลาเรียน!DZ44=\"ขาดเรียนนาน\",\"-\",IF(E43=\"\",\"\",IF(E43=\"ร\",\"ร\",IF(J43=\"\",\"\",IF(J43=\"ร\",\"ร\",SUM(E43+J43)))))))))","v":""},{"$f":"IF(เวลาเรียน!DZ44=\"\",\"\",IF(เวลาเรียน!DZ44=\"ย้าย\",\"-\",IF(เวลาเรียน!DZ44=\"จำหน่าย\",\"-\",IF(เวลาเรียน!DZ44=\"ขาดเรียนนาน\",\"-\",IF(L43=\"\",\"\",IF(L43=\"ร\",\"ร\",E43))))))","v":""},{"$f":"IF(เวลาเรียน!DZ44=\"\",\"\",IF(เวลาเรียน!DZ44=\"ย้าย\",\"-\",IF(เวลาเรียน!DZ44=\"จำหน่าย\",\"-\",IF(เวลาเรียน!DZ44=\"ขาดเรียนนาน\",\"-\",IF(เวลาเรียน!DY44<80,\"มส\",IF(COUNTIF(M43,\"ร\"),\"ร\",VLOOKUP(M43,$Y$20:$AA$27,3)))))))","v":""},null,null,null,null,null,{"$f":"IF(เวลาเรียน!DZ44=\"\",\"\",เวลาเรียน!DZ44)","v":""},null,{"$f":"IF(คุณลักษณะอันพึงประสงค์!AA40=\"\",\"\",คุณลักษณะอันพึงประสงค์!AA40)","v":""},null,{"$f":"IF('อ่าน คิด วิเคราะห์'!U40=\"\",\"\",'อ่าน คิด วิเคราะห์'!U40)","v":""}]
[{"$f":"CONCATENATE(Sheet1!D38)","v":"ญาณิศา"},37,{"$f":"IF(ประเมินตัวชี้วัด!DE43=\"\",\"\",CONCATENATE(ประเมินตัวชี้วัด!DE43))","v":"-"},{"$f":"IF(ประเมินตัวชี้วัด!#REF!=\"\",\"\",ประเมินตัวชี้วัด!#REF!)","v":{"$error":"#REF!"}},{"$f":"IF(ประเมินตัวชี้วัด!DL43=\"ร\",\"ร\",IF(ประเมินตัวชี้วัด!DL43=\"\",\"\",MAXA(ประเมินตัวชี้วัด!DL43,ประเมินตัวชี้วัด!DO43)))","v":0},{"$f":"IF(E44=0,\"\",IF(E44=\"\",\"\",(IF(เวลาเรียน!DZ45=\"ปกติ\",IF(COUNTIF(E44,\"ร\"),\"ร\",VLOOKUP(E44,$Y$20:$AA$27,3))))))","v":""},null,{"$f":"IF(ประเมินตัวชี้วัดเทอม2!FO43=\"\",\"\",CONCATENATE(ประเมินตัวชี้วัดเทอม2!FO43))","v":{"$error":"#REF!"}},{"$f":"IF(ประเมินตัวชี้วัดเทอม2!FS43=\"\",\"\",ประเมินตัวชี้วัดเทอม2!FS43)","v":""},{"$f":"IF(ประเมินตัวชี้วัดเทอม2!FU43=\"\",\"\",ประเมินตัวชี้วัดเทอม2!FU43)","v":{"$error":"#REF!"}},null,{"$f":"IF(เวลาเรียน!DZ45=\"\",\"\",IF(เวลาเรียน!DZ45=\"ย้าย\",\"-\",IF(เวลาเรียน!DZ45=\"จำหน่าย\",\"-\",IF(เวลาเรียน!DZ45=\"ขาดเรียนนาน\",\"-\",IF(E44=\"\",\"\",IF(E44=\"ร\",\"ร\",IF(J44=\"\",\"\",IF(J44=\"ร\",\"ร\",SUM(E44+J44)))))))))","v":""},{"$f":"IF(เวลาเรียน!DZ45=\"\",\"\",IF(เวลาเรียน!DZ45=\"ย้าย\",\"-\",IF(เวลาเรียน!DZ45=\"จำหน่าย\",\"-\",IF(เวลาเรียน!DZ45=\"ขาดเรียนนาน\",\"-\",IF(L44=\"\",\"\",IF(L44=\"ร\",\"ร\",E44))))))","v":""},{"$f":"IF(เวลาเรียน!DZ45=\"\",\"\",IF(เวลาเรียน!DZ45=\"ย้าย\",\"-\",IF(เวลาเรียน!DZ45=\"จำหน่าย\",\"-\",IF(เวลาเรียน!DZ45=\"ขาดเรียนนาน\",\"-\",IF(เวลาเรียน!DY45<80,\"มส\",IF(COUNTIF(M44,\"ร\"),\"ร\",VLOOKUP(M44,$Y$20:$AA$27,3)))))))","v":""},null,null,null,null,null,{"$f":"IF(เวลาเรียน!DZ45=\"\",\"\",เวลาเรียน!DZ45)","v":""},null,{"$f":"IF(คุณลักษณะอันพึงประสงค์!AA41=\"\",\"\",คุณลักษณะอันพึงประสงค์!AA41)","v":""},null,{"$f":"IF('อ่าน คิด วิเคราะห์'!U41=\"\",\"\",'อ่าน คิด วิเคราะห์'!U41)","v":""}]
[{"$f":"CONCATENATE(Sheet1!D39)","v":""},38,{"$f":"IF(ประเมินตัวชี้วัด!DE44=\"\",\"\",CONCATENATE(ประเมินตัวชี้วัด!DE44))","v":""},{"$f":"IF(ประเมินตัวชี้วัด!#REF!=\"\",\"\",ประเมินตัวชี้วัด!#REF!)","v":{"$error":"#REF!"}},{"$f":"IF(ประเมินตัวชี้วัด!DL44=\"ร\",\"ร\",IF(ประเมินตัวชี้วัด!DL44=\"\",\"\",MAXA(ประเมินตัวชี้วัด!DL44,ประเมินตัวชี้วัด!DO44)))","v":""},{"$f":"IF(E45=0,\"\",IF(E45=\"\",\"\",(IF(เวลาเรียน!DZ46=\"ปกติ\",IF(COUNTIF(E45,\"ร\"),\"ร\",VLOOKUP(E45,$Y$20:$AA$27,3))))))","v":""},null,{"$f":"IF(ประเมินตัวชี้วัดเทอม2!FO44=\"\",\"\",CONCATENATE(ประเมินตัวชี้วัดเทอม2!FO44))","v":{"$error":"#REF!"}},{"$f":"IF(ประเมินตัวชี้วัดเทอม2!FS44=\"\",\"\",ประเมินตัวชี้วัดเทอม2!FS44)","v":""},{"$f":"IF(ประเมินตัวชี้วัดเทอม2!FU44=\"\",\"\",ประเมินตัวชี้วัดเทอม2!FU44)","v":{"$error":"#REF!"}},null,{"$f":"IF(เวลาเรียน!DZ46=\"\",\"\",IF(เวลาเรียน!DZ46=\"ย้าย\",\"-\",IF(เวลาเรียน!DZ46=\"จำหน่าย\",\"-\",IF(เวลาเรียน!DZ46=\"ขาดเรียนนาน\",\"-\",IF(E45=\"\",\"\",IF(E45=\"ร\",\"ร\",IF(J45=\"\",\"\",IF(J45=\"ร\",\"ร\",SUM(E45+J45)))))))))","v":""},{"$f":"IF(เวลาเรียน!DZ46=\"\",\"\",IF(เวลาเรียน!DZ46=\"ย้าย\",\"-\",IF(เวลาเรียน!DZ46=\"จำหน่าย\",\"-\",IF(เวลาเรียน!DZ46=\"ขาดเรียนนาน\",\"-\",IF(L45=\"\",\"\",IF(L45=\"ร\",\"ร\",E45))))))","v":""},{"$f":"IF(เวลาเรียน!DZ46=\"\",\"\",IF(เวลาเรียน!DZ46=\"ย้าย\",\"-\",IF(เวลาเรียน!DZ46=\"จำหน่าย\",\"-\",IF(เวลาเรียน!DZ46=\"ขาดเรียนนาน\",\"-\",IF(เวลาเรียน!DY46<80,\"มส\",IF(COUNTIF(M45,\"ร\"),\"ร\",VLOOKUP(M45,$Y$20:$AA$27,3)))))))","v":""},null,null,null,null,null,{"$f":"IF(เวลาเรียน!DZ46=\"\",\"\",เวลาเรียน!DZ46)","v":""},null,{"$f":"IF(คุณลักษณะอันพึงประสงค์!AA42=\"\",\"\",คุณลักษณะอันพึงประสงค์!AA42)","v":""},null,{"$f":"IF('อ่าน คิด วิเคราะห์'!U42=\"\",\"\",'อ่าน คิด วิเคราะห์'!U42)","v":""}]
[{"$f":"CONCATENATE(Sheet1!D40)","v":""},39,{"$f":"IF(ประเมินตัวชี้วัด!DE45=\"\",\"\",CONCATENATE(ประเมินตัวชี้วัด!DE45))","v":""},{"$f":"IF(ประเมินตัวชี้วัด!#REF!=\"\",\"\",ประเมินตัวชี้วัด!#REF!)","v":{"$error":"#REF!"}},{"$f":"IF(ประเมินตัวชี้วัด!DL45=\"ร\",\"ร\",IF(ประเมินตัวชี้วัด!DL45=\"\",\"\",MAXA(ประเมินตัวชี้วัด!DL45,ประเมินตัวชี้วัด!DO45)))","v":""},{"$f":"IF(E46=0,\"\",IF(E46=\"\",\"\",(IF(เวลาเรียน!DZ47=\"ปกติ\",IF(COUNTIF(E46,\"ร\"),\"ร\",VLOOKUP(E46,$Y$20:$AA$27,3))))))","v":""},null,{"$f":"IF(ประเมินตัวชี้วัดเทอม2!FO45=\"\",\"\",CONCATENATE(ประเมินตัวชี้วัดเทอม2!FO45))","v":{"$error":"#REF!"}},{"$f":"IF(ประเมินตัวชี้วัดเทอม2!FS45=\"\",\"\",ประเมินตัวชี้วัดเทอม2!FS45)","v":""},{"$f":"IF(ประเมินตัวชี้วัดเทอม2!FU45=\"\",\"\",ประเมินตัวชี้วัดเทอม2!FU45)","v":{"$error":"#REF!"}},null,{"$f":"IF(เวลาเรียน!DZ47=\"\",\"\",IF(เวลาเรียน!DZ47=\"ย้าย\",\"-\",IF(เวลาเรียน!DZ47=\"จำหน่าย\",\"-\",IF(เวลาเรียน!DZ47=\"ขาดเรียนนาน\",\"-\",IF(E46=\"\",\"\",IF(E46=\"ร\",\"ร\",IF(J46=\"\",\"\",IF(J46=\"ร\",\"ร\",SUM(E46+J46)))))))))","v":""},{"$f":"IF(เวลาเรียน!DZ47=\"\",\"\",IF(เวลาเรียน!DZ47=\"ย้าย\",\"-\",IF(เวลาเรียน!DZ47=\"จำหน่าย\",\"-\",IF(เวลาเรียน!DZ47=\"ขาดเรียนนาน\",\"-\",IF(L46=\"\",\"\",IF(L46=\"ร\",\"ร\",E46))))))","v":""},{"$f":"IF(เวลาเรียน!DZ47=\"\",\"\",IF(เวลาเรียน!DZ47=\"ย้าย\",\"-\",IF(เวลาเรียน!DZ47=\"จำหน่าย\",\"-\",IF(เวลาเรียน!DZ47=\"ขาดเรียนนาน\",\"-\",IF(เวลาเรียน!DY47<80,\"มส\",IF(COUNTIF(M46,\"ร\"),\"ร\",VLOOKUP(M46,$Y$20:$AA$27,3)))))))","v":""},null,null,null,null,null,{"$f":"IF(เวลาเรียน!DZ47=\"\",\"\",เวลาเรียน!DZ47)","v":""},null,{"$f":"IF(คุณลักษณะอันพึงประสงค์!AA43=\"\",\"\",คุณลักษณะอันพึงประสงค์!AA43)","v":""},null,{"$f":"IF('อ่าน คิด วิเคราะห์'!U43=\"\",\"\",'อ่าน คิด วิเคราะห์'!U43)","v":""}]
[{"$f":"CONCATENATE(Sheet1!D41)","v":""},40,{"$f":"IF(ประเมินตัวชี้วัด!DE46=\"\",\"\",CONCATENATE(ประเมินตัวชี้วัด!DE46))","v":""},{"$f":"IF(ประเมินตัวชี้วัด!#REF!=\"\",\"\",ประเมินตัวชี้วัด!#REF!)","v":{"$error":"#REF!"}},{"$f":"IF(ประเมินตัวชี้วัด!DL46=\"ร\",\"ร\",IF(ประเมินตัวชี้วัด!DL46=\"\",\"\",MAXA(ประเมินตัวชี้วัด!DL46,ประเมินตัวชี้วัด!DO46)))","v":""},{"$f":"IF(E47=0,\"\",IF(E47=\"\",\"\",(IF(เวลาเรียน!DZ48=\"ปกติ\",IF(COUNTIF(E47,\"ร\"),\"ร\",VLOOKUP(E47,$Y$20:$AA$27,3))))))","v":""},null,{"$f":"IF(ประเมินตัวชี้วัดเทอม2!FO46=\"\",\"\",CONCATENATE(ประเมินตัวชี้วัดเทอม2!FO46))","v":{"$error":"#REF!"}},{"$f":"IF(ประเมินตัวชี้วัดเทอม2!FS46=\"\",\"\",ประเมินตัวชี้วัดเทอม2!FS46)","v":""},{"$f":"IF(ประเมินตัวชี้วัดเทอม2!FU46=\"\",\"\",ประเมินตัวชี้วัดเทอม2!FU46)","v":{"$error":"#REF!"}},null,{"$f":"IF(เวลาเรียน!DZ48=\"\",\"\",IF(เวลาเรียน!DZ48=\"ย้าย\",\"-\",IF(เวลาเรียน!DZ48=\"จำหน่าย\",\"-\",IF(เวลาเรียน!DZ48=\"ขาดเรียนนาน\",\"-\",IF(E47=\"\",\"\",IF(E47=\"ร\",\"ร\",IF(J47=\"\",\"\",IF(J47=\"ร\",\"ร\",SUM(E47+J47)))))))))","v":""},{"$f":"IF(เวลาเรียน!DZ48=\"\",\"\",IF(เวลาเรียน!DZ48=\"ย้าย\",\"-\",IF(เวลาเรียน!DZ48=\"จำหน่าย\",\"-\",IF(เวลาเรียน!DZ48=\"ขาดเรียนนาน\",\"-\",IF(L47=\"\",\"\",IF(L47=\"ร\",\"ร\",E47))))))","v":""},{"$f":"IF(เวลาเรียน!DZ48=\"\",\"\",IF(เวลาเรียน!DZ48=\"ย้าย\",\"-\",IF(เวลาเรียน!DZ48=\"จำหน่าย\",\"-\",IF(เวลาเรียน!DZ48=\"ขาดเรียนนาน\",\"-\",IF(เวลาเรียน!DY48<80,\"มส\",IF(COUNTIF(M47,\"ร\"),\"ร\",VLOOKUP(M47,$Y$20:$AA$27,3)))))))","v":""},null,null,null,null,null,{"$f":"IF(เวลาเรียน!DZ48=\"\",\"\",เวลาเรียน!DZ48)","v":""},null,{"$f":"IF(คุณลักษณะอันพึงประสงค์!AA44=\"\",\"\",คุณลักษณะอันพึงประสงค์!AA44)","v":""},null,{"$f":"IF('อ่าน คิด วิเคราะห์'!U44=\"\",\"\",'อ่าน คิด วิเคราะห์'!U44)","v":""}]
[{"$f":"CONCATENATE(Sheet1!D42)","v":""},41,{"$f":"IF(ประเมินตัวชี้วัด!DE47=\"\",\"\",CONCATENATE(ประเมินตัวชี้วัด!DE47))","v":""},{"$f":"IF(ประเมินตัวชี้วัด!#REF!=\"\",\"\",ประเมินตัวชี้วัด!#REF!)","v":{"$error":"#REF!"}},{"$f":"IF(ประเมินตัวชี้วัด!DL47=\"ร\",\"ร\",IF(ประเมินตัวชี้วัด!DL47=\"\",\"\",MAXA(ประเมินตัวชี้วัด!DL47,ประเมินตัวชี้วัด!DO47)))","v":""},{"$f":"IF(E48=0,\"\",IF(E48=\"\",\"\",(IF(เวลาเรียน!DZ49=\"ปกติ\",IF(COUNTIF(E48,\"ร\"),\"ร\",VLOOKUP(E48,$Y$20:$AA$27,3))))))","v":""},null,{"$f":"IF(ประเมินตัวชี้วัดเทอม2!FO47=\"\",\"\",CONCATENATE(ประเมินตัวชี้วัดเทอม2!FO47))","v":{"$error":"#REF!"}},{"$f":"IF(ประเมินตัวชี้วัดเทอม2!FS47=\"\",\"\",ประเมินตัวชี้วัดเทอม2!FS47)","v":""},{"$f":"IF(ประเมินตัวชี้วัดเทอม2!FU47=\"\",\"\",ประเมินตัวชี้วัดเทอม2!FU47)","v":{"$error":"#REF!"}},null,{"$f":"IF(เวลาเรียน!DZ49=\"\",\"\",IF(เวลาเรียน!DZ49=\"ย้าย\",\"-\",IF(เวลาเรียน!DZ49=\"จำหน่าย\",\"-\",IF(เวลาเรียน!DZ49=\"ขาดเรียนนาน\",\"-\",IF(E48=\"\",\"\",IF(E48=\"ร\",\"ร\",IF(J48=\"\",\"\",IF(J48=\"ร\",\"ร\",SUM(E48+J48)))))))))","v":""},{"$f":"IF(เวลาเรียน!DZ49=\"\",\"\",IF(เวลาเรียน!DZ49=\"ย้าย\",\"-\",IF(เวลาเรียน!DZ49=\"จำหน่าย\",\"-\",IF(เวลาเรียน!DZ49=\"ขาดเรียนนาน\",\"-\",IF(L48=\"\",\"\",IF(L48=\"ร\",\"ร\",E48))))))","v":""},{"$f":"IF(เวลาเรียน!DZ49=\"\",\"\",IF(เวลาเรียน!DZ49=\"ย้าย\",\"-\",IF(เวลาเรียน!DZ49=\"จำหน่าย\",\"-\",IF(เวลาเรียน!DZ49=\"ขาดเรียนนาน\",\"-\",IF(เวลาเรียน!DY49<80,\"มส\",IF(COUNTIF(M48,\"ร\"),\"ร\",VLOOKUP(M48,$Y$20:$AA$27,3)))))))","v":""},null,null,null,null,null,{"$f":"IF(เวลาเรียน!DZ49=\"\",\"\",เวลาเรียน!DZ49)","v":""},null,{"$f":"IF(คุณลักษณะอันพึงประสงค์!AA45=\"\",\"\",คุณลักษณะอันพึงประสงค์!AA45)","v":""},null,{"$f":"IF('อ่าน คิด วิเคราะห์'!U45=\"\",\"\",'อ่าน คิด วิเคราะห์'!U45)","v":""}]
[{"$f":"CONCATENATE(Sheet1!D43)","v":""},42,{"$f":"IF(ประเมินตัวชี้วัด!DE48=\"\",\"\",CONCATENATE(ประเมินตัวชี้วัด!DE48))","v":""},{"$f":"IF(ประเมินตัวชี้วัด!#REF!=\"\",\"\",ประเมินตัวชี้วัด!#REF!)","v":{"$error":"#REF!"}},{"$f":"IF(ประเมินตัวชี้วัด!DL48=\"ร\",\"ร\",IF(ประเมินตัวชี้วัด!DL48=\"\",\"\",MAXA(ประเมินตัวชี้วัด!DL48,ประเมินตัวชี้วัด!DO48)))","v":""},{"$f":"IF(E49=0,\"\",IF(E49=\"\",\"\",(IF(เวลาเรียน!DZ50=\"ปกติ\",IF(COUNTIF(E49,\"ร\"),\"ร\",VLOOKUP(E49,$Y$20:$AA$27,3))))))","v":""},null,{"$f":"IF(ประเมินตัวชี้วัดเทอม2!FO48=\"\",\"\",CONCATENATE(ประเมินตัวชี้วัดเทอม2!FO48))","v":{"$error":"#REF!"}},{"$f":"IF(ประเมินตัวชี้วัดเทอม2!FS48=\"\",\"\",ประเมินตัวชี้วัดเทอม2!FS48)","v":""},{"$f":"IF(ประเมินตัวชี้วัดเทอม2!FU48=\"\",\"\",ประเมินตัวชี้วัดเทอม2!FU48)","v":{"$error":"#REF!"}},null,{"$f":"IF(เวลาเรียน!DZ50=\"\",\"\",IF(เวลาเรียน!DZ50=\"ย้าย\",\"-\",IF(เวลาเรียน!DZ50=\"จำหน่าย\",\"-\",IF(เวลาเรียน!DZ50=\"ขาดเรียนนาน\",\"-\",IF(E49=\"\",\"\",IF(E49=\"ร\",\"ร\",IF(J49=\"\",\"\",IF(J49=\"ร\",\"ร\",SUM(E49+J49)))))))))","v":""},{"$f":"IF(เวลาเรียน!DZ50=\"\",\"\",IF(เวลาเรียน!DZ50=\"ย้าย\",\"-\",IF(เวลาเรียน!DZ50=\"จำหน่าย\",\"-\",IF(เวลาเรียน!DZ50=\"ขาดเรียนนาน\",\"-\",IF(L49=\"\",\"\",IF(L49=\"ร\",\"ร\",E49))))))","v":""},{"$f":"IF(เวลาเรียน!DZ50=\"\",\"\",IF(เวลาเรียน!DZ50=\"ย้าย\",\"-\",IF(เวลาเรียน!DZ50=\"จำหน่าย\",\"-\",IF(เวลาเรียน!DZ50=\"ขาดเรียนนาน\",\"-\",IF(เวลาเรียน!DY50<80,\"มส\",IF(COUNTIF(M49,\"ร\"),\"ร\",VLOOKUP(M49,$Y$20:$AA$27,3)))))))","v":""},null,null,null,null,null,{"$f":"IF(เวลาเรียน!DZ50=\"\",\"\",เวลาเรียน!DZ50)","v":""},null,{"$f":"IF(คุณลักษณะอันพึงประสงค์!AA46=\"\",\"\",คุณลักษณะอันพึงประสงค์!AA46)","v":""},null,{"$f":"IF('อ่าน คิด วิเคราะห์'!U46=\"\",\"\",'อ่าน คิด วิเคราะห์'!U46)","v":""}]
[{"$f":"CONCATENATE(Sheet1!D44)","v":""},43,{"$f":"IF(ประเมินตัวชี้วัด!DE49=\"\",\"\",CONCATENATE(ประเมินตัวชี้วัด!DE49))","v":""},{"$f":"IF(ประเมินตัวชี้วัด!#REF!=\"\",\"\",ประเมินตัวชี้วัด!#REF!)","v":{"$error":"#REF!"}},{"$f":"IF(ประเมินตัวชี้วัด!DL49=\"ร\",\"ร\",IF(ประเมินตัวชี้วัด!DL49=\"\",\"\",MAXA(ประเมินตัวชี้วัด!DL49,ประเมินตัวชี้วัด!DO49)))","v":""},{"$f":"IF(E50=0,\"\",IF(E50=\"\",\"\",(IF(เวลาเรียน!DZ51=\"ปกติ\",IF(COUNTIF(E50,\"ร\"),\"ร\",VLOOKUP(E50,$Y$20:$AA$27,3))))))","v":""},null,{"$f":"IF(ประเมินตัวชี้วัดเทอม2!FO49=\"\",\"\",CONCATENATE(ประเมินตัวชี้วัดเทอม2!FO49))","v":{"$error":"#REF!"}},{"$f":"IF(ประเมินตัวชี้วัดเทอม2!FS49=\"\",\"\",ประเมินตัวชี้วัดเทอม2!FS49)","v":""},{"$f":"IF(ประเมินตัวชี้วัดเทอม2!FU49=\"\",\"\",ประเมินตัวชี้วัดเทอม2!FU49)","v":{"$error":"#REF!"}},null,{"$f":"IF(เวลาเรียน!DZ51=\"\",\"\",IF(เวลาเรียน!DZ51=\"ย้าย\",\"-\",IF(เวลาเรียน!DZ51=\"จำหน่าย\",\"-\",IF(เวลาเรียน!DZ51=\"ขาดเรียนนาน\",\"-\",IF(E50=\"\",\"\",IF(E50=\"ร\",\"ร\",IF(J50=\"\",\"\",IF(J50=\"ร\",\"ร\",SUM(E50+J50)))))))))","v":""},{"$f":"IF(เวลาเรียน!DZ51=\"\",\"\",IF(เวลาเรียน!DZ51=\"ย้าย\",\"-\",IF(เวลาเรียน!DZ51=\"จำหน่าย\",\"-\",IF(เวลาเรียน!DZ51=\"ขาดเรียนนาน\",\"-\",IF(L50=\"\",\"\",IF(L50=\"ร\",\"ร\",E50))))))","v":""},{"$f":"IF(เวลาเรียน!DZ51=\"\",\"\",IF(เวลาเรียน!DZ51=\"ย้าย\",\"-\",IF(เวลาเรียน!DZ51=\"จำหน่าย\",\"-\",IF(เวลาเรียน!DZ51=\"ขาดเรียนนาน\",\"-\",IF(เวลาเรียน!DY51<80,\"มส\",IF(COUNTIF(M50,\"ร\"),\"ร\",VLOOKUP(M50,$Y$20:$AA$27,3)))))))","v":""},null,null,null,null,null,{"$f":"IF(เวลาเรียน!DZ51=\"\",\"\",เวลาเรียน!DZ51)","v":""},null,{"$f":"IF(คุณลักษณะอันพึงประสงค์!AA47=\"\",\"\",คุณลักษณะอันพึงประสงค์!AA47)","v":""},null,{"$f":"IF('อ่าน คิด วิเคราะห์'!U47=\"\",\"\",'อ่าน คิด วิเคราะห์'!U47)","v":""}]
[{"$f":"CONCATENATE(Sheet1!D45)","v":""},44,{"$f":"IF(ประเมินตัวชี้วัด!DE50=\"\",\"\",CONCATENATE(ประเมินตัวชี้วัด!DE50))","v":""},{"$f":"IF(ประเมินตัวชี้วัด!#REF!=\"\",\"\",ประเมินตัวชี้วัด!#REF!)","v":{"$error":"#REF!"}},{"$f":"IF(ประเมินตัวชี้วัด!DL50=\"ร\",\"ร\",IF(ประเมินตัวชี้วัด!DL50=\"\",\"\",MAXA(ประเมินตัวชี้วัด!DL50,ประเมินตัวชี้วัด!DO50)))","v":""},{"$f":"IF(E51=0,\"\",IF(E51=\"\",\"\",(IF(เวลาเรียน!DZ52=\"ปกติ\",IF(COUNTIF(E51,\"ร\"),\"ร\",VLOOKUP(E51,$Y$20:$AA$27,3))))))","v":""},null,{"$f":"IF(ประเมินตัวชี้วัดเทอม2!FO50=\"\",\"\",CONCATENATE(ประเมินตัวชี้วัดเทอม2!FO50))","v":{"$error":"#REF!"}},{"$f":"IF(ประเมินตัวชี้วัดเทอม2!FS50=\"\",\"\",ประเมินตัวชี้วัดเทอม2!FS50)","v":""},{"$f":"IF(ประเมินตัวชี้วัดเทอม2!FU50=\"\",\"\",ประเมินตัวชี้วัดเทอม2!FU50)","v":{"$error":"#REF!"}},null,{"$f":"IF(เวลาเรียน!DZ52=\"\",\"\",IF(เวลาเรียน!DZ52=\"ย้าย\",\"-\",IF(เวลาเรียน!DZ52=\"จำหน่าย\",\"-\",IF(เวลาเรียน!DZ52=\"ขาดเรียนนาน\",\"-\",IF(E51=\"\",\"\",IF(E51=\"ร\",\"ร\",IF(J51=\"\",\"\",IF(J51=\"ร\",\"ร\",SUM(E51+J51)))))))))","v":""},{"$f":"IF(เวลาเรียน!DZ52=\"\",\"\",IF(เวลาเรียน!DZ52=\"ย้าย\",\"-\",IF(เวลาเรียน!DZ52=\"จำหน่าย\",\"-\",IF(เวลาเรียน!DZ52=\"ขาดเรียนนาน\",\"-\",IF(L51=\"\",\"\",IF(L51=\"ร\",\"ร\",E51))))))","v":""},{"$f":"IF(เวลาเรียน!DZ52=\"\",\"\",IF(เวลาเรียน!DZ52=\"ย้าย\",\"-\",IF(เวลาเรียน!DZ52=\"จำหน่าย\",\"-\",IF(เวลาเรียน!DZ52=\"ขาดเรียนนาน\",\"-\",IF(เวลาเรียน!DY52<80,\"มส\",IF(COUNTIF(M51,\"ร\"),\"ร\",VLOOKUP(M51,$Y$20:$AA$27,3)))))))","v":""},null,null,null,null,null,{"$f":"IF(เวลาเรียน!DZ52=\"\",\"\",เวลาเรียน!DZ52)","v":""},null,{"$f":"IF(คุณลักษณะอันพึงประสงค์!AA48=\"\",\"\",คุณลักษณะอันพึงประสงค์!AA48)","v":""},null,{"$f":"IF('อ่าน คิด วิเคราะห์'!U48=\"\",\"\",'อ่าน คิด วิเคราะห์'!U48)","v":""}]
[{"$f":"CONCATENATE(Sheet1!D46)","v":""},45,{"$f":"IF(ประเมินตัวชี้วัด!DE51=\"\",\"\",CONCATENATE(ประเมินตัวชี้วัด!DE51))","v":""},{"$f":"IF(ประเมินตัวชี้วัด!#REF!=\"\",\"\",ประเมินตัวชี้วัด!#REF!)","v":{"$error":"#REF!"}},{"$f":"IF(ประเมินตัวชี้วัด!DL51=\"ร\",\"ร\",IF(ประเมินตัวชี้วัด!DL51=\"\",\"\",MAXA(ประเมินตัวชี้วัด!DL51,ประเมินตัวชี้วัด!DO51)))","v":""},{"$f":"IF(E52=0,\"\",IF(E52=\"\",\"\",(IF(เวลาเรียน!DZ53=\"ปกติ\",IF(COUNTIF(E52,\"ร\"),\"ร\",VLOOKUP(E52,$Y$20:$AA$27,3))))))","v":""},null,{"$f":"IF(ประเมินตัวชี้วัดเทอม2!FO51=\"\",\"\",CONCATENATE(ประเมินตัวชี้วัดเทอม2!FO51))","v":{"$error":"#REF!"}},{"$f":"IF(ประเมินตัวชี้วัดเทอม2!FS51=\"\",\"\",ประเมินตัวชี้วัดเทอม2!FS51)","v":""},{"$f":"IF(ประเมินตัวชี้วัดเทอม2!FU51=\"\",\"\",ประเมินตัวชี้วัดเทอม2!FU51)","v":{"$error":"#REF!"}},null,{"$f":"IF(เวลาเรียน!DZ53=\"\",\"\",IF(เวลาเรียน!DZ53=\"ย้าย\",\"-\",IF(เวลาเรียน!DZ53=\"จำหน่าย\",\"-\",IF(เวลาเรียน!DZ53=\"ขาดเรียนนาน\",\"-\",IF(E52=\"\",\"\",IF(E52=\"ร\",\"ร\",IF(J52=\"\",\"\",IF(J52=\"ร\",\"ร\",SUM(E52+J52)))))))))","v":""},{"$f":"IF(เวลาเรียน!DZ53=\"\",\"\",IF(เวลาเรียน!DZ53=\"ย้าย\",\"-\",IF(เวลาเรียน!DZ53=\"จำหน่าย\",\"-\",IF(เวลาเรียน!DZ53=\"ขาดเรียนนาน\",\"-\",IF(L52=\"\",\"\",IF(L52=\"ร\",\"ร\",E52))))))","v":""},{"$f":"IF(เวลาเรียน!DZ53=\"\",\"\",IF(เวลาเรียน!DZ53=\"ย้าย\",\"-\",IF(เวลาเรียน!DZ53=\"จำหน่าย\",\"-\",IF(เวลาเรียน!DZ53=\"ขาดเรียนนาน\",\"-\",IF(เวลาเรียน!DY53<80,\"มส\",IF(COUNTIF(M52,\"ร\"),\"ร\",VLOOKUP(M52,$Y$20:$AA$27,3)))))))","v":""},null,null,null,null,null,{"$f":"IF(เวลาเรียน!DZ53=\"\",\"\",เวลาเรียน!DZ53)","v":""},null,{"$f":"IF(คุณลักษณะอันพึงประสงค์!AA49=\"\",\"\",คุณลักษณะอันพึงประสงค์!AA49)","v":""},null,{"$f":"IF('อ่าน คิด วิเคราะห์'!U49=\"\",\"\",'อ่าน คิด วิเคราะห์'!U49)","v":""}]
[{"$f":"CONCATENATE(Sheet1!D47)","v":""},46,{"$f":"IF(ประเมินตัวชี้วัด!DE52=\"\",\"\",CONCATENATE(ประเมินตัวชี้วัด!DE52))","v":""},{"$f":"IF(ประเมินตัวชี้วัด!#REF!=\"\",\"\",ประเมินตัวชี้วัด!#REF!)","v":{"$error":"#REF!"}},{"$f":"IF(ประเมินตัวชี้วัด!DL52=\"ร\",\"ร\",IF(ประเมินตัวชี้วัด!DL52=\"\",\"\",MAXA(ประเมินตัวชี้วัด!DL52,ประเมินตัวชี้วัด!DO52)))","v":""},{"$f":"IF(E53=0,\"\",IF(E53=\"\",\"\",(IF(เวลาเรียน!DZ54=\"ปกติ\",IF(COUNTIF(E53,\"ร\"),\"ร\",VLOOKUP(E53,$Y$20:$AA$27,3))))))","v":""},null,{"$f":"IF(ประเมินตัวชี้วัดเทอม2!FO52=\"\",\"\",CONCATENATE(ประเมินตัวชี้วัดเทอม2!FO52))","v":{"$error":"#REF!"}},{"$f":"IF(ประเมินตัวชี้วัดเทอม2!FS52=\"\",\"\",ประเมินตัวชี้วัดเทอม2!FS52)","v":""},{"$f":"IF(ประเมินตัวชี้วัดเทอม2!FU52=\"\",\"\",ประเมินตัวชี้วัดเทอม2!FU52)","v":{"$error":"#REF!"}},null,{"$f":"IF(เวลาเรียน!DZ54=\"\",\"\",IF(เวลาเรียน!DZ54=\"ย้าย\",\"-\",IF(เวลาเรียน!DZ54=\"จำหน่าย\",\"-\",IF(เวลาเรียน!DZ54=\"ขาดเรียนนาน\",\"-\",IF(E53=\"\",\"\",IF(E53=\"ร\",\"ร\",IF(J53=\"\",\"\",IF(J53=\"ร\",\"ร\",SUM(E53+J53)))))))))","v":""},{"$f":"IF(เวลาเรียน!DZ54=\"\",\"\",IF(เวลาเรียน!DZ54=\"ย้าย\",\"-\",IF(เวลาเรียน!DZ54=\"จำหน่าย\",\"-\",IF(เวลาเรียน!DZ54=\"ขาดเรียนนาน\",\"-\",IF(L53=\"\",\"\",IF(L53=\"ร\",\"ร\",E53))))))","v":""},{"$f":"IF(เวลาเรียน!DZ54=\"\",\"\",IF(เวลาเรียน!DZ54=\"ย้าย\",\"-\",IF(เวลาเรียน!DZ54=\"จำหน่าย\",\"-\",IF(เวลาเรียน!DZ54=\"ขาดเรียนนาน\",\"-\",IF(เวลาเรียน!DY54<80,\"มส\",IF(COUNTIF(M53,\"ร\"),\"ร\",VLOOKUP(M53,$Y$20:$AA$27,3)))))))","v":""},null,null,null,null,null,{"$f":"IF(เวลาเรียน!DZ54=\"\",\"\",เวลาเรียน!DZ54)","v":""},null,{"$f":"IF(คุณลักษณะอันพึงประสงค์!AA50=\"\",\"\",คุณลักษณะอันพึงประสงค์!AA50)","v":""},null,{"$f":"IF('อ่าน คิด วิเคราะห์'!U50=\"\",\"\",'อ่าน คิด วิเคราะห์'!U50)","v":""}]
[{"$f":"CONCATENATE(Sheet1!D48)","v":""},47,{"$f":"IF(ประเมินตัวชี้วัด!DE53=\"\",\"\",CONCATENATE(ประเมินตัวชี้วัด!DE53))","v":""},{"$f":"IF(ประเมินตัวชี้วัด!#REF!=\"\",\"\",ประเมินตัวชี้วัด!#REF!)","v":{"$error":"#REF!"}},{"$f":"IF(ประเมินตัวชี้วัด!DL53=\"ร\",\"ร\",IF(ประเมินตัวชี้วัด!DL53=\"\",\"\",MAXA(ประเมินตัวชี้วัด!DL53,ประเมินตัวชี้วัด!DO53)))","v":""},{"$f":"IF(E54=0,\"\",IF(E54=\"\",\"\",(IF(เวลาเรียน!DZ55=\"ปกติ\",IF(COUNTIF(E54,\"ร\"),\"ร\",VLOOKUP(E54,$Y$20:$AA$27,3))))))","v":""},null,{"$f":"IF(ประเมินตัวชี้วัดเทอม2!FO53=\"\",\"\",CONCATENATE(ประเมินตัวชี้วัดเทอม2!FO53))","v":{"$error":"#REF!"}},{"$f":"IF(ประเมินตัวชี้วัดเทอม2!FS53=\"\",\"\",ประเมินตัวชี้วัดเทอม2!FS53)","v":""},{"$f":"IF(ประเมินตัวชี้วัดเทอม2!FU53=\"\",\"\",ประเมินตัวชี้วัดเทอม2!FU53)","v":{"$error":"#REF!"}},null,{"$f":"IF(เวลาเรียน!DZ55=\"\",\"\",IF(เวลาเรียน!DZ55=\"ย้าย\",\"-\",IF(เวลาเรียน!DZ55=\"จำหน่าย\",\"-\",IF(เวลาเรียน!DZ55=\"ขาดเรียนนาน\",\"-\",IF(E54=\"\",\"\",IF(E54=\"ร\",\"ร\",IF(J54=\"\",\"\",IF(J54=\"ร\",\"ร\",SUM(E54+J54)))))))))","v":""},{"$f":"IF(เวลาเรียน!DZ55=\"\",\"\",IF(เวลาเรียน!DZ55=\"ย้าย\",\"-\",IF(เวลาเรียน!DZ55=\"จำหน่าย\",\"-\",IF(เวลาเรียน!DZ55=\"ขาดเรียนนาน\",\"-\",IF(L54=\"\",\"\",IF(L54=\"ร\",\"ร\",E54))))))","v":""},{"$f":"IF(เวลาเรียน!DZ55=\"\",\"\",IF(เวลาเรียน!DZ55=\"ย้าย\",\"-\",IF(เวลาเรียน!DZ55=\"จำหน่าย\",\"-\",IF(เวลาเรียน!DZ55=\"ขาดเรียนนาน\",\"-\",IF(เวลาเรียน!DY55<80,\"มส\",IF(COUNTIF(M54,\"ร\"),\"ร\",VLOOKUP(M54,$Y$20:$AA$27,3)))))))","v":""},null,null,null,null,null,{"$f":"IF(เวลาเรียน!DZ55=\"\",\"\",เวลาเรียน!DZ55)","v":""},null,{"$f":"IF(คุณลักษณะอันพึงประสงค์!AA51=\"\",\"\",คุณลักษณะอันพึงประสงค์!AA51)","v":""},null,{"$f":"IF('อ่าน คิด วิเคราะห์'!U51=\"\",\"\",'อ่าน คิด วิเคราะห์'!U51)","v":""}]
[{"$f":"CONCATENATE(Sheet1!D49)","v":""},48,{"$f":"IF(ประเมินตัวชี้วัด!DE54=\"\",\"\",CONCATENATE(ประเมินตัวชี้วัด!DE54))","v":""},{"$f":"IF(ประเมินตัวชี้วัด!#REF!=\"\",\"\",ประเมินตัวชี้วัด!#REF!)","v":{"$error":"#REF!"}},{"$f":"IF(ประเมินตัวชี้วัด!DL54=\"ร\",\"ร\",IF(ประเมินตัวชี้วัด!DL54=\"\",\"\",MAXA(ประเมินตัวชี้วัด!DL54,ประเมินตัวชี้วัด!DO54)))","v":""},{"$f":"IF(E55=0,\"\",IF(E55=\"\",\"\",(IF(เวลาเรียน!DZ56=\"ปกติ\",IF(COUNTIF(E55,\"ร\"),\"ร\",VLOOKUP(E55,$Y$20:$AA$27,3))))))","v":""},null,{"$f":"IF(ประเมินตัวชี้วัดเทอม2!FO54=\"\",\"\",CONCATENATE(ประเมินตัวชี้วัดเทอม2!FO54))","v":{"$error":"#REF!"}},{"$f":"IF(ประเมินตัวชี้วัดเทอม2!FS54=\"\",\"\",ประเมินตัวชี้วัดเทอม2!FS54)","v":""},{"$f":"IF(ประเมินตัวชี้วัดเทอม2!FU54=\"\",\"\",ประเมินตัวชี้วัดเทอม2!FU54)","v":{"$error":"#REF!"}},null,{"$f":"IF(เวลาเรียน!DZ56=\"\",\"\",IF(เวลาเรียน!DZ56=\"ย้าย\",\"-\",IF(เวลาเรียน!DZ56=\"จำหน่าย\",\"-\",IF(เวลาเรียน!DZ56=\"ขาดเรียนนาน\",\"-\",IF(E55=\"\",\"\",IF(E55=\"ร\",\"ร\",IF(J55=\"\",\"\",IF(J55=\"ร\",\"ร\",SUM(E55+J55)))))))))","v":""},{"$f":"IF(เวลาเรียน!DZ56=\"\",\"\",IF(เวลาเรียน!DZ56=\"ย้าย\",\"-\",IF(เวลาเรียน!DZ56=\"จำหน่าย\",\"-\",IF(เวลาเรียน!DZ56=\"ขาดเรียนนาน\",\"-\",IF(L55=\"\",\"\",IF(L55=\"ร\",\"ร\",E55))))))","v":""},{"$f":"IF(เวลาเรียน!DZ56=\"\",\"\",IF(เวลาเรียน!DZ56=\"ย้าย\",\"-\",IF(เวลาเรียน!DZ56=\"จำหน่าย\",\"-\",IF(เวลาเรียน!DZ56=\"ขาดเรียนนาน\",\"-\",IF(เวลาเรียน!DY56<80,\"มส\",IF(COUNTIF(M55,\"ร\"),\"ร\",VLOOKUP(M55,$Y$20:$AA$27,3)))))))","v":""},null,null,null,null,null,{"$f":"IF(เวลาเรียน!DZ56=\"\",\"\",เวลาเรียน!DZ56)","v":""},null,{"$f":"IF(คุณลักษณะอันพึงประสงค์!AA52=\"\",\"\",คุณลักษณะอันพึงประสงค์!AA52)","v":""},null,{"$f":"IF('อ่าน คิด วิเคราะห์'!U52=\"\",\"\",'อ่าน คิด วิเคราะห์'!U52)","v":""}]
[{"$f":"CONCATENATE(Sheet1!D50)","v":""},49,{"$f":"IF(ประเมินตัวชี้วัด!DE55=\"\",\"\",CONCATENATE(ประเมินตัวชี้วัด!DE55))","v":""},{"$f":"IF(ประเมินตัวชี้วัด!#REF!=\"\",\"\",ประเมินตัวชี้วัด!#REF!)","v":{"$error":"#REF!"}},{"$f":"IF(ประเมินตัวชี้วัด!DL55=\"ร\",\"ร\",IF(ประเมินตัวชี้วัด!DL55=\"\",\"\",MAXA(ประเมินตัวชี้วัด!DL55,ประเมินตัวชี้วัด!DO55)))","v":""},{"$f":"IF(E56=0,\"\",IF(E56=\"\",\"\",(IF(เวลาเรียน!DZ57=\"ปกติ\",IF(COUNTIF(E56,\"ร\"),\"ร\",VLOOKUP(E56,$Y$20:$AA$27,3))))))","v":""},null,{"$f":"IF(ประเมินตัวชี้วัดเทอม2!FO55=\"\",\"\",CONCATENATE(ประเมินตัวชี้วัดเทอม2!FO55))","v":{"$error":"#REF!"}},{"$f":"IF(ประเมินตัวชี้วัดเทอม2!FS55=\"\",\"\",ประเมินตัวชี้วัดเทอม2!FS55)","v":""},{"$f":"IF(ประเมินตัวชี้วัดเทอม2!FU55=\"\",\"\",ประเมินตัวชี้วัดเทอม2!FU55)","v":{"$error":"#REF!"}},null,{"$f":"IF(เวลาเรียน!DZ57=\"\",\"\",IF(เวลาเรียน!DZ57=\"ย้าย\",\"-\",IF(เวลาเรียน!DZ57=\"จำหน่าย\",\"-\",IF(เวลาเรียน!DZ57=\"ขาดเรียนนาน\",\"-\",IF(E56=\"\",\"\",IF(E56=\"ร\",\"ร\",IF(J56=\"\",\"\",IF(J56=\"ร\",\"ร\",SUM(E56+J56)))))))))","v":""},{"$f":"IF(เวลาเรียน!DZ57=\"\",\"\",IF(เวลาเรียน!DZ57=\"ย้าย\",\"-\",IF(เวลาเรียน!DZ57=\"จำหน่าย\",\"-\",IF(เวลาเรียน!DZ57=\"ขาดเรียนนาน\",\"-\",IF(L56=\"\",\"\",IF(L56=\"ร\",\"ร\",E56))))))","v":""},{"$f":"IF(เวลาเรียน!DZ57=\"\",\"\",IF(เวลาเรียน!DZ57=\"ย้าย\",\"-\",IF(เวลาเรียน!DZ57=\"จำหน่าย\",\"-\",IF(เวลาเรียน!DZ57=\"ขาดเรียนนาน\",\"-\",IF(เวลาเรียน!DY57<80,\"มส\",IF(COUNTIF(M56,\"ร\"),\"ร\",VLOOKUP(M56,$Y$20:$AA$27,3)))))))","v":""},null,null,null,null,null,{"$f":"IF(เวลาเรียน!DZ57=\"\",\"\",เวลาเรียน!DZ57)","v":""},null,{"$f":"IF(คุณลักษณะอันพึงประสงค์!AA53=\"\",\"\",คุณลักษณะอันพึงประสงค์!AA53)","v":""},null,{"$f":"IF('อ่าน คิด วิเคราะห์'!U53=\"\",\"\",'อ่าน คิด วิเคราะห์'!U53)","v":""}]
[{"$f":"CONCATENATE(Sheet1!D51)","v":""},50,{"$f":"IF(ประเมินตัวชี้วัด!DE56=\"\",\"\",CONCATENATE(ประเมินตัวชี้วัด!DE56))","v":""},{"$f":"IF(ประเมินตัวชี้วัด!#REF!=\"\",\"\",ประเมินตัวชี้วัด!#REF!)","v":{"$error":"#REF!"}},{"$f":"IF(ประเมินตัวชี้วัด!DL56=\"ร\",\"ร\",IF(ประเมินตัวชี้วัด!DL56=\"\",\"\",MAXA(ประเมินตัวชี้วัด!DL56,ประเมินตัวชี้วัด!DO56)))","v":""},{"$f":"IF(E57=0,\"\",IF(E57=\"\",\"\",(IF(เวลาเรียน!DZ58=\"ปกติ\",IF(COUNTIF(E57,\"ร\"),\"ร\",VLOOKUP(E57,$Y$20:$AA$27,3))))))","v":""},null,{"$f":"IF(ประเมินตัวชี้วัดเทอม2!FO56=\"\",\"\",CONCATENATE(ประเมินตัวชี้วัดเทอม2!FO56))","v":{"$error":"#REF!"}},{"$f":"IF(ประเมินตัวชี้วัดเทอม2!FS56=\"\",\"\",ประเมินตัวชี้วัดเทอม2!FS56)","v":""},{"$f":"IF(ประเมินตัวชี้วัดเทอม2!FU56=\"\",\"\",ประเมินตัวชี้วัดเทอม2!FU56)","v":{"$error":"#REF!"}},null,{"$f":"IF(เวลาเรียน!DZ58=\"\",\"\",IF(เวลาเรียน!DZ58=\"ย้าย\",\"-\",IF(เวลาเรียน!DZ58=\"จำหน่าย\",\"-\",IF(เวลาเรียน!DZ58=\"ขาดเรียนนาน\",\"-\",IF(E57=\"\",\"\",IF(E57=\"ร\",\"ร\",IF(J57=\"\",\"\",IF(J57=\"ร\",\"ร\",SUM(E57+J57)))))))))","v":""},{"$f":"IF(เวลาเรียน!DZ58=\"\",\"\",IF(เวลาเรียน!DZ58=\"ย้าย\",\"-\",IF(เวลาเรียน!DZ58=\"จำหน่าย\",\"-\",IF(เวลาเรียน!DZ58=\"ขาดเรียนนาน\",\"-\",IF(L57=\"\",\"\",IF(L57=\"ร\",\"ร\",E57))))))","v":""},{"$f":"IF(เวลาเรียน!DZ58=\"\",\"\",IF(เวลาเรียน!DZ58=\"ย้าย\",\"-\",IF(เวลาเรียน!DZ58=\"จำหน่าย\",\"-\",IF(เวลาเรียน!DZ58=\"ขาดเรียนนาน\",\"-\",IF(เวลาเรียน!DY58<80,\"มส\",IF(COUNTIF(M57,\"ร\"),\"ร\",VLOOKUP(M57,$Y$20:$AA$27,3)))))))","v":""},null,null,null,null,null,{"$f":"IF(เวลาเรียน!DZ58=\"\",\"\",เวลาเรียน!DZ58)","v":""},null,{"$f":"IF(คุณลักษณะอันพึงประสงค์!AA54=\"\",\"\",คุณลักษณะอันพึงประสงค์!AA54)","v":""},null,{"$f":"IF('อ่าน คิด วิเคราะห์'!U54=\"\",\"\",'อ่าน คิด วิเคราะห์'!U54)","v":""}]
[null,null,null,null,null,null,null,null,null,null,null,null,null,null,null,null,null,null,null,null,null,null,null,null,null,null,null,{"$f":"STDEV(N8:N47)","v":{"$error":"#DIV/0!"}}]

{"sheet":"คุณลักษณะอันพึงประสงค์","index":8,"n_rows":54,"n_cols":31,"rows_kept":54,"cut":false,"hidden":true,"merged":[[4,29,4,30],[2,0,3,0],[2,1,3,1],[5,28,6,28],[2,25,3,25],[1,0,1,2],[7,28,11,28],[12,28,14,28],[2,4,2,11],[2,13,3,13],[2,2,3,2],[2,3,3,3],[2,16,3,16],[2,17,2,24],[2,12,3,12],[2,26,3,26]]}
[null,null,"การประเมิน","คุณลักษณะอันพึงประสงค์ ภาคเรียนที่ 1",null,null,null,null,null,null,null,null,null,null,null,null,"คุณลักษณะอันพึงประสงค์"]
[{"$f":"\"นักเรียน\"&ปก!AF11&ปก!AL11","v":"นักเรียนชั้นมัธยมศึกษาปีที่ 3/5"},null,null,{"$f":"ใบรายชื่อ!$A$4","v":"รายวิชา{{โปรดกรอกข้อมูลรายวิชา}}    รหัสวิชา {{โปรดกรอกรหัสวิชา}}    ปีการศึกษา 2566"},null,null,null,null,null,null,null,null,null,null,null,null,{"$f":"ใบรายชื่อ!$A$4","v":"รายวิชา{{โปรดกรอกข้อมูลรายวิชา}}    รหัสวิชา {{โปรดกรอกรหัสวิชา}}    ปีการศึกษา 2566"}]
["เลขที่","เลขประจำตัว","ชื่อ - ชื่อสกุล","เลขที่","คุณลักษณะอันพึงประสงค์ข้อที่",null,null,null,null,null,null,null,"ระดับผลการประเมิน","ผลการประเมิน\nภาคเรียนที่ 1",null,null,"เลขที่","คุณลักษณะอันพึงประสงค์ข้อที่",null,null,null,null,null,null,null,"ระดับผลการประเมิน","ผลการประเมิน"]
[null,null,null,null,1,2,3,4,5,6,7,8,null,null,null,null,null,1,2,3,4,5,6,7,8,null,null,null,"เกณฑ์การประเมินคุณลักษณะอันพึงประสงค์"]
[1,{"$f":"Sheet1!B2","v":12886},{"$f":"Sheet1!D2&Sheet1!#REF!&\"    \"&Sheet1!#REF!","v":{"$error":"#REF!"}},1,null,null,null,null,null,null,null,null,{"$f":"IF(N5=\"\",\"\",IF(N5=\"ดีเยี่ยม\",3,IF(N5=\"ดี\",2,IF(N5=\"ผ่าน\",1,IF(N5=\"ไม่ผ่าน\",0)))))","v":""},{"$f":"IF(E5=\"\",\"\",(IF(F5=\"\",\"\",(IF(G5=\"\",\"\",(IF(H5=\"\",\"\",(IF(I5=\"\",\"\",(IF(J5=\"\",\"\",IF(K5=\"\",\"\",(IF(L5=\"\",\"\",(IF(COUNTIF(E5:L5,0)>0,\"ไม่ผ่าน\",IF(AND(COUNTIF(E5:L5,3)>=5,COUNTIF(E5:L5,\"<2\")=0),\"ดีเยี่ยม\",IF(OR(AND(AND(COUNTIF(E5:L5,3)>=1,COUNTIF(E5:L5,3)<=4),COUNTIF(E5:L5,\"<2\")=0),COUNTIF(E5:L5,2)=8,AND(COUNTIF(E5:L5,\">=2\")>=5,COUNTIF(E5:L5,1)>0)),\"ดี\",IF(OR(COUNTIF(E5:L5,1)=8,AND(COUNTIF(E5:L5,\">=2\")>=1,COUNTIF(E5:L5,\">=2\")<=4)),\"ผ่าน\",\"ไม่ผ่าน\")))))))))))))))))))","v":""},"เก็บ+กลาง",{"$f":"SUM(#REF!,#REF!)","v":{"$error":"#REF!"}},1,null,null,null,null,null,null,null,null,{"$f":"IF(AA5=\"\",\"\",IF(AA5=\"ดีเยี่ยม\",3,IF(AA5=\"ดี\",2,IF(AA5=\"ผ่าน\",1,IF(AA5=\"ไม่ผ่าน\",0)))))","v":""},{"$f":"IF(R5=\"\",\"\",(IF(S5=\"\",\"\",(IF(T5=\"\",\"\",(IF(U5=\"\",\"\",(IF(V5=\"\",\"\",(IF(W5=\"\",\"\",IF(X5=\"\",\"\",(IF(Y5=\"\",\"\",(IF(COUNTIF(R5:Y5,0)>0,\"ไม่ผ่าน\",IF(AND(COUNTIF(R5:Y5,3)>=5,COUNTIF(R5:Y5,\"<2\")=0),\"ดีเยี่ยม\",IF(OR(AND(AND(COUNTIF(R5:Y5,3)>=1,COUNTIF(R5:Y5,3)<=4),COUNTIF(R5:Y5,\"<2\")=0),COUNTIF(R5:Y5,2)=8,AND(COUNTIF(R5:Y5,\">=2\")>=5,COUNTIF(R5:Y5,1)>0)),\"ดี\",IF(OR(COUNTIF(R5:Y5,1)=8,AND(COUNTIF(R5:Y5,\">=2\")>=1,COUNTIF(R5:Y5,\">=2\")<=4)),\"ผ่าน\",\"ไม่ผ่าน\")))))))))))))))))))","v":""},null,"ระดับ","เกณฑ์การพิจรณา"]
[2,{"$f":"Sheet1!B3","v":12896},{"$f":"Sheet1!D3&Sheet1!#REF!&\"    \"&Sheet1!#REF!","v":{"$error":"#REF!"}},2,null,null,null,null,null,null,null,null,{"$f":"IF(N6=\"\",\"\",IF(N6=\"ดีเยี่ยม\",3,IF(N6=\"ดี\",2,IF(N6=\"ผ่าน\",1,IF(N6=\"ไม่ผ่าน\",0)))))","v":""},{"$f":"IF(E6=\"\",\"\",(IF(F6=\"\",\"\",(IF(G6=\"\",\"\",(IF(H6=\"\",\"\",(IF(I6=\"\",\"\",(IF(J6=\"\",\"\",IF(K6=\"\",\"\",(IF(L6=\"\",\"\",(IF(COUNTIF(E6:L6,0)>0,\"ไม่ผ่าน\",IF(AND(COUNTIF(E6:L6,3)>=5,COUNTIF(E6:L6,\"<2\")=0),\"ดีเยี่ยม\",IF(OR(AND(AND(COUNTIF(E6:L6,3)>=1,COUNTIF(E6:L6,3)<=4),COUNTIF(E6:L6,\"<2\")=0),COUNTIF(E6:L6,2)=8,AND(COUNTIF(E6:L6,\">=2\")>=5,COUNTIF(E6:L6,1)>0)),\"ดี\",IF(OR(COUNTIF(E6:L6,1)=8,AND(COUNTIF(E6:L6,\">=2\")>=1,COUNTIF(E6:L6,\">=2\")<=4)),\"ผ่าน\",\"ไม่ผ่าน\")))))))))))))))))))","v":""},"ปลาย",{"$f":"#REF!","v":{"$error":"#REF!"}},2,null,null,null,null,null,null,null,null,{"$f":"IF(AA6=\"\",\"\",IF(AA6=\"ดีเยี่ยม\",3,IF(AA6=\"ดี\",2,IF(AA6=\"ผ่าน\",1,IF(AA6=\"ไม่ผ่าน\",0)))))","v":""},{"$f":"IF(R6=\"\",\"\",(IF(S6=\"\",\"\",(IF(T6=\"\",\"\",(IF(U6=\"\",\"\",(IF(V6=\"\",\"\",(IF(W6=\"\",\"\",IF(X6=\"\",\"\",(IF(Y6=\"\",\"\",(IF(COUNTIF(R6:Y6,0)>0,\"ไม่ผ่าน\",IF(AND(COUNTIF(R6:Y6,3)>=5,COUNTIF(R6:Y6,\"<2\")=0),\"ดีเยี่ยม\",IF(OR(AND(AND(COUNTIF(R6:Y6,3)>=1,COUNTIF(R6:Y6,3)<=4),COUNTIF(R6:Y6,\"<2\")=0),COUNTIF(R6:Y6,2)=8,AND(COUNTIF(R6:Y6,\">=2\")>=5,COUNTIF(R6:Y6,1)>0)),\"ดี\",IF(OR(COUNTIF(R6:Y6,1)=8,AND(COUNTIF(R6:Y6,\">=2\")>=1,COUNTIF(R6:Y6,\">=2\")<=4)),\"ผ่าน\",\"ไม่ผ่าน\")))))))))))))))))))","v":""},null,"ดีเยี่ยม(3)",1,"ได้ผลการประเมินระดับดีเยี่ยม จำนวน 5-8 คุณลักษณะ และไม่มีคุณลักษณะใด"]
[3,{"$f":"Sheet1!B4","v":12914},{"$f":"Sheet1!D4&Sheet1!#REF!&\"    \"&Sheet1!#REF!","v":{"$error":"#REF!"}},3,null,null,null,null,null,null,null,null,"",{"$f":"IF(E7=\"\",\"\",(IF(F7=\"\",\"\",(IF(G7=\"\",\"\",(IF(H7=\"\",\"\",(IF(I7=\"\",\"\",(IF(J7=\"\",\"\",IF(K7=\"\",\"\",(IF(L7=\"\",\"\",(IF(COUNTIF(E7:L7,0)>0,\"ไม่ผ่าน\",IF(AND(COUNTIF(E7:L7,3)>=5,COUNTIF(E7:L7,\"<2\")=0),\"ดีเยี่ยม\",IF(OR(AND(AND(COUNTIF(E7:L7,3)>=1,COUNTIF(E7:L7,3)<=4),COUNTIF(E7:L7,\"<2\")=0),COUNTIF(E7:L7,2)=8,AND(COUNTIF(E7:L7,\">=2\")>=5,COUNTIF(E7:L7,1)>0)),\"ดี\",IF(OR(COUNTIF(E7:L7,1)=8,AND(COUNTIF(E7:L7,\">=2\")>=1,COUNTIF(E7:L7,\">=2\")<=4)),\"ผ่าน\",\"ไม่ผ่าน\")))))))))))))))))))","v":""},"รวม",{"$f":"SUM(P5+P6)","v":{"$error":"#REF!"}},3,null,null,null,null,null,null,null,null,"",{"$f":"IF(R7=\"\",\"\",(IF(S7=\"\",\"\",(IF(T7=\"\",\"\",(IF(U7=\"\",\"\",(IF(V7=\"\",\"\",(IF(W7=\"\",\"\",IF(X7=\"\",\"\",(IF(Y7=\"\",\"\",(IF(COUNTIF(R7:Y7,0)>0,\"ไม่ผ่าน\",IF(AND(COUNTIF(R7:Y7,3)>=5,COUNTIF(R7:Y7,\"<2\")=0),\"ดีเยี่ยม\",IF(OR(AND(AND(COUNTIF(R7:Y7,3)>=1,COUNTIF(R7:Y7,3)<=4),COUNTIF(R7:Y7,\"<2\")=0),COUNTIF(R7:Y7,2)=8,AND(COUNTIF(R7:Y7,\">=2\")>=5,COUNTIF(R7:Y7,1)>0)),\"ดี\",IF(OR(COUNTIF(R7:Y7,1)=8,AND(COUNTIF(R7:Y7,\">=2\")>=1,COUNTIF(R7:Y7,\">=2\")<=4)),\"ผ่าน\",\"ไม่ผ่าน\")))))))))))))))))))","v":""},null,null,null,"ได้ผลการประเมินต่ำกว่าระดับดี"]
[4,{"$f":"Sheet1!B5","v":12920},{"$f":"Sheet1!D5&Sheet1!#REF!&\"    \"&Sheet1!#REF!","v":{"$error":"#REF!"}},4,null,null,null,null,null,null,null,null,"","",null,null,4,null,null,null,null,null,null,null,null,"","",null,"ดี(2)",1,"ได้ผลการประเมินระดับดีเยี่ยม จำนวน 1-4 คุณลักษณะ และไม่มีคุณลักษณะใด"]
[5,{"$f":"Sheet1!B6","v":12924},{"$f":"Sheet1!D6&Sheet1!#REF!&\"    \"&Sheet1!#REF!","v":{"$error":"#REF!"}},5,null,null,null,null,null,null,null,null,"","",null,null,5,null,null,null,null,null,null,null,null,"","",null,null,null,"ได้ผลการประเมินต่ำกว่าระดับดี หรือ"]
[6,{"$f":"Sheet1!B7","v":12926},{"$f":"Sheet1!D7&Sheet1!#REF!&\"    \"&Sheet1!#REF!","v":{"$error":"#REF!"}},6,null,null,null,null,null,null,null,null,"","",null,null,6,null,null,null,null,null,null,null,null,"","",null,null,2,"ได้ผลการประเมินระดับดี ทั้ง 8 คุณลักษณะ หรือ"]
[7,{"$f":"Sheet1!B8","v":12938},{"$f":"Sheet1!D8&Sheet1!#REF!&\"    \"&Sheet1!#REF!","v":{"$error":"#REF!"}},7,null,null,null,null,null,null,null,null,"","",null,null,7,null,null,null,null,null,null,null,null,"","",null,null,3,"ได้ผลการประเมินตั้งแต่ระดับดีขึ้นไป จำนวน 5-7 คุณลักษณะ และมีบางคุณลักษณะ"]
[8,{"$f":"Sheet1!B9","v":12942},{"$f":"Sheet1!D9&Sheet1!#REF!&\"    \"&Sheet1!#REF!","v":{"$error":"#REF!"}},8,null,null,null,null,null,null,null,null,"","",null,null,8,null,null,null,null,null,null,null,null,"","",null,null,null,"ได้ผลการประเมินระดับผ่าน"]
[9,{"$f":"Sheet1!B10","v":14067},{"$f":"Sheet1!D10&Sheet1!#REF!&\"    \"&Sheet1!#REF!","v":{"$error":"#REF!"}},9,null,null,null,null,null,null,null,null,"","",null,null,9,null,null,null,null,null,null,null,null,"","",null,"ผ่าน(1)",1,"ได้ผลการประเมินระดับผ่าน ทั้ง 8 คุณลักษณะ หรือ"]
[10,{"$f":"Sheet1!B11","v":14070},{"$f":"Sheet1!D11&Sheet1!#REF!&\"    \"&Sheet1!#REF!","v":{"$error":"#REF!"}},10,null,null,null,null,null,null,null,null,"","",null,null,10,null,null,null,null,null,null,null,null,"","",null,null,2,"ได้ผลการประเมินระดับดีขึ้นไป จำนวน 1-4 คุณลักษณะ และคุณลักษณะที่เหลือ"]
[11,{"$f":"Sheet1!B12","v":14073},{"$f":"Sheet1!D12&Sheet1!#REF!&\"    \"&Sheet1!#REF!","v":{"$error":"#REF!"}},11,null,null,null,null,null,null,null,null,"","",null,null,11,null,null,null,null,null,null,null,null,"","",null,null,null,"ได้ผลการประเมินระดับผ่าน"]
[12,{"$f":"Sheet1!B13","v":14090},{"$f":"Sheet1!D13&Sheet1!#REF!&\"    \"&Sheet1!#REF!","v":{"$error":"#REF!"}},12,null,null,null,null,null,null,null,null,"","",null,null,12,null,null,null,null,null,null,null,null,"","",null,"ไม่ผ่าน(0)",1,"ได้ผลการประเมินระดับไม่ผ่าน ตั้งแต่ 1 คุณลักษณะขึ้นไป"]
[13,{"$f":"Sheet1!B14","v":14096},{"$f":"Sheet1!D14&Sheet1!#REF!&\"    \"&Sheet1!#REF!","v":{"$error":"#REF!"}},13,null,null,null,null,null,null,null,null,"","",null,null,13,null,null,null,null,null,null,null,null,"",""]
[14,{"$f":"Sheet1!B15","v":14099},{"$f":"Sheet1!D15&Sheet1!#REF!&\"    \"&Sheet1!#REF!","v":{"$error":"#REF!"}},14,null,null,null,null,null,null,null,null,"","",null,null,14,null,null,null,null,null,null,null,null,"",""]
[15,{"$f":"Sheet1!B16","v":14107},{"$f":"Sheet1!D16&Sheet1!#REF!&\"    \"&Sheet1!#REF!","v":{"$error":"#REF!"}},15,null,null,null,null,null,null,null,null,"","",null,null,15,null,null,null,null,null,null,null,null,"",""]
[16,{"$f":"Sheet1!B17","v":14112},{"$f":"Sheet1!D17&Sheet1!#REF!&\"    \"&Sheet1!#REF!","v":{"$error":"#REF!"}},16,null,null,null,null,null,null,null,null,"","",null,null,16,null,null,null,null,null,null,null,null,"","",null,null,{"$f":"COUNTIF($AA$5:$AA$54,\"ไม่ผ่าน\")","v":0}]
[17,{"$f":"Sheet1!B18","v":14118},{"$f":"Sheet1!D18&Sheet1!#REF!&\"    \"&Sheet1!#REF!","v":{"$error":"#REF!"}},17,null,null,null,null,null,null,null,null,"","",null,null,17,null,null,null,null,null,null,null,null,"","",null,null,{"$f":"COUNTIF($AA$5:$AA$54,\"ผ่าน\")","v":0}]
[18,{"$f":"Sheet1!B19","v":14120},{"$f":"Sheet1!D19&Sheet1!#REF!&\"    \"&Sheet1!#REF!","v":{"$error":"#REF!"}},18,null,null,null,null,null,null,null,null,"","",null,null,18,null,null,null,null,null,null,null,null,"","",null,null,{"$f":"COUNTIF($AA$5:$AA$54,\"ดี\")","v":0}]
[19,{"$f":"Sheet1!B20","v":14123},{"$f":"Sheet1!D20&Sheet1!#REF!&\"    \"&Sheet1!#REF!","v":{"$error":"#REF!"}},19,null,null,null,null,null,null,null,null,"","",null,null,19,null,null,null,null,null,null,null,null,"","",null,null,{"$f":"COUNTIF($AA$5:$AA$54,\"ดีเยี่ยม\")","v":0}]
[20,{"$f":"Sheet1!B21","v":14126},{"$f":"Sheet1!D21&Sheet1!#REF!&\"    \"&Sheet1!#REF!","v":{"$error":"#REF!"}},20,null,null,null,null,null,null,null,null,"","",null,null,20,null,null,null,null,null,null,null,null,"",""]
[21,{"$f":"Sheet1!B22","v":14127},{"$f":"Sheet1!D22&Sheet1!#REF!&\"    \"&Sheet1!#REF!","v":{"$error":"#REF!"}},21,null,null,null,null,null,null,null,null,"","",null,null,21,null,null,null,null,null,null,null,null,"",""]
[22,{"$f":"Sheet1!B23","v":14142},{"$f":"Sheet1!D23&Sheet1!#REF!&\"    \"&Sheet1!#REF!","v":{"$error":"#REF!"}},22,null,null,null,null,null,null,null,null,"","",null,null,22,null,null,null,null,null,null,null,null,"",""]
[23,{"$f":"Sheet1!B24","v":14434},{"$f":"Sheet1!D24&Sheet1!#REF!&\"    \"&Sheet1!#REF!","v":{"$error":"#REF!"}},23,null,null,null,null,null,null,null,null,"","",null,null,23,null,null,null,null,null,null,null,null,"",""]
[24,{"$f":"Sheet1!B25","v":14445},{"$f":"Sheet1!D25&Sheet1!#REF!&\"    \"&Sheet1!#REF!","v":{"$error":"#REF!"}},24,null,null,null,null,null,null,null,null,"","",null,null,24,null,null,null,null,null,null,null,null,"",""]
[25,{"$f":"Sheet1!B26","v":14924},{"$f":"Sheet1!D26&Sheet1!#REF!&\"    \"&Sheet1!#REF!","v":{"$error":"#REF!"}},25,null,null,null,null,null,null,null,null,"","",null,null,25,null,null,null,null,null,null,null,null,"",""]
[26,{"$f":"Sheet1!B27","v":15041},{"$f":"Sheet1!D27&Sheet1!#REF!&\"    \"&Sheet1!#REF!","v":{"$error":"#REF!"}},26,null,null,null,null,null,null,null,null,"","",null,null,26,null,null,null,null,null,null,null,null,"",""]
[27,{"$f":"Sheet1!B28","v":15720},{"$f":"Sheet1!D28&Sheet1!#REF!&\"    \"&Sheet1!#REF!","v":{"$error":"#REF!"}},27,null,null,null,null,null,null,null,null,"","",null,null,27,null,null,null,null,null,null,null,null,"",""]
[28,{"$f":"Sheet1!B29","v":15727},{"$f":"Sheet1!D29&Sheet1!#REF!&\"    \"&Sheet1!#REF!","v":{"$error":"#REF!"}},28,null,null,null,null,null,null,null,null,"","",null,null,28,null,null,null,null,null,null,null,null,"",""]
[29,{"$f":"Sheet1!B30","v":18137},{"$f":"Sheet1!D30&Sheet1!#REF!&\"    \"&Sheet1!#REF!","v":{"$error":"#REF!"}},29,null,null,null,null,null,null,null,null,"","",null,null,29,null,null,null,null,null,null,null,null,"",""]
[30,{"$f":"Sheet1!B31","v":18157},{"$f":"Sheet1!D31&Sheet1!#REF!&\"    \"&Sheet1!#REF!","v":{"$error":"#REF!"}},30,null,null,null,null,null,null,null,null,"","",null,null,30,null,null,null,null,null,null,null,null,"",""]
[31,{"$f":"Sheet1!B32","v":18158},{"$f":"Sheet1!D32&Sheet1!#REF!&\"    \"&Sheet1!#REF!","v":{"$error":"#REF!"}},31,null,null,null,null,null,null,null,null,"","",null,null,31,null,null,null,null,null,null,null,null,"",""]
[32,{"$f":"Sheet1!B33","v":18159},{"$f":"Sheet1!D33&Sheet1!#REF!&\"    \"&Sheet1!#REF!","v":{"$error":"#REF!"}},32,null,null,null,null,null,null,null,null,"","",null,null,32,null,null,null,null,null,null,null,null,"",""]
[33,{"$f":"Sheet1!B34","v":18160},{"$f":"Sheet1!D34&Sheet1!#REF!&\"    \"&Sheet1!#REF!","v":{"$error":"#REF!"}},33,null,null,null,null,null,null,null,null,"","",null,null,33,null,null,null,null,null,null,null,null,"",""]
[34,{"$f":"Sheet1!B35","v":18161},{"$f":"Sheet1!D35&Sheet1!#REF!&\"    \"&Sheet1!#REF!","v":{"$error":"#REF!"}},34,null,null,null,null,null,null,null,null,"","",null,null,34,null,null,null,null,null,null,null,null,"",""]
[35,{"$f":"Sheet1!B36","v":18163},{"$f":"Sheet1!D36&Sheet1!#REF!&\"    \"&Sheet1!#REF!","v":{"$error":"#REF!"}},35,null,null,null,null,null,null,null,null,"","",null,null,35,null,null,null,null,null,null,null,null,"",""]
[36,{"$f":"Sheet1!B37","v":18417},{"$f":"Sheet1!D37&Sheet1!#REF!&\"    \"&Sheet1!#REF!","v":{"$error":"#REF!"}},36,null,null,null,null,null,null,null,null,"","",null,null,36,null,null,null,null,null,null,null,null,"",""]
[37,{"$f":"Sheet1!B38","v":18806},{"$f":"Sheet1!D38&Sheet1!#REF!&\"    \"&Sheet1!#REF!","v":{"$error":"#REF!"}},37,null,null,null,null,null,null,null,null,"","",null,null,37,null,null,null,null,null,null,null,null,"",""]
[38,{"$f":"Sheet1!B39","v":0},{"$f":"Sheet1!D39&Sheet1!#REF!&\"    \"&Sheet1!#REF!","v":{"$error":"#REF!"}},38,null,null,null,null,null,null,null,null,"","",null,null,38,null,null,null,null,null,null,null,null,"",""]
[39,{"$f":"Sheet1!B40","v":0},{"$f":"Sheet1!D40&Sheet1!#REF!&\"    \"&Sheet1!#REF!","v":{"$error":"#REF!"}},39,null,null,null,null,null,null,null,null,"","",null,null,39,null,null,null,null,null,null,null,null,"",""]
[40,{"$f":"Sheet1!B41","v":0},{"$f":"Sheet1!D41&Sheet1!#REF!&\"    \"&Sheet1!#REF!","v":{"$error":"#REF!"}},40,null,null,null,null,null,null,null,null,"","",null,null,40,null,null,null,null,null,null,null,null,"",""]
[41,{"$f":"Sheet1!B42","v":0},{"$f":"Sheet1!D42&Sheet1!#REF!&\"    \"&Sheet1!#REF!","v":{"$error":"#REF!"}},41,null,null,null,null,null,null,null,null,"","",null,null,41,null,null,null,null,null,null,null,null,"",""]
[42,{"$f":"Sheet1!B43","v":0},{"$f":"Sheet1!D43&Sheet1!#REF!&\"    \"&Sheet1!#REF!","v":{"$error":"#REF!"}},42,null,null,null,null,null,null,null,null,"","",null,null,42,null,null,null,null,null,null,null,null,"",""]
[43,{"$f":"Sheet1!B44","v":0},{"$f":"Sheet1!D44&Sheet1!#REF!&\"    \"&Sheet1!#REF!","v":{"$error":"#REF!"}},43,null,null,null,null,null,null,null,null,"","",null,null,43,null,null,null,null,null,null,null,null,"",""]
[44,{"$f":"Sheet1!B45","v":0},{"$f":"Sheet1!D45&Sheet1!#REF!&\"    \"&Sheet1!#REF!","v":{"$error":"#REF!"}},44,null,null,null,null,null,null,null,null,"","",null,null,44,null,null,null,null,null,null,null,null,"",""]
[45,{"$f":"Sheet1!B46","v":0},{"$f":"Sheet1!D46&Sheet1!#REF!&\"    \"&Sheet1!#REF!","v":{"$error":"#REF!"}},45,null,null,null,null,null,null,null,null,"","",null,null,45,null,null,null,null,null,null,null,null,"",""]
[46,{"$f":"Sheet1!B47","v":0},{"$f":"Sheet1!D47&Sheet1!#REF!&\"    \"&Sheet1!#REF!","v":{"$error":"#REF!"}},46,null,null,null,null,null,null,null,null,"","",null,null,46,null,null,null,null,null,null,null,null,"",""]
[47,{"$f":"Sheet1!B48","v":0},{"$f":"Sheet1!D48&Sheet1!#REF!&\"    \"&Sheet1!#REF!","v":{"$error":"#REF!"}},47,null,null,null,null,null,null,null,null,"","",null,null,47,null,null,null,null,null,null,null,null,"",""]
[48,{"$f":"Sheet1!B49","v":0},{"$f":"Sheet1!D49&Sheet1!#REF!&\"    \"&Sheet1!#REF!","v":{"$error":"#REF!"}},48,null,null,null,null,null,null,null,null,"","",null,null,48,null,null,null,null,null,null,null,null,"",""]
[49,{"$f":"Sheet1!B50","v":0},{"$f":"Sheet1!D50&Sheet1!#REF!&\"    \"&Sheet1!#REF!","v":{"$error":"#REF!"}},49,null,null,null,null,null,null,null,null,"","",null,null,49,null,null,null,null,null,null,null,null,"",""]
[50,{"$f":"Sheet1!B51","v":0},{"$f":"Sheet1!D51&Sheet1!#REF!&\"    \"&Sheet1!#REF!","v":{"$error":"#REF!"}},50,null,null,null,null,null,null,null,null,"","",null,null,50,null,null,null,null,null,null,null,null,"",""]

{"sheet":"อ่าน คิด วิเคราะห์","index":9,"n_rows":54,"n_cols":26,"rows_kept":54,"cut":false,"hidden":true,"merged":[[3,22,3,25],[4,24,4,25],[5,23,6,23],[2,0,3,0],[2,1,3,1],[2,2,3,2],[2,4,2,8],[2,9,3,10],[2,13,3,13],[2,3,3,3],[2,14,2,18],[2,19,3,20],[5,25,6,25],[7,23,8,23],[9,23,10,23],[11,23,13,23],[7,25,8,25],[9,25,10,25],[11,25,13,25],[15,22,16,25],[21,23,22,25],[23,23,24,25],[25,23,26,25],[17,22,18,22],[19,22,20,22],[21,22,22,22],[23,22,24,22],[25,22,26,22],[19,23,20,25],[17,23,18,25]]}
[null,null,"การประเมินความสามารถ","ในการอ่าน คิดวิเคราะห์ และเขียน ภาคเรียนที่ 1",null,null,null,null,null,null,null,null,null,"ในการอ่าน คิดวิเคราะห์ และเขียน"]
[null,null,{"$f":"\"นักเรียน\"&ปก!AF11&ปก!AL11&\" \"","v":"นักเรียนชั้นมัธยมศึกษาปีที่ 3/5 "},{"$f":"ใบรายชื่อ!$A$4","v":"รายวิชา{{โปรดกรอกข้อมูลรายวิชา}}    รหัสวิชา {{โปรดกรอกรหัสวิชา}}    ปีการศึกษา 2566"},null,null,null,null,null,null,null,null,null,{"$f":"ใบรายชื่อ!$A$4","v":"รายวิชา{{โปรดกรอกข้อมูลรายวิชา}}    รหัสวิชา {{โปรดกรอกรหัสวิชา}}    ปีการศึกษา 2566"}]
["เลขที่","เลขประจำตัว","ชื่อ - ชื่อสกุล","เลขที่","ตัวชี้วัดความสามารถในการอ่าน คิดวิเคราะห์ และเขียน",null,null,null,null,"ผลการประเมิน\nภาคเรียนที่ 1",null,null,null,"เลขที่","ตัวชี้วัดความสามารถในการอ่าน คิดวิเคราะห์ และเขียน",null,null,null,null,"ผลการประเมิน"]
[null,null,null,null,1,2,3,4,5,null,null,null,null,null,1,2,3,4,5,null,null,null,"เกณฑ์การประเมินความสามารถในการอ่าน คิดวิเคราะห์ และเขียน"]
[1,{"$f":"Sheet1!B2","v":12886},{"$f":"Sheet1!D2&Sheet1!#REF!&\"   \"&Sheet1!#REF!","v":{"$error":"#REF!"}},1,null,null,null,null,null,{"$f":"IF(E5=\"\",\"\",(IF(F5=\"\",\"\",(IF(G5=\"\",\"\",(IF(H5=\"\",\"\",(IF(I5=\"\",\"\",(SUM(E5:I5)/5))))))))))","v":""},{"$f":"IF(J5=\"\",\"\",(IF(J5>=2.5,\"ดีเยี่ยม\",(IF(J5>=1.5,\"ดี\",(IF(J5>=0.6,\"ผ่าน\",(IF(J5<=0.4,\"ไม่ผ่าน\")))))))))","v":""},"เก็บ+กลาง",{"$f":"SUM(#REF!,#REF!)","v":{"$error":"#REF!"}},1,null,null,null,null,null,{"$f":"IF(O5=\"\",\"\",(IF(P5=\"\",\"\",(IF(Q5=\"\",\"\",(IF(R5=\"\",\"\",(IF(S5=\"\",\"\",(SUM(O5:S5)/5))))))))))","v":""},{"$f":"IF(T5=\"\",\"\",(IF(T5>=2.5,\"ดีเยี่ยม\",(IF(T5>=1.5,\"ดี\",(IF(T5>=0.6,\"ผ่าน\",(IF(T5<=0.4,\"ไม่ผ่าน\")))))))))","v":""},null,null,"ระดับ","เกณฑ์การพิจรณา"]
[2,{"$f":"Sheet1!B3","v":12896},{"$f":"Sheet1!D3&Sheet1!#REF!&\"   \"&Sheet1!#REF!","v":{"$error":"#REF!"}},2,null,null,null,null,null,{"$f":"IF(E6=\"\",\"\",(IF(F6=\"\",\"\",(IF(G6=\"\",\"\",(IF(H6=\"\",\"\",(IF(I6=\"\",\"\",(SUM(E6:I6)/5))))))))))","v":""},{"$f":"IF(J6=\"\",\"\",(IF(J6>=2.5,\"ดีเยี่ยม\",(IF(J6>=1.5,\"ดี\",(IF(J6>=0.6,\"ผ่าน\",(IF(J6<=0.4,\"ไม่ผ่าน\")))))))))","v":""},"ปลาย",{"$f":"#REF!","v":{"$error":"#REF!"}},2,null,null,null,null,null,{"$f":"IF(O6=\"\",\"\",(IF(P6=\"\",\"\",(IF(Q6=\"\",\"\",(IF(R6=\"\",\"\",(IF(S6=\"\",\"\",(SUM(O6:S6)/5))))))))))","v":""},{"$f":"IF(T6=\"\",\"\",(IF(T6>=2.5,\"ดีเยี่ยม\",(IF(T6>=1.5,\"ดี\",(IF(T6>=0.6,\"ผ่าน\",(IF(T6<=0.4,\"ไม่ผ่าน\")))))))))","v":""},null,null,"ดีเยี่ยม(3)",null,"มีผลงานที่แสดงถึงความสามารถในการอ่าน คิดวิเคราะห์ และเขียน ที่มีคุณภาพดีเลิศอยู่เสมอ"]
[3,{"$f":"Sheet1!B4","v":12914},{"$f":"Sheet1!D4&Sheet1!#REF!&\"   \"&Sheet1!#REF!","v":{"$error":"#REF!"}},3,null,null,null,null,null,{"$f":"IF(E7=\"\",\"\",(IF(F7=\"\",\"\",(IF(G7=\"\",\"\",(IF(H7=\"\",\"\",(IF(I7=\"\",\"\",(SUM(E7:I7)/5))))))))))","v":""},"","รวม",{"$f":"SUM(M5+M6)","v":{"$error":"#REF!"}},3,null,null,null,null,null,{"$f":"IF(O7=\"\",\"\",(IF(P7=\"\",\"\",(IF(Q7=\"\",\"\",(IF(R7=\"\",\"\",(IF(S7=\"\",\"\",(SUM(O7:S7)/5))))))))))","v":""},""]
[4,{"$f":"Sheet1!B5","v":12920},{"$f":"Sheet1!D5&Sheet1!#REF!&\"   \"&Sheet1!#REF!","v":{"$error":"#REF!"}},4,null,null,null,null,null,"","",null,null,4,null,null,null,null,null,"","",null,null,"ดี(2)",null,"มีผลงานที่แสดงถึงความสามารถในการอ่าน คิดวิเคราะห์ และเขียน เป็นที่ยอมรับ"]
[5,{"$f":"Sheet1!B6","v":12924},{"$f":"Sheet1!D6&Sheet1!#REF!&\"   \"&Sheet1!#REF!","v":{"$error":"#REF!"}},5,null,null,null,null,null,"","",null,null,5,null,null,null,null,null,"",""]
[6,{"$f":"Sheet1!B7","v":12926},{"$f":"Sheet1!D7&Sheet1!#REF!&\"   \"&Sheet1!#REF!","v":{"$error":"#REF!"}},6,null,null,null,null,null,"","",null,null,6,null,null,null,null,null,"","",null,null,"ผ่าน(1)",null,"มีผลงานที่แสดงถึงความสามารถในการอ่าน คิดวิเคราะห์ และเขียน ทีมีข้อบกพร่องบางประการ"]
[7,{"$f":"Sheet1!B8","v":12938},{"$f":"Sheet1!D8&Sheet1!#REF!&\"   \"&Sheet1!#REF!","v":{"$error":"#REF!"}},7,null,null,null,null,null,"","",null,null,7,null,null,null,null,null,"",""]
[8,{"$f":"Sheet1!B9","v":12942},{"$f":"Sheet1!D9&Sheet1!#REF!&\"   \"&Sheet1!#REF!","v":{"$error":"#REF!"}},8,null,null,null,null,null,"","",null,null,8,null,null,null,null,null,"","",null,null,"ไม่ผ่าน(0)",null,"ไม่มีผลงานที่แสดงถึงความสามารถในการอ่าน คิดวิเคราะห์ และเขียนหรือถ้ามีผลงาน\nผลงานนั้นยังมีข้อบกพร่องที่ต้องได้รับการปรับปรุงแก้ไขหลายประการ"]
[9,{"$f":"Sheet1!B10","v":14067},{"$f":"Sheet1!D10&Sheet1!#REF!&\"   \"&Sheet1!#REF!","v":{"$error":"#REF!"}},9,null,null,null,null,null,"","",null,null,9,null,null,null,null,null,"",""]
[10,{"$f":"Sheet1!B11","v":14070},{"$f":"Sheet1!D11&Sheet1!#REF!&\"   \"&Sheet1!#REF!","v":{"$error":"#REF!"}},10,null,null,null,null,null,"","",null,null,10,null,null,null,null,null,"",""]
[11,{"$f":"Sheet1!B12","v":14073},{"$f":"Sheet1!D12&Sheet1!#REF!&\"   \"&Sheet1!#REF!","v":{"$error":"#REF!"}},11,null,null,null,null,null,"","",null,null,11,null,null,null,null,null,"",""]
[12,{"$f":"Sheet1!B13","v":14090},{"$f":"Sheet1!D13&Sheet1!#REF!&\"   \"&Sheet1!#REF!","v":{"$error":"#REF!"}},12,null,null,null,null,null,"","",null,null,12,null,null,null,null,null,"","",null,{"$f":"\" \"&\"ตัวชี้วัดความสามารถในการอ่าน คิดวิคราะห์ และเขียน \"&\"ระดับชั้น\"&ปก!AN11&\" \"&IF(ปก!C19=3,\"(ม.1-3)\",IF(ปก!C19=4,\"(ม.4-6)\"))","v":" ตัวชี้วัดความสามารถในการอ่าน คิดวิคราะห์ และเขียน ระดับชั้นระดับมัธยมศึกษาตอนต้น FALSE"}]
[13,{"$f":"Sheet1!B14","v":14096},{"$f":"Sheet1!D14&Sheet1!#REF!&\"   \"&Sheet1!#REF!","v":{"$error":"#REF!"}},13,null,null,null,null,null,"","",null,null,13,null,null,null,null,null,"",""]
[14,{"$f":"Sheet1!B15","v":14099},{"$f":"Sheet1!D15&Sheet1!#REF!&\"   \"&Sheet1!#REF!","v":{"$error":"#REF!"}},14,null,null,null,null,null,"","",null,null,14,null,null,null,null,null,"","",null,"1.",{"$f":"IF(ปก!BA2=\"บ\",\"สามารถคัดสรรสื่อที่ต้องการอ่านเพื่อหาข้อมูลสารสนเทศได้ตามวัตถุประสงค์ สามารถสร้างความเข้าใจและประยุกต์ใช้ความรู้จากการอ่าน \",IF(ปก!BA2=\"พ\",\"สามารถอ่านเพื่อการศึกษาค้นคว้า เพิ่มพูนความรู้ ประสบการณ์ และการประยุกต์ใช้ในชีวิตประจำวัน\"))","v":"สามารถคัดสรรสื่อที่ต้องการอ่านเพื่อหาข้อมูลสารสนเทศได้ตามวัตถุประสงค์ สามารถสร้างความเข้าใจและประยุกต์ใช้ความรู้จากการอ่าน "}]
[15,{"$f":"Sheet1!B16","v":14107},{"$f":"Sheet1!D16&Sheet1!#REF!&\"   \"&Sheet1!#REF!","v":{"$error":"#REF!"}},15,null,null,null,null,null,"","",null,null,15,null,null,null,null,null,"",""]
[16,{"$f":"Sheet1!B17","v":14112},{"$f":"Sheet1!D17&Sheet1!#REF!&\"   \"&Sheet1!#REF!","v":{"$error":"#REF!"}},16,null,null,null,null,null,"","",null,null,16,null,null,null,null,null,"","",null,"2.",{"$f":"IF(ปก!BA2=\"บ\",\"สามารถจับประเด็นสำคัญและประเด็นสนับสนุน โต้แย้ง\",IF(ปก!BA2=\"พ\",\"สามารถจับประเด็นสำคัญ ลำดับเหตุการณ์จากการอ่านสื่อที่มีความซับซ้อน\"))","v":"สามารถจับประเด็นสำคัญและประเด็นสนับสนุน โต้แย้ง"}]
[17,{"$f":"Sheet1!B18","v":14118},{"$f":"Sheet1!D18&Sheet1!#REF!&\"   \"&Sheet1!#REF!","v":{"$error":"#REF!"}},17,null,null,null,null,null,"","",null,null,17,null,null,null,null,null,"",""]
[18,{"$f":"Sheet1!B19","v":14120},{"$f":"Sheet1!D19&Sheet1!#REF!&\"   \"&Sheet1!#REF!","v":{"$error":"#REF!"}},18,null,null,null,null,null,"","",null,null,18,null,null,null,null,null,"","",null,"3.",{"$f":"IF(ปก!BA2=\"บ\",\"สามารถวิเคราะห์ วิจารณ์ ความสมเหตุสมผล ความน่าเชื่อถือ ลำดับความเป็นไปได้ของเรื่องที่อ่าน\",IF(ปก!BA2=\"พ\",\"สามารถวิเคราะห์สิ่งที่ผู้เขียนต้องการสื่อสารกับผู้อ่าน และสามารถวิพากษ์ ให้ข้อเสนอแนะในแง่มุมต่างๆ\"))","v":"สามารถวิเคราะห์ วิจารณ์ ความสมเหตุสมผล ความน่าเชื่อถือ ลำดับความเป็นไปได้ของเรื่องที่อ่าน"}]
[19,{"$f":"Sheet1!B20","v":14123},{"$f":"Sheet1!D20&Sheet1!#REF!&\"   \"&Sheet1!#REF!","v":{"$error":"#REF!"}},19,null,null,null,null,null,"","",null,null,19,null,null,null,null,null,"",""]
[20,{"$f":"Sheet1!B21","v":14126},{"$f":"Sheet1!D21&Sheet1!#REF!&\"   \"&Sheet1!#REF!","v":{"$error":"#REF!"}},20,null,null,null,null,null,"","",null,null,20,null,null,null,null,null,"","",null,"4.",{"$f":"IF(ปก!BA2=\"บ\",\"สามารถสรุปคุณค่า แนวคิด แง่คิดที่ได้จากการอ่าน\",IF(ปก!BA2=\"พ\",\"สามารถประเมินความน่าเชื่อถือ คุณค่า แนวคิดที่ได้จากสิ่งที่อ่านอย่างหลากหลาย\"))","v":"สามารถสรุปคุณค่า แนวคิด แง่คิดที่ได้จากการอ่าน"}]
[21,{"$f":"Sheet1!B22","v":14127},{"$f":"Sheet1!D22&Sheet1!#REF!&\"   \"&Sheet1!#REF!","v":{"$error":"#REF!"}},21,null,null,null,null,null,"","",null,null,21,null,null,null,null,null,"",""]
[22,{"$f":"Sheet1!B23","v":14142},{"$f":"Sheet1!D23&Sheet1!#REF!&\"   \"&Sheet1!#REF!","v":{"$error":"#REF!"}},22,null,null,null,null,null,"","",null,null,22,null,null,null,null,null,"","",null,"5.",{"$f":"IF(ปก!BA2=\"บ\",\"สามารถสรุป อภิปราย ขยายความ แสดงความคิดเห็น โต้แย้ง สนันสนุน โน้มน้าว โดยการเขียนสื่อสารในรูปแบบต่างๆ เช่น ผังความคิด เป็นต้น\",IF(ปก!BA2=\"พ\",\"สามารถเขียนแสดงความคิดเห็น โต้แย้ง สรุป โดยมีข้อมูลอธิบายสนับสนุนอย่างเพียงพอ และสมเหตุสมผล\"))","v":"สามารถสรุป อภิปราย ขยายความ แสดงความคิดเห็น โต้แย้ง สนันสนุน โน้มน้าว โดยการเขียนสื่อสารในรูปแบบต่างๆ เช่น ผังความคิด เป็นต้น"}]
[23,{"$f":"Sheet1!B24","v":14434},{"$f":"Sheet1!D24&Sheet1!#REF!&\"   \"&Sheet1!#REF!","v":{"$error":"#REF!"}},23,null,null,null,null,null,"","",null,null,23,null,null,null,null,null,"",""]
[24,{"$f":"Sheet1!B25","v":14445},{"$f":"Sheet1!D25&Sheet1!#REF!&\"   \"&Sheet1!#REF!","v":{"$error":"#REF!"}},24,null,null,null,null,null,"","",null,null,24,null,null,null,null,null,"",""]
[25,{"$f":"Sheet1!B26","v":14924},{"$f":"Sheet1!D26&Sheet1!#REF!&\"   \"&Sheet1!#REF!","v":{"$error":"#REF!"}},25,null,null,null,null,null,"","",null,null,25,null,null,null,null,null,"",""]
[26,{"$f":"Sheet1!B27","v":15041},{"$f":"Sheet1!D27&Sheet1!#REF!&\"   \"&Sheet1!#REF!","v":{"$error":"#REF!"}},26,null,null,null,null,null,"","",null,null,26,null,null,null,null,null,"","",null,null,{"$f":"COUNTIF($U$5:$U$54,\"ไม่ผ่าน\")","v":0}]
[27,{"$f":"Sheet1!B28","v":15720},{"$f":"Sheet1!D28&Sheet1!#REF!&\"   \"&Sheet1!#REF!","v":{"$error":"#REF!"}},27,null,null,null,null,null,"","",null,null,27,null,null,null,null,null,"","",null,null,{"$f":"COUNTIF($U$5:$U$54,\"ผ่าน\")","v":0}]
[28,{"$f":"Sheet1!B29","v":15727},{"$f":"Sheet1!D29&Sheet1!#REF!&\"   \"&Sheet1!#REF!","v":{"$error":"#REF!"}},28,null,null,null,null,null,"","",null,null,28,null,null,null,null,null,"","",null,null,{"$f":"COUNTIF($U$5:$U$54,\"ดี\")","v":0}]
[29,{"$f":"Sheet1!B30","v":18137},{"$f":"Sheet1!D30&Sheet1!#REF!&\"   \"&Sheet1!#REF!","v":{"$error":"#REF!"}},29,null,null,null,null,null,"","",null,null,29,null,null,null,null,null,"","",null,null,{"$f":"COUNTIF($U$5:$U$54,\"ดีเยี่ยม\")","v":0}]
[30,{"$f":"Sheet1!B31","v":18157},{"$f":"Sheet1!D31&Sheet1!#REF!&\"   \"&Sheet1!#REF!","v":{"$error":"#REF!"}},30,null,null,null,null,null,"","",null,null,30,null,null,null,null,null,"",""]
[31,{"$f":"Sheet1!B32","v":18158},{"$f":"Sheet1!D32&Sheet1!#REF!&\"   \"&Sheet1!#REF!","v":{"$error":"#REF!"}},31,null,null,null,null,null,"","",null,null,31,null,null,null,null,null,"",""]
[32,{"$f":"Sheet1!B33","v":18159},{"$f":"Sheet1!D33&Sheet1!#REF!&\"   \"&Sheet1!#REF!","v":{"$error":"#REF!"}},32,null,null,null,null,null,"","",null,null,32,null,null,null,null,null,"",""]
[33,{"$f":"Sheet1!B34","v":18160},{"$f":"Sheet1!D34&Sheet1!#REF!&\"   \"&Sheet1!#REF!","v":{"$error":"#REF!"}},33,null,null,null,null,null,"",{"$f":"IF(J37=\"\",\"\",(IF(J37>=2.5,\"ดีเยี่ยม\",(IF(J37>=1.5,\"ดี\",(IF(J37>=0.6,\"ผ่าน\",(IF(J37<=0.4,\"ไม่ผ่าน\")))))))))","v":""},null,null,33,null,null,null,null,null,"",{"$f":"IF(T37=\"\",\"\",(IF(T37>=2.5,\"ดีเยี่ยม\",(IF(T37>=1.5,\"ดี\",(IF(T37>=0.6,\"ผ่าน\",(IF(T37<=0.4,\"ไม่ผ่าน\")))))))))","v":""}]
[34,{"$f":"Sheet1!B35","v":18161},{"$f":"Sheet1!D35&Sheet1!#REF!&\"   \"&Sheet1!#REF!","v":{"$error":"#REF!"}},34,null,null,null,null,null,"","",null,null,34,null,null,null,null,null,"",{"$f":"IF(T38=\"\",\"\",(IF(T38>=2.5,\"ดีเยี่ยม\",(IF(T38>=1.5,\"ดี\",(IF(T38>=0.6,\"ผ่าน\",(IF(T38<=0.4,\"ไม่ผ่าน\")))))))))","v":""}]
[35,{"$f":"Sheet1!B36","v":18163},{"$f":"Sheet1!D36&Sheet1!#REF!&\"   \"&Sheet1!#REF!","v":{"$error":"#REF!"}},35,null,null,null,null,null,"","",null,null,35,null,null,null,null,null,"",""]
[36,{"$f":"Sheet1!B37","v":18417},{"$f":"Sheet1!D37&Sheet1!#REF!&\"   \"&Sheet1!#REF!","v":{"$error":"#REF!"}},36,null,null,null,null,null,"","",null,null,36,null,null,null,null,null,"",""]
[37,{"$f":"Sheet1!B38","v":18806},{"$f":"Sheet1!D38&Sheet1!#REF!&\"   \"&Sheet1!#REF!","v":{"$error":"#REF!"}},37,null,null,null,null,null,"","",null,null,37,null,null,null,null,null,"",""]
[38,{"$f":"Sheet1!B39","v":0},{"$f":"Sheet1!D39&Sheet1!#REF!&\"   \"&Sheet1!#REF!","v":{"$error":"#REF!"}},38,null,null,null,null,null,"","",null,null,38,null,null,null,null,null,"",""]
[39,{"$f":"Sheet1!B40","v":0},{"$f":"Sheet1!D40&Sheet1!#REF!&\"   \"&Sheet1!#REF!","v":{"$error":"#REF!"}},39,null,null,null,null,null,"","",null,null,39,null,null,null,null,null,"",""]
[40,{"$f":"Sheet1!B41","v":0},{"$f":"Sheet1!D41&Sheet1!#REF!&\"   \"&Sheet1!#REF!","v":{"$error":"#REF!"}},40,null,null,null,null,null,"","",null,null,40,null,null,null,null,null,"",""]
[41,{"$f":"Sheet1!B42","v":0},{"$f":"Sheet1!D42&Sheet1!#REF!&\"   \"&Sheet1!#REF!","v":{"$error":"#REF!"}},41,null,null,null,null,null,{"$f":"IF(E45=\"\",\"\",(IF(F45=\"\",\"\",(IF(G45=\"\",\"\",(IF(H45=\"\",\"\",(IF(I45=\"\",\"\",(SUM(E45:I45)/5))))))))))","v":""},{"$f":"IF(J45=\"\",\"\",(IF(J45>=2.5,\"ดีเยี่ยม\",(IF(J45>=1.5,\"ดี\",(IF(J45>=0.6,\"ผ่าน\",(IF(J45<=0.4,\"ไม่ผ่าน\")))))))))","v":""},null,null,41,null,null,null,null,null,{"$f":"IF(O45=\"\",\"\",(IF(P45=\"\",\"\",(IF(Q45=\"\",\"\",(IF(R45=\"\",\"\",(IF(S45=\"\",\"\",(SUM(O45:S45)/5))))))))))","v":""},{"$f":"IF(T45=\"\",\"\",(IF(T45>=2.5,\"ดีเยี่ยม\",(IF(T45>=1.5,\"ดี\",(IF(T45>=0.6,\"ผ่าน\",(IF(T45<=0.4,\"ไม่ผ่าน\")))))))))","v":""}]
[42,{"$f":"Sheet1!B43","v":0},{"$f":"Sheet1!D43&Sheet1!#REF!&\"   \"&Sheet1!#REF!","v":{"$error":"#REF!"}},42,null,null,null,null,null,"","",null,null,42,null,null,null,null,null,"",""]
[43,{"$f":"Sheet1!B44","v":0},{"$f":"Sheet1!D44&Sheet1!#REF!&\"   \"&Sheet1!#REF!","v":{"$error":"#REF!"}},43,null,null,null,null,null,"","",null,null,43,null,null,null,null,null,"",""]
[44,{"$f":"Sheet1!B45","v":0},{"$f":"Sheet1!D45&Sheet1!#REF!&\"   \"&Sheet1!#REF!","v":{"$error":"#REF!"}},44,null,null,null,null,null,"","",null,null,44,null,null,null,null,null,"",""]
[45,{"$f":"Sheet1!B46","v":0},{"$f":"Sheet1!D46&Sheet1!#REF!&\"   \"&Sheet1!#REF!","v":{"$error":"#REF!"}},45,null,null,null,null,null,"","",null,null,45,null,null,null,null,null,"",""]
[46,{"$f":"Sheet1!B47","v":0},{"$f":"Sheet1!D47&Sheet1!#REF!&\"   \"&Sheet1!#REF!","v":{"$error":"#REF!"}},46,null,null,null,null,null,"","",null,null,46,null,null,null,null,null,"",""]
[47,{"$f":"Sheet1!B48","v":0},{"$f":"Sheet1!D48&Sheet1!#REF!&\"   \"&Sheet1!#REF!","v":{"$error":"#REF!"}},47,null,null,null,null,null,"","",null,null,47,null,null,null,null,null,"",""]
[48,{"$f":"Sheet1!B49","v":0},{"$f":"Sheet1!D49&Sheet1!#REF!&\"   \"&Sheet1!#REF!","v":{"$error":"#REF!"}},48,null,null,null,null,null,"","",null,null,48,null,null,null,null,null,"",""]
[49,{"$f":"Sheet1!B50","v":0},{"$f":"Sheet1!D50&Sheet1!#REF!&\"   \"&Sheet1!#REF!","v":{"$error":"#REF!"}},49,null,null,null,null,null,"","",null,null,49,null,null,null,null,null,"",""]
[50,{"$f":"Sheet1!B51","v":0},{"$f":"Sheet1!D51&Sheet1!#REF!&\"   \"&Sheet1!#REF!","v":{"$error":"#REF!"}},50,null,null,null,null,null,"","",null,null,50,null,null,null,null,null,"",""]

{"sheet":"โครงสร้างรายวิชา","index":10,"n_rows":196,"n_cols":31,"rows_kept":196,"cut":false,"hidden":false,"merged":[[79,6,79,7],[80,6,80,7],[83,4,83,5],[0,0,0,5],[0,6,0,7],[1,6,2,6],[1,7,2,7],[79,0,79,1],[1,2,1,5],[48,0,48,5],[48,6,48,7],[1,0,2,0],[1,1,2,1],[50,0,50,5],[51,0,52,0],[51,1,52,1],[51,2,51,5],[0,26,0,31],[1,26,2,26],[1,27,2,27],[1,28,1,31],[48,26,48,31],[50,26,50,31],[51,26,52,26],[51,27,52,27],[51,28,51,31],[51,6,52,6],[51,7,52,7],[50,6,50,7],[80,26,80,27],[79,26,79,27],[96,26,96,31],[91,4,91,5],[91,30,91,31],[96,0,96,7],[85,4,85,5],[87,4,87,5],[86,4,86,5],[87,30,87,31],[85,30,85,31],[86,30,86,31],[80,0,80,1],[83,30,83,31],[84,30,84,31],[84,4,84,5]]}
[{"$f":"\"โครงสร้างรายวิชา \"&ปก!AC15&\"  \"&\"รหัสวิชา\"&\" \"&ปก!AS15","v":"โครงสร้างรายวิชา {{โปรดกรอกข้อมูลรายวิชา}}  รหัสวิชา {{โปรดกรอกรหัสวิชา}}"}]
["ข้อที่",{"$f":"IF(ปก!C25=\"พื้นฐาน\",\"ตัวชี้วัด\",IF(ปก!C25=\"เพิ่มเติม\",\"ผลการเรียนรู้\",IF(ปก!C25=\"กิจกรรม\",\"ผลการเรียนรู้\")))","v":false},"คะแนนประเมินผลรายภาค",null,null,null,"P","A"]
[null,null,"ก่อน\nระหว่าง\nภาค","หลัง\nระหว่าง\nภาค","สอบ\nระหว่าง\nภาค","สอบ\nปลาย\nภาค"]
[null,null,null,null,null,null,5,5]
[]
[]
[]
[]
[]
[]
[]
[]
[]
[]
[]
[]
[]
[]
[]
[]
[]
[]
[]
[]
[]
[]
[]
[]
[]
[]
[]
[]
[]
[]
[]
[]
[]
[]
[]
[]
[]
[]
[]
[]
[]
[]
[null,null,null,null,null,null,{"$f":"SUM(G3:G46)","v":5},{"$f":"SUM(H3:H46)","v":5}]
[]
[{"$f":"\"เวลาเรียน  \"&ปก!AC16&\"  \"&ปก!AE16","v":"เวลาเรียน  0  ชั่วโมงต่อภาคเรียน"}]
[]
[{"$f":"\"โครงสร้างรายวิชา \"&ปก!AC15&\"  \"&\"รหัสวิชา\"&\" \"&ปก!AS15&\"  (หน้า 2)\"","v":"โครงสร้างรายวิชา {{โปรดกรอกข้อมูลรายวิชา}}  รหัสวิชา {{โปรดกรอกรหัสวิชา}}  (หน้า 2)"}]
["ข้อที่",{"$f":"IF(ปก!C25=\"พื้นฐาน\",\"ตัวชี้วัด\",IF(ปก!C25=\"เพิ่มเติม\",\"ผลการเรียนรู้\"))","v":false},"คะแนนประเมินผลรายภาค",null,null,null,"P","A"]
[null,null,"ก่อน\nระหว่าง\nภาค","หลัง\nระหว่าง\nภาค","สอบ\nระหว่าง\nภาค","สอบ\nปลาย\nภาค"]
[null,null,null,null,null,null,null,null,null,null,null,null,null,null,null,null,null,null,null,null,null,null,null,null,null,null,null,null,null,null,3]
[]
[]
[]
[]
[]
[]
[]
[]
[]
[]
[]
[]
[]
[]
[]
[]
[]
[]
[]
[]
[]
[]
[]
[]
[]
["คะแนนรวม",null,{"$f":"SUM(C4:C48,C54:C79)","v":0},{"$f":"SUM(D4:D48,D54:D79)","v":0},{"$f":"SUM(E4:E48,E54:E79)","v":0},{"$f":"SUM(F4:F48,F54:F79)","v":0}]
["คะแนนจริง (100 คะแนน)",null,{"$f":"ประเมินตัวชี้วัด!DA6","v":20},{"$f":"ประเมินตัวชี้วัด!DB6","v":20},{"$f":"ประเมินตัวชี้วัด!DC6","v":30},{"$f":"ประเมินตัวชี้วัด!DG6","v":30}]
["ข้อที่","การอ่าน คิด วิเคราะห์ และเขียน","คะแนน"]
[1,{"$f":"IF(ปก!BA2=\"บ\",\"สามารถคัดสรรสื่อที่ต้องการอ่านเพื่อหาข้อมูลสารสนเทศได้ตามวัตถุประสงค์ สามารถสร้างความเข้าใจและประยุกต์ใช้ความรู้จากการอ่าน \",IF(ปก!BA2=\"พ\",\"สามารถอ่านเพื่อการศึกษาค้นคว้า เพิ่มพูนความรู้ ประสบการณ์ และการประยุกต์ใช้ในชีวิตประจำวัน\"))","v":"สามารถคัดสรรสื่อที่ต้องการอ่านเพื่อหาข้อมูลสารสนเทศได้ตามวัตถุประสงค์ สามารถสร้างความเข้าใจและประยุกต์ใช้ความรู้จากการอ่าน "},"0-3"]
[2,{"$f":"IF(ปก!BA2=\"บ\",\"สามารถจับประเด็นสำคัญและประเด็นสนับสนุน โต้แย้ง\",IF(ปก!BA2=\"พ\",\"สามารถจับประเด็นสำคัญ ลำดับเหตุการณ์จากการอ่านสื่อที่มีความซับซ้อน\"))","v":"สามารถจับประเด็นสำคัญและประเด็นสนับสนุน โต้แย้ง"},"0-3",3," = ดีเยี่ยม (ดย)"]
[3,{"$f":"IF(ปก!BA2=\"บ\",\"สามารถวิเคราะห์ วิจารณ์ ความสมเหตุสมผล ความน่าเชื่อถือ ลำดับความเป็นไปได้ของเรื่องที่อ่าน\",IF(ปก!BA2=\"พ\",\"สามารถวิเคราะห์สิ่งที่ผู้เขียนต้องการสื่อสารกับผู้อ่าน และสามารถวิพากษ์ ให้ข้อเสนอแนะในแง่มุมต่างๆ\"))","v":"สามารถวิเคราะห์ วิจารณ์ ความสมเหตุสมผล ความน่าเชื่อถือ ลำดับความเป็นไปได้ของเรื่องที่อ่าน"},"0-3",2," = ดี (ด)"]
[4,{"$f":"IF(ปก!BA2=\"บ\",\"สามารถสรุปคุณค่า แนวคิด แง่คิดที่ได้จากการอ่าน\",IF(ปก!BA2=\"พ\",\"สามารถประเมินความน่าเชื่อถือ คุณค่า แนวคิดที่ได้จากสิ่งที่อ่านอย่างหลากหลาย\"))","v":"สามารถสรุปคุณค่า แนวคิด แง่คิดที่ได้จากการอ่าน"},"0-3",1," = ผ่าน (ผ)"]
[5,{"$f":"IF(ปก!BA2=\"บ\",\"สามารถสรุป อภิปราย ขยายความ แสดงความคิดเห็น โต้แย้ง สนันสนุน โน้มน้าว โดยการเขียนสื่อสารในรูปแบบต่างๆ เช่น ผังความคิด เป็นต้น\",IF(ปก!BA2=\"พ\",\"สามารถเขียนแสดงความคิดเห็น โต้แย้ง สรุป โดยมีข้อมูลอธิบายสนับสนุนอย่างเพียงพอ และสมเหตุสมผล\"))","v":"สามารถสรุป อภิปราย ขยายความ แสดงความคิดเห็น โต้แย้ง สนันสนุน โน้มน้าว โดยการเขียนสื่อสารในรูปแบบต่างๆ เช่น ผังความคิด เป็นต้น"},"0-3",0," = ไม่ผ่าน"]
["ข้อที่","คุณลักษณะอันพึงประสงค์","คะแนน"]
[1,"รักชาติ ศาสตร์ กษัตริย์","0-3"]
[2,"ชื่อสัตย์สุจริต","0-3"]
[3,"มีวินัย","0-3"]
[4,"ใฝ่เรียนรู้","0-3"]
[5,"อยู่อย่างพอเพียง","0-3"]
[6,"มุ่งมันในการทำงาน","0-3"]
[7,"รักความเป็นไทย","0-3"]
[8,"มีจิตสาธารณะ","0-3",null,null,null,{"$f":"SUM(G53:G95)","v":0},{"$f":"SUM(H53:H95)","v":0}]
[]
[]
[]
[]
[]
[]
[]
[]
[]
[]
[null,null,null,null,"ม.1/1",null,null,null,null,null,null,null,null,null,null,null,null,null,null,null,null,null,null,null,null,null,null,null,null,null,"ม.1/1"]
[null,null,null,null,"ม.1/2",null,null,null,null,null,null,null,null,null,null,null,null,null,null,null,null,null,null,null,null,null,null,null,null,null,"ม.1/2"]
[null,null,null,null,"ม.1/3",null,null,null,null,null,null,null,null,null,null,null,null,null,null,null,null,null,null,null,null,null,null,null,null,null,"ม.1/3"]
[null,null,null,null,"ม.1/4",null,null,null,null,null,null,null,null,null,null,null,null,null,null,null,null,null,null,null,null,null,null,null,null,null,"ม.1/4"]
[null,null,null,null,"ม.1/5",null,null,null,null,null,null,null,null,null,null,null,null,null,null,null,null,null,null,null,null,null,null,null,null,null,"ม.1/5"]
[null,null,null,null,"ม.1/6",null,null,null,null,null,null,null,null,null,null,null,null,null,null,null,null,null,null,null,null,null,null,null,null,null,"ม.1/6"]
[null,null,null,null,"ม.1/7",null,null,null,null,null,null,null,null,null,null,null,null,null,null,null,null,null,null,null,null,null,null,null,null,null,"ม.1/7"]
[null,null,null,null,"ม.1/8",null,null,null,null,null,null,null,null,null,null,null,null,null,null,null,null,null,null,null,null,null,null,null,null,null,"ม.1/8"]
[null,null,null,null,"ม.1/9",null,null,null,null,null,null,null,null,null,null,null,null,null,null,null,null,null,null,null,null,null,null,null,null,null,"ม.1/9"]
[null,null,null,null,"ม.1/10",null,null,null,null,null,null,null,null,null,null,null,null,null,null,null,null,null,null,null,null,null,null,null,null,null,"ม.1/10"]
[null,null,null,null,"ม.2/1",null,null,null,null,null,null,null,null,null,null,null,null,null,null,null,null,null,null,null,null,null,null,null,null,null,"ม.2/1"]
[null,null,null,null,"ม.2/2",null,null,null,null,null,null,null,null,null,null,null,null,null,null,null,null,null,null,null,null,null,null,null,null,null,"ม.2/2"]
[null,null,null,null,"ม.2/3",null,null,null,null,null,null,null,null,null,null,null,null,null,null,null,null,null,null,null,null,null,null,null,null,null,"ม.2/3"]
[null,null,null,null,"ม.2/4",null,null,null,null,null,null,null,null,null,null,null,null,null,null,null,null,null,null,null,null,null,null,null,null,null,"ม.2/4"]
[null,null,null,null,"ม.2/5",null,null,null,null,null,null,null,null,null,null,null,null,null,null,null,null,null,null,null,null,null,null,null,null,null,"ม.2/5"]
[null,null,null,null,"ม.2/6",null,null,null,null,null,null,null,null,null,null,null,null,null,null,null,null,null,null,null,null,null,null,null,null,null,"ม.2/6"]
[null,null,null,null,"ม.2/7",null,null,null,null,null,null,null,null,null,null,null,null,null,null,null,null,null,null,null,null,null,null,null,null,null,"ม.2/7"]
[null,null,null,null,"ม.2/8",null,null,null,null,null,null,null,null,null,null,null,null,null,null,null,null,null,null,null,null,null,null,null,null,null,"ม.2/8"]
[null,null,null,null,"ม.2/9",null,null,null,null,null,null,null,null,null,null,null,null,null,null,null,null,null,null,null,null,null,null,null,null,null,"ม.2/9"]
[null,null,null,null,"ม.2/10",null,null,null,null,null,null,null,null,null,null,null,null,null,null,null,null,null,null,null,null,null,null,null,null,null,"ม.2/10"]
[null,null,null,null,"ม.3/1",null,null,null,null,null,null,null,null,null,null,null,null,null,null,null,null,null,null,null,null,null,null,null,null,null,"ม.3/1"]
[null,null,null,null,"ม.3/2",null,null,null,null,null,null,null,null,null,null,null,null,null,null,null,null,null,null,null,null,null,null,null,null,null,"ม.3/2"]
[null,null,null,null,"ม.3/3",null,null,null,null,null,null,null,null,null,null,null,null,null,null,null,null,null,null,null,null,null,null,null,null,null,"ม.3/3"]
[null,null,null,null,"ม.3/4",null,null,null,null,null,null,null,null,null,null,null,null,null,null,null,null,null,null,null,null,null,null,null,null,null,"ม.3/4"]
[null,null,null,null,"ม.3/5",null,null,null,null,null,null,null,null,null,null,null,null,null,null,null,null,null,null,null,null,null,null,null,null,null,"ม.3/5"]
[null,null,null,null,"ม.3/6",null,null,null,null,null,null,null,null,null,null,null,null,null,null,null,null,null,null,null,null,null,null,null,null,null,"ม.3/6"]
[null,null,null,null,"ม.3/7",null,null,null,null,null,null,null,null,null,null,null,null,null,null,null,null,null,null,null,null,null,null,null,null,null,"ม.3/7"]
[null,null,null,null,"ม.3/8",null,null,null,null,null,null,null,null,null,null,null,null,null,null,null,null,null,null,null,null,null,null,null,null,null,"ม.3/8"]
[null,null,null,null,"ม.3/9",null,null,null,null,null,null,null,null,null,null,null,null,null,null,null,null,null,null,null,null,null,null,null,null,null,"ม.3/9"]
[null,null,null,null,"ม.3/10",null,null,null,null,null,null,null,null,null,null,null,null,null,null,null,null,null,null,null,null,null,null,null,null,null,"ม.3/10"]
[null,null,null,null,"ม.4-6/1",null,null,null,null,null,null,null,null,null,null,null,null,null,null,null,null,null,null,null,null,null,null,null,null,null,"ม.4-6/1"]
[null,null,null,null,"ม.4-6/2",null,null,null,null,null,null,null,null,null,null,null,null,null,null,null,null,null,null,null,null,null,null,null,null,null,"ม.4-6/2"]
[null,null,null,null,"ม.4-6/3",null,null,null,null,null,null,null,null,null,null,null,null,null,null,null,null,null,null,null,null,null,null,null,null,null,"ม.4-6/3"]
[null,null,null,null,"ม.4-6/4",null,null,null,null,null,null,null,null,null,null,null,null,null,null,null,null,null,null,null,null,null,null,null,null,null,"ม.4-6/4"]
[null,null,null,null,"ม.4-6/5",null,null,null,null,null,null,null,null,null,null,null,null,null,null,null,null,null,null,null,null,null,null,null,null,null,"ม.4-6/5"]
[null,null,null,null,"ม.4-6/6",null,null,null,null,null,null,null,null,null,null,null,null,null,null,null,null,null,null,null,null,null,null,null,null,null,"ม.4-6/6"]
[null,null,null,null,"ม.4-6/7",null,null,null,null,null,null,null,null,null,null,null,null,null,null,null,null,null,null,null,null,null,null,null,null,null,"ม.4-6/7"]
[null,null,null,null,"ม.4-6/8",null,null,null,null,null,null,null,null,null,null,null,null,null,null,null,null,null,null,null,null,null,null,null,null,null,"ม.4-6/8"]
[null,null,null,null,"ม.4-6/9",null,null,null,null,null,null,null,null,null,null,null,null,null,null,null,null,null,null,null,null,null,null,null,null,null,"ม.4-6/9"]
[null,null,null,null,"ม.4-6/10",null,null,null,null,null,null,null,null,null,null,null,null,null,null,null,null,null,null,null,null,null,null,null,null,null,"ม.4-6/10"]
[null,null,null,null,"ม.4-6/11",null,null,null,null,null,null,null,null,null,null,null,null,null,null,null,null,null,null,null,null,null,null,null,null,null,"ม.4-6/11"]
[null,null,null,null,"ม.4-6/12",null,null,null,null,null,null,null,null,null,null,null,null,null,null,null,null,null,null,null,null,null,null,null,null,null,"ม.4-6/12"]
[null,null,null,null,"ม.4-6/13",null,null,null,null,null,null,null,null,null,null,null,null,null,null,null,null,null,null,null,null,null,null,null,null,null,"ม.4-6/13"]
[null,null,null,null,"ม.4-6/14",null,null,null,null,null,null,null,null,null,null,null,null,null,null,null,null,null,null,null,null,null,null,null,null,null,"ม.4-6/14"]
[null,null,null,null,"ม.4-6/15",null,null,null,null,null,null,null,null,null,null,null,null,null,null,null,null,null,null,null,null,null,null,null,null,null,"ม.4-6/15"]
[null,null,null,null,"ม.4-6/16",null,null,null,null,null,null,null,null,null,null,null,null,null,null,null,null,null,null,null,null,null,null,null,null,null,"ม.4-6/16"]
[null,null,null,null,"ม.4-6/17",null,null,null,null,null,null,null,null,null,null,null,null,null,null,null,null,null,null,null,null,null,null,null,null,null,"ม.4-6/17"]
[null,null,null,null,"ม.4-6/18",null,null,null,null,null,null,null,null,null,null,null,null,null,null,null,null,null,null,null,null,null,null,null,null,null,"ม.4-6/18"]
[null,null,null,null,"ม.4-6/19",null,null,null,null,null,null,null,null,null,null,null,null,null,null,null,null,null,null,null,null,null,null,null,null,null,"ม.4-6/19"]
[null,null,null,null,"ม.4-6/20",null,null,null,null,null,null,null,null,null,null,null,null,null,null,null,null,null,null,null,null,null,null,null,null,null,"ม.4-6/20"]
[null,null,null,null,"ม.4-6/21",null,null,null,null,null,null,null,null,null,null,null,null,null,null,null,null,null,null,null,null,null,null,null,null,null,"ม.4-6/21"]
[null,null,null,null,"ม.4-6/22",null,null,null,null,null,null,null,null,null,null,null,null,null,null,null,null,null,null,null,null,null,null,null,null,null,"ม.4-6/22"]
[null,null,null,null,"ม.4-6/23",null,null,null,null,null,null,null,null,null,null,null,null,null,null,null,null,null,null,null,null,null,null,null,null,null,"ม.4-6/23"]
[null,null,null,null,"ม.4-6/24",null,null,null,null,null,null,null,null,null,null,null,null,null,null,null,null,null,null,null,null,null,null,null,null,null,"ม.4-6/24"]
[null,null,null,null,"ม.4-6/25",null,null,null,null,null,null,null,null,null,null,null,null,null,null,null,null,null,null,null,null,null,null,null,null,null,"ม.4-6/25"]
[null,null,null,null,"ม.4-6/26",null,null,null,null,null,null,null,null,null,null,null,null,null,null,null,null,null,null,null,null,null,null,null,null,null,"ม.4-6/26"]
[null,null,null,null,"ม.4-6/27",null,null,null,null,null,null,null,null,null,null,null,null,null,null,null,null,null,null,null,null,null,null,null,null,null,"ม.4-6/27"]
[null,null,null,null,"ม.4-6/28",null,null,null,null,null,null,null,null,null,null,null,null,null,null,null,null,null,null,null,null,null,null,null,null,null,"ม.4-6/28"]
[null,null,null,null,"ม.4-6/29",null,null,null,null,null,null,null,null,null,null,null,null,null,null,null,null,null,null,null,null,null,null,null,null,null,"ม.4-6/29"]
[null,null,null,null,"ม.4-6/30",null,null,null,null,null,null,null,null,null,null,null,null,null,null,null,null,null,null,null,null,null,null,null,null,null,"ม.4-6/30"]
[null,null,null,null,"ข้อ 1",null,null,null,null,null,null,null,null,null,null,null,null,null,null,null,null,null,null,null,null,null,null,null,null,null,"ข้อ 1"]
[null,null,null,null,"ข้อ 2",null,null,null,null,null,null,null,null,null,null,null,null,null,null,null,null,null,null,null,null,null,null,null,null,null,"ข้อ 2"]
[null,null,null,null,"ข้อ 3",null,null,null,null,null,null,null,null,null,null,null,null,null,null,null,null,null,null,null,null,null,null,null,null,null,"ข้อ 3"]
[null,null,null,null,"ข้อ 4",null,null,null,null,null,null,null,null,null,null,null,null,null,null,null,null,null,null,null,null,null,null,null,null,null,"ข้อ 4"]
[null,null,null,null,"ข้อ 5",null,null,null,null,null,null,null,null,null,null,null,null,null,null,null,null,null,null,null,null,null,null,null,null,null,"ข้อ 5"]
[null,null,null,null,"ข้อ 6",null,null,null,null,null,null,null,null,null,null,null,null,null,null,null,null,null,null,null,null,null,null,null,null,null,"ข้อ 6"]
[null,null,null,null,"ข้อ 7",null,null,null,null,null,null,null,null,null,null,null,null,null,null,null,null,null,null,null,null,null,null,null,null,null,"ข้อ 7"]
[null,null,null,null,"ข้อ 8",null,null,null,null,null,null,null,null,null,null,null,null,null,null,null,null,null,null,null,null,null,null,null,null,null,"ข้อ 8"]
[null,null,null,null,"ข้อ 9",null,null,null,null,null,null,null,null,null,null,null,null,null,null,null,null,null,null,null,null,null,null,null,null,null,"ข้อ 9"]
[null,null,null,null,"ข้อ 10",null,null,null,null,null,null,null,null,null,null,null,null,null,null,null,null,null,null,null,null,null,null,null,null,null,"ข้อ 10"]
[null,null,null,null,"ข้อ 11",null,null,null,null,null,null,null,null,null,null,null,null,null,null,null,null,null,null,null,null,null,null,null,null,null,"ข้อ 11"]
[null,null,null,null,"ข้อ 12",null,null,null,null,null,null,null,null,null,null,null,null,null,null,null,null,null,null,null,null,null,null,null,null,null,"ข้อ 12"]
[null,null,null,null,"ข้อ 13",null,null,null,null,null,null,null,null,null,null,null,null,null,null,null,null,null,null,null,null,null,null,null,null,null,"ข้อ 13"]
[null,null,null,null,"ข้อ 14",null,null,null,null,null,null,null,null,null,null,null,null,null,null,null,null,null,null,null,null,null,null,null,null,null,"ข้อ 14"]
[null,null,null,null,"ข้อ 15",null,null,null,null,null,null,null,null,null,null,null,null,null,null,null,null,null,null,null,null,null,null,null,null,null,"ข้อ 15"]
[null,null,null,null,"ข้อ 16",null,null,null,null,null,null,null,null,null,null,null,null,null,null,null,null,null,null,null,null,null,null,null,null,null,"ข้อ 16"]
[null,null,null,null,"ข้อ 17",null,null,null,null,null,null,null,null,null,null,null,null,null,null,null,null,null,null,null,null,null,null,null,null,null,"ข้อ 17"]
[null,null,null,null,"ข้อ 18",null,null,null,null,null,null,null,null,null,null,null,null,null,null,null,null,null,null,null,null,null,null,null,null,null,"ข้อ 18"]
[null,null,null,null,"ข้อ 19",null,null,null,null,null,null,null,null,null,null,null,null,null,null,null,null,null,null,null,null,null,null,null,null,null,"ข้อ 19"]
[null,null,null,null,"ข้อ 20",null,null,null,null,null,null,null,null,null,null,null,null,null,null,null,null,null,null,null,null,null,null,null,null,null,"ข้อ 20"]
[null,null,null,null,"ข้อ 21",null,null,null,null,null,null,null,null,null,null,null,null,null,null,null,null,null,null,null,null,null,null,null,null,null,"ข้อ 21"]
[null,null,null,null,"ข้อ 22",null,null,null,null,null,null,null,null,null,null,null,null,null,null,null,null,null,null,null,null,null,null,null,null,null,"ข้อ 22"]
[null,null,null,null,"ข้อ 23",null,null,null,null,null,null,null,null,null,null,null,null,null,null,null,null,null,null,null,null,null,null,null,null,null,"ข้อ 23"]
[null,null,null,null,"ข้อ 24",null,null,null,null,null,null,null,null,null,null,null,null,null,null,null,null,null,null,null,null,null,null,null,null,null,"ข้อ 24"]
[null,null,null,null,"ข้อ 25",null,null,null,null,null,null,null,null,null,null,null,null,null,null,null,null,null,null,null,null,null,null,null,null,null,"ข้อ 25"]
[null,null,null,null,"ข้อ 26",null,null,null,null,null,null,null,null,null,null,null,null,null,null,null,null,null,null,null,null,null,null,null,null,null,"ข้อ 26"]
[null,null,null,null,"ข้อ 27",null,null,null,null,null,null,null,null,null,null,null,null,null,null,null,null,null,null,null,null,null,null,null,null,null,"ข้อ 27"]
[null,null,null,null,"ข้อ 28",null,null,null,null,null,null,null,null,null,null,null,null,null,null,null,null,null,null,null,null,null,null,null,null,null,"ข้อ 28"]
[null,null,null,null,"ข้อ 29",null,null,null,null,null,null,null,null,null,null,null,null,null,null,null,null,null,null,null,null,null,null,null,null,null,"ข้อ 29"]
[null,null,null,null,"ข้อ 30",null,null,null,null,null,null,null,null,null,null,null,null,null,null,null,null,null,null,null,null,null,null,null,null,null,"ข้อ 30"]

{"sheet":"แผนภูมิสรุป","index":11,"n_rows":39,"n_cols":13,"rows_kept":39,"cut":false,"hidden":false,"merged":[[1,0,1,9],[13,0,13,9],[25,0,25,9]]}
[]
[{"$f":"\"แผนภูมิแสดงจำนวนนักเรียนที่ได้ระดับผลการเรียน รายวิชา \"&ปก!C26&\" รหัสวิชา \"&ปก!C27","v":"แผนภูมิแสดงจำนวนนักเรียนที่ได้ระดับผลการเรียน รายวิชา  รหัสวิชา "}]
[]
[]
[]
[]
[]
[]
[]
[]
[]
[]
[]
["แผนภูมิแสดงร้อยละของนักเรียนที่ได้ระดับผลการเรียนแต่ละระดับ"]
[]
[]
[]
[]
[]
[]
[]
[]
[]
[]
[]
["แผนภูมิแสดงร้อยละของนักเรียนที่ได้ผลการเรียนระดับดี(3) ขึ้นไป"]
[]
[]
[]
[]
[]
[]
[]
[]
[]
[]
[null,null,null,null,null,null,null,null,null,null,null,null,{"$f":"SUM(ปก!AD25:AI25)","v":0}]
[null,null,null,null,null,null,null,null,null,null,null,null,{"$f":"SUM(ปก!AJ25:AQ25)","v":0}]
[null,null,null,null,null,null,null,null,null,null,null,null,{"$f":"SUM(ปก!AR25:AW25)","v":0}]

{"sheet":"ประเมินผลสัมฤทธิ์","index":12,"n_rows":57,"n_cols":16,"rows_kept":57,"cut":false,"hidden":false,"merged":[[56,11,56,13],[11,11,11,13],[12,11,12,13],[19,11,19,13],[32,11,32,13],[38,11,38,13],[44,11,44,13],[47,11,47,13],[52,11,52,13],[53,11,53,13],[54,11,54,13],[55,11,55,13],[10,11,10,13],[0,0,0,13],[1,0,1,13],[2,0,2,13],[4,0,6,0],[4,1,6,1],[4,2,6,2],[4,3,4,6],[4,7,6,7],[4,8,6,8],[4,9,6,9],[4,10,6,10],[4,11,6,13],[7,11,7,13],[8,11,8,13],[9,11,9,13]]}
[{"$f":"\"แบบประเมินผลคุณภาพผู้เรียน \"&\"รายวิชา \"&ปก!C26&\" (\"&ปก!C27&\")\"","v":"แบบประเมินผลคุณภาพผู้เรียน รายวิชา  ()"}]
[{"$f":"\"ชั้น มัธยมศึกษาปีที่ \"&ปก!C21&\"/\"&ปก!C22&\"   ภาคเรียนที่ \"&ปก!C15&\"   ปีการศึกษา \"&ปก!C16","v":"ชั้น มัธยมศึกษาปีที่ 3/5   ภาคเรียนที่ 2   ปีการศึกษา 2566"}]
[{"$f":"ปก!C5&\"  สังกัด\"&ปก!C8&\"  อำเภอ\"&ปก!C6&\"  จังหวัด\"&ปก!C7","v":"โรงเรียนเทศบาล ๕  สังกัดเทศบาลนครสุราษฎร์ธานี  อำเภอเมือง  จังหวัดสุราษฎร์ธานี"}]
[]
["ที่","ชื่อ - สกุล","เวลา\nเรียน\nร้อยละ","คะแนน",null,null,null,"ผลการเรียน","ระดับคุณภาพ","อ่าน คิด วิเคราะห์และเขียน","คุณลักษณะ\nอันพึงประสงค์","หมายเหตุ"]
[null,null,null,"ระหว่างภาค","ปลายภาค","สอบกลาง","รวม"]
[null,null,null,{"$f":"ประเมินตัวชี้วัด!DE6","v":70},{"$f":"ประเมินตัวชี้วัด!DG6","v":30},{"$f":"ประเมินตัวชี้วัด!DH6","v":0},{"$f":"ประเมินตัวชี้วัด!DL6","v":100}]
[1,{"$f":"ใบรายชื่อ!C7","v":"เด็กหญิงปุญญิศา    วอทอง"},{"$f":"IF(เวลาเรียน!DY9=0,\"\",เวลาเรียน!DY9)","v":"-"},{"$f":"ประเมินตัวชี้วัด!DE7","v":"-"},{"$f":"ประเมินตัวชี้วัด!DG7","v":""},{"$f":"IF(C8=\"\",\"\",IF(C8=\"-\",\"-\",IF(ประเมินตัวชี้วัด!DH7=\"\",\"\",ประเมินตัวชี้วัด!DH7)))","v":"-"},{"$f":"ประเมินตัวชี้วัด!DL7","v":"-"},{"$f":"ประเมินตัวชี้วัด!DN7","v":""},{"$f":"IF(H8=\"\",\"\",IF(H8=\"-\",\"-\",IF(G8=\"ร\",\"แก้ไข\",IF(G8>75,\"ดีมาก\",IF(G8>50,\"ดี\",IF(G8>25,\"พอใช้\",\"ปรับปรุง\"))))))","v":""},{"$f":"ประเมินตัวชี้วัด!CQ7","v":""},{"$f":"ประเมินตัวชี้วัด!CZ7","v":""},"เกณฑ์การประเมินระดับคุณภาพ"]
[2,{"$f":"ใบรายชื่อ!C8","v":"เด็กหญิงศิริขวัญ    กุญชรินทร์"},{"$f":"IF(เวลาเรียน!DY10=0,\"\",เวลาเรียน!DY10)","v":"-"},{"$f":"ประเมินตัวชี้วัด!DE8","v":"-"},{"$f":"ประเมินตัวชี้วัด!DG8","v":""},{"$f":"IF(C9=\"\",\"\",IF(C9=\"-\",\"-\",IF(ประเมินตัวชี้วัด!DH8=\"\",\"\",ประเมินตัวชี้วัด!DH8)))","v":"-"},{"$f":"ประเมินตัวชี้วัด!DL8","v":"-"},{"$f":"ประเมินตัวชี้วัด!DN8","v":""},{"$f":"IF(H9=\"\",\"\",IF(H9=\"-\",\"-\",IF(G9=\"ร\",\"แก้ไข\",IF(G9>75,\"ดีมาก\",IF(G9>50,\"ดี\",IF(G9>25,\"พอใช้\",\"ปรับปรุง\"))))))","v":""},{"$f":"ประเมินตัวชี้วัด!CQ8","v":""},{"$f":"ประเมินตัวชี้วัด!CZ8","v":""},"ร้อยละ  76 - 100  =  ดีมาก"]
[3,{"$f":"ใบรายชื่อ!C9","v":"เด็กหญิงอรนลิน    เพชรรักษ์"},{"$f":"IF(เวลาเรียน!DY11=0,\"\",เวลาเรียน!DY11)","v":"-"},{"$f":"ประเมินตัวชี้วัด!DE9","v":"-"},{"$f":"ประเมินตัวชี้วัด!DG9","v":""},{"$f":"IF(C10=\"\",\"\",IF(C10=\"-\",\"-\",IF(ประเมินตัวชี้วัด!DH9=\"\",\"\",ประเมินตัวชี้วัด!DH9)))","v":"-"},{"$f":"ประเมินตัวชี้วัด!DL9","v":"-"},{"$f":"ประเมินตัวชี้วัด!DN9","v":""},"",{"$f":"ประเมินตัวชี้วัด!CQ9","v":""},{"$f":"ประเมินตัวชี้วัด!CZ9","v":""},"ร้อยละ  51 - 75    =  ดี"]
[4,{"$f":"ใบรายชื่อ!C10","v":"เด็กหญิงกีรติกา    ไพฑูรย์"},{"$f":"IF(เวลาเรียน!DY12=0,\"\",เวลาเรียน!DY12)","v":"-"},{"$f":"ประเมินตัวชี้วัด!DE10","v":"-"},{"$f":"ประเมินตัวชี้วัด!DG10","v":""},{"$f":"IF(C11=\"\",\"\",IF(C11=\"-\",\"-\",IF(ประเมินตัวชี้วัด!DH10=\"\",\"\",ประเมินตัวชี้วัด!DH10)))","v":"-"},{"$f":"ประเมินตัวชี้วัด!DL10","v":"-"},{"$f":"ประเมินตัวชี้วัด!DN10","v":""},"",{"$f":"ประเมินตัวชี้วัด!CQ10","v":""},{"$f":"ประเมินตัวชี้วัด!CZ10","v":""},"ร้อยละ  26 - 50    =  พอใช้"]
[5,{"$f":"ใบรายชื่อ!C11","v":"เด็กหญิงไปรยา    ณ นคร"},{"$f":"IF(เวลาเรียน!DY13=0,\"\",เวลาเรียน!DY13)","v":"-"},{"$f":"ประเมินตัวชี้วัด!DE11","v":"-"},{"$f":"ประเมินตัวชี้วัด!DG11","v":""},{"$f":"IF(C12=\"\",\"\",IF(C12=\"-\",\"-\",IF(ประเมินตัวชี้วัด!DH11=\"\",\"\",ประเมินตัวชี้วัด!DH11)))","v":"-"},{"$f":"ประเมินตัวชี้วัด!DL11","v":"-"},{"$f":"ประเมินตัวชี้วัด!DN11","v":""},"",{"$f":"ประเมินตัวชี้วัด!CQ11","v":""},{"$f":"ประเมินตัวชี้วัด!CZ11","v":""},"ร้อยละ  0 - 25      =  ปรับปรุง"]
[6,{"$f":"ใบรายชื่อ!C12","v":"เด็กหญิงกวินธิดา    ขาวอรุณ"},{"$f":"IF(เวลาเรียน!DY14=0,\"\",เวลาเรียน!DY14)","v":"-"},{"$f":"ประเมินตัวชี้วัด!DE12","v":"-"},{"$f":"ประเมินตัวชี้วัด!DG12","v":""},{"$f":"IF(C13=\"\",\"\",IF(C13=\"-\",\"-\",IF(ประเมินตัวชี้วัด!DH12=\"\",\"\",ประเมินตัวชี้วัด!DH12)))","v":"-"},{"$f":"ประเมินตัวชี้วัด!DL12","v":"-"},{"$f":"ประเมินตัวชี้วัด!DN12","v":""},"",{"$f":"ประเมินตัวชี้วัด!CQ12","v":""},{"$f":"ประเมินตัวชี้วัด!CZ12","v":""},"สรุปผลการประเมินระดับคุณภาพ"]
[7,{"$f":"ใบรายชื่อ!C13","v":"เด็กชายอภิสิทธิ์    บัวทอง"},{"$f":"IF(เวลาเรียน!DY15=0,\"\",เวลาเรียน!DY15)","v":"-"},{"$f":"ประเมินตัวชี้วัด!DE13","v":"-"},{"$f":"ประเมินตัวชี้วัด!DG13","v":""},{"$f":"IF(C14=\"\",\"\",IF(C14=\"-\",\"-\",IF(ประเมินตัวชี้วัด!DH13=\"\",\"\",ประเมินตัวชี้วัด!DH13)))","v":"-"},{"$f":"ประเมินตัวชี้วัด!DL13","v":"-"},{"$f":"ประเมินตัวชี้วัด!DN13","v":""},"",{"$f":"ประเมินตัวชี้วัด!CQ13","v":""},{"$f":"ประเมินตัวชี้วัด!CZ13","v":""},"เกณฑ์","จำนวน","ร้อยละ"]
[8,{"$f":"ใบรายชื่อ!C14","v":"เด็กหญิงวริสรา    ราชวงษ์"},{"$f":"IF(เวลาเรียน!DY16=0,\"\",เวลาเรียน!DY16)","v":"-"},{"$f":"ประเมินตัวชี้วัด!DE14","v":"-"},{"$f":"ประเมินตัวชี้วัด!DG14","v":""},{"$f":"IF(C15=\"\",\"\",IF(C15=\"-\",\"-\",IF(ประเมินตัวชี้วัด!DH14=\"\",\"\",ประเมินตัวชี้วัด!DH14)))","v":"-"},{"$f":"ประเมินตัวชี้วัด!DL14","v":"-"},{"$f":"ประเมินตัวชี้วัด!DN14","v":""},"",{"$f":"ประเมินตัวชี้วัด!CQ14","v":""},{"$f":"ประเมินตัวชี้วัด!CZ14","v":""},"ดีมาก",{"$f":"COUNTIF($I$8:$I$57,\"ดีมาก\")","v":0},{"$f":"M15*100/O$19","v":{"$error":"#DIV/0!"}}]
[9,{"$f":"ใบรายชื่อ!C15","v":"เด็กชายเมธัส    นุชพานิช"},{"$f":"IF(เวลาเรียน!DY17=0,\"\",เวลาเรียน!DY17)","v":"-"},{"$f":"ประเมินตัวชี้วัด!DE15","v":"-"},{"$f":"ประเมินตัวชี้วัด!DG15","v":""},{"$f":"IF(C16=\"\",\"\",IF(C16=\"-\",\"-\",IF(ประเมินตัวชี้วัด!DH15=\"\",\"\",ประเมินตัวชี้วัด!DH15)))","v":"-"},{"$f":"ประเมินตัวชี้วัด!DL15","v":"-"},{"$f":"ประเมินตัวชี้วัด!DN15","v":""},"",{"$f":"ประเมินตัวชี้วัด!CQ15","v":""},{"$f":"ประเมินตัวชี้วัด!CZ15","v":""},"ดี",{"$f":"COUNTIF($I$8:$I$57,\"ดี\")","v":0},{"$f":"M16*100/O$19","v":{"$error":"#DIV/0!"}}]
[10,{"$f":"ใบรายชื่อ!C16","v":"เด็กชายสรายุทธ    หนูชัยแก้ว"},{"$f":"IF(เวลาเรียน!DY18=0,\"\",เวลาเรียน!DY18)","v":"-"},{"$f":"ประเมินตัวชี้วัด!DE16","v":"-"},{"$f":"ประเมินตัวชี้วัด!DG16","v":""},{"$f":"IF(C17=\"\",\"\",IF(C17=\"-\",\"-\",IF(ประเมินตัวชี้วัด!DH16=\"\",\"\",ประเมินตัวชี้วัด!DH16)))","v":"-"},{"$f":"ประเมินตัวชี้วัด!DL16","v":"-"},{"$f":"ประเมินตัวชี้วัด!DN16","v":""},"",{"$f":"ประเมินตัวชี้วัด!CQ16","v":""},{"$f":"ประเมินตัวชี้วัด!CZ16","v":""},"พอใช้",{"$f":"COUNTIF($I$8:$I$57,\"พอใช้\")","v":0},{"$f":"M17*100/O$19","v":{"$error":"#DIV/0!"}}]
[11,{"$f":"ใบรายชื่อ!C17","v":"เด็กหญิงอัยลดา    รักอรุณ"},{"$f":"IF(เวลาเรียน!DY19=0,\"\",เวลาเรียน!DY19)","v":"-"},{"$f":"ประเมินตัวชี้วัด!DE17","v":"-"},{"$f":"ประเมินตัวชี้วัด!DG17","v":""},{"$f":"IF(C18=\"\",\"\",IF(C18=\"-\",\"-\",IF(ประเมินตัวชี้วัด!DH17=\"\",\"\",ประเมินตัวชี้วัด!DH17)))","v":"-"},{"$f":"ประเมินตัวชี้วัด!DL17","v":"-"},{"$f":"ประเมินตัวชี้วัด!DN17","v":""},"",{"$f":"ประเมินตัวชี้วัด!CQ17","v":""},{"$f":"ประเมินตัวชี้วัด!CZ17","v":""},"ปรับปรุง",{"$f":"COUNTIF($I$8:$I$57,\"ปรับปรุง\")","v":0},{"$error":"#DIV/0!"}]
[12,{"$f":"ใบรายชื่อ!C18","v":"เด็กชายสิงหา    วงศ์ศราวิทย์"},{"$f":"IF(เวลาเรียน!DY20=0,\"\",เวลาเรียน!DY20)","v":"-"},{"$f":"ประเมินตัวชี้วัด!DE18","v":"-"},{"$f":"ประเมินตัวชี้วัด!DG18","v":""},{"$f":"IF(C19=\"\",\"\",IF(C19=\"-\",\"-\",IF(ประเมินตัวชี้วัด!DH18=\"\",\"\",ประเมินตัวชี้วัด!DH18)))","v":"-"},{"$f":"ประเมินตัวชี้วัด!DL18","v":"-"},{"$f":"ประเมินตัวชี้วัด!DN18","v":""},"",{"$f":"ประเมินตัวชี้วัด!CQ18","v":""},{"$f":"ประเมินตัวชี้วัด!CZ18","v":""},"-",{"$f":"SUM(O20:O21)","v":0},{"$error":"#DIV/0!"},{"$f":"SUM(M15:M19)","v":0},{"$f":"SUM(N15:N19)","v":{"$error":"#DIV/0!"}}]
[13,{"$f":"ใบรายชื่อ!C19","v":"เด็กชายอภิชัย    วิลาศลักษณ์"},{"$f":"IF(เวลาเรียน!DY21=0,\"\",เวลาเรียน!DY21)","v":"-"},{"$f":"ประเมินตัวชี้วัด!DE19","v":"-"},{"$f":"ประเมินตัวชี้วัด!DG19","v":""},{"$f":"IF(C20=\"\",\"\",IF(C20=\"-\",\"-\",IF(ประเมินตัวชี้วัด!DH19=\"\",\"\",ประเมินตัวชี้วัด!DH19)))","v":"-"},{"$f":"ประเมินตัวชี้วัด!DL19","v":"-"},{"$f":"ประเมินตัวชี้วัด!DN19","v":""},"",{"$f":"ประเมินตัวชี้วัด!CQ19","v":""},{"$f":"ประเมินตัวชี้วัด!CZ19","v":""},"สรุปผลการเรียน",null,null,{"$f":"COUNTIF($I$8:$I$57,\"-\")","v":0}]
[14,{"$f":"ใบรายชื่อ!C20","v":"เด็กชายภูมิพัฒน์    โกสิยพันธ์"},{"$f":"IF(เวลาเรียน!DY22=0,\"\",เวลาเรียน!DY22)","v":"-"},{"$f":"ประเมินตัวชี้วัด!DE20","v":"-"},{"$f":"ประเมินตัวชี้วัด!DG20","v":""},{"$f":"IF(C21=\"\",\"\",IF(C21=\"-\",\"-\",IF(ประเมินตัวชี้วัด!DH20=\"\",\"\",ประเมินตัวชี้วัด!DH20)))","v":"-"},{"$f":"ประเมินตัวชี้วัด!DL20","v":"-"},{"$f":"ประเมินตัวชี้วัด!DN20","v":""},"",{"$f":"ประเมินตัวชี้วัด!CQ20","v":""},{"$f":"ประเมินตัวชี้วัด!CZ20","v":""},"เกรด","จำนวน","ร้อยละ",{"$f":"COUNTIF($I$8:$I$57,\"แก้ไข\")","v":0}]
[15,{"$f":"ใบรายชื่อ!C21","v":"เด็กหญิงนงณภัทร    ศรแก้วดารา"},{"$f":"IF(เวลาเรียน!DY23=0,\"\",เวลาเรียน!DY23)","v":"-"},{"$f":"ประเมินตัวชี้วัด!DE21","v":"-"},{"$f":"ประเมินตัวชี้วัด!DG21","v":""},{"$f":"IF(C22=\"\",\"\",IF(C22=\"-\",\"-\",IF(ประเมินตัวชี้วัด!DH21=\"\",\"\",ประเมินตัวชี้วัด!DH21)))","v":"-"},{"$f":"ประเมินตัวชี้วัด!DL21","v":"-"},{"$f":"ประเมินตัวชี้วัด!DN21","v":""},"",{"$f":"ประเมินตัวชี้วัด!CQ21","v":""},{"$f":"ประเมินตัวชี้วัด!CZ21","v":""},4,{"$f":"COUNTIF($H$8:$H$57,4)","v":0},{"$f":"M22*100/O$32","v":{"$error":"#DIV/0!"}}]
[16,{"$f":"ใบรายชื่อ!C22","v":"เด็กหญิงชนัญชิดา    เทียนชัย"},{"$f":"IF(เวลาเรียน!DY24=0,\"\",เวลาเรียน!DY24)","v":"-"},{"$f":"ประเมินตัวชี้วัด!DE22","v":"-"},{"$f":"ประเมินตัวชี้วัด!DG22","v":""},{"$f":"IF(C23=\"\",\"\",IF(C23=\"-\",\"-\",IF(ประเมินตัวชี้วัด!DH22=\"\",\"\",ประเมินตัวชี้วัด!DH22)))","v":"-"},{"$f":"ประเมินตัวชี้วัด!DL22","v":"-"},{"$f":"ประเมินตัวชี้วัด!DN22","v":""},"",{"$f":"ประเมินตัวชี้วัด!CQ22","v":""},{"$f":"ประเมินตัวชี้วัด!CZ22","v":""},3.5,{"$f":"COUNTIF($H$8:$H$57,3.5)","v":0},{"$f":"M23*100/O$32","v":{"$error":"#DIV/0!"}}]
[17,{"$f":"ใบรายชื่อ!C23","v":"เด็กชายนนทกร    วรรณภัณฑ์พินิจ"},{"$f":"IF(เวลาเรียน!DY25=0,\"\",เวลาเรียน!DY25)","v":"-"},{"$f":"ประเมินตัวชี้วัด!DE23","v":"-"},{"$f":"ประเมินตัวชี้วัด!DG23","v":""},{"$f":"IF(C24=\"\",\"\",IF(C24=\"-\",\"-\",IF(ประเมินตัวชี้วัด!DH23=\"\",\"\",ประเมินตัวชี้วัด!DH23)))","v":"-"},{"$f":"ประเมินตัวชี้วัด!DL23","v":"-"},{"$f":"ประเมินตัวชี้วัด!DN23","v":""},"",{"$f":"ประเมินตัวชี้วัด!CQ23","v":""},{"$f":"ประเมินตัวชี้วัด!CZ23","v":""},3,{"$f":"COUNTIF($H$8:$H$57,3)","v":0},{"$error":"#DIV/0!"}]
[18,{"$f":"ใบรายชื่อ!C24","v":"เด็กชายภัคพล    พรมฉิม"},{"$f":"IF(เวลาเรียน!DY26=0,\"\",เวลาเรียน!DY26)","v":"-"},{"$f":"ประเมินตัวชี้วัด!DE24","v":"-"},{"$f":"ประเมินตัวชี้วัด!DG24","v":""},{"$f":"IF(C25=\"\",\"\",IF(C25=\"-\",\"-\",IF(ประเมินตัวชี้วัด!DH24=\"\",\"\",ประเมินตัวชี้วัด!DH24)))","v":"-"},{"$f":"ประเมินตัวชี้วัด!DL24","v":"-"},{"$f":"ประเมินตัวชี้วัด!DN24","v":""},"",{"$f":"ประเมินตัวชี้วัด!CQ24","v":""},{"$f":"ประเมินตัวชี้วัด!CZ24","v":""},2.5,{"$f":"COUNTIF($H$8:$H$57,2.5)","v":0},{"$error":"#DIV/0!"}]
[19,{"$f":"ใบรายชื่อ!C25","v":"เด็กชายกรวิชญ์    ฤทธิคง"},{"$f":"IF(เวลาเรียน!DY27=0,\"\",เวลาเรียน!DY27)","v":"-"},{"$f":"ประเมินตัวชี้วัด!DE25","v":"-"},{"$f":"ประเมินตัวชี้วัด!DG25","v":""},{"$f":"IF(C26=\"\",\"\",IF(C26=\"-\",\"-\",IF(ประเมินตัวชี้วัด!DH25=\"\",\"\",ประเมินตัวชี้วัด!DH25)))","v":"-"},{"$f":"ประเมินตัวชี้วัด!DL25","v":"-"},{"$f":"ประเมินตัวชี้วัด!DN25","v":""},"",{"$f":"ประเมินตัวชี้วัด!CQ25","v":""},{"$f":"ประเมินตัวชี้วัด!CZ25","v":""},2,{"$f":"COUNTIF($H$8:$H$57,2)","v":0},{"$error":"#DIV/0!"}]
[20,{"$f":"ใบรายชื่อ!C26","v":"เด็กชายกรกช    สุจจิต"},{"$f":"IF(เวลาเรียน!DY28=0,\"\",เวลาเรียน!DY28)","v":"-"},{"$f":"ประเมินตัวชี้วัด!DE26","v":"-"},{"$f":"ประเมินตัวชี้วัด!DG26","v":""},{"$f":"IF(C27=\"\",\"\",IF(C27=\"-\",\"-\",IF(ประเมินตัวชี้วัด!DH26=\"\",\"\",ประเมินตัวชี้วัด!DH26)))","v":"-"},{"$f":"ประเมินตัวชี้วัด!DL26","v":"-"},{"$f":"ประเมินตัวชี้วัด!DN26","v":""},"",{"$f":"ประเมินตัวชี้วัด!CQ26","v":""},{"$f":"ประเมินตัวชี้วัด!CZ26","v":""},1.5,{"$f":"COUNTIF($H$8:$H$57,1.5)","v":0},{"$error":"#DIV/0!"}]
[21,{"$f":"ใบรายชื่อ!C27","v":"เด็กชายวรัญญู    แก้วพรัด"},{"$f":"IF(เวลาเรียน!DY29=0,\"\",เวลาเรียน!DY29)","v":"-"},{"$f":"ประเมินตัวชี้วัด!DE27","v":"-"},{"$f":"ประเมินตัวชี้วัด!DG27","v":""},{"$f":"IF(C28=\"\",\"\",IF(C28=\"-\",\"-\",IF(ประเมินตัวชี้วัด!DH27=\"\",\"\",ประเมินตัวชี้วัด!DH27)))","v":"-"},{"$f":"ประเมินตัวชี้วัด!DL27","v":"-"},{"$f":"ประเมินตัวชี้วัด!DN27","v":""},"",{"$f":"ประเมินตัวชี้วัด!CQ27","v":""},{"$f":"ประเมินตัวชี้วัด!CZ27","v":""},1,{"$f":"COUNTIF($H$8:$H$57,1)","v":0},{"$error":"#DIV/0!"}]
[22,{"$f":"ใบรายชื่อ!C28","v":"เด็กชายภูรินทร์    วงษ์ถาวร"},{"$f":"IF(เวลาเรียน!DY30=0,\"\",เวลาเรียน!DY30)","v":"-"},{"$f":"ประเมินตัวชี้วัด!DE28","v":"-"},{"$f":"ประเมินตัวชี้วัด!DG28","v":""},{"$f":"IF(C29=\"\",\"\",IF(C29=\"-\",\"-\",IF(ประเมินตัวชี้วัด!DH28=\"\",\"\",ประเมินตัวชี้วัด!DH28)))","v":"-"},{"$f":"ประเมินตัวชี้วัด!DL28","v":"-"},{"$f":"ประเมินตัวชี้วัด!DN28","v":""},"",{"$f":"ประเมินตัวชี้วัด!CQ28","v":""},{"$f":"ประเมินตัวชี้วัด!CZ28","v":""},0,{"$f":"COUNTIF($H$8:$H$57,0)","v":0},{"$error":"#DIV/0!"}]
[23,{"$f":"ใบรายชื่อ!C29","v":"เด็กหญิงลลิตภัทร    ขุ้ยด้วง"},{"$f":"IF(เวลาเรียน!DY31=0,\"\",เวลาเรียน!DY31)","v":"-"},{"$f":"ประเมินตัวชี้วัด!DE29","v":"-"},{"$f":"ประเมินตัวชี้วัด!DG29","v":""},{"$f":"IF(C30=\"\",\"\",IF(C30=\"-\",\"-\",IF(ประเมินตัวชี้วัด!DH29=\"\",\"\",ประเมินตัวชี้วัด!DH29)))","v":"-"},{"$f":"ประเมินตัวชี้วัด!DL29","v":"-"},{"$f":"ประเมินตัวชี้วัด!DN29","v":""},"",{"$f":"ประเมินตัวชี้วัด!CQ29","v":""},{"$f":"ประเมินตัวชี้วัด!CZ29","v":""},"ร",{"$f":"COUNTIF($H$8:$H$57,\"ร\")","v":0},{"$error":"#DIV/0!"}]
[24,{"$f":"ใบรายชื่อ!C30","v":"เด็กหญิงศวรรยา    ปิยบรรพต"},{"$f":"IF(เวลาเรียน!DY32=0,\"\",เวลาเรียน!DY32)","v":"-"},{"$f":"ประเมินตัวชี้วัด!DE30","v":"-"},{"$f":"ประเมินตัวชี้วัด!DG30","v":""},{"$f":"IF(C31=\"\",\"\",IF(C31=\"-\",\"-\",IF(ประเมินตัวชี้วัด!DH30=\"\",\"\",ประเมินตัวชี้วัด!DH30)))","v":"-"},{"$f":"ประเมินตัวชี้วัด!DL30","v":"-"},{"$f":"ประเมินตัวชี้วัด!DN30","v":""},"",{"$f":"ประเมินตัวชี้วัด!CQ30","v":""},{"$f":"ประเมินตัวชี้วัด!CZ30","v":""},"มส",{"$f":"COUNTIF($H$8:$H$57,\"มส\")","v":0},{"$error":"#DIV/0!"}]
[25,{"$f":"ใบรายชื่อ!C31","v":"เด็กหญิงณัฐฌญา    สุวรรณมณี"},{"$f":"IF(เวลาเรียน!DY33=0,\"\",เวลาเรียน!DY33)","v":"-"},{"$f":"ประเมินตัวชี้วัด!DE31","v":"-"},{"$f":"ประเมินตัวชี้วัด!DG31","v":""},{"$f":"IF(C32=\"\",\"\",IF(C32=\"-\",\"-\",IF(ประเมินตัวชี้วัด!DH31=\"\",\"\",ประเมินตัวชี้วัด!DH31)))","v":"-"},{"$f":"ประเมินตัวชี้วัด!DL31","v":"-"},{"$f":"ประเมินตัวชี้วัด!DN31","v":""},"",{"$f":"ประเมินตัวชี้วัด!CQ31","v":""},{"$f":"ประเมินตัวชี้วัด!CZ31","v":""},"-",{"$f":"COUNTIF($H$8:$H$57,\"-\")","v":0},"-",{"$f":"SUM(M22:M31)","v":0},{"$f":"SUM(N22:N32)","v":{"$error":"#DIV/0!"}}]
[26,{"$f":"ใบรายชื่อ!C32","v":"เด็กชายปฐมมงคล    เทพสุวรรณ"},{"$f":"IF(เวลาเรียน!DY34=0,\"\",เวลาเรียน!DY34)","v":"-"},{"$f":"ประเมินตัวชี้วัด!DE32","v":"-"},{"$f":"ประเมินตัวชี้วัด!DG32","v":""},{"$f":"IF(C33=\"\",\"\",IF(C33=\"-\",\"-\",IF(ประเมินตัวชี้วัด!DH32=\"\",\"\",ประเมินตัวชี้วัด!DH32)))","v":"-"},{"$f":"ประเมินตัวชี้วัด!DL32","v":"-"},{"$f":"ประเมินตัวชี้วัด!DN32","v":""},"",{"$f":"ประเมินตัวชี้วัด!CQ32","v":""},{"$f":"ประเมินตัวชี้วัด!CZ32","v":""},"การอ่าน คิด วิเคราะห์และเขียน"]
[27,{"$f":"ใบรายชื่อ!C33","v":"เด็กชายภูริณัฐ    โรยอุตระ"},{"$f":"IF(เวลาเรียน!DY35=0,\"\",เวลาเรียน!DY35)","v":"-"},{"$f":"ประเมินตัวชี้วัด!DE33","v":"-"},{"$f":"ประเมินตัวชี้วัด!DG33","v":""},{"$f":"IF(C34=\"\",\"\",IF(C34=\"-\",\"-\",IF(ประเมินตัวชี้วัด!DH33=\"\",\"\",ประเมินตัวชี้วัด!DH33)))","v":"-"},{"$f":"ประเมินตัวชี้วัด!DL33","v":"-"},{"$f":"ประเมินตัวชี้วัด!DN33","v":""},"",{"$f":"ประเมินตัวชี้วัด!CQ33","v":""},{"$f":"ประเมินตัวชี้วัด!CZ33","v":""},"ผลประเมิน","จำนวน","ร้อยละ"]
[28,{"$f":"ใบรายชื่อ!C34","v":"เด็กชายภานุวัฒน์    เรืองรักษ์"},{"$f":"IF(เวลาเรียน!DY36=0,\"\",เวลาเรียน!DY36)","v":"-"},{"$f":"ประเมินตัวชี้วัด!DE34","v":"-"},{"$f":"ประเมินตัวชี้วัด!DG34","v":""},{"$f":"IF(C35=\"\",\"\",IF(C35=\"-\",\"-\",IF(ประเมินตัวชี้วัด!DH34=\"\",\"\",ประเมินตัวชี้วัด!DH34)))","v":"-"},{"$f":"ประเมินตัวชี้วัด!DL34","v":"-"},{"$f":"ประเมินตัวชี้วัด!DN34","v":""},"",{"$f":"ประเมินตัวชี้วัด!CQ34","v":""},{"$f":"ประเมินตัวชี้วัด!CZ34","v":""},"ดีเยี่ยม",{"$f":"COUNTIF($J$8:$J$57,\"ดย\")","v":0},{"$f":"M35*100/O$38","v":{"$error":"#DIV/0!"}}]
[29,{"$f":"ใบรายชื่อ!C35","v":"เด็กชายธนาทิป    อรุณไทย"},{"$f":"IF(เวลาเรียน!DY37=0,\"\",เวลาเรียน!DY37)","v":"-"},{"$f":"ประเมินตัวชี้วัด!DE35","v":"-"},{"$f":"ประเมินตัวชี้วัด!DG35","v":""},{"$f":"IF(C36=\"\",\"\",IF(C36=\"-\",\"-\",IF(ประเมินตัวชี้วัด!DH35=\"\",\"\",ประเมินตัวชี้วัด!DH35)))","v":"-"},{"$f":"ประเมินตัวชี้วัด!DL35","v":"-"},{"$f":"ประเมินตัวชี้วัด!DN35","v":""},"",{"$f":"ประเมินตัวชี้วัด!CQ35","v":""},{"$f":"ประเมินตัวชี้วัด!CZ35","v":""},"ดี",{"$f":"COUNTIF($J$8:$J$57,\"ด\")","v":0},{"$f":"M36*100/O$38","v":{"$error":"#DIV/0!"}}]
[30,{"$f":"ใบรายชื่อ!C36","v":"เด็กหญิงเมย์ชญา    นาคพัฒน์"},{"$f":"IF(เวลาเรียน!DY38=0,\"\",เวลาเรียน!DY38)","v":"-"},{"$f":"ประเมินตัวชี้วัด!DE36","v":"-"},{"$f":"ประเมินตัวชี้วัด!DG36","v":""},{"$f":"IF(C37=\"\",\"\",IF(C37=\"-\",\"-\",IF(ประเมินตัวชี้วัด!DH36=\"\",\"\",ประเมินตัวชี้วัด!DH36)))","v":"-"},{"$f":"ประเมินตัวชี้วัด!DL36","v":"-"},{"$f":"ประเมินตัวชี้วัด!DN36","v":""},"",{"$f":"ประเมินตัวชี้วัด!CQ36","v":""},{"$f":"ประเมินตัวชี้วัด!CZ36","v":""},"ผ่าน",{"$f":"COUNTIF($J$8:$J$57,\"ผ\")","v":0},{"$f":"M37*100/O$38","v":{"$error":"#DIV/0!"}}]
[31,{"$f":"ใบรายชื่อ!C37","v":"เด็กชายพีรณัฐ    จามพัฒน์"},{"$f":"IF(เวลาเรียน!DY39=0,\"\",เวลาเรียน!DY39)","v":"-"},{"$f":"ประเมินตัวชี้วัด!DE37","v":"-"},{"$f":"ประเมินตัวชี้วัด!DG37","v":""},{"$f":"IF(C38=\"\",\"\",IF(C38=\"-\",\"-\",IF(ประเมินตัวชี้วัด!DH37=\"\",\"\",ประเมินตัวชี้วัด!DH37)))","v":"-"},{"$f":"ประเมินตัวชี้วัด!DL37","v":"-"},{"$f":"ประเมินตัวชี้วัด!DN37","v":""},"",{"$f":"ประเมินตัวชี้วัด!CQ37","v":""},{"$f":"ประเมินตัวชี้วัด!CZ37","v":""},"ไม่ผ่าน",{"$f":"COUNTIF($J$8:$J$57,\"มผ\")","v":0},{"$f":"M38*100/O$38","v":{"$error":"#DIV/0!"}},{"$f":"SUM(M35:M38)","v":0},{"$f":"SUM(N35:N38)","v":{"$error":"#DIV/0!"}}]
[32,{"$f":"ใบรายชื่อ!C38","v":"เด็กชายปิยภัทร    พรหมดำ"},{"$f":"IF(เวลาเรียน!DY40=0,\"\",เวลาเรียน!DY40)","v":"-"},{"$f":"ประเมินตัวชี้วัด!DE38","v":"-"},{"$f":"ประเมินตัวชี้วัด!DG38","v":""},{"$f":"IF(C39=\"\",\"\",IF(C39=\"-\",\"-\",IF(ประเมินตัวชี้วัด!DH38=\"\",\"\",ประเมินตัวชี้วัด!DH38)))","v":"-"},{"$f":"ประเมินตัวชี้วัด!DL38","v":"-"},{"$f":"ประเมินตัวชี้วัด!DN38","v":""},"",{"$f":"ประเมินตัวชี้วัด!CQ38","v":""},{"$f":"ประเมินตัวชี้วัด!CZ38","v":""},"คุณลักษณะอันพึงประสงค์"]
[33,{"$f":"ใบรายชื่อ!C39","v":"เด็กชายธีรดนย์    คณะเสาวชัย"},{"$f":"IF(เวลาเรียน!DY41=0,\"\",เวลาเรียน!DY41)","v":"-"},{"$f":"ประเมินตัวชี้วัด!DE39","v":"-"},{"$f":"ประเมินตัวชี้วัด!DG39","v":""},{"$f":"IF(C40=\"\",\"\",IF(C40=\"-\",\"-\",IF(ประเมินตัวชี้วัด!DH39=\"\",\"\",ประเมินตัวชี้วัด!DH39)))","v":"-"},{"$f":"ประเมินตัวชี้วัด!DL39","v":"-"},{"$f":"ประเมินตัวชี้วัด!DN39","v":""},"",{"$f":"ประเมินตัวชี้วัด!CQ39","v":""},{"$f":"ประเมินตัวชี้วัด!CZ39","v":""},"ผลประเมิน","จำนวน","ร้อยละ"]
[34,{"$f":"ใบรายชื่อ!C40","v":"เด็กชายชิษณุพงศ์    เสถียรธนฉัตร์"},{"$f":"IF(เวลาเรียน!DY42=0,\"\",เวลาเรียน!DY42)","v":"-"},{"$f":"ประเมินตัวชี้วัด!DE40","v":"-"},{"$f":"ประเมินตัวชี้วัด!DG40","v":""},{"$f":"IF(C41=\"\",\"\",IF(C41=\"-\",\"-\",IF(ประเมินตัวชี้วัด!DH40=\"\",\"\",ประเมินตัวชี้วัด!DH40)))","v":"-"},{"$f":"ประเมินตัวชี้วัด!DL40","v":"-"},{"$f":"ประเมินตัวชี้วัด!DN40","v":""},"",{"$f":"ประเมินตัวชี้วัด!CQ40","v":""},{"$f":"ประเมินตัวชี้วัด!CZ40","v":""},"ดีเยี่ยม",{"$f":"COUNTIF($K$8:$K$57,\"ดย\")","v":0},{"$f":"M41*100/O$44","v":{"$error":"#DIV/0!"}}]
[35,{"$f":"ใบรายชื่อ!C41","v":"เด็กชายทัชชกร    นาคพล"},{"$f":"IF(เวลาเรียน!DY43=0,\"\",เวลาเรียน!DY43)","v":"-"},{"$f":"ประเมินตัวชี้วัด!DE41","v":"-"},{"$f":"ประเมินตัวชี้วัด!DG41","v":""},{"$f":"IF(C42=\"\",\"\",IF(C42=\"-\",\"-\",IF(ประเมินตัวชี้วัด!DH41=\"\",\"\",ประเมินตัวชี้วัด!DH41)))","v":"-"},{"$f":"ประเมินตัวชี้วัด!DL41","v":"-"},{"$f":"ประเมินตัวชี้วัด!DN41","v":""},"",{"$f":"ประเมินตัวชี้วัด!CQ41","v":""},{"$f":"ประเมินตัวชี้วัด!CZ41","v":""},"ดี",{"$f":"COUNTIF($K$8:$K$57,\"ด\")","v":0},{"$f":"M42*100/O$44","v":{"$error":"#DIV/0!"}}]
[36,{"$f":"ใบรายชื่อ!C42","v":"เด็กชายธนภัทร    สถิตย์วงศ์วรากุล"},{"$f":"IF(เวลาเรียน!DY44=0,\"\",เวลาเรียน!DY44)","v":"-"},{"$f":"ประเมินตัวชี้วัด!DE42","v":"-"},{"$f":"ประเมินตัวชี้วัด!DG42","v":""},{"$f":"IF(C43=\"\",\"\",IF(C43=\"-\",\"-\",IF(ประเมินตัวชี้วัด!DH42=\"\",\"\",ประเมินตัวชี้วัด!DH42)))","v":"-"},{"$f":"ประเมินตัวชี้วัด!DL42","v":"-"},{"$f":"ประเมินตัวชี้วัด!DN42","v":""},"",{"$f":"ประเมินตัวชี้วัด!CQ42","v":""},{"$f":"ประเมินตัวชี้วัด!CZ42","v":""},"ผ่าน",{"$f":"COUNTIF($K$8:$K$57,\"ผ\")","v":0},{"$f":"M43*100/O$44","v":{"$error":"#DIV/0!"}}]
[37,{"$f":"ใบรายชื่อ!C43","v":"เด็กหญิงญาณิศา    ชัยมา"},{"$f":"IF(เวลาเรียน!DY45=0,\"\",เวลาเรียน!DY45)","v":"-"},{"$f":"ประเมินตัวชี้วัด!DE43","v":"-"},{"$f":"ประเมินตัวชี้วัด!DG43","v":""},{"$f":"IF(C44=\"\",\"\",IF(C44=\"-\",\"-\",IF(ประเมินตัวชี้วัด!DH43=\"\",\"\",ประเมินตัวชี้วัด!DH43)))","v":"-"},{"$f":"ประเมินตัวชี้วัด!DL43","v":"-"},{"$f":"ประเมินตัวชี้วัด!DN43","v":""},"",{"$f":"ประเมินตัวชี้วัด!CQ43","v":""},{"$f":"ประเมินตัวชี้วัด!CZ43","v":""},"ไม่ผ่าน",{"$f":"COUNTIF($K$8:$K$57,\"มผ\")","v":0},{"$f":"M44*100/O$44","v":{"$error":"#DIV/0!"}},{"$f":"SUM(M41:M44)","v":0},{"$f":"SUM(N41:N44)","v":{"$error":"#DIV/0!"}}]
[null,{"$f":"ใบรายชื่อ!C44","v":"    "},{"$f":"IF(เวลาเรียน!DY46=0,\"\",เวลาเรียน!DY46)","v":"-"},{"$f":"ประเมินตัวชี้วัด!DE44","v":""},{"$f":"ประเมินตัวชี้วัด!DG44","v":""},{"$f":"IF(C45=\"\",\"\",IF(C45=\"-\",\"-\",IF(ประเมินตัวชี้วัด!DH44=\"\",\"\",ประเมินตัวชี้วัด!DH44)))","v":"-"},{"$f":"ประเมินตัวชี้วัด!DL44","v":""},{"$f":"ประเมินตัวชี้วัด!DN44","v":""},"",{"$f":"ประเมินตัวชี้วัด!CQ44","v":""},{"$f":"ประเมินตัวชี้วัด!CZ44","v":""},"คะแนนรวม"]
[null,{"$f":"ใบรายชื่อ!C45","v":"    "},{"$f":"IF(เวลาเรียน!DY47=0,\"\",เวลาเรียน!DY47)","v":"-"},{"$f":"ประเมินตัวชี้วัด!DE45","v":""},{"$f":"ประเมินตัวชี้วัด!DG45","v":""},{"$f":"IF(C46=\"\",\"\",IF(C46=\"-\",\"-\",IF(ประเมินตัวชี้วัด!DH45=\"\",\"\",ประเมินตัวชี้วัด!DH45)))","v":"-"},{"$f":"ประเมินตัวชี้วัด!DL45","v":""},{"$f":"ประเมินตัวชี้วัด!DN45","v":""},"",{"$f":"ประเมินตัวชี้วัด!CQ45","v":""},{"$f":"ประเมินตัวชี้วัด!CZ45","v":""},"ระหว่างภาค","ปลายภาค","คะแนนรวม"]
[null,{"$f":"ใบรายชื่อ!C46","v":"    "},{"$f":"IF(เวลาเรียน!DY48=0,\"\",เวลาเรียน!DY48)","v":"-"},{"$f":"ประเมินตัวชี้วัด!DE46","v":""},{"$f":"ประเมินตัวชี้วัด!DG46","v":""},{"$f":"IF(C47=\"\",\"\",IF(C47=\"-\",\"-\",IF(ประเมินตัวชี้วัด!DH46=\"\",\"\",ประเมินตัวชี้วัด!DH46)))","v":"-"},{"$f":"ประเมินตัวชี้วัด!DL46","v":""},{"$f":"ประเมินตัวชี้วัด!DN46","v":""},"",{"$f":"ประเมินตัวชี้วัด!CQ46","v":""},{"$f":"ประเมินตัวชี้วัด!CZ46","v":""},{"$f":"SUM(D8:D57)","v":0},{"$f":"SUM(E8:E57)","v":0},{"$f":"SUM(G8:G57)","v":0}]
[null,{"$f":"ใบรายชื่อ!C47","v":"    "},{"$f":"IF(เวลาเรียน!DY49=0,\"\",เวลาเรียน!DY49)","v":"-"},{"$f":"ประเมินตัวชี้วัด!DE47","v":""},{"$f":"ประเมินตัวชี้วัด!DG47","v":""},{"$f":"IF(C48=\"\",\"\",IF(C48=\"-\",\"-\",IF(ประเมินตัวชี้วัด!DH47=\"\",\"\",ประเมินตัวชี้วัด!DH47)))","v":"-"},{"$f":"ประเมินตัวชี้วัด!DL47","v":""},{"$f":"ประเมินตัวชี้วัด!DN47","v":""},"",{"$f":"ประเมินตัวชี้วัด!CQ47","v":""},{"$f":"ประเมินตัวชี้วัด!CZ47","v":""},"ค่าเฉลี่ย"]
[null,{"$f":"ใบรายชื่อ!C48","v":"    "},{"$f":"IF(เวลาเรียน!DY50=0,\"\",เวลาเรียน!DY50)","v":"-"},{"$f":"ประเมินตัวชี้วัด!DE48","v":""},{"$f":"ประเมินตัวชี้วัด!DG48","v":""},{"$f":"IF(C49=\"\",\"\",IF(C49=\"-\",\"-\",IF(ประเมินตัวชี้วัด!DH48=\"\",\"\",ประเมินตัวชี้วัด!DH48)))","v":"-"},{"$f":"ประเมินตัวชี้วัด!DL48","v":""},{"$f":"ประเมินตัวชี้วัด!DN48","v":""},"",{"$f":"ประเมินตัวชี้วัด!CQ48","v":""},{"$f":"ประเมินตัวชี้วัด!CZ48","v":""},"ระหว่างภาค","ปลายภาค","คะแนนเฉลี่ย"]
[null,{"$f":"ใบรายชื่อ!C49","v":"    "},{"$f":"IF(เวลาเรียน!DY51=0,\"\",เวลาเรียน!DY51)","v":"-"},{"$f":"ประเมินตัวชี้วัด!DE49","v":""},{"$f":"ประเมินตัวชี้วัด!DG49","v":""},{"$f":"IF(C50=\"\",\"\",IF(C50=\"-\",\"-\",IF(ประเมินตัวชี้วัด!DH49=\"\",\"\",ประเมินตัวชี้วัด!DH49)))","v":"-"},{"$f":"ประเมินตัวชี้วัด!DL49","v":""},{"$f":"ประเมินตัวชี้วัด!DN49","v":""},"",{"$f":"ประเมินตัวชี้วัด!CQ49","v":""},{"$f":"ประเมินตัวชี้วัด!CZ49","v":""},{"$f":"AVERAGE(D8:D57)","v":{"$error":"#DIV/0!"}},{"$f":"AVERAGE(E8:E57)","v":{"$error":"#DIV/0!"}},{"$f":"AVERAGE(G8:G57)","v":{"$error":"#DIV/0!"}}]
[null,{"$f":"ใบรายชื่อ!C50","v":"    "},{"$f":"IF(เวลาเรียน!DY52=0,\"\",เวลาเรียน!DY52)","v":"-"},{"$f":"ประเมินตัวชี้วัด!DE50","v":""},{"$f":"ประเมินตัวชี้วัด!DG50","v":""},{"$f":"IF(C51=\"\",\"\",IF(C51=\"-\",\"-\",IF(ประเมินตัวชี้วัด!DH50=\"\",\"\",ประเมินตัวชี้วัด!DH50)))","v":"-"},{"$f":"ประเมินตัวชี้วัด!DL50","v":""},{"$f":"ประเมินตัวชี้วัด!DN50","v":""},"",{"$f":"ประเมินตัวชี้วัด!CQ50","v":""},{"$f":"ประเมินตัวชี้วัด!CZ50","v":""}]
[null,{"$f":"ใบรายชื่อ!C51","v":"    "},{"$f":"IF(เวลาเรียน!DY53=0,\"\",เวลาเรียน!DY53)","v":"-"},{"$f":"ประเมินตัวชี้วัด!DE51","v":""},{"$f":"ประเมินตัวชี้วัด!DG51","v":""},{"$f":"IF(C52=\"\",\"\",IF(C52=\"-\",\"-\",IF(ประเมินตัวชี้วัด!DH51=\"\",\"\",ประเมินตัวชี้วัด!DH51)))","v":"-"},{"$f":"ประเมินตัวชี้วัด!DL51","v":""},{"$f":"ประเมินตัวชี้วัด!DN51","v":""},"",{"$f":"ประเมินตัวชี้วัด!CQ51","v":""},{"$f":"ประเมินตัวชี้วัด!CZ51","v":""}]
[null,{"$f":"ใบรายชื่อ!C52","v":"    "},{"$f":"IF(เวลาเรียน!DY54=0,\"\",เวลาเรียน!DY54)","v":"-"},{"$f":"ประเมินตัวชี้วัด!DE52","v":""},{"$f":"ประเมินตัวชี้วัด!DG52","v":""},{"$f":"IF(C53=\"\",\"\",IF(C53=\"-\",\"-\",IF(ประเมินตัวชี้วัด!DH52=\"\",\"\",ประเมินตัวชี้วัด!DH52)))","v":"-"},{"$f":"ประเมินตัวชี้วัด!DL52","v":""},{"$f":"ประเมินตัวชี้วัด!DN52","v":""},"",{"$f":"ประเมินตัวชี้วัด!CQ52","v":""},{"$f":"ประเมินตัวชี้วัด!CZ52","v":""},{"$f":"\"(\"&ปก!C29&\")\"","v":"()"}]
[null,{"$f":"ใบรายชื่อ!C53","v":"    "},null,{"$f":"ประเมินตัวชี้วัด!DE53","v":""},{"$f":"ประเมินตัวชี้วัด!DG53","v":""},{"$f":"IF(C54=\"\",\"\",IF(C54=\"-\",\"-\",IF(ประเมินตัวชี้วัด!DH53=\"\",\"\",ประเมินตัวชี้วัด!DH53)))","v":""},{"$f":"ประเมินตัวชี้วัด!DL53","v":""},{"$f":"ประเมินตัวชี้วัด!DN53","v":""},"",{"$f":"ประเมินตัวชี้วัด!CQ53","v":""},{"$f":"ประเมินตัวชี้วัด!CZ53","v":""},"ครูผู้สอน"]
[null,{"$f":"ใบรายชื่อ!C54","v":"    "},{"$f":"IF(เวลาเรียน!DY56=0,\"\",เวลาเรียน!DY56)","v":"-"},{"$f":"ประเมินตัวชี้วัด!DE54","v":""},{"$f":"ประเมินตัวชี้วัด!DG54","v":""},{"$f":"IF(C55=\"\",\"\",IF(C55=\"-\",\"-\",IF(ประเมินตัวชี้วัด!DH54=\"\",\"\",ประเมินตัวชี้วัด!DH54)))","v":"-"},{"$f":"ประเมินตัวชี้วัด!DL54","v":""},{"$f":"ประเมินตัวชี้วัด!DN54","v":""},"",{"$f":"ประเมินตัวชี้วัด!CQ54","v":""},{"$f":"ประเมินตัวชี้วัด!CZ54","v":""},"หัวหน้ากลุ่มสาระ .................................."]
[null,{"$f":"ใบรายชื่อ!C55","v":"    "},{"$f":"IF(เวลาเรียน!DY57=0,\"\",เวลาเรียน!DY57)","v":"-"},{"$f":"ประเมินตัวชี้วัด!DE55","v":""},{"$f":"ประเมินตัวชี้วัด!DG55","v":""},{"$f":"IF(C56=\"\",\"\",IF(C56=\"-\",\"-\",IF(ประเมินตัวชี้วัด!DH55=\"\",\"\",ประเมินตัวชี้วัด!DH55)))","v":"-"},{"$f":"ประเมินตัวชี้วัด!DL55","v":""},{"$f":"ประเมินตัวชี้วัด!DN55","v":""},"",{"$f":"ประเมินตัวชี้วัด!CQ55","v":""},{"$f":"ประเมินตัวชี้วัด!CZ55","v":""},"หัวหน้างานวัดผล ........................................"]
[null,{"$f":"ใบรายชื่อ!C56","v":"    "},{"$f":"IF(เวลาเรียน!DY58=0,\"\",เวลาเรียน!DY58)","v":"-"},{"$f":"ประเมินตัวชี้วัด!DE56","v":""},{"$f":"ประเมินตัวชี้วัด!DG56","v":""},{"$f":"IF(C57=\"\",\"\",IF(C57=\"-\",\"-\",IF(ประเมินตัวชี้วัด!DH56=\"\",\"\",ประเมินตัวชี้วัด!DH56)))","v":"-"},{"$f":"ประเมินตัวชี้วัด!DL56","v":""},{"$f":"ประเมินตัวชี้วัด!DN56","v":""},"",{"$f":"ประเมินตัวชี้วัด!CQ56","v":""},{"$f":"ประเมินตัวชี้วัด!CZ56","v":""},"หัวหน้าวิชาการ ...................................."]